{"text_format":"3","workbook":"xlsx","n_sheets":8,"sheets":["DEPARTAMENTAL","PROVINCIAL","DISTRITAL","EESS","Pob x Genero","PIRAMIDE","RED DE SALUD AREQUIPA CAYLLOMA","DATA"],"not_rendered":{"charts":1,"images":1,"defined_names":10,"pivot_tables":1},"read":"whole","date_system":"1900"}

{"sheet":"DEPARTAMENTAL","index":0,"n_rows":28,"n_cols":77,"rows_kept":28,"merged":[[5,37,5,39],[5,40,6,40],[5,41,6,41],[5,42,5,44],[5,45,6,45],[18,0,18,2],[18,37,18,39],[18,40,19,40],[24,0,24,2],[24,37,24,39],[24,40,25,40],[24,41,25,41],[24,42,24,44],[24,45,25,45]]}
[]
[]
[]
["POBLACION ESTIMADA POR EDADES SIMPLES Y GRUPOS DE EDAD, SEGÚN DEPARTAMENTO. 2025"]
["* Actualizado con datos INEI"]
["POBLACION 2025",null,null,"POBLACION TOTAL, POR EDADS SIMPLES",{"$nulls":19},"POBLACIÓN TOTAL,  POR GRUPOS QUINQUEN ALES DE EDAD",{"$nulls":13},"EDADES ESPECIALES",null,null,"NACIMIENTOS VIVOS","POBLACION FEMENINA TOTAL","POBLACION FEMENINA",null,null,"GESTANTES  ESPERADAS",{"$nulls":8},"TOTAL"]
["UBIGEO","DEPARTAMENTO","Total","0",1,2,3,4,5,6,7,8,9,10,11,12,13,14,15,16,17,18,19,"20-24","25-29","30-34","35-39","40-44","45-49","50-54","55-59","60-64","65-69","70-74","75-79","80-84","85-+","28 DIAS","0-5 MESES","6-11 MESES",null,null,"10 - 14","15- 19","20- 49",null,null,"TOTAL","NIÑO","Adolescente","Joven","Adulto","Adulto Mayor",null,"00-04","05-09","10-14","15-19","20-24","25-29","30-34","35-39","40-44","45-49","50-54","55-59","60-64","65-69","70-74","75-79","80-84","85-+",null,"Hombres","Mujeres","Nacimientos vivos","Gestantes Esperadas"]
["00","PERU",{"$f":"SUM(C9:C9)","v":{"v":6120139,"d":"6,120,139"}},{"v":17311,"d":"17,311"},{"v":16375,"d":"16,375"},{"v":55723,"d":"55,723"},{"v":58441,"d":"58,441"},{"v":71100,"d":"71,100"},{"v":79096,"d":"79,096"},{"v":75574,"d":"75,574"},{"v":79346,"d":"79,346"},{"v":79716,"d":"79,716"},{"v":73623,"d":"73,623"},{"v":68000,"d":"68,000"},{"v":68239,"d":"68,239"},{"v":70704,"d":"70,704"},{"v":68895,"d":"68,895"},{"v":67437,"d":"67,437"},{"v":74143,"d":"74,143"},{"v":74534,"d":"74,534"},{"v":73037,"d":"73,037"},{"v":72022,"d":"72,022"},{"v":74856,"d":"74,856"},{"v":379932,"d":"379,932"},{"v":418581,"d":"418,581"},{"v":439447,"d":"439,447"},{"v":399040,"d":"399,040"},{"v":427169,"d":"427,169"},{"v":435591,"d":"435,591"},{"v":425649,"d":"425,649"},{"v":420074,"d":"420,074"},{"v":388909,"d":"388,909"},{"v":321028,"d":"321,028"},{"v":270744,"d":"270,744"},{"v":196303,"d":"196,303"},{"v":134834,"d":"134,834"},{"v":144666,"d":"144,666"},{"v":1782,"d":"1,782"},{"v":27859,"d":"27,859"},{"v":30370,"d":"30,370"},{"v":89435,"d":"89,435"},{"v":3152224,"d":"3,152,224"},{"v":168930,"d":"168,930"},{"v":182038,"d":"182,038"},{"v":1252704,"d":"1,252,704"},{"v":169522,"d":"169,522"},null,{"$f":"C8","v":{"v":6120139,"d":"6,120,139"}},{"$f":"SUM(D8:O8)","v":{"v":742544,"d":"742,544"}},{"$f":"SUM(P8:U8)","v":{"v":428750,"d":"428,750"}},{"$f":"SUM(V8:Y8)","v":{"v":945391,"d":"945,391"}},{"$f":"SUM(Z8:AE8)","v":{"v":2546970,"d":"2,546,970"}},{"$f":"SUM(AF8:AK8)","v":{"v":1456484,"d":"1,456,484"}},null,{"$f":"SUM(BC9:BC9)","v":{"v":218950,"d":"218,950"}},{"v":387355,"d":"387,355"},{"v":343275,"d":"343,275"},{"v":368592,"d":"368,592"},{"v":379932,"d":"379,932"},{"v":418581,"d":"418,581"},{"v":439447,"d":"439,447"},{"v":399040,"d":"399,040"},{"v":427169,"d":"427,169"},{"v":435591,"d":"435,591"},{"v":425649,"d":"425,649"},{"v":420074,"d":"420,074"},{"v":388909,"d":"388,909"},{"v":321028,"d":"321,028"},{"v":270744,"d":"270,744"},{"v":196303,"d":"196,303"},{"v":134834,"d":"134,834"},{"v":144666,"d":"144,666"},null,{"$f":"SUM(BV9:BV9)","v":{"v":818583,"d":"818,583"}},{"$f":"SUM(BW9:BW9)","v":{"v":843731,"d":"843,731"}},{"$f":"SUM(BX9:BX9)","v":{"v":89435,"d":"89,435"}},{"$f":"SUM(BY9:BY9)","v":{"v":169522,"d":"169,522"}}]
["04","AREQUIPA",{"$f":"SUM(D9:AK9)","v":6120139},{"$f":"SUMIF(DISTRITAL!$C$9:$C$117,DEPARTAMENTAL!$B9,DISTRITAL!G$9:G$117)","v":17311},{"$f":"SUMIF(DISTRITAL!$C$9:$C$117,DEPARTAMENTAL!$B9,DISTRITAL!H$9:H$117)","v":16375},{"$f":"SUMIF(DISTRITAL!$C$9:$C$117,DEPARTAMENTAL!$B9,DISTRITAL!I$9:I$117)","v":55723},{"$f":"SUMIF(DISTRITAL!$C$9:$C$117,DEPARTAMENTAL!$B9,DISTRITAL!J$9:J$117)","v":58441},{"$f":"SUMIF(DISTRITAL!$C$9:$C$117,DEPARTAMENTAL!$B9,DISTRITAL!K$9:K$117)","v":71100},{"$f":"SUMIF(DISTRITAL!$C$9:$C$117,DEPARTAMENTAL!$B9,DISTRITAL!L$9:L$117)","v":79096},{"$f":"SUMIF(DISTRITAL!$C$9:$C$117,DEPARTAMENTAL!$B9,DISTRITAL!M$9:M$117)","v":75574},{"$f":"SUMIF(DISTRITAL!$C$9:$C$117,DEPARTAMENTAL!$B9,DISTRITAL!N$9:N$117)","v":79346},{"$f":"SUMIF(DISTRITAL!$C$9:$C$117,DEPARTAMENTAL!$B9,DISTRITAL!O$9:O$117)","v":79716},{"$f":"SUMIF(DISTRITAL!$C$9:$C$117,DEPARTAMENTAL!$B9,DISTRITAL!P$9:P$117)","v":73623},{"$f":"SUMIF(DISTRITAL!$C$9:$C$117,DEPARTAMENTAL!$B9,DISTRITAL!Q$9:Q$117)","v":68000},{"$f":"SUMIF(DISTRITAL!$C$9:$C$117,DEPARTAMENTAL!$B9,DISTRITAL!R$9:R$117)","v":68239},{"$f":"SUMIF(DISTRITAL!$C$9:$C$117,DEPARTAMENTAL!$B9,DISTRITAL!S$9:S$117)","v":70704},{"$f":"SUMIF(DISTRITAL!$C$9:$C$117,DEPARTAMENTAL!$B9,DISTRITAL!T$9:T$117)","v":68895},{"$f":"SUMIF(DISTRITAL!$C$9:$C$117,DEPARTAMENTAL!$B9,DISTRITAL!U$9:U$117)","v":67437},{"$f":"SUMIF(DISTRITAL!$C$9:$C$117,DEPARTAMENTAL!$B9,DISTRITAL!V$9:V$117)","v":74143},{"$f":"SUMIF(DISTRITAL!$C$9:$C$117,DEPARTAMENTAL!$B9,DISTRITAL!W$9:W$117)","v":74534},{"$f":"SUMIF(DISTRITAL!$C$9:$C$117,DEPARTAMENTAL!$B9,DISTRITAL!X$9:X$117)","v":73037},{"$f":"SUMIF(DISTRITAL!$C$9:$C$117,DEPARTAMENTAL!$B9,DISTRITAL!Y$9:Y$117)","v":72022},{"$f":"SUMIF(DISTRITAL!$C$9:$C$117,DEPARTAMENTAL!$B9,DISTRITAL!Z$9:Z$117)","v":74856},{"$f":"SUMIF(DISTRITAL!$C$9:$C$117,DEPARTAMENTAL!$B9,DISTRITAL!AA$9:AA$117)","v":379932},{"$f":"SUMIF(DISTRITAL!$C$9:$C$117,DEPARTAMENTAL!$B9,DISTRITAL!AB$9:AB$117)","v":418581},{"$f":"SUMIF(DISTRITAL!$C$9:$C$117,DEPARTAMENTAL!$B9,DISTRITAL!AC$9:AC$117)","v":439447},{"$f":"SUMIF(DISTRITAL!$C$9:$C$117,DEPARTAMENTAL!$B9,DISTRITAL!AD$9:AD$117)","v":399040},{"$f":"SUMIF(DISTRITAL!$C$9:$C$117,DEPARTAMENTAL!$B9,DISTRITAL!AE$9:AE$117)","v":427169},{"$f":"SUMIF(DISTRITAL!$C$9:$C$117,DEPARTAMENTAL!$B9,DISTRITAL!AF$9:AF$117)","v":435591},{"$f":"SUMIF(DISTRITAL!$C$9:$C$117,DEPARTAMENTAL!$B9,DISTRITAL!AG$9:AG$117)","v":425649},{"$f":"SUMIF(DISTRITAL!$C$9:$C$117,DEPARTAMENTAL!$B9,DISTRITAL!AH$9:AH$117)","v":420074},{"$f":"SUMIF(DISTRITAL!$C$9:$C$117,DEPARTAMENTAL!$B9,DISTRITAL!AI$9:AI$117)","v":388909},{"$f":"SUMIF(DISTRITAL!$C$9:$C$117,DEPARTAMENTAL!$B9,DISTRITAL!AJ$9:AJ$117)","v":321028},{"$f":"SUMIF(DISTRITAL!$C$9:$C$117,DEPARTAMENTAL!$B9,DISTRITAL!AK$9:AK$117)","v":270744},{"$f":"SUMIF(DISTRITAL!$C$9:$C$117,DEPARTAMENTAL!$B9,DISTRITAL!AL$9:AL$117)","v":196303},{"$f":"SUMIF(DISTRITAL!$C$9:$C$117,DEPARTAMENTAL!$B9,DISTRITAL!AM$9:AM$117)","v":134834},{"$f":"SUMIF(DISTRITAL!$C$9:$C$117,DEPARTAMENTAL!$B9,DISTRITAL!AN$9:AN$117)","v":144666},{"$f":"SUMIF(DISTRITAL!$C$9:$C$117,DEPARTAMENTAL!$B9,DISTRITAL!AO$9:AO$117)","v":1782},{"$f":"SUMIF(DISTRITAL!$C$9:$C$117,DEPARTAMENTAL!$B9,DISTRITAL!AP$9:AP$117)","v":27859},{"$f":"SUMIF(DISTRITAL!$C$9:$C$117,DEPARTAMENTAL!$B9,DISTRITAL!AQ$9:AQ$117)","v":30370},{"$f":"SUMIF(DISTRITAL!$C$9:$C$117,DEPARTAMENTAL!$B9,DISTRITAL!AR$9:AR$117)","v":{"v":89435,"d":"89,435"}},{"$f":"SUMIF(DISTRITAL!$C$9:$C$117,DEPARTAMENTAL!$B9,DISTRITAL!AS$9:AS$117)","v":{"v":3152224,"d":"3,152,224"}},{"$f":"SUMIF(DISTRITAL!$C$9:$C$117,DEPARTAMENTAL!$B9,DISTRITAL!AT$9:AT$117)","v":168930},{"$f":"SUMIF(DISTRITAL!$C$9:$C$117,DEPARTAMENTAL!$B9,DISTRITAL!AU$9:AU$117)","v":182038},{"$f":"SUMIF(DISTRITAL!$C$9:$C$117,DEPARTAMENTAL!$B9,DISTRITAL!AV$9:AV$117)","v":1252704},{"$f":"SUMIF(DISTRITAL!$C$9:$C$117,DEPARTAMENTAL!$B9,DISTRITAL!AW$9:AW$117)","v":169522},null,{"$f":"C9","v":{"v":6120139,"d":"6,120,139"}},{"$f":"SUM(D9:O9)","v":{"v":742544,"d":"742,544"}},{"$f":"SUM(P9:U9)","v":{"v":428750,"d":"428,750"}},{"$f":"SUM(V9:Y9)","v":{"v":945391,"d":"945,391"}},{"$f":"SUM(Z9:AE9)","v":{"v":2546970,"d":"2,546,970"}},{"$f":"SUM(AF9:AK9)","v":{"v":1456484,"d":"1,456,484"}},null,{"$f":"SUM(D9:H9)","v":{"v":218950,"d":"218,950"}},{"$f":"SUM(I9:M9)","v":{"v":387355,"d":"387,355"}},{"$f":"SUM(N9:R9)","v":{"v":343275,"d":"343,275"}},{"$f":"SUM(S9:W9)","v":{"v":368592,"d":"368,592"}},{"$f":"X9","v":{"v":379932,"d":"379,932"}},{"$f":"Y9","v":{"v":418581,"d":"418,581"}},{"$f":"Z9","v":{"v":439447,"d":"439,447"}},{"$f":"AA9","v":{"v":399040,"d":"399,040"}},{"$f":"AB9","v":{"v":427169,"d":"427,169"}},{"$f":"AC9","v":{"v":435591,"d":"435,591"}},{"$f":"AD9","v":{"v":425649,"d":"425,649"}},{"$f":"AE9","v":{"v":420074,"d":"420,074"}},{"$f":"AF9","v":{"v":388909,"d":"388,909"}},{"$f":"AG9","v":{"v":321028,"d":"321,028"}},{"$f":"AH9","v":{"v":270744,"d":"270,744"}},{"$f":"AI9","v":{"v":196303,"d":"196,303"}},{"$f":"AJ9","v":{"v":134834,"d":"134,834"}},{"$f":"AK9","v":{"v":144666,"d":"144,666"}},null,{"$f":"SUMIF('Pob x Genero'!$C$9:$C$117,DEPARTAMENTAL!B9,'Pob x Genero'!$G$9:$G$117)","v":{"v":818583,"d":"818,583"}},{"$f":"SUMIF('Pob x Genero'!$C$9:$C$117,DEPARTAMENTAL!B9,'Pob x Genero'!$AT$9:$AT$117)","v":{"v":843731,"d":"843,731"}},{"$f":"AO9","v":{"v":89435,"d":"89,435"}},{"$f":"AT9","v":{"v":169522,"d":"169,522"}}]
[]
["NOTA: LA POBLACION ESTIMADA DE EDADES  SIMPLES Y GRUPOS DE EDAD DE DISTRITOS, CORRESPONDEN A CIFRAS REFERENCIALES HASTA OBTENER LAS CIFRAS DE LAS PROYECCIONES DEL INEI"]
["FUENTE: CENSO NACIONAL XI DE POBLACION Y VI DE VIVIENDA 2017/- BOLETIN DEMOGRAFICO Nº 24,37, 39 / RENIEC / Padrón Nominal/ CNV"]
["La población de 0-5 años corresponden al reporte de la poblacion del Padrón Nominal con corte al 31/12/2024, con ajuste en la Edad \"0\""]
["OFICINA DE GESTION DE LA INFORMACION - MINISTERIO DE SALUD"]
[]
[]
[]
[]
["HOMBRES",null,null,"POBLACION TOTAL, POR EDADS SIMPLES",{"$nulls":19},"POBLACIÓN TOTAL,  POR GRUPOS QUINQUEN ALES DE EDAD",{"$nulls":13},"EDADES ESPECIALES",null,null,"NACIMIENTOS VIVOS",{"$nulls":13},"HOMBRES"]
["UBIGEO","DEPARTAMENTO","Total","0",1,2,3,4,5,6,7,8,9,10,11,12,13,14,15,16,17,18,19,"20-24","25-29","30-34","35-39","40-44","45-49","50-54","55-59","60-64","65-69","70-74","75-79","80-84","85-+","28 DIAS","0-5 MESES","6-11 MESES",{"$nulls":7},"TOTAL","NIÑO","Adolescente","Joven","Adulto","Adulto Mayor",null,"00-04","05-09","10-14","15-19","20-24","25-29","30-34","35-39","40-44","45-49","50-54","55-59","60-64","65-69","70-74","75-79","80-84","85-+"]
["00","PERU",{"$f":"SUM(C22:C22)","v":{"v":818583,"d":"818,583"}},{"v":8897,"d":"8,897"},{"v":8325,"d":"8,325"},{"v":8972,"d":"8,972"},{"v":9184,"d":"9,184"},{"v":10669,"d":"10,669"},{"v":11392,"d":"11,392"},{"v":13324,"d":"13,324"},{"v":13692,"d":"13,692"},{"v":13527,"d":"13,527"},{"v":13359,"d":"13,359"},{"v":11866,"d":"11,866"},{"v":11866,"d":"11,866"},{"v":12274,"d":"12,274"},{"v":11708,"d":"11,708"},{"v":10991,"d":"10,991"},{"v":12620,"d":"12,620"},{"v":12792,"d":"12,792"},{"v":12689,"d":"12,689"},{"v":12448,"d":"12,448"},{"v":12681,"d":"12,681"},{"v":58784,"d":"58,784"},{"v":63333,"d":"63,333"},{"v":66465,"d":"66,465"},{"v":62287,"d":"62,287"},{"v":60582,"d":"60,582"},{"v":56244,"d":"56,244"},{"v":47933,"d":"47,933"},{"v":44629,"d":"44,629"},{"v":37706,"d":"37,706"},{"v":28919,"d":"28,919"},{"v":23107,"d":"23,107"},{"v":16290,"d":"16,290"},{"v":9959,"d":"9,959"},{"v":9069,"d":"9,069"},328,{"v":4244,"d":"4,244"},{"v":4661,"d":"4,661"},{"v":13240,"d":"13,240"},{"$nulls":6},{"v":818583,"d":"818,583"},{"v":135073,"d":"135,073"},{"v":73074,"d":"73,074"},{"v":147246,"d":"147,246"},{"v":338140,"d":"338,140"},{"v":125050,"d":"125,050"},null,{"$f":"SUM(BC22:BC22)","v":{"v":46047,"d":"46,047"}},{"v":65294,"d":"65,294"},{"v":58705,"d":"58,705"},{"v":63230,"d":"63,230"},{"v":58784,"d":"58,784"},{"v":63333,"d":"63,333"},{"v":66465,"d":"66,465"},{"v":62287,"d":"62,287"},{"v":60582,"d":"60,582"},{"v":56244,"d":"56,244"},{"v":47933,"d":"47,933"},{"v":44629,"d":"44,629"},{"v":37706,"d":"37,706"},{"v":28919,"d":"28,919"},{"v":23107,"d":"23,107"},{"v":16290,"d":"16,290"},{"v":9959,"d":"9,959"},{"v":9069,"d":"9,069"}]
["04","AREQUIPA",{"$f":"SUM(D22:AK22)","v":818583},{"$f":"SUMIF('Pob x Genero'!$C$9:$C$117,$B22,'Pob x Genero'!H$9:H$117)","v":8897},{"$f":"SUMIF('Pob x Genero'!$C$9:$C$117,$B22,'Pob x Genero'!I$9:I$117)","v":8325},{"$f":"SUMIF('Pob x Genero'!$C$9:$C$117,$B22,'Pob x Genero'!J$9:J$117)","v":8972},{"$f":"SUMIF('Pob x Genero'!$C$9:$C$117,$B22,'Pob x Genero'!K$9:K$117)","v":9184},{"$f":"SUMIF('Pob x Genero'!$C$9:$C$117,$B22,'Pob x Genero'!L$9:L$117)","v":10669},{"$f":"SUMIF('Pob x Genero'!$C$9:$C$117,$B22,'Pob x Genero'!M$9:M$117)","v":11392},{"$f":"SUMIF('Pob x Genero'!$C$9:$C$117,$B22,'Pob x Genero'!N$9:N$117)","v":13324},{"$f":"SUMIF('Pob x Genero'!$C$9:$C$117,$B22,'Pob x Genero'!O$9:O$117)","v":13692},{"$f":"SUMIF('Pob x Genero'!$C$9:$C$117,$B22,'Pob x Genero'!P$9:P$117)","v":13527},{"$f":"SUMIF('Pob x Genero'!$C$9:$C$117,$B22,'Pob x Genero'!Q$9:Q$117)","v":13359},{"$f":"SUMIF('Pob x Genero'!$C$9:$C$117,$B22,'Pob x Genero'!R$9:R$117)","v":11866},{"$f":"SUMIF('Pob x Genero'!$C$9:$C$117,$B22,'Pob x Genero'!S$9:S$117)","v":11866},{"$f":"SUMIF('Pob x Genero'!$C$9:$C$117,$B22,'Pob x Genero'!T$9:T$117)","v":12274},{"$f":"SUMIF('Pob x Genero'!$C$9:$C$117,$B22,'Pob x Genero'!U$9:U$117)","v":11708},{"$f":"SUMIF('Pob x Genero'!$C$9:$C$117,$B22,'Pob x Genero'!V$9:V$117)","v":10991},{"$f":"SUMIF('Pob x Genero'!$C$9:$C$117,$B22,'Pob x Genero'!W$9:W$117)","v":12620},{"$f":"SUMIF('Pob x Genero'!$C$9:$C$117,$B22,'Pob x Genero'!X$9:X$117)","v":12792},{"$f":"SUMIF('Pob x Genero'!$C$9:$C$117,$B22,'Pob x Genero'!Y$9:Y$117)","v":12689},{"$f":"SUMIF('Pob x Genero'!$C$9:$C$117,$B22,'Pob x Genero'!Z$9:Z$117)","v":12448},{"$f":"SUMIF('Pob x Genero'!$C$9:$C$117,$B22,'Pob x Genero'!AA$9:AA$117)","v":12681},{"$f":"SUMIF('Pob x Genero'!$C$9:$C$117,$B22,'Pob x Genero'!AB$9:AB$117)","v":58784},{"$f":"SUMIF('Pob x Genero'!$C$9:$C$117,$B22,'Pob x Genero'!AC$9:AC$117)","v":63333},{"$f":"SUMIF('Pob x Genero'!$C$9:$C$117,$B22,'Pob x Genero'!AD$9:AD$117)","v":66465},{"$f":"SUMIF('Pob x Genero'!$C$9:$C$117,$B22,'Pob x Genero'!AE$9:AE$117)","v":62287},{"$f":"SUMIF('Pob x Genero'!$C$9:$C$117,$B22,'Pob x Genero'!AF$9:AF$117)","v":60582},{"$f":"SUMIF('Pob x Genero'!$C$9:$C$117,$B22,'Pob x Genero'!AG$9:AG$117)","v":56244},{"$f":"SUMIF('Pob x Genero'!$C$9:$C$117,$B22,'Pob x Genero'!AH$9:AH$117)","v":47933},{"$f":"SUMIF('Pob x Genero'!$C$9:$C$117,$B22,'Pob x Genero'!AI$9:AI$117)","v":44629},{"$f":"SUMIF('Pob x Genero'!$C$9:$C$117,$B22,'Pob x Genero'!AJ$9:AJ$117)","v":37706},{"$f":"SUMIF('Pob x Genero'!$C$9:$C$117,$B22,'Pob x Genero'!AK$9:AK$117)","v":28919},{"$f":"SUMIF('Pob x Genero'!$C$9:$C$117,$B22,'Pob x Genero'!AL$9:AL$117)","v":23107},{"$f":"SUMIF('Pob x Genero'!$C$9:$C$117,$B22,'Pob x Genero'!AM$9:AM$117)","v":16290},{"$f":"SUMIF('Pob x Genero'!$C$9:$C$117,$B22,'Pob x Genero'!AN$9:AN$117)","v":9959},{"$f":"SUMIF('Pob x Genero'!$C$9:$C$117,$B22,'Pob x Genero'!AO$9:AO$117)","v":9069},{"$f":"SUMIF('Pob x Genero'!$C$9:$C$117,$B22,'Pob x Genero'!AP$9:AP$117)","v":328},{"$f":"SUMIF('Pob x Genero'!$C$9:$C$117,$B22,'Pob x Genero'!AQ$9:AQ$117)","v":4244},{"$f":"SUMIF('Pob x Genero'!$C$9:$C$117,$B22,'Pob x Genero'!AR$9:AR$117)","v":4661},{"$f":"SUMIF('Pob x Genero'!$C$9:$C$117,$B22,'Pob x Genero'!AS$9:AS$117)","v":13240},{"$nulls":6},{"v":818583,"d":"818,583"},{"v":135073,"d":"135,073"},{"v":73074,"d":"73,074"},{"v":147246,"d":"147,246"},{"v":338140,"d":"338,140"},{"v":125050,"d":"125,050"},null,{"$f":"SUM(D22:H22)","v":{"v":46047,"d":"46,047"}},{"$f":"SUM(I22:M22)","v":{"v":65294,"d":"65,294"}},{"$f":"SUM(N22:R22)","v":{"v":58705,"d":"58,705"}},{"$f":"SUM(S22:W22)","v":{"v":63230,"d":"63,230"}},{"$f":"X22","v":{"v":58784,"d":"58,784"}},{"$f":"Y22","v":{"v":63333,"d":"63,333"}},{"$f":"Z22","v":{"v":66465,"d":"66,465"}},{"$f":"AA22","v":{"v":62287,"d":"62,287"}},{"$f":"AB22","v":{"v":60582,"d":"60,582"}},{"$f":"AC22","v":{"v":56244,"d":"56,244"}},{"$f":"AD22","v":{"v":47933,"d":"47,933"}},{"$f":"AE22","v":{"v":44629,"d":"44,629"}},{"$f":"AF22","v":{"v":37706,"d":"37,706"}},{"$f":"AG22","v":{"v":28919,"d":"28,919"}},{"$f":"AH22","v":{"v":23107,"d":"23,107"}},{"$f":"AI22","v":{"v":16290,"d":"16,290"}},{"$f":"AJ22","v":{"v":9959,"d":"9,959"}},{"$f":"AK22","v":{"v":9069,"d":"9,069"}}]
[]
[]
["MUJERES",null,null,"POBLACION TOTAL, POR EDADS SIMPLES",{"$nulls":19},"POBLACIÓN TOTAL,  POR GRUPOS QUINQUEN ALES DE EDAD",{"$nulls":13},"EDADES ESPECIALES",null,null,"NACIMIENTOS VIVOS","POBLACION FEMENINA TOTAL","POBLACION FEMENINA",null,null,"GESTANTES  ESPERADAS",{"$nulls":8},"MUJERES"]
["UBIGEO","DEPARTAMENTO","Total","0",1,2,3,4,5,6,7,8,9,10,11,12,13,14,15,16,17,18,19,"20-24","25-29","30-34","35-39","40-44","45-49","50-54","55-59","60-64","65-69","70-74","75-79","80-84","85-+","28 DIAS","0-5 MESES","6-11 MESES",null,null,"10 - 14","15- 19","20- 49",null,null,"TOTAL","NIÑO","Adolescente","Joven","Adulto","Adulto Mayor",null,"00-04","05-09","10-14","15-19","20-24","25-29","30-34","35-39","40-44","45-49","50-54","55-59","60-64","65-69","70-74","75-79","80-84","85-+"]
["00","PERU",{"$f":"SUM(C28:C28)","v":{"v":843731,"d":"843,731"}},{"v":8414,"d":"8,414"},{"v":8050,"d":"8,050"},{"v":8694,"d":"8,694"},{"v":8876,"d":"8,876"},{"v":10278,"d":"10,278"},{"v":10894,"d":"10,894"},{"v":12961,"d":"12,961"},{"v":13216,"d":"13,216"},{"v":12990,"d":"12,990"},{"v":12125,"d":"12,125"},{"v":11846,"d":"11,846"},{"v":11888,"d":"11,888"},{"v":12267,"d":"12,267"},{"v":11718,"d":"11,718"},{"v":11003,"d":"11,003"},{"v":12659,"d":"12,659"},{"v":12740,"d":"12,740"},{"v":12691,"d":"12,691"},{"v":12444,"d":"12,444"},{"v":12369,"d":"12,369"},{"v":62370,"d":"62,370"},{"v":71746,"d":"71,746"},{"v":68785,"d":"68,785"},{"v":60040,"d":"60,040"},{"v":60228,"d":"60,228"},{"v":56307,"d":"56,307"},{"v":51200,"d":"51,200"},{"v":46045,"d":"46,045"},{"v":38481,"d":"38,481"},{"v":31608,"d":"31,608"},{"v":25666,"d":"25,666"},{"v":18143,"d":"18,143"},{"v":11969,"d":"11,969"},{"v":13020,"d":"13,020"},333,{"v":4068,"d":"4,068"},{"v":4352,"d":"4,352"},{"v":12636,"d":"12,636"},{"v":3152224,"d":"3,152,224"},{"v":168930,"d":"168,930"},{"v":182038,"d":"182,038"},{"v":1252704,"d":"1,252,704"},{"v":169522,"d":"169,522"},null,{"$f":"C27","v":{"v":843731,"d":"843,731"}},{"$f":"SUM(D27:O27)","v":{"v":130232,"d":"130,232"}},{"$f":"SUM(P27:U27)","v":{"v":73078,"d":"73,078"}},{"$f":"SUM(V27:Y27)","v":{"v":158929,"d":"158,929"}},{"$f":"SUM(Z27:AE27)","v":{"v":342605,"d":"342,605"}},{"$f":"SUM(AF27:AK27)","v":{"v":138887,"d":"138,887"}},null,{"$f":"SUM(BC28:BC28)","v":{"v":44312,"d":"44,312"}},{"v":62186,"d":"62,186"},{"v":58722,"d":"58,722"},{"v":62903,"d":"62,903"},{"v":62370,"d":"62,370"},{"v":71746,"d":"71,746"},{"v":68785,"d":"68,785"},{"v":60040,"d":"60,040"},{"v":60228,"d":"60,228"},{"v":56307,"d":"56,307"},{"v":51200,"d":"51,200"},{"v":46045,"d":"46,045"},{"v":38481,"d":"38,481"},{"v":31608,"d":"31,608"},{"v":25666,"d":"25,666"},{"v":18143,"d":"18,143"},{"v":11969,"d":"11,969"},{"v":13020,"d":"13,020"}]
["04","AREQUIPA",{"$f":"SUM(D28:AK28)","v":843731},{"$f":"SUMIF('Pob x Genero'!$C$9:$C$117,$B28,'Pob x Genero'!AU$9:AU$117)","v":8414},{"$f":"SUMIF('Pob x Genero'!$C$9:$C$117,$B28,'Pob x Genero'!AV$9:AV$117)","v":8050},{"$f":"SUMIF('Pob x Genero'!$C$9:$C$117,$B28,'Pob x Genero'!AW$9:AW$117)","v":8694},{"$f":"SUMIF('Pob x Genero'!$C$9:$C$117,$B28,'Pob x Genero'!AX$9:AX$117)","v":8876},{"$f":"SUMIF('Pob x Genero'!$C$9:$C$117,$B28,'Pob x Genero'!AY$9:AY$117)","v":10278},{"$f":"SUMIF('Pob x Genero'!$C$9:$C$117,$B28,'Pob x Genero'!AZ$9:AZ$117)","v":10894},{"$f":"SUMIF('Pob x Genero'!$C$9:$C$117,$B28,'Pob x Genero'!BA$9:BA$117)","v":12961},{"$f":"SUMIF('Pob x Genero'!$C$9:$C$117,$B28,'Pob x Genero'!BB$9:BB$117)","v":13216},{"$f":"SUMIF('Pob x Genero'!$C$9:$C$117,$B28,'Pob x Genero'!BC$9:BC$117)","v":12990},{"$f":"SUMIF('Pob x Genero'!$C$9:$C$117,$B28,'Pob x Genero'!BD$9:BD$117)","v":12125},{"$f":"SUMIF('Pob x Genero'!$C$9:$C$117,$B28,'Pob x Genero'!BE$9:BE$117)","v":11846},{"$f":"SUMIF('Pob x Genero'!$C$9:$C$117,$B28,'Pob x Genero'!BF$9:BF$117)","v":11888},{"$f":"SUMIF('Pob x Genero'!$C$9:$C$117,$B28,'Pob x Genero'!BG$9:BG$117)","v":12267},{"$f":"SUMIF('Pob x Genero'!$C$9:$C$117,$B28,'Pob x Genero'!BH$9:BH$117)","v":11718},{"$f":"SUMIF('Pob x Genero'!$C$9:$C$117,$B28,'Pob x Genero'!BI$9:BI$117)","v":11003},{"$f":"SUMIF('Pob x Genero'!$C$9:$C$117,$B28,'Pob x Genero'!BJ$9:BJ$117)","v":12659},{"$f":"SUMIF('Pob x Genero'!$C$9:$C$117,$B28,'Pob x Genero'!BK$9:BK$117)","v":12740},{"$f":"SUMIF('Pob x Genero'!$C$9:$C$117,$B28,'Pob x Genero'!BL$9:BL$117)","v":12691},{"$f":"SUMIF('Pob x Genero'!$C$9:$C$117,$B28,'Pob x Genero'!BM$9:BM$117)","v":12444},{"$f":"SUMIF('Pob x Genero'!$C$9:$C$117,$B28,'Pob x Genero'!BN$9:BN$117)","v":12369},{"$f":"SUMIF('Pob x Genero'!$C$9:$C$117,$B28,'Pob x Genero'!BO$9:BO$117)","v":62370},{"$f":"SUMIF('Pob x Genero'!$C$9:$C$117,$B28,'Pob x Genero'!BP$9:BP$117)","v":71746},{"$f":"SUMIF('Pob x Genero'!$C$9:$C$117,$B28,'Pob x Genero'!BQ$9:BQ$117)","v":68785},{"$f":"SUMIF('Pob x Genero'!$C$9:$C$117,$B28,'Pob x Genero'!BR$9:BR$117)","v":60040},{"$f":"SUMIF('Pob x Genero'!$C$9:$C$117,$B28,'Pob x Genero'!BS$9:BS$117)","v":60228},{"$f":"SUMIF('Pob x Genero'!$C$9:$C$117,$B28,'Pob x Genero'!BT$9:BT$117)","v":56307},{"$f":"SUMIF('Pob x Genero'!$C$9:$C$117,$B28,'Pob x Genero'!BU$9:BU$117)","v":51200},{"$f":"SUMIF('Pob x Genero'!$C$9:$C$117,$B28,'Pob x Genero'!BV$9:BV$117)","v":46045},{"$f":"SUMIF('Pob x Genero'!$C$9:$C$117,$B28,'Pob x Genero'!BW$9:BW$117)","v":38481},{"$f":"SUMIF('Pob x Genero'!$C$9:$C$117,$B28,'Pob x Genero'!BX$9:BX$117)","v":31608},{"$f":"SUMIF('Pob x Genero'!$C$9:$C$117,$B28,'Pob x Genero'!BY$9:BY$117)","v":25666},{"$f":"SUMIF('Pob x Genero'!$C$9:$C$117,$B28,'Pob x Genero'!BZ$9:BZ$117)","v":18143},{"$f":"SUMIF('Pob x Genero'!$C$9:$C$117,$B28,'Pob x Genero'!CA$9:CA$117)","v":11969},{"$f":"SUMIF('Pob x Genero'!$C$9:$C$117,$B28,'Pob x Genero'!CB$9:CB$117)","v":13020},{"$f":"SUMIF('Pob x Genero'!$C$9:$C$117,$B28,'Pob x Genero'!CC$9:CC$117)","v":333},{"$f":"SUMIF('Pob x Genero'!$C$9:$C$117,$B28,'Pob x Genero'!CD$9:CD$117)","v":4068},{"$f":"SUMIF('Pob x Genero'!$C$9:$C$117,$B28,'Pob x Genero'!CE$9:CE$117)","v":4352},{"$f":"SUMIF('Pob x Genero'!$C$9:$C$117,$B28,'Pob x Genero'!CF$9:CF$117)","v":12636},{"$f":"AP9","v":{"v":3152224,"d":"3,152,224"}},{"$f":"AQ9","v":{"v":168930,"d":"168,930"}},{"$f":"AR9","v":{"v":182038,"d":"182,038"}},{"$f":"AS9","v":{"v":1252704,"d":"1,252,704"}},{"$f":"AT9","v":{"v":169522,"d":"169,522"}},null,{"v":843731,"d":"843,731"},{"v":130232,"d":"130,232"},{"v":73078,"d":"73,078"},{"v":158929,"d":"158,929"},{"v":342605,"d":"342,605"},{"v":138887,"d":"138,887"},null,{"$f":"SUM(D28:H28)","v":{"v":44312,"d":"44,312"}},{"$f":"SUM(I28:M28)","v":{"v":62186,"d":"62,186"}},{"$f":"SUM(N28:R28)","v":{"v":58722,"d":"58,722"}},{"$f":"SUM(S28:W28)","v":{"v":62903,"d":"62,903"}},{"$f":"X28","v":{"v":62370,"d":"62,370"}},{"$f":"Y28","v":{"v":71746,"d":"71,746"}},{"$f":"Z28","v":{"v":68785,"d":"68,785"}},{"$f":"AA28","v":{"v":60040,"d":"60,040"}},{"$f":"AB28","v":{"v":60228,"d":"60,228"}},{"$f":"AC28","v":{"v":56307,"d":"56,307"}},{"$f":"AD28","v":{"v":51200,"d":"51,200"}},{"$f":"AE28","v":{"v":46045,"d":"46,045"}},{"$f":"AF28","v":{"v":38481,"d":"38,481"}},{"$f":"AG28","v":{"v":31608,"d":"31,608"}},{"$f":"AH28","v":{"v":25666,"d":"25,666"}},{"$f":"AI28","v":{"v":18143,"d":"18,143"}},{"$f":"AJ28","v":{"v":11969,"d":"11,969"}},{"$f":"AK28","v":{"v":13020,"d":"13,020"}}]

{"sheet":"PROVINCIAL","index":1,"n_rows":21,"n_cols":55,"rows_kept":21,"merged":[[5,39,5,41],[5,42,6,42],[5,43,6,43],[5,44,5,46],[5,47,6,47]]}
[]
[]
[]
["POBLACION ESTIMADA POR EDADES SIMPLES Y GRUPOS DE EDAD, SEGÚN DEPARTAMENTO y PROVINCIA. 2025"]
["* Actualizado con datos INEI"]
["POBLACION 2025",{"$nulls":4},"POBLACION TOTAL, POR EDADS SIMPLES",{"$nulls":19},"POBLACIÓN TOTAL,  POR GRUPOS QUINQUEN ALES DE EDAD",{"$nulls":13},"EDADES ESPECIALES",null,null,"NACIMIENTOS VIVOS","POBLACION FEMENINA TOTAL","POBLACION FEMENINA",null,null,"GESTANTES  ESPERADAS"]
["UBIGEO","DIRESA","DEPARTAMENTO","PROVINCIA","Total","0",1,2,3,4,5,6,7,8,9,10,11,12,13,14,15,16,17,18,19,"20-24","25-29","30-34","35-39","40-44","45-49","50-54","55-59","60-64","65-69","70-74","75-79","80-84","85-+","28 DIAS","0-5 MESES","6-11 MESES",null,null,"10 - 14","15- 19","20- 49",null,null,"TOTAL","NIÑO","Adolescente","Joven","Adulto","Adulto Mayor"]
["0000","PERU","PERU","PERU",{"v":1774714,"d":"1,774,714"},{"v":17311,"d":"17,311"},{"v":16375,"d":"16,375"},{"v":21140,"d":"21,140"},{"v":126986,"d":"126,986"},{"v":20947,"d":"20,947"},{"v":22286,"d":"22,286"},{"v":26285,"d":"26,285"},{"v":26908,"d":"26,908"},{"v":26517,"d":"26,517"},{"v":25484,"d":"25,484"},{"v":23712,"d":"23,712"},{"v":23754,"d":"23,754"},{"v":24541,"d":"24,541"},{"v":23426,"d":"23,426"},{"v":21994,"d":"21,994"},{"v":25279,"d":"25,279"},{"v":25532,"d":"25,532"},{"v":25380,"d":"25,380"},{"v":24892,"d":"24,892"},{"v":25050,"d":"25,050"},{"v":121154,"d":"121,154"},{"v":135079,"d":"135,079"},{"v":135250,"d":"135,250"},{"v":122327,"d":"122,327"},{"v":120810,"d":"120,810"},{"v":112551,"d":"112,551"},{"v":99133,"d":"99,133"},{"v":90674,"d":"90,674"},{"v":76187,"d":"76,187"},{"v":60527,"d":"60,527"},{"v":48773,"d":"48,773"},{"v":34433,"d":"34,433"},{"v":21928,"d":"21,928"},{"v":22089,"d":"22,089"},661,{"v":8312,"d":"8,312"},{"v":9013,"d":"9,013"},{"v":25876,"d":"25,876"},{"v":843731,"d":"843,731"},{"v":58722,"d":"58,722"},{"v":62903,"d":"62,903"},{"v":379476,"d":"379,476"},{"v":41624,"d":"41,624"},null,{"v":1774714,"d":"1,774,714"},{"v":377705,"d":"377,705"},{"v":146152,"d":"146,152"},{"v":306175,"d":"306,175"},{"v":680745,"d":"680,745"},{"v":263937,"d":"263,937"}]
["0401","AREQUIPA","AREQUIPA","AREQUIPA",1291480,12717,12453,16639,13743,16124,17574,20821,21186,21044,20095,18452,18345,19113,18152,16842,19265,19130,19074,19139,19578,95519,106506,107034,95387,94523,87320,76240,68728,57807,46302,37346,26279,16542,16461,502,6258,6460,18680,{"v":650965,"d":"650,965"},44918,47407,295573,31423,null,{"v":1291480,"d":"1,291,480"},{"v":209193,"d":"209,193"},{"v":111576,"d":"111,576"},{"v":240742,"d":"240,742"},{"v":529232,"d":"529,232"},{"v":200737,"d":"200,737"}]
["0402","AREQUIPA","AREQUIPA","CAMANA",182654,862,771,798,{"$f":"ROUND(I$9*$H10/100,0)","v":109669},{"$f":"ROUND(J$9*$H10/100,0)","v":128670},140241,166152,169064,167931,160358,147247,146393,152522,144853,134399,153735,152657,152211,152729,156232,{"$f":"ROUND(Z$9*$H10/100,0)","v":762242},849918,854131,761188,754294,696814,608395,548449,461300,369490,298021,209706,132005,131359,4006,49939,{"$f":"ROUND(AP$9*$H10/100,0)","v":51551},149066,{"v":5194701,"d":"5,194,701"},358446,378308,2358673,250756,0,{"v":10306010,"d":"10,306,010"},{"v":1669360,"d":"1,669,360"},{"v":890376,"d":"890,376"},{"v":1921121,"d":"1,921,121"},{"v":4223271,"d":"4,223,271"},{"v":1601881,"d":"1,601,881"}]
["0403","AREQUIPA","AREQUIPA","CARAVELI",51919,633,569,694,{"$f":"ROUND(I$9*$H11/100,0)","v":95376},111901,121964,144498,147031,146045,139459,128057,127314,132644,125975,116883,133699,132762,132374,132825,135871,662902,739152,742816,661986,655990,606001,529106,476972,401181,321336,259181,182376,114801,114239,3484,43431,44832,129639,{"v":4517697,"d":"4,517,697"},311731,329005,2051277,218076,0,{"v":8962871,"d":"8,962,871"},{"v":1451799,"d":"1,451,799"},{"v":774337,"d":"774,337"},{"v":1670749,"d":"1,670,749"},{"v":3672870,"d":"3,672,870"},{"v":1393115,"d":"1,393,115"}]
["0404","AREQUIPA","AREQUIPA","CASTILLA",37929,404,327,391,53735,63045,68714,81410,82837,82282,78571,72147,71729,74732,70974,65852,75326,74798,74579,74833,76550,373479,416438,418503,372963,369585,341421,298098,268726,226025,181041,146023,102751,64679,64363,1963,24469,25259,73039,{"v":2545273,"d":"2,545,273"},175629,185361,1155690,122864,0,{"v":5049687,"d":"5,049,687"},{"v":817945,"d":"817,945"},{"v":436262,"d":"436,262"},{"v":941301,"d":"941,301"},{"v":2069297,"d":"2,069,297"},{"v":784882,"d":"784,882"}]
["0405","AREQUIPA","AREQUIPA","CAYLLOMA",118445,1303,1254,1550,213017,249922,272397,322726,328383,326182,311473,286006,284348,296252,281356,261051,298608,296515,295647,296655,303459,1480545,1650843,1659027,1478499,1465107,1353460,1181720,1065284,896009,717681,578863,407325,256401,255146,7781,96999,100130,289540,{"v":10089958,"d":"10,089,958"},696229,734809,4581382,487057,0,{"v":20017940,"d":"20,017,940"},{"v":3242492,"d":"3,242,492"},{"v":1729428,"d":"1,729,428"},{"v":3731501,"d":"3,731,501"},{"v":8203096,"d":"8,203,096"},{"v":3111424,"d":"3,111,424"}]
["0406","AREQUIPA","AREQUIPA","CONDESUYOS",17953,224,213,220,30235,35473,38663,45806,46609,46297,44209,40594,40359,42049,39934,37052,42383,42086,41963,42106,43072,210142,234313,235475,209851,207951,192104,167728,151202,127175,101864,82161,57814,36392,36214,1104,13768,14212,41096,{"v":1432123,"d":"1,432,123"},98820,104295,650261,69131,0,{"v":2841256,"d":"2,841,256"},{"v":460225,"d":"460,225"},{"v":245467,"d":"245,467"},{"v":529632,"d":"529,632"},{"v":1164310,"d":"1,164,310"},{"v":441621,"d":"441,621"}]
["0407","AREQUIPA","AREQUIPA","ISLAY",59841,598,570,674,92628,108676,118449,140334,142794,141837,135440,124366,123645,128822,122344,113515,129846,128936,128559,128997,131956,643798,717850,721409,642908,637085,588537,513858,463227,389619,312075,251712,177120,111493,110947,3383,42179,43540,125903,{"v":4387504,"d":"4,387,504"},302747,319523,1992162,211791,0,{"v":8704575,"d":"8,704,575"},{"v":1409961,"d":"1,409,961"},{"v":752022,"d":"752,022"},{"v":1622601,"d":"1,622,601"},{"v":3567024,"d":"3,567,024"},{"v":1352967,"d":"1,352,967"}]
["0408","AREQUIPA","AREQUIPA","LA UNION",14493,570,218,174,23913,28056,30579,36229,36864,36617,34965,32106,31920,33257,31584,29305,33521,33286,33189,33302,34066,166203,185320,186239,165973,164470,151937,132658,119587,100584,80565,64982,45725,28783,28642,873,10889,11240,32503,{"v":1132679,"d":"1,132,679"},78157,82488,514297,54676,0,{"v":2247175,"d":"2,247,175"},{"v":363996,"d":"363,996"},{"v":194142,"d":"194,142"},{"v":418891,"d":"418,891"},{"v":920864,"d":"920,864"},{"v":349282,"d":"349,282"}]
[]
["NOTA: LA POBLACION ESTIMADA DE EDADES  SIMPLES Y GRUPOS DE EDAD DE DISTRITOS, CORRESPONDEN A CIFRAS REFERENCIALES HASTA OBTENER LAS CIFRAS DE LAS PROYECCIONES DEL INEI"]
["FUENTE: CENSO NACIONAL XI DE POBLACION Y VI DE VIVIENDA 2017/- BOLETIN DEMOGRAFICO Nº 24,37, 39 / RENIEC / Padrón Nominal/ CNV"]
["La población de 0-5 años corresponden al reporte de la poblacion del Padrón Nominal con corte al 31/12/2024, con ajuste en la Edad \"0\""]
["OFICINA DE GESTION DE LA INFORMACION - MINISTERIO DE SALUD"]

{"sheet":"DISTRITAL","index":2,"n_rows":122,"n_cols":57,"rows_kept":122,"merged":[[5,40,5,42],[5,43,6,43],[5,44,6,44],[5,45,5,47],[5,48,6,48]]}
[]
[]
[]
["POBLACION ESTIMADA POR EDADES SIMPLES Y GRUPOS DE EDAD, SEGÚN DEPARTAMENTO, PROVINCIA Y DISTRITO. 2025"]
["* Actualizado con datos INEI"]
["POBLACION 2025",{"$nulls":5},"POBLACION TOTAL, POR EDADS SIMPLES",{"$nulls":19},"POBLACIÓN TOTAL,  POR GRUPOS QUINQUEN ALES DE EDAD",{"$nulls":13},"EDADES ESPECIALES",null,null,"NACIMIENTOS VIVOS","POBLACION FEMENINA TOTAL","POBLACION FEMENINA",null,null,"GESTANTES  ESPERADAS"]
["UBIGEO","DIRESA","DEPARTAMENTO","PROVINCIA","DISTRITO","Total","0",1,2,3,4,5,6,7,8,9,10,11,12,13,14,15,16,17,18,19,"20-24","25-29","30-34","35-39","40-44","45-49","50-54","55-59","60-64","65-69","70-74","75-79","80-84","85-+","28 DIAS","0-5 MESES","6-11 MESES",null,null,"10 - 14","15- 19","20- 49",{"$nulls":3},"TOTAL","NIÑO","Adolescente","Joven","Adulto","Adulto Mayor"]
["000000","PERU","PERU","PERU","PERU",{"v":1665788,"d":"1,665,788"},{"v":17311,"d":"17,311"},{"v":16375,"d":"16,375"},{"v":21140,"d":"21,140"},{"v":18060,"d":"18,060"},{"v":20947,"d":"20,947"},{"v":22286,"d":"22,286"},{"v":26285,"d":"26,285"},{"v":26908,"d":"26,908"},{"v":26517,"d":"26,517"},{"v":25484,"d":"25,484"},{"v":23712,"d":"23,712"},{"v":23754,"d":"23,754"},{"v":24541,"d":"24,541"},{"v":23426,"d":"23,426"},{"v":21994,"d":"21,994"},{"v":25279,"d":"25,279"},{"v":25532,"d":"25,532"},{"v":25380,"d":"25,380"},{"v":24892,"d":"24,892"},{"v":25050,"d":"25,050"},{"v":121154,"d":"121,154"},{"v":135079,"d":"135,079"},{"v":135250,"d":"135,250"},{"v":122327,"d":"122,327"},{"v":120810,"d":"120,810"},{"v":112551,"d":"112,551"},{"v":99133,"d":"99,133"},{"v":90674,"d":"90,674"},{"v":76187,"d":"76,187"},{"v":60527,"d":"60,527"},{"v":48773,"d":"48,773"},{"v":34433,"d":"34,433"},{"v":21928,"d":"21,928"},{"v":22089,"d":"22,089"},661,{"v":8312,"d":"8,312"},{"v":9013,"d":"9,013"},{"v":25876,"d":"25,876"},{"v":843731,"d":"843,731"},{"v":58722,"d":"58,722"},{"v":62903,"d":"62,903"},{"v":379476,"d":"379,476"},{"v":41624,"d":"41,624"},null,null,{"v":1665788,"d":"1,665,788"},{"v":268779,"d":"268,779"},{"v":146152,"d":"146,152"},{"v":306175,"d":"306,175"},{"v":680745,"d":"680,745"},{"v":263937,"d":"263,937"}]
["040101","AREQUIPA","AREQUIPA","AREQUIPA","AREQUIPA",{"v":60675,"d":"60,675"},561,533,480,534,667,749,635,684,684,639,561,581,604,596,615,660,646,639,611,638,{"v":3343,"d":"3,343"},{"v":3607,"d":"3,607"},{"v":3923,"d":"3,923"},{"v":3575,"d":"3,575"},{"v":3925,"d":"3,925"},{"v":4241,"d":"4,241"},{"v":4384,"d":"4,384"},{"v":4524,"d":"4,524"},{"v":4335,"d":"4,335"},{"v":3642,"d":"3,642"},{"v":3156,"d":"3,156"},{"v":2312,"d":"2,312"},{"v":1621,"d":"1,621"},{"v":1770,"d":"1,770"},11,264,297,859,{"v":30631,"d":"30,631"},{"v":1400,"d":"1,400"},{"v":1522,"d":"1,522"},{"v":11197,"d":"11,197"},{"v":1754,"d":"1,754"},null,null,{"v":60675,"d":"60,675"},{"v":7308,"d":"7,308"},{"v":3760,"d":"3,760"},{"v":8199,"d":"8,199"},{"v":24572,"d":"24,572"},{"v":16836,"d":"16,836"}]
["040102","AREQUIPA","AREQUIPA","AREQUIPA","ALTO SELVA ALEGRE",{"v":99905,"d":"99,905"},914,910,{"$f":"ROUND(I$9*$H10/100,0)","v":{"v":4368,"d":"4,368"}},{"$f":"ROUND(J$9*$H10/100,0)","v":{"v":4859,"d":"4,859"}},{"v":6070,"d":"6,070"},{"v":6816,"d":"6,816"},{"v":5779,"d":"5,779"},{"v":6224,"d":"6,224"},{"v":6224,"d":"6,224"},{"v":5815,"d":"5,815"},{"v":5105,"d":"5,105"},{"v":5287,"d":"5,287"},{"v":5496,"d":"5,496"},{"v":5424,"d":"5,424"},{"v":5597,"d":"5,597"},{"v":6006,"d":"6,006"},{"v":5879,"d":"5,879"},{"v":5815,"d":"5,815"},{"v":5560,"d":"5,560"},{"$f":"ROUND(Z$9*$H10/100,0)","v":{"v":5806,"d":"5,806"}},{"v":30421,"d":"30,421"},{"v":32824,"d":"32,824"},{"v":35699,"d":"35,699"},{"v":32533,"d":"32,533"},{"v":35718,"d":"35,718"},{"v":38593,"d":"38,593"},{"v":39894,"d":"39,894"},{"v":41168,"d":"41,168"},{"v":39449,"d":"39,449"},{"v":33142,"d":"33,142"},{"v":28720,"d":"28,720"},{"v":21039,"d":"21,039"},{"v":14751,"d":"14,751"},{"v":16107,"d":"16,107"},100,{"$f":"ROUND(AP$9*$H10/100,0)","v":{"v":2402,"d":"2,402"}},{"v":2703,"d":"2,703"},{"v":7817,"d":"7,817"},{"v":278742,"d":"278,742"},{"v":12740,"d":"12,740"},{"v":13850,"d":"13,850"},{"v":101893,"d":"101,893"},{"v":15961,"d":"15,961"},null,null,{"v":552143,"d":"552,143"},{"v":66503,"d":"66,503"},{"v":34216,"d":"34,216"},{"v":74611,"d":"74,611"},{"v":223605,"d":"223,605"},{"v":153208,"d":"153,208"}]
["040103","AREQUIPA","AREQUIPA","AREQUIPA","CAYMA",{"v":114695,"d":"114,695"},{"v":1104,"d":"1,104"},{"v":1180,"d":"1,180"},{"$f":"ROUND(I$9*$H11/100,0)","v":{"v":5664,"d":"5,664"}},{"v":6301,"d":"6,301"},{"v":7871,"d":"7,871"},{"v":8838,"d":"8,838"},{"v":7493,"d":"7,493"},{"v":8071,"d":"8,071"},{"v":8071,"d":"8,071"},{"v":7540,"d":"7,540"},{"v":6620,"d":"6,620"},{"v":6856,"d":"6,856"},{"v":7127,"d":"7,127"},{"v":7033,"d":"7,033"},{"v":7257,"d":"7,257"},{"v":7788,"d":"7,788"},{"v":7623,"d":"7,623"},{"v":7540,"d":"7,540"},{"v":7210,"d":"7,210"},{"v":7528,"d":"7,528"},{"v":39447,"d":"39,447"},{"v":42563,"d":"42,563"},{"v":46291,"d":"46,291"},{"v":42185,"d":"42,185"},{"v":46315,"d":"46,315"},{"v":50044,"d":"50,044"},{"v":51731,"d":"51,731"},{"v":53383,"d":"53,383"},{"v":51153,"d":"51,153"},{"v":42976,"d":"42,976"},{"v":37241,"d":"37,241"},{"v":27282,"d":"27,282"},{"v":19128,"d":"19,128"},{"v":20886,"d":"20,886"},130,{"v":3115,"d":"3,115"},{"v":3505,"d":"3,505"},{"v":10136,"d":"10,136"},{"v":361446,"d":"361,446"},{"v":16520,"d":"16,520"},{"v":17960,"d":"17,960"},{"v":132125,"d":"132,125"},{"v":20697,"d":"20,697"},null,null,{"v":715965,"d":"715,965"},{"v":86234,"d":"86,234"},{"v":44368,"d":"44,368"},{"v":96748,"d":"96,748"},{"v":289950,"d":"289,950"},{"v":198665,"d":"198,665"}]
["040104","AREQUIPA","AREQUIPA","AREQUIPA","CERRO COLORADO",{"v":232673,"d":"232,673"},{"v":2527,"d":"2,527"},{"v":2250,"d":"2,250"},{"v":10800,"d":"10,800"},{"v":12015,"d":"12,015"},{"v":15008,"d":"15,008"},{"v":16853,"d":"16,853"},{"v":14288,"d":"14,288"},{"v":15390,"d":"15,390"},{"v":15390,"d":"15,390"},{"v":14378,"d":"14,378"},{"v":12623,"d":"12,623"},{"v":13073,"d":"13,073"},{"v":13590,"d":"13,590"},{"v":13410,"d":"13,410"},{"v":13838,"d":"13,838"},{"v":14850,"d":"14,850"},{"v":14535,"d":"14,535"},{"v":14378,"d":"14,378"},{"v":13748,"d":"13,748"},{"v":14355,"d":"14,355"},{"v":75218,"d":"75,218"},{"v":81158,"d":"81,158"},{"v":88268,"d":"88,268"},{"v":80438,"d":"80,438"},{"v":88313,"d":"88,313"},{"v":95423,"d":"95,423"},{"v":98640,"d":"98,640"},{"v":101790,"d":"101,790"},{"v":97538,"d":"97,538"},{"v":81945,"d":"81,945"},{"v":71010,"d":"71,010"},{"v":52020,"d":"52,020"},{"v":36473,"d":"36,473"},{"v":39825,"d":"39,825"},248,{"v":5940,"d":"5,940"},{"v":6683,"d":"6,683"},{"v":19328,"d":"19,328"},{"v":689198,"d":"689,198"},{"v":31500,"d":"31,500"},{"v":34245,"d":"34,245"},{"v":251933,"d":"251,933"},{"v":39465,"d":"39,465"},null,null,{"v":1365188,"d":"1,365,188"},{"v":164430,"d":"164,430"},{"v":84600,"d":"84,600"},{"v":184478,"d":"184,478"},{"v":552870,"d":"552,870"},{"v":378810,"d":"378,810"}]
["040105","AREQUIPA","AREQUIPA","AREQUIPA","CHARACATO",{"v":19480,"d":"19,480"},161,139,667,742,927,{"v":1041,"d":"1,041"},883,951,951,888,780,808,840,828,855,917,898,888,849,887,{"v":4647,"d":"4,647"},{"v":5014,"d":"5,014"},{"v":5453,"d":"5,453"},{"v":4969,"d":"4,969"},{"v":5456,"d":"5,456"},{"v":5895,"d":"5,895"},{"v":6094,"d":"6,094"},{"v":6288,"d":"6,288"},{"v":6026,"d":"6,026"},{"v":5062,"d":"5,062"},{"v":4387,"d":"4,387"},{"v":3214,"d":"3,214"},{"v":2253,"d":"2,253"},{"v":2460,"d":"2,460"},15,367,413,{"v":1194,"d":"1,194"},{"v":42577,"d":"42,577"},{"v":1946,"d":"1,946"},{"v":2116,"d":"2,116"},{"v":15564,"d":"15,564"},{"v":2438,"d":"2,438"},null,null,{"v":84338,"d":"84,338"},{"v":10158,"d":"10,158"},{"v":5226,"d":"5,226"},{"v":11397,"d":"11,397"},{"v":34155,"d":"34,155"},{"v":23402,"d":"23,402"}]
["040106","AREQUIPA","AREQUIPA","AREQUIPA","CHIGUATA",{"v":3633,"d":"3,633"},49,43,206,230,287,322,273,294,294,275,241,250,260,256,264,284,278,275,263,274,{"v":1437,"d":"1,437"},{"v":1551,"d":"1,551"},{"v":1687,"d":"1,687"},{"v":1537,"d":"1,537"},{"v":1688,"d":"1,688"},{"v":1824,"d":"1,824"},{"v":1885,"d":"1,885"},{"v":1945,"d":"1,945"},{"v":1864,"d":"1,864"},{"v":1566,"d":"1,566"},{"v":1357,"d":"1,357"},994,697,761,5,114,128,369,{"v":13171,"d":"13,171"},602,654,{"v":4815,"d":"4,815"},754,null,null,{"v":26090,"d":"26,090"},{"v":3142,"d":"3,142"},{"v":1617,"d":"1,617"},{"v":3526,"d":"3,526"},{"v":10566,"d":"10,566"},{"v":7239,"d":"7,239"}]
["040107","AREQUIPA","AREQUIPA","AREQUIPA","JACOBO HUNTER",{"v":57137,"d":"57,137"},498,509,{"v":2443,"d":"2,443"},{"v":2718,"d":"2,718"},{"v":3395,"d":"3,395"},{"v":3812,"d":"3,812"},{"v":3232,"d":"3,232"},{"v":3482,"d":"3,482"},{"v":3482,"d":"3,482"},{"v":3253,"d":"3,253"},{"v":2855,"d":"2,855"},{"v":2957,"d":"2,957"},{"v":3074,"d":"3,074"},{"v":3034,"d":"3,034"},{"v":3130,"d":"3,130"},{"v":3359,"d":"3,359"},{"v":3288,"d":"3,288"},{"v":3253,"d":"3,253"},{"v":3110,"d":"3,110"},{"v":3247,"d":"3,247"},{"v":17016,"d":"17,016"},{"v":18360,"d":"18,360"},{"v":19968,"d":"19,968"},{"v":18197,"d":"18,197"},{"v":19978,"d":"19,978"},{"v":21587,"d":"21,587"},{"v":22315,"d":"22,315"},{"v":23027,"d":"23,027"},{"v":22065,"d":"22,065"},{"v":18538,"d":"18,538"},{"v":16064,"d":"16,064"},{"v":11768,"d":"11,768"},{"v":8251,"d":"8,251"},{"v":9009,"d":"9,009"},56,{"v":1344,"d":"1,344"},{"v":1512,"d":"1,512"},{"v":4372,"d":"4,372"},{"v":155912,"d":"155,912"},{"v":7126,"d":"7,126"},{"v":7747,"d":"7,747"},{"v":56993,"d":"56,993"},{"v":8928,"d":"8,928"},null,null,{"v":308836,"d":"308,836"},{"v":37198,"d":"37,198"},{"v":19138,"d":"19,138"},{"v":41733,"d":"41,733"},{"v":125071,"d":"125,071"},{"v":85695,"d":"85,695"}]
["040108","AREQUIPA","AREQUIPA","AREQUIPA","LA JOYA",{"v":44201,"d":"44,201"},491,516,{"v":2477,"d":"2,477"},{"v":2755,"d":"2,755"},{"v":3442,"d":"3,442"},{"v":3865,"d":"3,865"},{"v":3277,"d":"3,277"},{"v":3529,"d":"3,529"},{"v":3529,"d":"3,529"},{"v":3297,"d":"3,297"},{"v":2895,"d":"2,895"},{"v":2998,"d":"2,998"},{"v":3117,"d":"3,117"},{"v":3075,"d":"3,075"},{"v":3173,"d":"3,173"},{"v":3406,"d":"3,406"},{"v":3333,"d":"3,333"},{"v":3297,"d":"3,297"},{"v":3153,"d":"3,153"},{"v":3292,"d":"3,292"},{"v":17250,"d":"17,250"},{"v":18612,"d":"18,612"},{"v":20243,"d":"20,243"},{"v":18447,"d":"18,447"},{"v":20253,"d":"20,253"},{"v":21884,"d":"21,884"},{"v":22621,"d":"22,621"},{"v":23344,"d":"23,344"},{"v":22369,"d":"22,369"},{"v":18793,"d":"18,793"},{"v":16285,"d":"16,285"},{"v":11930,"d":"11,930"},{"v":8364,"d":"8,364"},{"v":9133,"d":"9,133"},57,{"v":1362,"d":"1,362"},{"v":1533,"d":"1,533"},{"v":4432,"d":"4,432"},{"v":158056,"d":"158,056"},{"v":7224,"d":"7,224"},{"v":7854,"d":"7,854"},{"v":57777,"d":"57,777"},{"v":9051,"d":"9,051"},null,null,{"v":313083,"d":"313,083"},{"v":37709,"d":"37,709"},{"v":19402,"d":"19,402"},{"v":42307,"d":"42,307"},{"v":126792,"d":"126,792"},{"v":86874,"d":"86,874"}]
["040109","AREQUIPA","AREQUIPA","AREQUIPA","MARIANO MELGAR",{"v":71941,"d":"71,941"},727,724,{"v":3475,"d":"3,475"},{"v":3866,"d":"3,866"},{"v":4829,"d":"4,829"},{"v":5423,"d":"5,423"},{"v":4597,"d":"4,597"},{"v":4952,"d":"4,952"},{"v":4952,"d":"4,952"},{"v":4626,"d":"4,626"},{"v":4062,"d":"4,062"},{"v":4206,"d":"4,206"},{"v":4373,"d":"4,373"},{"v":4315,"d":"4,315"},{"v":4453,"d":"4,453"},{"v":4778,"d":"4,778"},{"v":4677,"d":"4,677"},{"v":4626,"d":"4,626"},{"v":4424,"d":"4,424"},{"v":4619,"d":"4,619"},{"v":24203,"d":"24,203"},{"v":26115,"d":"26,115"},{"v":28403,"d":"28,403"},{"v":25883,"d":"25,883"},{"v":28417,"d":"28,417"},{"v":30705,"d":"30,705"},{"v":31740,"d":"31,740"},{"v":32754,"d":"32,754"},{"v":31385,"d":"31,385"},{"v":26368,"d":"26,368"},{"v":22849,"d":"22,849"},{"v":16739,"d":"16,739"},{"v":11736,"d":"11,736"},{"v":12815,"d":"12,815"},80,{"v":1911,"d":"1,911"},{"v":2150,"d":"2,150"},{"v":6219,"d":"6,219"},{"v":221768,"d":"221,768"},{"v":10136,"d":"10,136"},{"v":11019,"d":"11,019"},{"v":81066,"d":"81,066"},{"v":12699,"d":"12,699"},null,null,{"v":439287,"d":"439,287"},{"v":52910,"d":"52,910"},{"v":27222,"d":"27,222"},{"v":59361,"d":"59,361"},{"v":177901,"d":"177,901"},{"v":121893,"d":"121,893"}]
["040110","AREQUIPA","AREQUIPA","AREQUIPA","MIRAFLORES",{"v":70842,"d":"70,842"},603,643,727,702,821,922,{"v":1020,"d":"1,020"},{"v":1058,"d":"1,058"},{"v":1122,"d":"1,122"},987,{"v":1020,"d":"1,020"},923,925,905,835,923,992,947,972,{"v":1047,"d":"1,047"},{"v":5196,"d":"5,196"},{"v":5784,"d":"5,784"},{"v":5752,"d":"5,752"},{"v":5057,"d":"5,057"},{"v":5308,"d":"5,308"},{"v":5077,"d":"5,077"},{"v":4591,"d":"4,591"},{"v":4074,"d":"4,074"},{"v":3513,"d":"3,513"},{"v":2675,"d":"2,675"},{"v":2146,"d":"2,146"},{"v":1501,"d":"1,501"},983,{"v":1091,"d":"1,091"},29,295,308,984,{"v":36211,"d":"36,211"},{"v":2353,"d":"2,353"},{"v":2503,"d":"2,503"},{"v":16332,"d":"16,332"},{"v":1739,"d":"1,739"},null,null,{"v":70842,"d":"70,842"},{"v":10548,"d":"10,548"},{"v":5527,"d":"5,527"},{"v":12999,"d":"12,999"},{"v":29859,"d":"29,859"},{"v":11909,"d":"11,909"}]
["040111","AREQUIPA","AREQUIPA","AREQUIPA","MOLLEBAYA",{"v":8627,"d":"8,627"},67,56,{"$f":"ROUND(I$18*$H19/100,0)","v":407},{"$f":"ROUND(J$18*$H19/100,0)","v":393},460,516,571,592,628,553,571,517,518,507,468,517,556,530,544,{"$f":"ROUND(Z$18*$H19/100,0)","v":586},{"v":2910,"d":"2,910"},{"v":3239,"d":"3,239"},{"v":3221,"d":"3,221"},{"v":2832,"d":"2,832"},{"v":2972,"d":"2,972"},{"v":2843,"d":"2,843"},{"v":2571,"d":"2,571"},{"v":2281,"d":"2,281"},{"v":1967,"d":"1,967"},{"v":1498,"d":"1,498"},{"v":1202,"d":"1,202"},841,550,611,16,{"$f":"ROUND(AP$18*$H19/100,0)","v":165},172,551,{"v":20278,"d":"20,278"},{"v":1318,"d":"1,318"},{"v":1402,"d":"1,402"},{"v":9146,"d":"9,146"},974,null,null,{"v":39672,"d":"39,672"},{"v":5907,"d":"5,907"},{"v":3095,"d":"3,095"},{"v":7279,"d":"7,279"},{"v":16721,"d":"16,721"},{"v":6669,"d":"6,669"}]
["040112","AREQUIPA","AREQUIPA","AREQUIPA","PAUCARPATA",{"v":142855,"d":"142,855"},{"v":1505,"d":"1,505"},{"v":1642,"d":"1,642"},{"$f":"ROUND(I$18*$H20/100,0)","v":{"v":11937,"d":"11,937"}},{"v":11527,"d":"11,527"},{"v":13481,"d":"13,481"},{"v":15139,"d":"15,139"},{"v":16748,"d":"16,748"},{"v":17372,"d":"17,372"},{"v":18423,"d":"18,423"},{"v":16207,"d":"16,207"},{"v":16748,"d":"16,748"},{"v":15156,"d":"15,156"},{"v":15189,"d":"15,189"},{"v":14860,"d":"14,860"},{"v":13711,"d":"13,711"},{"v":15156,"d":"15,156"},{"v":16289,"d":"16,289"},{"v":15550,"d":"15,550"},{"v":15960,"d":"15,960"},{"v":17192,"d":"17,192"},{"v":85318,"d":"85,318"},{"v":94973,"d":"94,973"},{"v":94448,"d":"94,448"},{"v":83036,"d":"83,036"},{"v":87157,"d":"87,157"},{"v":83364,"d":"83,364"},{"v":75384,"d":"75,384"},{"v":66895,"d":"66,895"},{"v":57683,"d":"57,683"},{"v":43924,"d":"43,924"},{"v":35237,"d":"35,237"},{"v":24646,"d":"24,646"},{"v":16141,"d":"16,141"},{"v":17914,"d":"17,914"},476,{"v":4844,"d":"4,844"},{"v":5057,"d":"5,057"},{"v":16157,"d":"16,157"},{"v":594585,"d":"594,585"},{"v":38636,"d":"38,636"},{"v":41099,"d":"41,099"},{"v":268171,"d":"268,171"},{"v":28554,"d":"28,554"},null,null,{"v":1163226,"d":"1,163,226"},{"v":173198,"d":"173,198"},{"v":90753,"d":"90,753"},{"v":213444,"d":"213,444"},{"v":490285,"d":"490,285"},{"v":195546,"d":"195,546"}]
["040113","AREQUIPA","AREQUIPA","AREQUIPA","POCSI",525,11,4,29,28,33,37,41,42,45,39,41,37,37,36,33,37,40,38,39,42,208,231,230,202,212,203,184,163,141,107,86,60,39,44,1,12,12,39,{"v":1448,"d":"1,448"},94,100,653,70,null,null,{"v":2834,"d":"2,834"},422,221,520,{"v":1194,"d":"1,194"},476]
["040114","AREQUIPA","AREQUIPA","AREQUIPA","POLOBAYA",878,13,6,44,42,49,55,61,63,67,59,61,55,56,54,50,55,60,57,58,63,312,347,345,303,318,305,275,244,211,161,129,90,59,65,2,18,18,59,{"v":2173,"d":"2,173"},141,150,980,104,null,null,{"v":4251,"d":"4,251"},633,332,780,{"v":1792,"d":"1,792"},715]
["040115","AREQUIPA","AREQUIPA","AREQUIPA","QUEQUEÑA",{"v":8720,"d":"8,720"},39,35,254,246,287,323,357,370,393,345,357,323,324,317,292,323,347,331,340,366,{"v":1819,"d":"1,819"},{"v":2024,"d":"2,024"},{"v":2013,"d":"2,013"},{"v":1770,"d":"1,770"},{"v":1858,"d":"1,858"},{"v":1777,"d":"1,777"},{"v":1607,"d":"1,607"},{"v":1426,"d":"1,426"},{"v":1230,"d":"1,230"},936,751,525,344,382,10,103,108,344,{"v":12674,"d":"12,674"},824,876,{"v":5716,"d":"5,716"},609,null,null,{"v":24795,"d":"24,795"},{"v":3692,"d":"3,692"},{"v":1934,"d":"1,934"},{"v":4550,"d":"4,550"},{"v":10451,"d":"10,451"},{"v":4168,"d":"4,168"}]
["040116","AREQUIPA","AREQUIPA","AREQUIPA","SABANDIA",{"v":5241,"d":"5,241"},81,67,487,470,550,618,683,709,752,661,683,618,620,606,559,618,665,634,651,701,{"v":3481,"d":"3,481"},{"v":3875,"d":"3,875"},{"v":3854,"d":"3,854"},{"v":3388,"d":"3,388"},{"v":3556,"d":"3,556"},{"v":3402,"d":"3,402"},{"v":3076,"d":"3,076"},{"v":2730,"d":"2,730"},{"v":2354,"d":"2,354"},{"v":1792,"d":"1,792"},{"v":1438,"d":"1,438"},{"v":1006,"d":"1,006"},659,731,19,198,206,659,{"v":24261,"d":"24,261"},{"v":1577,"d":"1,577"},{"v":1677,"d":"1,677"},{"v":10942,"d":"10,942"},{"v":1165,"d":"1,165"},null,null,{"v":47464,"d":"47,464"},{"v":7067,"d":"7,067"},{"v":3703,"d":"3,703"},{"v":8709,"d":"8,709"},{"v":20006,"d":"20,006"},{"v":7979,"d":"7,979"}]
["040117","AREQUIPA","AREQUIPA","AREQUIPA","SACHACA",{"v":31532,"d":"31,532"},365,331,347,371,429,466,508,525,499,471,384,446,466,470,414,479,456,478,461,470,{"v":2298,"d":"2,298"},{"v":2323,"d":"2,323"},{"v":2420,"d":"2,420"},{"v":2189,"d":"2,189"},{"v":2283,"d":"2,283"},{"v":2135,"d":"2,135"},{"v":1870,"d":"1,870"},{"v":1708,"d":"1,708"},{"v":1476,"d":"1,476"},{"v":1296,"d":"1,296"},{"v":1048,"d":"1,048"},748,458,444,13,198,167,528,{"v":16052,"d":"16,052"},{"v":1066,"d":"1,066"},{"v":1180,"d":"1,180"},{"v":6894,"d":"6,894"},669,null,null,{"v":31532,"d":"31,532"},{"v":5142,"d":"5,142"},{"v":2763,"d":"2,763"},{"v":5552,"d":"5,552"},{"v":12605,"d":"12,605"},{"v":5470,"d":"5,470"}]
["040118","AREQUIPA","AREQUIPA","AREQUIPA","SAN JUAN DE SIGUAS",597,6,5,{"$f":"ROUND(I$25*$H26/100,0)","v":17},{"$f":"ROUND(J$25*$H26/100,0)","v":19},21,23,25,26,25,24,19,22,23,24,21,24,23,24,23,{"$f":"ROUND(Z$25*$H26/100,0)","v":24},115,116,121,109,114,107,94,85,74,65,52,37,23,22,1,{"$f":"ROUND(AP$25*$H26/100,0)","v":10},8,26,803,53,59,345,33,null,null,{"v":1577,"d":"1,577"},257,138,278,630,274]
["040119","AREQUIPA","AREQUIPA","AREQUIPA","SAN JUAN DE TARUCANI",{"v":1377,"d":"1,377"},20,15,{"$f":"ROUND(I$25*$H27/100,0)","v":52},56,64,70,76,79,75,71,58,67,70,71,62,72,68,72,69,71,345,348,363,328,342,320,281,256,221,194,157,112,69,67,2,30,25,79,{"v":2408,"d":"2,408"},160,177,{"v":1034,"d":"1,034"},100,null,null,{"v":4730,"d":"4,730"},771,414,833,{"v":1891,"d":"1,891"},821]
["040120","AREQUIPA","AREQUIPA","AREQUIPA","SANTA ISABEL DE SIGUAS",705,8,3,10,11,13,14,15,16,15,14,12,13,14,14,12,14,14,14,14,14,69,70,73,66,68,64,56,51,44,39,31,22,14,13,0,6,5,16,482,32,35,207,20,null,null,946,154,83,167,378,164]
["040121","AREQUIPA","AREQUIPA","AREQUIPA","SANTA RITA DE SIGUAS",{"v":8744,"d":"8,744"},93,86,298,319,369,401,437,452,429,405,330,384,401,404,356,412,392,411,396,404,{"v":1976,"d":"1,976"},{"v":1998,"d":"1,998"},{"v":2081,"d":"2,081"},{"v":1883,"d":"1,883"},{"v":1963,"d":"1,963"},{"v":1836,"d":"1,836"},{"v":1608,"d":"1,608"},{"v":1469,"d":"1,469"},{"v":1269,"d":"1,269"},{"v":1115,"d":"1,115"},901,643,394,382,11,170,144,454,{"v":13805,"d":"13,805"},917,{"v":1015,"d":"1,015"},{"v":5929,"d":"5,929"},575,null,null,{"v":27118,"d":"27,118"},{"v":4422,"d":"4,422"},{"v":2376,"d":"2,376"},{"v":4775,"d":"4,775"},{"v":10840,"d":"10,840"},{"v":4704,"d":"4,704"}]
["040122","AREQUIPA","AREQUIPA","AREQUIPA","SOCABAYA",{"v":91530,"d":"91,530"},714,717,{"v":2488,"d":"2,488"},{"v":2660,"d":"2,660"},{"v":3076,"d":"3,076"},{"v":3341,"d":"3,341"},{"v":3642,"d":"3,642"},{"v":3764,"d":"3,764"},{"v":3578,"d":"3,578"},{"v":3377,"d":"3,377"},{"v":2753,"d":"2,753"},{"v":3198,"d":"3,198"},{"v":3341,"d":"3,341"},{"v":3370,"d":"3,370"},{"v":2968,"d":"2,968"},{"v":3434,"d":"3,434"},{"v":3270,"d":"3,270"},{"v":3427,"d":"3,427"},{"v":3305,"d":"3,305"},{"v":3370,"d":"3,370"},{"v":16477,"d":"16,477"},{"v":16656,"d":"16,656"},{"v":17351,"d":"17,351"},{"v":15695,"d":"15,695"},{"v":16369,"d":"16,369"},{"v":15308,"d":"15,308"},{"v":13408,"d":"13,408"},{"v":12246,"d":"12,246"},{"v":10583,"d":"10,583"},{"v":9292,"d":"9,292"},{"v":7514,"d":"7,514"},{"v":5363,"d":"5,363"},{"v":3284,"d":"3,284"},{"v":3183,"d":"3,183"},93,{"v":1420,"d":"1,420"},{"v":1197,"d":"1,197"},{"v":3786,"d":"3,786"},{"v":115093,"d":"115,093"},{"v":7643,"d":"7,643"},{"v":8461,"d":"8,461"},{"v":49430,"d":"49,430"},{"v":4797,"d":"4,797"},null,null,{"v":226084,"d":"226,084"},{"v":36868,"d":"36,868"},{"v":19811,"d":"19,811"},{"v":39808,"d":"39,808"},{"v":90378,"d":"90,378"},{"v":39220,"d":"39,220"}]
["040123","AREQUIPA","AREQUIPA","AREQUIPA","TIABAYA",{"v":19123,"d":"19,123"},262,261,906,968,{"v":1120,"d":"1,120"},{"v":1216,"d":"1,216"},{"v":1326,"d":"1,326"},{"v":1370,"d":"1,370"},{"v":1302,"d":"1,302"},{"v":1229,"d":"1,229"},{"v":1002,"d":"1,002"},{"v":1164,"d":"1,164"},{"v":1216,"d":"1,216"},{"v":1227,"d":"1,227"},{"v":1081,"d":"1,081"},{"v":1250,"d":"1,250"},{"v":1190,"d":"1,190"},{"v":1248,"d":"1,248"},{"v":1203,"d":"1,203"},{"v":1227,"d":"1,227"},{"v":5998,"d":"5,998"},{"v":6063,"d":"6,063"},{"v":6316,"d":"6,316"},{"v":5713,"d":"5,713"},{"v":5959,"d":"5,959"},{"v":5572,"d":"5,572"},{"v":4881,"d":"4,881"},{"v":4458,"d":"4,458"},{"v":3852,"d":"3,852"},{"v":3383,"d":"3,383"},{"v":2735,"d":"2,735"},{"v":1952,"d":"1,952"},{"v":1195,"d":"1,195"},{"v":1159,"d":"1,159"},34,517,436,{"v":1378,"d":"1,378"},{"v":41896,"d":"41,896"},{"v":2782,"d":"2,782"},{"v":3080,"d":"3,080"},{"v":17993,"d":"17,993"},{"v":1746,"d":"1,746"},null,null,{"v":82299,"d":"82,299"},{"v":13421,"d":"13,421"},{"v":7211,"d":"7,211"},{"v":14491,"d":"14,491"},{"v":32899,"d":"32,899"},{"v":14277,"d":"14,277"}]
["040124","AREQUIPA","AREQUIPA","AREQUIPA","UCHUMAYO",{"v":18826,"d":"18,826"},212,214,222,202,247,266,305,293,276,257,251,251,286,242,213,258,260,249,271,262,{"v":1212,"d":"1,212"},{"v":1631,"d":"1,631"},{"v":1660,"d":"1,660"},{"v":1627,"d":"1,627"},{"v":1608,"d":"1,608"},{"v":1361,"d":"1,361"},{"v":1105,"d":"1,105"},{"v":1008,"d":"1,008"},830,670,460,309,183,125,13,97,115,282,{"v":9923,"d":"9,923"},687,698,{"v":4667,"d":"4,667"},534,null,null,{"v":18826,"d":"18,826"},{"v":2996,"d":"2,996"},{"v":1508,"d":"1,508"},{"v":3376,"d":"3,376"},{"v":8369,"d":"8,369"},{"v":2577,"d":"2,577"}]
["040125","AREQUIPA","AREQUIPA","AREQUIPA","VITOR",{"v":5469,"d":"5,469"},67,52,{"$f":"ROUND(I$32*$H33/100,0)","v":115},{"$f":"ROUND(J$32*$H33/100,0)","v":105},128,138,159,152,144,134,131,131,149,126,111,134,135,129,141,{"$f":"ROUND(Z$32*$H33/100,0)","v":136},630,848,863,846,836,708,575,524,432,348,239,161,95,65,7,{"$f":"ROUND(AP$32*$H33/100,0)","v":50},60,147,{"v":5160,"d":"5,160"},357,363,{"v":2427,"d":"2,427"},278,null,null,{"v":9790,"d":"9,790"},{"v":1558,"d":"1,558"},784,{"v":1756,"d":"1,756"},{"v":4352,"d":"4,352"},{"v":1340,"d":"1,340"}]
["040126","AREQUIPA","AREQUIPA","AREQUIPA","YANAHUARA",{"v":30515,"d":"30,515"},277,181,{"$f":"ROUND(I$32*$H34/100,0)","v":402},366,447,481,552,530,500,465,454,454,518,438,386,467,471,451,491,474,{"v":2194,"d":"2,194"},{"v":2952,"d":"2,952"},{"v":3005,"d":"3,005"},{"v":2945,"d":"2,945"},{"v":2910,"d":"2,910"},{"v":2463,"d":"2,463"},{"v":2000,"d":"2,000"},{"v":1824,"d":"1,824"},{"v":1502,"d":"1,502"},{"v":1213,"d":"1,213"},833,559,331,226,24,176,208,510,{"v":17961,"d":"17,961"},{"v":1243,"d":"1,243"},{"v":1263,"d":"1,263"},{"v":8447,"d":"8,447"},967,null,null,{"v":34075,"d":"34,075"},{"v":5423,"d":"5,423"},{"v":2729,"d":"2,729"},{"v":6111,"d":"6,111"},{"v":15148,"d":"15,148"},{"v":4664,"d":"4,664"}]
["040127","AREQUIPA","AREQUIPA","AREQUIPA","YARABAMBA",{"v":1977,"d":"1,977"},50,44,98,89,109,117,134,129,121,113,110,110,126,106,94,114,114,110,119,115,533,718,730,716,708,599,486,444,365,295,202,136,81,55,6,43,51,124,{"v":4366,"d":"4,366"},302,307,{"v":2053,"d":"2,053"},235,null,null,{"v":8283,"d":"8,283"},{"v":1318,"d":"1,318"},664,{"v":1485,"d":"1,485"},{"v":3682,"d":"3,682"},{"v":1134,"d":"1,134"}]
["040128","AREQUIPA","AREQUIPA","AREQUIPA","YURA",{"v":48226,"d":"48,226"},594,563,{"v":1250,"d":"1,250"},{"v":1137,"d":"1,137"},{"v":1391,"d":"1,391"},{"v":1498,"d":"1,498"},{"v":1717,"d":"1,717"},{"v":1650,"d":"1,650"},{"v":1554,"d":"1,554"},{"v":1447,"d":"1,447"},{"v":1413,"d":"1,413"},{"v":1413,"d":"1,413"},{"v":1610,"d":"1,610"},{"v":1362,"d":"1,362"},{"v":1199,"d":"1,199"},{"v":1453,"d":"1,453"},{"v":1464,"d":"1,464"},{"v":1402,"d":"1,402"},{"v":1526,"d":"1,526"},{"v":1475,"d":"1,475"},{"v":6824,"d":"6,824"},{"v":9183,"d":"9,183"},{"v":9346,"d":"9,346"},{"v":9160,"d":"9,160"},{"v":9053,"d":"9,053"},{"v":7662,"d":"7,662"},{"v":6221,"d":"6,221"},{"v":5675,"d":"5,675"},{"v":4673,"d":"4,673"},{"v":3772,"d":"3,772"},{"v":2590,"d":"2,590"},{"v":1740,"d":"1,740"},{"v":1030,"d":"1,030"},704,73,546,647,{"v":1588,"d":"1,588"},{"v":55866,"d":"55,866"},{"v":3868,"d":"3,868"},{"v":3930,"d":"3,930"},{"v":26275,"d":"26,275"},{"v":3006,"d":"3,006"},null,null,{"v":105990,"d":"105,990"},{"v":16867,"d":"16,867"},{"v":8490,"d":"8,490"},{"v":19007,"d":"19,007"},{"v":47117,"d":"47,117"},{"v":14509,"d":"14,509"}]
["040129","AREQUIPA","AREQUIPA","AREQUIPA","JOSE LUIS BUSTAMANTE Y RIVERO",{"v":90831,"d":"90,831"},698,724,{"v":1607,"d":"1,607"},{"v":1462,"d":"1,462"},{"v":1788,"d":"1,788"},{"v":1926,"d":"1,926"},{"v":2208,"d":"2,208"},{"v":2121,"d":"2,121"},{"v":1998,"d":"1,998"},{"v":1861,"d":"1,861"},{"v":1817,"d":"1,817"},{"v":1817,"d":"1,817"},{"v":2071,"d":"2,071"},{"v":1752,"d":"1,752"},{"v":1542,"d":"1,542"},{"v":1868,"d":"1,868"},{"v":1882,"d":"1,882"},{"v":1803,"d":"1,803"},{"v":1962,"d":"1,962"},{"v":1897,"d":"1,897"},{"v":8775,"d":"8,775"},{"v":11808,"d":"11,808"},{"v":12018,"d":"12,018"},{"v":11779,"d":"11,779"},{"v":11642,"d":"11,642"},{"v":9854,"d":"9,854"},{"v":8000,"d":"8,000"},{"v":7298,"d":"7,298"},{"v":6009,"d":"6,009"},{"v":4851,"d":"4,851"},{"v":3330,"d":"3,330"},{"v":2237,"d":"2,237"},{"v":1325,"d":"1,325"},905,94,702,833,{"v":2042,"d":"2,042"},{"v":71843,"d":"71,843"},{"v":4974,"d":"4,974"},{"v":5054,"d":"5,054"},{"v":33789,"d":"33,789"},{"v":3866,"d":"3,866"},null,null,{"v":136300,"d":"136,300"},{"v":21691,"d":"21,691"},{"v":10918,"d":"10,918"},{"v":24442,"d":"24,442"},{"v":60592,"d":"60,592"},{"v":18657,"d":"18,657"}]
["040201","AREQUIPA","AREQUIPA","CAMANA","CAMANA",{"v":15524,"d":"15,524"},156,97,215,196,240,258,296,284,268,249,243,243,277,235,207,250,252,242,263,254,{"v":1176,"d":"1,176"},{"v":1582,"d":"1,582"},{"v":1610,"d":"1,610"},{"v":1578,"d":"1,578"},{"v":1560,"d":"1,560"},{"v":1320,"d":"1,320"},{"v":1072,"d":"1,072"},978,805,650,446,300,178,121,13,94,112,274,{"v":9625,"d":"9,625"},666,677,{"v":4527,"d":"4,527"},518,null,null,{"v":18261,"d":"18,261"},{"v":2906,"d":"2,906"},{"v":1463,"d":"1,463"},{"v":3275,"d":"3,275"},{"v":8118,"d":"8,118"},{"v":2500,"d":"2,500"}]
["040202","AREQUIPA","AREQUIPA","CAMANA","JOSE MARIA QUIMPER",{"v":5988,"d":"5,988"},86,76,169,154,188,202,232,223,210,195,191,191,217,184,162,196,198,189,206,199,921,{"v":1240,"d":"1,240"},{"v":1262,"d":"1,262"},{"v":1237,"d":"1,237"},{"v":1222,"d":"1,222"},{"v":1034,"d":"1,034"},840,766,631,509,350,235,139,95,10,74,87,214,{"v":7541,"d":"7,541"},522,530,{"v":3547,"d":"3,547"},406,null,null,{"v":14308,"d":"14,308"},{"v":2277,"d":"2,277"},{"v":1146,"d":"1,146"},{"v":2566,"d":"2,566"},{"v":6360,"d":"6,360"},{"v":1959,"d":"1,959"}]
["040203","AREQUIPA","AREQUIPA","CAMANA","MARIANO NICOLAS VALCARCEL",{"v":9512,"d":"9,512"},158,149,331,301,368,396,454,437,411,383,374,374,426,361,317,384,387,371,404,390,{"v":1806,"d":"1,806"},{"v":2430,"d":"2,430"},{"v":2473,"d":"2,473"},{"v":2424,"d":"2,424"},{"v":2396,"d":"2,396"},{"v":2028,"d":"2,028"},{"v":1646,"d":"1,646"},{"v":1502,"d":"1,502"},{"v":1237,"d":"1,237"},998,685,460,273,186,19,145,171,420,{"v":14785,"d":"14,785"},{"v":1024,"d":"1,024"},{"v":1040,"d":"1,040"},{"v":6954,"d":"6,954"},796,null,null,{"v":28051,"d":"28,051"},{"v":4464,"d":"4,464"},{"v":2247,"d":"2,247"},{"v":5030,"d":"5,030"},{"v":12470,"d":"12,470"},{"v":3840,"d":"3,840"}]
["040204","AREQUIPA","AREQUIPA","CAMANA","MARISCAL CACERES",{"v":8458,"d":"8,458"},108,103,229,208,254,274,314,302,284,265,259,259,295,249,219,266,268,256,279,270,{"v":1248,"d":"1,248"},{"v":1680,"d":"1,680"},{"v":1710,"d":"1,710"},{"v":1676,"d":"1,676"},{"v":1656,"d":"1,656"},{"v":1402,"d":"1,402"},{"v":1138,"d":"1,138"},{"v":1038,"d":"1,038"},855,690,474,318,188,129,13,100,118,290,{"v":10221,"d":"10,221"},708,719,{"v":4807,"d":"4,807"},550,null,null,{"v":19391,"d":"19,391"},{"v":3086,"d":"3,086"},{"v":1553,"d":"1,553"},{"v":3477,"d":"3,477"},{"v":8620,"d":"8,620"},{"v":2654,"d":"2,654"}]
["040205","AREQUIPA","AREQUIPA","CAMANA","NICOLAS DE PIEROLA",{"v":9336,"d":"9,336"},92,87,193,176,215,231,265,255,240,224,218,218,249,211,185,224,226,217,236,228,{"v":1054,"d":"1,054"},{"v":1419,"d":"1,419"},{"v":1444,"d":"1,444"},{"v":1415,"d":"1,415"},{"v":1399,"d":"1,399"},{"v":1184,"d":"1,184"},961,877,722,583,400,269,159,109,11,84,100,245,{"v":8633,"d":"8,633"},598,607,{"v":4060,"d":"4,060"},465,null,null,{"v":16379,"d":"16,379"},{"v":2607,"d":"2,607"},{"v":1312,"d":"1,312"},{"v":2937,"d":"2,937"},{"v":7281,"d":"7,281"},{"v":2242,"d":"2,242"}]
["040206","AREQUIPA","AREQUIPA","CAMANA","OCOÑA",{"v":4900,"d":"4,900"},57,48,49,46,68,58,70,75,65,47,49,55,53,66,64,78,72,95,63,60,281,368,295,320,345,319,345,336,323,244,208,120,80,78,6,29,28,104,{"v":2568,"d":"2,568"},157,201,{"v":1062,"d":"1,062"},102,null,null,{"v":4900,"d":"4,900"},687,428,772,{"v":1960,"d":"1,960"},{"v":1053,"d":"1,053"}]
["040207","AREQUIPA","AREQUIPA","CAMANA","QUILCA",{"v":1449,"d":"1,449"},14,11,{"$f":"ROUND(I$43*$H44/100,0)","v":5},{"$f":"ROUND(J$43*$H44/100,0)","v":5},7,6,8,8,7,5,5,6,6,7,7,9,8,10,7,7,31,40,32,35,38,35,38,37,36,27,23,13,9,9,1,3,3,11,282,17,22,117,11,null,null,539,76,47,85,216,116]
["040208","AREQUIPA","AREQUIPA","CAMANA","SAMUEL PASTOR",{"v":18561,"d":"18,561"},191,200,255,249,307,325,333,325,324,291,278,311,315,270,259,310,314,308,312,286,{"v":1388,"d":"1,388"},{"v":1546,"d":"1,546"},{"v":1465,"d":"1,465"},{"v":1384,"d":"1,384"},{"v":1286,"d":"1,286"},{"v":1217,"d":"1,217"},{"v":1127,"d":"1,127"},990,846,576,402,260,153,158,3,84,107,363,{"v":9482,"d":"9,482"},727,757,{"v":4330,"d":"4,330"},505,null,null,{"v":18561,"d":"18,561"},{"v":3389,"d":"3,389"},{"v":1776,"d":"1,776"},{"v":3532,"d":"3,532"},{"v":7469,"d":"7,469"},{"v":2395,"d":"2,395"}]
["040301","AREQUIPA","AREQUIPA","CARAVELI","CARAVELI",{"v":5398,"d":"5,398"},91,97,{"$f":"ROUND(I$45*$H46/100,0)","v":247},{"$f":"ROUND(J$45*$H46/100,0)","v":242},298,315,323,315,314,282,270,302,306,262,251,301,305,299,303,{"$f":"ROUND(Z$45*$H46/100,0)","v":277},{"v":1346,"d":"1,346"},{"v":1500,"d":"1,500"},{"v":1421,"d":"1,421"},{"v":1342,"d":"1,342"},{"v":1247,"d":"1,247"},{"v":1180,"d":"1,180"},{"v":1093,"d":"1,093"},960,821,559,390,252,148,153,3,{"$f":"ROUND(AP$45*$H46/100,0)","v":81},104,352,{"v":9198,"d":"9,198"},705,734,{"v":4200,"d":"4,200"},490,null,null,{"v":18004,"d":"18,004"},{"v":3287,"d":"3,287"},{"v":1723,"d":"1,723"},{"v":3426,"d":"3,426"},{"v":7245,"d":"7,245"},{"v":2323,"d":"2,323"}]
["040302","AREQUIPA","AREQUIPA","CARAVELI","ACARI",{"v":6593,"d":"6,593"},49,38,{"$f":"ROUND(I$45*$H47/100,0)","v":97},95,117,124,127,124,123,111,106,118,120,103,98,118,119,117,119,109,527,587,557,526,489,462,428,376,321,219,153,99,58,60,1,32,41,138,{"v":3603,"d":"3,603"},276,288,{"v":1645,"d":"1,645"},192,null,null,{"v":7053,"d":"7,053"},{"v":1288,"d":"1,288"},675,{"v":1342,"d":"1,342"},{"v":2838,"d":"2,838"},910]
["040303","AREQUIPA","AREQUIPA","CARAVELI","ATICO",{"v":6696,"d":"6,696"},81,74,79,58,74,67,118,92,98,98,111,113,74,109,113,115,125,110,113,90,404,498,559,519,487,497,448,388,293,258,166,133,78,56,5,29,52,112,{"v":3453,"d":"3,453"},262,280,{"v":1574,"d":"1,574"},191,null,null,{"v":6696,"d":"6,696"},{"v":1063,"d":"1,063"},646,{"v":1105,"d":"1,105"},{"v":2898,"d":"2,898"},984]
["040304","AREQUIPA","AREQUIPA","CARAVELI","ATIQUIPA",745,11,4,{"$f":"ROUND(I$48*$H49/100,0)","v":3},{"$f":"ROUND(J$48*$H49/100,0)","v":2},3,3,5,4,4,4,4,5,3,4,5,5,5,4,5,{"$f":"ROUND(Z$48*$H49/100,0)","v":4},16,20,22,21,19,20,18,16,12,10,7,5,3,2,0,{"$f":"ROUND(AP$48*$H49/100,0)","v":1},2,4,138,10,11,63,8,null,null,268,43,26,44,116,39]
["040305","AREQUIPA","AREQUIPA","CARAVELI","BELLA UNION",{"v":3563,"d":"3,563"},48,32,{"$f":"ROUND(I$48*$H50/100,0)","v":25},19,24,21,38,29,31,31,36,36,24,35,36,37,40,35,36,29,129,159,179,166,156,159,143,124,94,83,53,43,25,18,2,9,17,36,{"v":1105,"d":"1,105"},84,90,504,61,null,null,{"v":2143,"d":"2,143"},340,207,354,927,315]
["040306","AREQUIPA","AREQUIPA","CARAVELI","CAHUACHO",{"v":1369,"d":"1,369"},11,8,6,5,6,5,9,7,8,8,9,9,6,9,9,9,10,9,9,7,32,40,45,42,39,40,36,31,23,21,13,11,6,4,0,2,4,9,276,21,22,126,15,null,null,536,85,52,88,232,79]
["040307","AREQUIPA","AREQUIPA","CARAVELI","CHALA",{"v":11423,"d":"11,423"},160,163,129,95,121,109,192,150,160,160,181,184,121,178,184,187,204,179,184,147,659,812,911,846,794,810,730,632,478,421,271,217,127,91,8,47,85,183,{"v":5628,"d":"5,628"},427,456,{"v":2566,"d":"2,566"},311,null,null,{"v":10914,"d":"10,914"},{"v":1733,"d":"1,733"},{"v":1053,"d":"1,053"},{"v":1801,"d":"1,801"},{"v":4724,"d":"4,724"},{"v":1604,"d":"1,604"}]
["040308","AREQUIPA","AREQUIPA","CARAVELI","CHAPARRA",{"v":3778,"d":"3,778"},38,36,28,21,27,24,42,33,35,35,40,41,27,39,41,41,45,40,41,32,145,179,201,187,175,179,161,140,105,93,60,48,28,20,2,10,19,40,{"v":1243,"d":"1,243"},94,101,567,69,null,null,{"v":2411,"d":"2,411"},383,233,398,{"v":1043,"d":"1,043"},354]
["040309","AREQUIPA","AREQUIPA","CARAVELI","HUANUHUANU",{"v":3453,"d":"3,453"},45,31,24,18,23,21,37,29,30,30,34,35,23,34,35,36,39,34,35,28,125,154,173,161,151,154,139,120,91,80,51,41,24,17,2,9,16,35,{"v":1070,"d":"1,070"},81,87,488,59,null,null,{"v":2076,"d":"2,076"},330,200,343,898,305]
["040310","AREQUIPA","AREQUIPA","CARAVELI","JAQUI",{"v":1978,"d":"1,978"},29,21,17,12,16,14,25,19,21,21,23,24,16,23,24,24,26,23,24,19,85,105,117,109,102,104,94,81,62,54,35,28,16,12,1,6,11,24,725,55,59,331,40,null,null,{"v":1406,"d":"1,406"},223,136,232,609,207]
["040311","AREQUIPA","AREQUIPA","CARAVELI","LOMAS",{"v":1731,"d":"1,731"},18,16,28,26,17,14,23,18,26,40,23,19,26,21,23,25,26,22,17,18,119,139,140,133,134,135,108,112,103,61,48,32,10,11,1,8,10,34,905,60,62,421,43,null,null,{"v":1731,"d":"1,731"},268,143,293,762,265]
["040312","AREQUIPA","AREQUIPA","CARAVELI","QUICACHA",{"v":2385,"d":"2,385"},25,19,{"$f":"ROUND(I$56*$H57/100,0)","v":5},{"$f":"ROUND(J$56*$H57/100,0)","v":5},3,3,4,3,5,8,4,4,5,4,4,5,5,4,3,{"$f":"ROUND(Z$56*$H57/100,0)","v":3},23,26,27,25,25,26,21,21,20,12,9,6,2,2,0,{"$f":"ROUND(AP$56*$H57/100,0)","v":2},2,6,172,11,12,80,8,null,null,329,51,27,56,145,50]
["040313","AREQUIPA","AREQUIPA","CARAVELI","YAUCA",{"v":2807,"d":"2,807"},27,30,{"$f":"ROUND(I$56*$H58/100,0)","v":8},8,5,4,7,5,8,12,7,6,8,6,7,8,8,7,5,5,36,42,42,40,40,41,32,34,31,18,14,10,3,3,0,2,3,10,272,18,19,126,13,null,null,519,80,43,88,229,80]
["040401","AREQUIPA","AREQUIPA","CASTILLA","APLAO",{"v":10457,"d":"10,457"},113,114,32,30,19,16,26,21,30,46,26,22,30,24,26,29,30,25,19,21,136,158,160,152,153,154,123,128,117,70,55,36,11,13,1,9,11,39,{"v":1032,"d":"1,032"},68,71,480,49,null,null,{"v":1973,"d":"1,973"},306,163,334,869,302]
["040402","AREQUIPA","AREQUIPA","CASTILLA","ANDAGUA",982,14,5,1,1,1,1,1,1,1,2,1,1,1,1,1,1,1,1,1,1,6,7,7,7,7,7,5,6,5,3,2,2,1,1,0,0,1,2,45,3,3,21,2,null,null,87,13,7,15,38,13]
["040403","AREQUIPA","AREQUIPA","CASTILLA","AYO",377,5,2,1,1,0,0,0,0,1,1,0,0,1,0,0,1,1,0,0,0,2,3,3,3,3,3,2,2,2,1,1,1,0,0,0,0,0,1,18,1,1,8,1,null,null,35,5,3,6,15,5]
["040404","AREQUIPA","AREQUIPA","CASTILLA","CHACHAS",{"v":1847,"d":"1,847"},35,27,8,7,5,4,6,5,7,11,6,5,7,6,6,7,7,6,5,5,32,38,38,36,36,36,29,30,28,16,13,9,3,3,0,2,3,9,244,16,17,114,12,null,null,467,72,39,79,206,72]
["040405","AREQUIPA","AREQUIPA","CASTILLA","CHILCAYMARCA",{"v":1148,"d":"1,148"},13,12,3,3,2,2,3,2,3,5,3,2,3,3,3,3,3,3,2,2,14,17,17,16,16,16,13,13,12,7,6,4,1,1,0,1,1,4,109,7,7,51,5,null,null,208,32,17,35,91,32]
["040406","AREQUIPA","AREQUIPA","CASTILLA","CHOCO",806,10,4,1,1,1,1,1,1,1,2,1,1,1,1,1,1,1,1,1,1,5,6,6,5,5,5,4,4,4,2,2,1,0,0,0,0,0,1,36,2,2,17,2,null,null,69,11,6,12,30,11]
["040407","AREQUIPA","AREQUIPA","CASTILLA","HUANCARQUI",{"v":1731,"d":"1,731"},28,17,5,4,3,2,4,3,4,7,4,3,4,4,4,4,4,4,3,3,20,24,24,23,23,23,18,19,18,10,8,5,2,2,0,1,2,6,154,10,11,72,7,null,null,294,46,24,50,130,45]
["040408","AREQUIPA","AREQUIPA","CASTILLA","MACHAGUAY",482,12,6,3,5,2,7,2,4,2,5,2,9,3,5,7,5,7,9,6,9,25,19,18,15,24,29,34,35,37,19,39,21,24,33,0,4,8,22,259,17,18,72,9,null,null,482,59,36,59,155,173]
["040409","AREQUIPA","AREQUIPA","CASTILLA","ORCOPAMPA",{"v":9089,"d":"9,089"},58,55,{"$f":"ROUND(I$66*$H67/100,0)","v":2},{"$f":"ROUND(J$66*$H67/100,0)","v":3},1,4,1,2,1,3,1,5,2,3,4,3,4,5,3,{"$f":"ROUND(Z$66*$H67/100,0)","v":5},14,10,10,8,13,16,19,19,20,10,21,12,13,18,0,{"$f":"ROUND(AP$66*$H67/100,0)","v":2},4,12,142,9,10,40,5,null,null,265,32,20,32,85,95]
["040410","AREQUIPA","AREQUIPA","CASTILLA","PAMPACOLCA",{"v":2145,"d":"2,145"},33,20,{"$f":"ROUND(I$66*$H68/100,0)","v":1},1,0,1,0,1,0,1,0,2,1,1,1,1,1,2,1,2,5,4,4,3,5,6,7,7,7,4,8,4,5,7,0,1,2,4,52,3,4,14,2,null,null,96,12,7,12,31,35]
["040411","AREQUIPA","AREQUIPA","CASTILLA","TIPAN",450,4,2,0,0,0,0,0,0,0,0,0,0,0,0,0,0,0,0,0,0,1,0,0,0,0,1,1,1,1,0,1,0,0,1,0,0,0,0,5,0,0,1,0,null,null,10,1,1,1,3,3]
["040412","AREQUIPA","AREQUIPA","CASTILLA","UÑON",296,4,1,0,0,0,0,0,0,0,0,0,0,0,0,0,0,0,0,0,0,0,0,0,0,0,0,0,0,0,0,0,0,0,0,0,0,0,0,3,0,0,1,0,null,null,5,1,0,1,2,2]
["040413","AREQUIPA","AREQUIPA","CASTILLA","URACA",{"v":6584,"d":"6,584"},59,51,2,3,1,4,1,2,1,3,1,5,2,3,4,3,4,5,3,5,13,10,9,8,12,15,17,18,19,10,20,11,12,17,0,2,4,11,132,9,9,37,5,null,null,246,30,18,30,79,88]
["040414","AREQUIPA","AREQUIPA","CASTILLA","VIRACO",{"v":1535,"d":"1,535"},16,11,0,1,0,1,0,0,0,1,0,1,0,1,1,1,1,1,1,1,3,2,2,2,3,3,4,4,4,2,4,2,3,4,0,0,1,2,28,2,2,8,1,null,null,53,6,4,6,17,19]
["040501","AREQUIPA","AREQUIPA","CAYLLOMA","CHIVAY",{"v":7959,"d":"7,959"},53,51,95,59,81,79,137,142,145,141,145,121,170,148,115,172,177,165,167,145,752,704,641,534,475,436,357,429,317,216,202,186,89,113,1,26,27,94,{"v":4058,"d":"4,058"},341,402,{"v":1807,"d":"1,807"},139,null,null,{"v":7959,"d":"7,959"},{"v":1249,"d":"1,249"},947,{"v":1768,"d":"1,768"},{"v":2872,"d":"2,872"},{"v":1123,"d":"1,123"}]
["040502","AREQUIPA","AREQUIPA","CAYLLOMA","ACHOMA",{"v":1225,"d":"1,225"},14,9,{"$f":"ROUND(I$73*$H74/100,0)","v":9},{"$f":"ROUND(J$73*$H74/100,0)","v":5},7,7,12,13,13,13,13,11,15,13,10,15,16,15,15,{"$f":"ROUND(Z$73*$H74/100,0)","v":13},68,63,58,48,43,39,32,39,29,19,18,17,8,10,0,{"$f":"ROUND(AP$73*$H74/100,0)","v":2},2,8,365,31,36,163,13,null,null,716,112,85,159,258,101]
["040503","AREQUIPA","AREQUIPA","CAYLLOMA","CABANACONDE",{"v":2960,"d":"2,960"},17,15,{"$f":"ROUND(I$73*$H75/100,0)","v":14},9,12,12,21,21,22,21,22,18,26,22,17,26,27,25,25,22,113,106,96,80,71,65,54,64,48,32,30,28,13,17,0,4,4,14,609,51,60,271,21,null,null,{"v":1194,"d":"1,194"},187,142,265,431,168]
["040504","AREQUIPA","AREQUIPA","CAYLLOMA","CALLALLI",{"v":2214,"d":"2,214"},28,20,19,12,16,16,27,28,29,28,29,24,34,30,23,34,35,33,33,29,150,141,128,107,95,87,71,86,63,43,40,37,18,23,0,5,5,19,812,68,80,361,28,null,null,{"v":1592,"d":"1,592"},250,189,354,574,225]
["040505","AREQUIPA","AREQUIPA","CAYLLOMA","CAYLLOMA",{"v":5339,"d":"5,339"},39,37,35,22,30,29,51,53,54,52,54,45,63,55,43,64,65,61,62,54,278,260,237,198,176,161,132,159,117,80,75,69,33,42,0,10,10,35,{"v":1501,"d":"1,501"},126,149,669,51,null,null,{"v":2945,"d":"2,945"},462,350,654,{"v":1063,"d":"1,063"},416]
["040506","AREQUIPA","AREQUIPA","CAYLLOMA","COPORAQUE",{"v":1554,"d":"1,554"},18,11,10,6,9,9,15,16,16,16,16,13,19,16,13,19,19,18,18,16,83,77,71,59,52,48,39,47,35,24,22,20,10,12,0,3,3,10,446,38,44,199,15,null,null,875,137,104,194,316,124]
["040507","AREQUIPA","AREQUIPA","CAYLLOMA","HUAMBO",964,10,9,5,9,7,7,9,9,2,4,13,9,8,8,13,12,21,21,11,6,56,60,56,45,58,49,66,73,52,84,50,41,42,39,0,7,3,14,523,32,44,165,20,null,null,964,93,83,133,347,308]
["040508","AREQUIPA","AREQUIPA","CAYLLOMA","HUANCA",{"v":1499,"d":"1,499"},19,12,{"$f":"ROUND(I$79*$H80/100,0)","v":1},{"$f":"ROUND(J$79*$H80/100,0)","v":1},1,1,1,1,0,0,2,1,1,1,2,1,3,3,1,{"$f":"ROUND(Z$79*$H80/100,0)","v":1},7,7,7,5,7,6,8,9,6,10,6,5,5,5,0,{"$f":"ROUND(AP$79*$H80/100,0)","v":1},0,2,63,4,5,20,2,null,null,116,11,10,16,42,37]
["040509","AREQUIPA","AREQUIPA","CAYLLOMA","ICHUPAMPA",972,11,5,{"$f":"ROUND(I$79*$H81/100,0)","v":0},0,0,0,0,0,0,0,1,0,0,0,1,1,1,1,1,0,3,3,3,2,3,2,3,4,3,4,3,2,2,2,0,0,0,1,26,2,2,8,1,null,null,48,5,4,7,17,15]
["040510","AREQUIPA","AREQUIPA","CAYLLOMA","LARI",{"v":1338,"d":"1,338"},13,13,14,12,14,10,14,16,7,16,21,21,13,23,17,23,24,20,25,23,100,110,107,66,86,90,83,82,71,62,38,35,42,27,2,6,8,28,714,54,62,286,40,null,null,{"v":1338,"d":"1,338"},171,120,258,514,275]
["040511","AREQUIPA","AREQUIPA","CAYLLOMA","LLUTA",{"v":1282,"d":"1,282"},16,14,{"$f":"ROUND(I$82*$H83/100,0)","v":2},{"$f":"ROUND(J$82*$H83/100,0)","v":2},2,1,2,2,1,2,3,3,2,3,2,3,3,3,4,{"$f":"ROUND(Z$82*$H83/100,0)","v":3},14,15,15,9,12,13,12,11,10,9,5,5,6,4,0,{"$f":"ROUND(AP$82*$H83/100,0)","v":1},1,4,100,8,9,40,6,null,null,187,24,17,36,72,39]
["040512","AREQUIPA","AREQUIPA","CAYLLOMA","MACA",{"v":1059,"d":"1,059"},7,3,{"$f":"ROUND(I$82*$H84/100,0)","v":0},0,0,0,0,0,0,0,1,1,0,1,1,1,1,1,1,1,3,3,3,2,3,3,2,2,2,2,1,1,1,1,0,0,0,1,21,2,2,9,1,null,null,40,5,4,8,15,8]
["040513","AREQUIPA","AREQUIPA","CAYLLOMA","MADRIGAL",935,7,2,0,0,0,0,0,0,0,0,0,0,0,0,0,0,0,0,1,0,2,2,2,1,2,2,2,2,1,1,1,1,1,1,0,0,0,1,14,1,1,6,1,null,null,27,3,2,5,10,6]
["040514","AREQUIPA","AREQUIPA","CAYLLOMA","SAN ANTONIO DE CHUCA",{"v":1192,"d":"1,192"},18,11,2,1,2,1,2,2,1,2,2,2,1,3,2,3,3,2,3,3,11,12,12,7,9,10,9,9,8,7,4,4,5,3,0,1,1,3,79,6,7,31,4,null,null,147,19,13,28,57,30]
["040515","AREQUIPA","AREQUIPA","CAYLLOMA","SIBAYO",{"v":1122,"d":"1,122"},13,11,2,1,2,1,2,2,1,2,2,2,1,3,2,3,3,2,3,3,11,12,12,7,9,10,9,9,8,7,4,4,5,3,0,1,1,3,79,6,7,31,4,null,null,147,19,13,28,57,30]
["040516","AREQUIPA","AREQUIPA","CAYLLOMA","TAPAY",{"v":1044,"d":"1,044"},14,2,0,0,0,0,0,0,0,0,0,0,0,0,0,0,0,0,1,0,2,2,2,1,2,2,2,2,1,1,1,1,1,1,0,0,0,1,14,1,1,6,1,null,null,27,3,2,5,10,6]
["040517","AREQUIPA","AREQUIPA","CAYLLOMA","TISCO",{"v":2192,"d":"2,192"},12,12,2,1,2,1,2,2,1,2,3,3,2,3,2,3,3,2,3,3,12,13,13,8,10,11,10,10,9,7,5,4,5,3,0,1,1,3,86,6,7,34,5,null,null,161,21,14,31,62,33]
["040518","AREQUIPA","AREQUIPA","CAYLLOMA","TUTI",{"v":1093,"d":"1,093"},10,10,1,1,1,1,1,2,1,2,2,2,1,2,2,2,2,2,3,2,10,11,11,7,9,9,8,8,7,6,4,4,4,3,0,1,1,3,71,5,6,29,4,null,null,134,17,12,26,51,28]
["040519","AREQUIPA","AREQUIPA","CAYLLOMA","YANQUE",{"v":3145,"d":"3,145"},30,22,3,3,3,2,3,4,2,4,5,5,3,5,4,5,5,4,6,5,22,24,24,15,19,20,18,18,16,14,8,8,9,6,0,1,2,6,157,12,14,63,9,null,null,294,38,26,57,113,61]
["040520","AREQUIPA","AREQUIPA","CAYLLOMA","MAJES",{"v":79357,"d":"79,357"},954,985,138,118,138,99,138,158,69,158,207,207,128,227,167,227,236,197,246,227,985,{"v":1084,"d":"1,084"},{"v":1054,"d":"1,054"},650,847,887,818,808,699,611,374,345,414,266,20,59,79,276,{"v":7033,"d":"7,033"},532,611,{"v":2817,"d":"2,817"},394,null,null,{"v":13179,"d":"13,179"},{"v":1684,"d":"1,684"},{"v":1182,"d":"1,182"},{"v":2541,"d":"2,541"},{"v":5063,"d":"5,063"},{"v":2709,"d":"2,709"}]
["040601","AREQUIPA","AREQUIPA","CONDESUYOS","CHUQUIBAMBA",{"v":3529,"d":"3,529"},40,39,5,5,5,4,5,6,3,6,8,8,5,9,7,9,9,8,10,9,39,43,42,26,34,35,32,32,28,24,15,14,16,11,1,2,3,11,278,21,24,112,16,null,null,522,67,47,101,200,107]
["040602","AREQUIPA","AREQUIPA","CONDESUYOS","ANDARAY",752,9,3,0,0,0,0,0,0,0,0,1,1,0,1,1,1,1,1,1,1,3,3,3,2,3,3,2,2,2,2,1,1,1,1,0,0,0,1,21,2,2,9,1,null,null,40,5,4,8,15,8]
["040603","AREQUIPA","AREQUIPA","CONDESUYOS","CAYARANI",{"v":3322,"d":"3,322"},30,28,4,3,4,3,4,4,2,4,6,6,4,6,5,6,7,6,7,6,28,31,30,18,24,25,23,23,20,17,11,10,12,8,1,2,2,8,200,15,17,80,11,null,null,375,48,34,72,144,77]
["040604","AREQUIPA","AREQUIPA","CONDESUYOS","CHICHAS",789,9,5,4,4,2,2,8,7,6,6,8,8,11,8,8,9,11,12,5,11,32,38,40,35,34,50,61,62,49,58,38,48,38,62,0,6,3,20,433,25,27,121,18,null,null,789,69,59,86,282,293]
["040605","AREQUIPA","AREQUIPA","CONDESUYOS","IRAY",769,12,7,{"$f":"ROUND(I$96*$H97/100,0)","v":0},{"$f":"ROUND(J$96*$H97/100,0)","v":0},0,0,1,0,0,0,1,1,1,1,1,1,1,1,0,{"$f":"ROUND(Z$96*$H97/100,0)","v":1},2,3,3,2,2,4,4,4,3,4,3,3,3,4,0,{"$f":"ROUND(AP$96*$H97/100,0)","v":0},0,1,30,2,2,8,1,null,null,55,5,4,6,20,21]
["040606","AREQUIPA","AREQUIPA","CONDESUYOS","RIO GRANDE",{"v":4049,"d":"4,049"},65,79,{"$f":"ROUND(I$96*$H98/100,0)","v":3},3,2,2,6,6,5,5,6,6,9,6,6,7,9,9,4,9,25,30,32,28,27,40,48,49,39,46,30,38,30,49,0,5,2,16,342,20,21,96,14,null,null,623,55,47,68,223,231]
["040607","AREQUIPA","AREQUIPA","CONDESUYOS","SALAMANCA",486,7,6,4,6,4,4,4,3,5,3,5,5,5,5,2,4,7,8,5,6,29,23,24,24,25,29,34,37,28,31,28,28,27,21,0,3,4,9,253,9,15,69,15,null,null,486,56,31,63,173,163]
["040608","AREQUIPA","AREQUIPA","CONDESUYOS","YANAQUIHUA",{"v":4257,"d":"4,257"},52,46,{"$f":"ROUND(I$99*$H100/100,0)","v":2},{"$f":"ROUND(J$99*$H100/100,0)","v":3},2,2,2,1,2,1,2,2,2,2,1,2,3,4,2,3,13,11,11,11,12,13,16,17,13,14,13,13,12,10,0,1,2,4,116,4,7,32,7,null,null,224,26,14,29,80,75]
["040701","AREQUIPA","AREQUIPA","ISLAY","MOLLENDO",{"v":28553,"d":"28,553"},243,227,293,317,319,378,379,428,386,389,332,347,382,353,386,395,429,403,409,403,{"v":1909,"d":"1,909"},{"v":2009,"d":"2,009"},{"v":1905,"d":"1,905"},{"v":1813,"d":"1,813"},{"v":2009,"d":"2,009"},{"v":2045,"d":"2,045"},{"v":1877,"d":"1,877"},{"v":1771,"d":"1,771"},{"v":1576,"d":"1,576"},{"v":1309,"d":"1,309"},{"v":1163,"d":"1,163"},864,600,505,13,127,116,391,{"v":14649,"d":"14,649"},928,{"v":1054,"d":"1,054"},{"v":6041,"d":"6,041"},583,null,null,{"v":28553,"d":"28,553"},{"v":4038,"d":"4,038"},{"v":2348,"d":"2,348"},{"v":4730,"d":"4,730"},{"v":11420,"d":"11,420"},{"v":6017,"d":"6,017"}]
["040702","AREQUIPA","AREQUIPA","ISLAY","COCACHACRA",{"v":9274,"d":"9,274"},102,99,{"$f":"ROUND(I$101*$H102/100,0)","v":290},{"$f":"ROUND(J$101*$H102/100,0)","v":314},316,374,375,424,382,385,329,344,378,349,382,391,425,399,405,399,{"v":1890,"d":"1,890"},{"v":1989,"d":"1,989"},{"v":1886,"d":"1,886"},{"v":1795,"d":"1,795"},{"v":1989,"d":"1,989"},{"v":2025,"d":"2,025"},{"v":1858,"d":"1,858"},{"v":1753,"d":"1,753"},{"v":1560,"d":"1,560"},{"v":1296,"d":"1,296"},{"v":1151,"d":"1,151"},855,594,500,13,126,115,387,{"v":14503,"d":"14,503"},919,{"v":1043,"d":"1,043"},{"v":5981,"d":"5,981"},577,null,null,{"v":28267,"d":"28,267"},{"v":3998,"d":"3,998"},{"v":2325,"d":"2,325"},{"v":4683,"d":"4,683"},{"v":11306,"d":"11,306"},{"v":5957,"d":"5,957"}]
["040703","AREQUIPA","AREQUIPA","ISLAY","DEAN VALDIVIA",{"v":7834,"d":"7,834"},85,85,93,100,104,83,114,106,93,107,82,85,122,83,96,120,133,104,110,112,570,647,668,550,576,513,467,461,389,310,239,168,123,136,1,46,39,152,{"v":4039,"d":"4,039"},235,301,{"v":1827,"d":"1,827"},206,null,null,{"v":7834,"d":"7,834"},{"v":1137,"d":"1,137"},658,{"v":1439,"d":"1,439"},{"v":3235,"d":"3,235"},{"v":1365,"d":"1,365"}]
["040704","AREQUIPA","AREQUIPA","ISLAY","ISLAY",{"v":5490,"d":"5,490"},80,79,{"$f":"ROUND(I$103*$H104/100,0)","v":73},{"$f":"ROUND(J$103*$H104/100,0)","v":79},82,66,90,84,73,85,65,67,96,66,76,95,105,82,87,88,450,511,528,435,455,405,369,364,307,245,189,133,97,107,1,36,31,120,{"v":3191,"d":"3,191"},186,238,{"v":1443,"d":"1,443"},163,null,null,{"v":6189,"d":"6,189"},898,520,{"v":1137,"d":"1,137"},{"v":2556,"d":"2,556"},{"v":1078,"d":"1,078"}]
["040705","AREQUIPA","AREQUIPA","ISLAY","MEJIA",{"v":1480,"d":"1,480"},12,7,16,16,16,12,13,15,14,16,22,11,9,13,14,8,11,12,16,17,95,99,99,108,116,95,109,119,123,68,70,44,35,30,0,8,5,28,803,38,27,352,42,null,null,{"v":1480,"d":"1,480"},170,67,227,646,370]
["040706","AREQUIPA","AREQUIPA","ISLAY","PUNTA DE BOMBON",{"v":7210,"d":"7,210"},76,73,{"$f":"ROUND(I$105*$H106/100,0)","v":12},{"$f":"ROUND(J$105*$H106/100,0)","v":12},12,9,9,11,10,12,16,8,7,9,10,6,8,9,12,{"$f":"ROUND(Z$105*$H106/100,0)","v":12},69,72,72,79,85,69,80,87,90,50,51,32,26,22,0,{"$f":"ROUND(AP$105*$H106/100,0)","v":6},4,20,586,28,20,257,31,null,null,{"v":1080,"d":"1,080"},124,49,166,472,270]
["040801","AREQUIPA","AREQUIPA","LA UNION","COTAHUASI",{"v":3104,"d":"3,104"},44,32,{"$f":"ROUND(I$105*$H107/100,0)","v":5},5,5,4,4,5,4,5,7,4,3,4,4,3,4,4,5,5,30,32,32,35,37,30,35,38,39,22,22,14,11,10,0,3,2,9,257,12,9,113,13,null,null,474,54,21,73,207,118]
["040802","AREQUIPA","AREQUIPA","LA UNION","ALCA",{"v":1844,"d":"1,844"},37,23,27,34,27,22,26,33,35,33,29,30,18,20,29,35,35,42,41,34,148,112,104,87,86,99,102,111,94,76,57,65,46,47,0,20,17,49,939,70,103,308,61,null,null,{"v":1844,"d":"1,844"},356,179,335,589,385]
["040803","AREQUIPA","AREQUIPA","LA UNION","CHARCANA",703,10,7,{"$f":"ROUND(I$108*$H109/100,0)","v":2},{"$f":"ROUND(J$108*$H109/100,0)","v":2},2,2,2,2,2,2,2,2,1,1,2,2,2,3,3,2,10,8,7,6,6,7,7,8,7,5,4,5,3,3,0,1,1,3,66,5,7,22,4,null,null,129,25,13,23,41,27]
["040804","AREQUIPA","AREQUIPA","LA UNION","HUAYNACOTAS",{"v":2112,"d":"2,112"},39,35,29,39,34,23,40,33,37,36,30,44,34,34,32,43,45,46,39,35,183,143,102,97,120,127,120,121,80,82,65,52,40,53,0,21,19,82,{"v":1094,"d":"1,094"},87,108,392,112,null,null,{"v":2112,"d":"2,112"},419,234,400,687,372]
["040805","AREQUIPA","AREQUIPA","LA UNION","PAMPAMARCA",{"v":1581,"d":"1,581"},371,80,{"$f":"ROUND(I$110*$H111/100,0)","v":23},{"$f":"ROUND(J$110*$H111/100,0)","v":31},27,18,32,26,30,29,24,35,27,27,26,34,36,37,31,{"$f":"ROUND(Z$110*$H111/100,0)","v":28},146,114,82,78,96,102,96,97,64,66,52,42,32,42,0,{"$f":"ROUND(AP$110*$H111/100,0)","v":17},15,66,875,70,86,314,90,null,null,{"v":1690,"d":"1,690"},335,187,320,550,298]
["040806","AREQUIPA","AREQUIPA","LA UNION","PUYCA",{"v":2549,"d":"2,549"},28,21,{"$f":"ROUND(I$110*$H112/100,0)","v":6},8,7,5,8,7,8,8,6,9,7,7,7,9,9,10,8,7,38,30,21,20,25,27,25,25,17,17,14,11,8,11,0,4,4,17,230,18,23,82,24,null,null,444,88,49,84,144,78]
["040807","AREQUIPA","AREQUIPA","LA UNION","QUECHUALLA",433,3,1,1,0,2,3,2,2,5,4,1,1,1,1,1,2,2,2,5,2,10,29,45,33,27,31,27,41,40,37,20,19,14,19,0,0,3,5,220,4,8,90,17,null,null,433,25,9,46,204,149]
["040808","AREQUIPA","AREQUIPA","LA UNION","SAYLA",351,16,10,{"$f":"ROUND(I$113*$H114/100,0)","v":0},{"$f":"ROUND(J$113*$H114/100,0)","v":0},0,0,0,0,1,0,0,0,0,0,0,0,0,0,1,{"$f":"ROUND(Z$113*$H114/100,0)","v":0},1,3,5,3,3,3,3,4,4,4,2,2,1,2,0,{"$f":"ROUND(AP$113*$H114/100,0)","v":0},0,1,22,0,1,9,2,null,null,43,3,1,5,20,15]
["040809","AREQUIPA","AREQUIPA","LA UNION","TAURIA",506,8,2,{"$f":"ROUND(I$113*$H115/100,0)","v":0},0,0,0,0,0,0,0,0,0,0,0,0,0,0,0,0,0,0,1,1,1,1,1,1,1,1,1,0,0,0,0,0,0,0,0,4,0,0,2,0,null,null,9,1,0,1,4,3]
["040810","AREQUIPA","AREQUIPA","LA UNION","TOMEPAMPA",713,5,3,0,0,0,0,0,0,0,0,0,0,0,0,0,0,0,0,0,0,0,1,1,1,1,1,1,1,1,1,1,1,0,1,0,0,0,0,7,0,0,3,1,null,null,13,1,0,1,6,4]
["040811","AREQUIPA","AREQUIPA","LA UNION","TORO",597,9,4,1,4,6,1,4,3,3,8,10,3,2,3,8,4,7,11,5,11,31,35,24,30,29,46,46,48,37,26,26,30,39,43,1,4,5,13,322,15,21,102,13,null,null,597,56,35,82,223,201]
[]
["NOTA: LA POBLACION ESTIMADA DE EDADES  SIMPLES Y GRUPOS DE EDAD DE DISTRITOS, CORRESPONDEN A CIFRAS REFERENCIALES HASTA OBTENER LAS CIFRAS DE LAS PROYECCIONES DEL INEI"]
["FUENTE: CENSO NACIONAL XI DE POBLACION Y VI DE VIVIENDA 2017/- BOLETIN DEMOGRAFICO Nº 24,37, 39 / RENIEC / Padrón Nominal/ CNV"]
["La población de 0-5 años corresponden al reporte de la poblacion del Padrón Nominal con corte al 31/12/2024, con ajuste en la Edad \"0\""]
["OFICINA DE GESTION DE LA INFORMACION - MINISTERIO DE SALUD"]

{"sheet":"EESS","index":3,"n_rows":378,"n_cols":60,"rows_kept":378,"merged":[[5,43,5,45],[5,46,6,46],[5,47,6,47],[5,48,5,50],[5,51,6,51]]}
[]
[]
[]
["POBLACION ESTIMADA POR EDADES SIMPLES Y GRUPOS DE EDAD, SEGÚN DEPARTAMENTO, PROVINCIA Y DISTRITO. 2025"]
["* Actualizado con datos INEI"]
["POBLACION 2025",{"$nulls":8},"POBLACION TOTAL, POR EDADS SIMPLES",{"$nulls":19},"POBLACIÓN TOTAL,  POR GRUPOS QUINQUEN ALES DE EDAD",{"$nulls":13},"EDADES ESPECIALES",null,null,"NACIMIENTOS VIVOS","POBLACION FEMENINA TOTAL","POBLACION FEMENINA",null,null,"GESTANTES  ESPERADAS"]
["UBIGEO","DIRESA","DEPARTAMENTO","PROVINCIA","DISTRITO",{"$nulls":3},"Total","0",1,2,3,4,5,6,7,8,9,10,11,12,13,14,15,16,17,18,19,"20-24","25-29","30-34","35-39","40-44","45-49","50-54","55-59","60-64","65-69","70-74","75-79","80-84","85-+","28 DIAS","0-5 MESES","6-11 MESES",null,null,"10 - 14","15- 19","20- 49",{"$nulls":3},"TOTAL","NIÑO","Adolescente","Joven","Adulto","Adulto Mayor"]
["000000","PERU","PERU","PERU","PERU","CODIGO IPRESS","NOMBRE ESTABLECIMIENTO","PORCENTAJE",{"v":1662314,"d":"1,662,314"},{"v":17311,"d":"17,311"},{"v":16375,"d":"16,375"},{"v":17666,"d":"17,666"},{"v":18060,"d":"18,060"},{"v":20947,"d":"20,947"},{"v":22286,"d":"22,286"},{"v":26285,"d":"26,285"},{"v":26908,"d":"26,908"},{"v":26517,"d":"26,517"},{"v":25484,"d":"25,484"},{"v":23712,"d":"23,712"},{"v":23754,"d":"23,754"},{"v":24541,"d":"24,541"},{"v":23426,"d":"23,426"},{"v":21994,"d":"21,994"},{"v":25279,"d":"25,279"},{"v":25532,"d":"25,532"},{"v":25380,"d":"25,380"},{"v":24892,"d":"24,892"},{"v":25050,"d":"25,050"},{"v":121154,"d":"121,154"},{"v":135079,"d":"135,079"},{"v":135250,"d":"135,250"},{"v":122327,"d":"122,327"},{"v":120810,"d":"120,810"},{"v":112551,"d":"112,551"},{"v":99133,"d":"99,133"},{"v":90674,"d":"90,674"},{"v":76187,"d":"76,187"},{"v":60527,"d":"60,527"},{"v":48773,"d":"48,773"},{"v":34433,"d":"34,433"},{"v":21928,"d":"21,928"},{"v":22089,"d":"22,089"},661,{"v":8312,"d":"8,312"},{"v":9013,"d":"9,013"},{"v":25876,"d":"25,876"},{"v":843731,"d":"843,731"},{"v":58722,"d":"58,722"},{"v":62903,"d":"62,903"},{"v":379476,"d":"379,476"},{"v":41624,"d":"41,624"},null,null,{"v":1662314,"d":"1,662,314"},{"v":265305,"d":"265,305"},{"v":146152,"d":"146,152"},{"v":306175,"d":"306,175"},{"v":680745,"d":"680,745"},{"v":263937,"d":"263,937"}]
["040101","AREQUIPA","AREQUIPA","AREQUIPA","AREQUIPA",{"$nulls":3},{"v":60675,"d":"60,675"},561,533,480,534,667,749,635,684,684,639,561,581,604,596,615,660,646,639,611,638,{"v":3343,"d":"3,343"},{"v":3607,"d":"3,607"},{"v":3923,"d":"3,923"},{"v":3575,"d":"3,575"},{"v":3925,"d":"3,925"},{"v":4241,"d":"4,241"},{"v":4384,"d":"4,384"},{"v":4524,"d":"4,524"},{"v":4335,"d":"4,335"},{"v":3642,"d":"3,642"},{"v":3156,"d":"3,156"},{"v":2312,"d":"2,312"},{"v":1621,"d":"1,621"},{"v":1770,"d":"1,770"},11,264,297,859,{"v":30631,"d":"30,631"},{"v":1400,"d":"1,400"},{"v":1522,"d":"1,522"},{"v":11197,"d":"11,197"},{"v":1754,"d":"1,754"},null,null,{"v":60675,"d":"60,675"},{"v":7308,"d":"7,308"},{"v":3760,"d":"3,760"},{"v":8199,"d":"8,199"},{"v":24572,"d":"24,572"},{"v":16836,"d":"16,836"}]
[{"$nulls":5},7397,"INSTITUTO REGIONAL DE ENFERMEDADES NEOPLASICAS",0,0,0,0,0,0,0,0,0,0,0,0,0,0,0,0,0,0,0,0,0,0,0,0,0,0,0,0,0,0,0,0,0,0,0,0,0,0,0,0,0,0,0,0,0,null,null,0,0,0,0,0,0]
[{"$nulls":5},1232,"HOSPITAL GOYENECHE",0,0,0,0,0,0,0,0,0,0,0,0,0,0,0,0,0,0,0,0,0,0,0,0,0,0,0,0,0,0,0,0,0,0,0,0,0,0,0,0,0,0,0,0,0,null,null,0,0,0,0,0,0]
[{"$nulls":5},1231,"HOSPITAL REGIONAL HONORIO DELGADO ESPINOZA",0,0,0,0,0,0,0,0,0,0,0,0,0,0,0,0,0,0,0,0,0,0,0,0,0,0,0,0,0,0,0,0,0,0,0,0,0,0,0,0,0,0,0,0,0,null,null,0,0,0,0,0,0]
[{"$nulls":5},1291,"CENTRO DE SALUD ALTO SELVA ALEGRE",20,{"v":12135,"d":"12,135"},113,105,96,106,135,149,127,136,136,127,113,117,120,120,123,132,130,127,123,126,667,723,783,715,785,849,876,904,867,730,632,464,325,354,3,52,61,171,{"v":6127,"d":"6,127"},280,306,{"v":2241,"d":"2,241"},350,null,null,{"v":12135,"d":"12,135"},{"v":1460,"d":"1,460"},752,{"v":1639,"d":"1,639"},{"v":4916,"d":"4,916"},{"v":3368,"d":"3,368"}]
[{"$nulls":5},1294,"CENTRO DE SALUD MARIANO MELGAR",20,{"v":12135,"d":"12,135"},112,107,96,107,133,150,127,137,137,128,112,116,121,119,123,132,129,128,122,128,669,721,785,715,785,848,877,905,867,728,631,462,324,354,2,53,59,172,{"v":6126,"d":"6,126"},280,304,{"v":2239,"d":"2,239"},351,null,null,{"v":12135,"d":"12,135"},{"v":1462,"d":"1,462"},752,{"v":1640,"d":"1,640"},{"v":4914,"d":"4,914"},{"v":3367,"d":"3,367"}]
[{"$nulls":5},1293,"CENTRO DE SALUD MIRAFLORES",20,{"v":12135,"d":"12,135"},112,107,96,107,133,150,127,137,137,128,112,116,121,119,123,132,129,128,122,128,669,721,785,715,785,848,877,905,867,728,631,462,324,354,2,53,59,172,{"v":6126,"d":"6,126"},280,304,{"v":2239,"d":"2,239"},351,null,null,{"v":12135,"d":"12,135"},{"v":1462,"d":"1,462"},752,{"v":1640,"d":"1,640"},{"v":4914,"d":"4,914"},{"v":3367,"d":"3,367"}]
[{"$nulls":5},1233,"CENTRO DE SALUD YANAHUARA",20,{"v":12135,"d":"12,135"},112,107,96,107,133,150,127,137,137,128,112,116,121,119,123,132,129,128,122,128,669,721,785,715,785,848,877,905,867,728,631,462,324,354,2,53,59,172,{"v":6126,"d":"6,126"},280,304,{"v":2239,"d":"2,239"},351,null,null,{"v":12135,"d":"12,135"},{"v":1462,"d":"1,462"},752,{"v":1640,"d":"1,640"},{"v":4914,"d":"4,914"},{"v":3367,"d":"3,367"}]
[{"$nulls":5},1263,"PUESTO DE SALUD 13 DE ENERO (VRH)",20,{"v":12135,"d":"12,135"},112,107,96,107,133,150,127,137,137,128,112,116,121,119,123,132,129,128,122,128,669,721,785,715,785,848,877,905,867,728,631,462,324,354,2,53,59,172,{"v":6126,"d":"6,126"},280,304,{"v":2239,"d":"2,239"},351,null,null,{"v":12135,"d":"12,135"},{"v":1462,"d":"1,462"},752,{"v":1640,"d":"1,640"},{"v":4914,"d":"4,914"},{"v":3367,"d":"3,367"}]
["040102","AREQUIPA","AREQUIPA","AREQUIPA","ALTO SELVA ALEGRE",{"$nulls":3},{"v":96431,"d":"96,431"},914,910,894,{"v":1042,"d":"1,042"},{"v":1312,"d":"1,312"},{"v":1329,"d":"1,329"},{"v":1513,"d":"1,513"},{"v":1571,"d":"1,571"},{"v":1551,"d":"1,551"},{"v":1476,"d":"1,476"},{"v":1328,"d":"1,328"},{"v":1371,"d":"1,371"},{"v":1410,"d":"1,410"},{"v":1396,"d":"1,396"},{"v":1289,"d":"1,289"},{"v":1362,"d":"1,362"},{"v":1431,"d":"1,431"},{"v":1397,"d":"1,397"},{"v":1318,"d":"1,318"},{"v":1466,"d":"1,466"},{"v":7375,"d":"7,375"},{"v":8682,"d":"8,682"},{"v":8480,"d":"8,480"},{"v":7119,"d":"7,119"},{"v":6809,"d":"6,809"},{"v":6135,"d":"6,135"},{"v":5669,"d":"5,669"},{"v":5394,"d":"5,394"},{"v":4746,"d":"4,746"},{"v":3404,"d":"3,404"},{"v":2455,"d":"2,455"},{"v":1620,"d":"1,620"},{"v":1075,"d":"1,075"},{"v":1188,"d":"1,188"},31,437,477,{"v":1229,"d":"1,229"},{"v":48865,"d":"48,865"},{"v":3290,"d":"3,290"},{"v":3377,"d":"3,377"},{"v":22546,"d":"22,546"},{"v":2417,"d":"2,417"},null,null,{"v":96431,"d":"96,431"},{"v":15211,"d":"15,211"},{"v":8285,"d":"8,285"},{"v":18841,"d":"18,841"},{"v":39606,"d":"39,606"},{"v":14488,"d":"14,488"}]
[{"$nulls":5},1291,"CENTRO DE SALUD ALTO SELVA ALEGRE",28,{"v":27001,"d":"27,001"},256,255,250,292,367,372,424,440,434,413,372,384,395,391,361,381,401,391,369,410,{"v":2065,"d":"2,065"},{"v":2431,"d":"2,431"},{"v":2374,"d":"2,374"},{"v":1993,"d":"1,993"},{"v":1907,"d":"1,907"},{"v":1718,"d":"1,718"},{"v":1587,"d":"1,587"},{"v":1510,"d":"1,510"},{"v":1329,"d":"1,329"},953,687,454,301,333,9,122,134,344,{"v":13682,"d":"13,682"},921,946,{"v":6313,"d":"6,313"},677,null,null,{"v":27001,"d":"27,001"},{"v":4259,"d":"4,259"},{"v":2320,"d":"2,320"},{"v":5275,"d":"5,275"},{"v":11090,"d":"11,090"},{"v":4057,"d":"4,057"}]
[{"$nulls":5},1300,"APURIMAC",11,{"v":10607,"d":"10,607"},101,100,98,115,144,146,166,173,171,162,146,151,155,154,142,150,157,154,145,161,811,955,933,783,749,675,624,593,522,374,270,178,118,131,3,48,52,135,{"v":5375,"d":"5,375"},362,371,{"v":2480,"d":"2,480"},266,null,null,{"v":10607,"d":"10,607"},{"v":1673,"d":"1,673"},911,{"v":2073,"d":"2,073"},{"v":4357,"d":"4,357"},{"v":1594,"d":"1,594"}]
[{"$nulls":5},1302,"INDEPENDENCIA",33,{"v":31822,"d":"31,822"},301,300,296,343,434,439,499,518,511,488,438,452,465,459,425,450,472,460,435,484,{"v":2434,"d":"2,434"},{"v":2865,"d":"2,865"},{"v":2798,"d":"2,798"},{"v":2350,"d":"2,350"},{"v":2246,"d":"2,246"},{"v":2025,"d":"2,025"},{"v":1871,"d":"1,871"},{"v":1781,"d":"1,781"},{"v":1566,"d":"1,566"},{"v":1125,"d":"1,125"},810,535,355,391,10,145,158,406,{"v":16125,"d":"16,125"},{"v":1086,"d":"1,086"},{"v":1115,"d":"1,115"},{"v":7440,"d":"7,440"},797,null,null,{"v":31822,"d":"31,822"},{"v":5020,"d":"5,020"},{"v":2734,"d":"2,734"},{"v":6217,"d":"6,217"},{"v":13069,"d":"13,069"},{"v":4780,"d":"4,780"}]
[{"$nulls":5},1301,"LEONES DEL MISTI",9,{"v":8679,"d":"8,679"},82,82,80,94,118,120,136,141,140,133,120,123,127,126,116,123,129,126,119,132,664,781,763,641,613,552,510,485,427,306,221,146,97,107,3,39,43,111,{"v":4398,"d":"4,398"},296,304,{"v":2029,"d":"2,029"},218,null,null,{"v":8679,"d":"8,679"},{"v":1369,"d":"1,369"},746,{"v":1696,"d":"1,696"},{"v":3565,"d":"3,565"},{"v":1304,"d":"1,304"}]
[{"$nulls":5},1303,"SAN JUAN BAUTISTA",7,{"v":6750,"d":"6,750"},64,64,63,73,92,93,106,110,109,103,93,96,99,98,90,95,100,98,92,103,516,608,594,498,477,429,397,378,332,238,172,113,75,83,2,31,33,86,{"v":3421,"d":"3,421"},230,236,{"v":1578,"d":"1,578"},169,null,null,{"v":6750,"d":"6,750"},{"v":1065,"d":"1,065"},580,{"v":1319,"d":"1,319"},{"v":2772,"d":"2,772"},{"v":1014,"d":"1,014"}]
[{"$nulls":5},1304,"HEROES DEL CENEPA",12,{"v":11572,"d":"11,572"},110,109,107,125,157,159,182,189,186,177,159,165,169,168,155,163,172,168,158,176,885,{"v":1042,"d":"1,042"},{"v":1018,"d":"1,018"},854,817,736,680,647,570,408,295,194,129,143,4,52,57,147,{"v":5864,"d":"5,864"},395,405,{"v":2706,"d":"2,706"},290,null,null,{"v":11572,"d":"11,572"},{"v":1825,"d":"1,825"},994,{"v":2261,"d":"2,261"},{"v":4753,"d":"4,753"},{"v":1739,"d":"1,739"}]
["040103","AREQUIPA","AREQUIPA","AREQUIPA","CAYMA",{"$nulls":3},{"v":114695,"d":"114,695"},{"v":1104,"d":"1,104"},{"v":1180,"d":"1,180"},{"v":1385,"d":"1,385"},{"v":1271,"d":"1,271"},{"v":1454,"d":"1,454"},{"v":1676,"d":"1,676"},{"v":1999,"d":"1,999"},{"v":1959,"d":"1,959"},{"v":1934,"d":"1,934"},{"v":1824,"d":"1,824"},{"v":1719,"d":"1,719"},{"v":1687,"d":"1,687"},{"v":1800,"d":"1,800"},{"v":1646,"d":"1,646"},{"v":1480,"d":"1,480"},{"v":1801,"d":"1,801"},{"v":1618,"d":"1,618"},{"v":1704,"d":"1,704"},{"v":1724,"d":"1,724"},{"v":1686,"d":"1,686"},{"v":8563,"d":"8,563"},{"v":9779,"d":"9,779"},{"v":10331,"d":"10,331"},{"v":8933,"d":"8,933"},{"v":8223,"d":"8,223"},{"v":7371,"d":"7,371"},{"v":6458,"d":"6,458"},{"v":5869,"d":"5,869"},{"v":5050,"d":"5,050"},{"v":3924,"d":"3,924"},{"v":3038,"d":"3,038"},{"v":2094,"d":"2,094"},{"v":1172,"d":"1,172"},{"v":1239,"d":"1,239"},48,511,593,{"v":1703,"d":"1,703"},{"v":58434,"d":"58,434"},{"v":4110,"d":"4,110"},{"v":4154,"d":"4,154"},{"v":26975,"d":"26,975"},{"v":2619,"d":"2,619"},null,null,{"v":114695,"d":"114,695"},{"v":19192,"d":"19,192"},{"v":10049,"d":"10,049"},{"v":21752,"d":"21,752"},{"v":47185,"d":"47,185"},{"v":16517,"d":"16,517"}]
[{"$nulls":5},1234,"CENTRO DE SALUD FRANCISCO BOLOGNESI",16,{"v":18351,"d":"18,351"},177,189,222,203,233,268,320,313,309,292,275,270,288,263,237,288,259,273,276,270,{"v":1370,"d":"1,370"},{"v":1565,"d":"1,565"},{"v":1653,"d":"1,653"},{"v":1429,"d":"1,429"},{"v":1316,"d":"1,316"},{"v":1179,"d":"1,179"},{"v":1033,"d":"1,033"},939,808,628,486,335,188,198,8,82,95,272,{"v":9349,"d":"9,349"},658,665,{"v":4316,"d":"4,316"},419,null,null,{"v":18351,"d":"18,351"},{"v":3071,"d":"3,071"},{"v":1608,"d":"1,608"},{"v":3480,"d":"3,480"},{"v":7550,"d":"7,550"},{"v":2643,"d":"2,643"}]
[{"$nulls":5},1244,"PUESTO DE SALUD LA TOMILLA",8,{"v":9176,"d":"9,176"},88,94,111,102,116,134,160,157,155,146,138,135,144,132,118,144,129,136,138,135,685,782,826,715,658,590,517,470,404,314,243,168,94,99,4,41,47,136,{"v":4675,"d":"4,675"},329,332,{"v":2158,"d":"2,158"},210,null,null,{"v":9176,"d":"9,176"},{"v":1535,"d":"1,535"},804,{"v":1740,"d":"1,740"},{"v":3775,"d":"3,775"},{"v":1321,"d":"1,321"}]
[{"$nulls":5},1235,"BUENOS AIRES DE CAYMA",20,{"v":22939,"d":"22,939"},220,236,276,254,291,336,399,392,387,364,343,338,360,329,296,361,323,340,344,337,{"v":1713,"d":"1,713"},{"v":1955,"d":"1,955"},{"v":2066,"d":"2,066"},{"v":1786,"d":"1,786"},{"v":1644,"d":"1,644"},{"v":1474,"d":"1,474"},{"v":1291,"d":"1,291"},{"v":1174,"d":"1,174"},{"v":1009,"d":"1,009"},784,607,418,234,248,9,102,118,341,{"v":11687,"d":"11,687"},821,831,{"v":5395,"d":"5,395"},523,null,null,{"v":22939,"d":"22,939"},{"v":3839,"d":"3,839"},{"v":2010,"d":"2,010"},{"v":4351,"d":"4,351"},{"v":9436,"d":"9,436"},{"v":3303,"d":"3,303"}]
[{"$nulls":5},1245,"SAN JOSE",20,{"v":22939,"d":"22,939"},221,236,277,254,291,335,400,392,387,365,344,337,360,329,296,360,324,341,345,337,{"v":1713,"d":"1,713"},{"v":1956,"d":"1,956"},{"v":2066,"d":"2,066"},{"v":1787,"d":"1,787"},{"v":1645,"d":"1,645"},{"v":1474,"d":"1,474"},{"v":1292,"d":"1,292"},{"v":1174,"d":"1,174"},{"v":1010,"d":"1,010"},785,608,419,234,248,10,102,119,341,{"v":11687,"d":"11,687"},822,831,{"v":5395,"d":"5,395"},524,null,null,{"v":22939,"d":"22,939"},{"v":3838,"d":"3,838"},{"v":2010,"d":"2,010"},{"v":4350,"d":"4,350"},{"v":9437,"d":"9,437"},{"v":3303,"d":"3,303"}]
[{"$nulls":5},1246,"DEAN VALDIVIA",15,{"v":17204,"d":"17,204"},166,177,208,191,218,251,300,294,290,274,258,253,270,247,222,270,243,256,259,253,{"v":1284,"d":"1,284"},{"v":1467,"d":"1,467"},{"v":1550,"d":"1,550"},{"v":1340,"d":"1,340"},{"v":1233,"d":"1,233"},{"v":1106,"d":"1,106"},969,880,758,589,456,314,176,186,7,77,89,255,{"v":8765,"d":"8,765"},617,623,{"v":4046,"d":"4,046"},393,null,null,{"v":17204,"d":"17,204"},{"v":2879,"d":"2,879"},{"v":1507,"d":"1,507"},{"v":3263,"d":"3,263"},{"v":7078,"d":"7,078"},{"v":2478,"d":"2,478"}]
[{"$nulls":5},6890,"PUESTO DE SALUD RAFAEL BELAUNDE",21,{"v":24086,"d":"24,086"},232,248,291,267,305,352,420,411,406,383,361,354,378,346,311,378,340,358,362,354,{"v":1798,"d":"1,798"},{"v":2054,"d":"2,054"},{"v":2170,"d":"2,170"},{"v":1876,"d":"1,876"},{"v":1727,"d":"1,727"},{"v":1548,"d":"1,548"},{"v":1356,"d":"1,356"},{"v":1232,"d":"1,232"},{"v":1061,"d":"1,061"},824,638,440,246,260,10,107,125,358,{"v":12271,"d":"12,271"},863,872,{"v":5665,"d":"5,665"},550,null,null,{"v":24086,"d":"24,086"},{"v":4030,"d":"4,030"},{"v":2110,"d":"2,110"},{"v":4568,"d":"4,568"},{"v":9909,"d":"9,909"},{"v":3469,"d":"3,469"}]
["040104","AREQUIPA","AREQUIPA","AREQUIPA","CERRO COLORADO",{"$nulls":3},{"v":232673,"d":"232,673"},{"v":2527,"d":"2,527"},{"v":2250,"d":"2,250"},{"v":2304,"d":"2,304"},{"v":2701,"d":"2,701"},{"v":3134,"d":"3,134"},{"v":3382,"d":"3,382"},{"v":4467,"d":"4,467"},{"v":4593,"d":"4,593"},{"v":4529,"d":"4,529"},{"v":4327,"d":"4,327"},{"v":3913,"d":"3,913"},{"v":3730,"d":"3,730"},{"v":3894,"d":"3,894"},{"v":3610,"d":"3,610"},{"v":3300,"d":"3,300"},{"v":3864,"d":"3,864"},{"v":3718,"d":"3,718"},{"v":3841,"d":"3,841"},{"v":3788,"d":"3,788"},{"v":3925,"d":"3,925"},{"v":18886,"d":"18,886"},{"v":20452,"d":"20,452"},{"v":20366,"d":"20,366"},{"v":17960,"d":"17,960"},{"v":17655,"d":"17,655"},{"v":15321,"d":"15,321"},{"v":12524,"d":"12,524"},{"v":10626,"d":"10,626"},{"v":8050,"d":"8,050"},{"v":6366,"d":"6,366"},{"v":5238,"d":"5,238"},{"v":3353,"d":"3,353"},{"v":2113,"d":"2,113"},{"v":1966,"d":"1,966"},108,{"v":1273,"d":"1,273"},{"v":1254,"d":"1,254"},{"v":3550,"d":"3,550"},{"v":114090,"d":"114,090"},{"v":8801,"d":"8,801"},{"v":9066,"d":"9,066"},{"v":54673,"d":"54,673"},{"v":6600,"d":"6,600"},null,null,{"v":232673,"d":"232,673"},{"v":41857,"d":"41,857"},{"v":22227,"d":"22,227"},{"v":47051,"d":"47,051"},{"v":94452,"d":"94,452"},{"v":27086,"d":"27,086"}]
[{"$nulls":5},1236,"CERRO COLORADO",11,{"v":25594,"d":"25,594"},278,248,253,297,345,372,491,505,498,476,430,410,428,397,363,425,409,423,417,432,{"v":2077,"d":"2,077"},{"v":2250,"d":"2,250"},{"v":2240,"d":"2,240"},{"v":1976,"d":"1,976"},{"v":1942,"d":"1,942"},{"v":1685,"d":"1,685"},{"v":1378,"d":"1,378"},{"v":1169,"d":"1,169"},886,700,576,369,232,216,12,140,138,391,{"v":12550,"d":"12,550"},968,997,{"v":6014,"d":"6,014"},726,null,null,{"v":25594,"d":"25,594"},{"v":4604,"d":"4,604"},{"v":2445,"d":"2,445"},{"v":5176,"d":"5,176"},{"v":10390,"d":"10,390"},{"v":2979,"d":"2,979"}]
[{"$nulls":5},1248,"ALTO LIBERTAD",9,{"v":20941,"d":"20,941"},227,203,207,243,282,304,402,413,408,389,352,336,350,325,297,348,335,346,341,353,{"v":1700,"d":"1,700"},{"v":1841,"d":"1,841"},{"v":1833,"d":"1,833"},{"v":1616,"d":"1,616"},{"v":1589,"d":"1,589"},{"v":1379,"d":"1,379"},{"v":1127,"d":"1,127"},956,725,573,471,302,190,177,10,115,113,320,{"v":10268,"d":"10,268"},792,816,{"v":4921,"d":"4,921"},594,null,null,{"v":20941,"d":"20,941"},{"v":3767,"d":"3,767"},{"v":2000,"d":"2,000"},{"v":4235,"d":"4,235"},{"v":8501,"d":"8,501"},{"v":2438,"d":"2,438"}]
[{"$nulls":5},1238,"CENTRO DE SALUD MARISCAL CASTILLA",8,{"v":18614,"d":"18,614"},202,180,184,216,251,271,357,367,362,346,313,298,312,289,264,309,297,307,303,314,{"v":1511,"d":"1,511"},{"v":1636,"d":"1,636"},{"v":1629,"d":"1,629"},{"v":1437,"d":"1,437"},{"v":1412,"d":"1,412"},{"v":1226,"d":"1,226"},{"v":1002,"d":"1,002"},850,644,509,419,268,169,157,9,102,100,284,{"v":9127,"d":"9,127"},704,725,{"v":4374,"d":"4,374"},528,null,null,{"v":18614,"d":"18,614"},{"v":3349,"d":"3,349"},{"v":1778,"d":"1,778"},{"v":3764,"d":"3,764"},{"v":7556,"d":"7,556"},{"v":2167,"d":"2,167"}]
[{"$nulls":5},1249,"CENTRO DE SALUD SEMI RURAL PACHACUTEC",8,{"v":18614,"d":"18,614"},202,180,184,216,251,271,357,367,362,346,313,298,312,289,264,309,297,307,303,314,{"v":1511,"d":"1,511"},{"v":1636,"d":"1,636"},{"v":1629,"d":"1,629"},{"v":1437,"d":"1,437"},{"v":1412,"d":"1,412"},{"v":1226,"d":"1,226"},{"v":1002,"d":"1,002"},850,644,509,419,268,169,157,9,102,100,284,{"v":9127,"d":"9,127"},704,725,{"v":4374,"d":"4,374"},528,null,null,{"v":18614,"d":"18,614"},{"v":3349,"d":"3,349"},{"v":1778,"d":"1,778"},{"v":3764,"d":"3,764"},{"v":7556,"d":"7,556"},{"v":2167,"d":"2,167"}]
[{"$nulls":5},1250,"PUESTO DE SALUD JOSE SANTOS ATAHUALPA",3,{"v":6980,"d":"6,980"},76,68,69,81,94,101,134,138,136,130,117,112,117,108,99,116,112,115,114,118,567,614,611,539,530,460,376,319,242,191,157,101,63,59,3,38,38,107,{"v":3423,"d":"3,423"},264,272,{"v":1640,"d":"1,640"},198,null,null,{"v":6980,"d":"6,980"},{"v":1256,"d":"1,256"},667,{"v":1412,"d":"1,412"},{"v":2834,"d":"2,834"},813]
[{"$nulls":5},1252,"PUESTO DE SALUD EL CURAL",1,{"v":2327,"d":"2,327"},25,23,23,27,31,34,45,46,45,43,39,37,39,36,33,39,37,38,38,39,189,205,204,180,177,153,125,106,81,64,52,34,21,20,1,13,13,36,{"v":1141,"d":"1,141"},88,91,547,66,null,null,{"v":2327,"d":"2,327"},419,222,471,945,271]
[{"$nulls":5},1237,"MARITZA CAMPOS DIAZ - ZAMACOLA",13,{"v":30247,"d":"30,247"},329,293,300,351,407,440,581,597,589,563,509,485,506,469,429,502,483,499,492,510,{"v":2455,"d":"2,455"},{"v":2659,"d":"2,659"},{"v":2648,"d":"2,648"},{"v":2335,"d":"2,335"},{"v":2295,"d":"2,295"},{"v":1992,"d":"1,992"},{"v":1628,"d":"1,628"},{"v":1381,"d":"1,381"},{"v":1047,"d":"1,047"},828,681,436,275,256,14,165,163,462,{"v":14832,"d":"14,832"},{"v":1144,"d":"1,144"},{"v":1179,"d":"1,179"},{"v":7107,"d":"7,107"},858,null,null,{"v":30247,"d":"30,247"},{"v":5441,"d":"5,441"},{"v":2890,"d":"2,890"},{"v":6117,"d":"6,117"},{"v":12279,"d":"12,279"},{"v":3521,"d":"3,521"}]
[{"$nulls":5},1251,"PUESTO DE SALUD NAZARENO",17,{"v":39554,"d":"39,554"},430,383,392,459,533,575,759,781,770,736,665,634,662,614,561,657,632,653,644,667,{"v":3211,"d":"3,211"},{"v":3477,"d":"3,477"},{"v":3462,"d":"3,462"},{"v":3053,"d":"3,053"},{"v":3001,"d":"3,001"},{"v":2605,"d":"2,605"},{"v":2129,"d":"2,129"},{"v":1806,"d":"1,806"},{"v":1369,"d":"1,369"},{"v":1082,"d":"1,082"},890,570,359,334,18,216,213,604,{"v":19395,"d":"19,395"},{"v":1496,"d":"1,496"},{"v":1541,"d":"1,541"},{"v":9294,"d":"9,294"},{"v":1122,"d":"1,122"},null,null,{"v":39554,"d":"39,554"},{"v":7116,"d":"7,116"},{"v":3779,"d":"3,779"},{"v":7999,"d":"7,999"},{"v":16057,"d":"16,057"},{"v":4605,"d":"4,605"}]
[{"$nulls":5},1247,"PUESTO DE SALUD CIUDAD MUNICIPAL",19,{"v":44208,"d":"44,208"},480,424,439,514,595,642,850,874,861,822,745,710,740,686,627,734,707,730,719,746,{"v":3588,"d":"3,588"},{"v":3884,"d":"3,884"},{"v":3870,"d":"3,870"},{"v":3411,"d":"3,411"},{"v":3355,"d":"3,355"},{"v":2910,"d":"2,910"},{"v":2379,"d":"2,379"},{"v":2020,"d":"2,020"},{"v":1526,"d":"1,526"},{"v":1210,"d":"1,210"},997,636,403,374,20,242,238,671,{"v":21677,"d":"21,677"},{"v":1673,"d":"1,673"},{"v":1723,"d":"1,723"},{"v":10388,"d":"10,388"},{"v":1254,"d":"1,254"},null,null,{"v":44208,"d":"44,208"},{"v":7952,"d":"7,952"},{"v":4223,"d":"4,223"},{"v":8937,"d":"8,937"},{"v":17944,"d":"17,944"},{"v":5146,"d":"5,146"}]
[{"$nulls":5},11023,"PUESTO DE SALUD PERUARBO",11,{"v":25594,"d":"25,594"},278,248,253,297,345,372,491,505,498,476,430,410,428,397,363,425,409,423,417,432,{"v":2077,"d":"2,077"},{"v":2250,"d":"2,250"},{"v":2240,"d":"2,240"},{"v":1976,"d":"1,976"},{"v":1942,"d":"1,942"},{"v":1685,"d":"1,685"},{"v":1378,"d":"1,378"},{"v":1169,"d":"1,169"},886,700,576,369,232,216,12,140,138,391,{"v":12550,"d":"12,550"},968,997,{"v":6014,"d":"6,014"},726,null,null,{"v":25594,"d":"25,594"},{"v":4604,"d":"4,604"},{"v":2445,"d":"2,445"},{"v":5176,"d":"5,176"},{"v":10390,"d":"10,390"},{"v":2979,"d":"2,979"}]
["040105","AREQUIPA","AREQUIPA","AREQUIPA","CHARACATO",{"$nulls":3},{"v":19480,"d":"19,480"},161,139,194,165,194,214,380,338,279,282,294,270,309,266,283,291,298,265,294,363,{"v":1475,"d":"1,475"},{"v":1502,"d":"1,502"},{"v":1528,"d":"1,528"},{"v":1501,"d":"1,501"},{"v":1574,"d":"1,574"},{"v":1429,"d":"1,429"},{"v":1164,"d":"1,164"},{"v":1044,"d":"1,044"},833,708,557,413,259,214,3,79,82,218,{"v":9806,"d":"9,806"},696,740,{"v":4571,"d":"4,571"},371,null,null,{"v":19480,"d":"19,480"},{"v":2910,"d":"2,910"},{"v":1712,"d":"1,712"},{"v":3634,"d":"3,634"},{"v":8240,"d":"8,240"},{"v":2984,"d":"2,984"}]
[{"$nulls":5},1261,"CENTRO DE SALUD DE CHARACATO",100,{"v":19480,"d":"19,480"},161,139,194,165,194,214,380,338,279,282,294,270,309,266,283,291,298,265,294,363,{"v":1475,"d":"1,475"},{"v":1502,"d":"1,502"},{"v":1528,"d":"1,528"},{"v":1501,"d":"1,501"},{"v":1574,"d":"1,574"},{"v":1429,"d":"1,429"},{"v":1164,"d":"1,164"},{"v":1044,"d":"1,044"},833,708,557,413,259,214,3,79,82,218,{"v":9806,"d":"9,806"},696,740,{"v":4571,"d":"4,571"},371,null,null,{"v":19480,"d":"19,480"},{"v":2910,"d":"2,910"},{"v":1712,"d":"1,712"},{"v":3634,"d":"3,634"},{"v":8240,"d":"8,240"},{"v":2984,"d":"2,984"}]
["040106","AREQUIPA","AREQUIPA","AREQUIPA","CHIGUATA",{"$nulls":3},{"v":3633,"d":"3,633"},49,43,53,54,70,56,48,57,53,48,39,59,30,30,50,52,28,45,46,43,240,270,307,267,249,231,223,205,164,164,142,88,63,67,4,22,27,86,{"v":1910,"d":"1,910"},105,110,854,182,null,null,{"v":3633,"d":"3,633"},629,235,599,{"v":1482,"d":"1,482"},688]
[{"$nulls":5},1299,"CENTRO DE SALUD CHIGUATA",80,{"v":2906,"d":"2,906"},39,34,42,43,56,45,38,46,42,38,31,47,24,24,40,42,22,36,37,34,192,216,246,214,199,185,178,164,131,131,114,70,50,54,3,18,22,69,{"v":1528,"d":"1,528"},84,88,683,146,null,null,{"v":2906,"d":"2,906"},503,188,479,{"v":1186,"d":"1,186"},550]
[{"$nulls":5},1320,"PUESTO DE SALUD ARENALES",20,727,10,9,11,11,14,11,10,11,11,10,8,12,6,6,10,10,6,9,9,9,48,54,61,53,50,46,45,41,33,33,28,18,13,13,1,4,5,17,382,21,22,171,36,null,null,727,126,47,120,296,138]
["040107","AREQUIPA","AREQUIPA","AREQUIPA","JACOBO HUNTER",{"$nulls":3},{"v":57137,"d":"57,137"},498,509,582,599,707,756,986,954,935,917,821,835,847,875,667,842,878,885,801,807,{"v":4225,"d":"4,225"},{"v":4698,"d":"4,698"},{"v":4542,"d":"4,542"},{"v":4346,"d":"4,346"},{"v":4338,"d":"4,338"},{"v":4005,"d":"4,005"},{"v":3480,"d":"3,480"},{"v":3103,"d":"3,103"},{"v":2509,"d":"2,509"},{"v":2054,"d":"2,054"},{"v":1599,"d":"1,599"},{"v":1161,"d":"1,161"},687,689,26,260,238,742,{"v":29155,"d":"29,155"},{"v":2021,"d":"2,021"},{"v":2140,"d":"2,140"},{"v":13178,"d":"13,178"},{"v":1416,"d":"1,416"},null,null,{"v":57137,"d":"57,137"},{"v":9099,"d":"9,099"},{"v":4994,"d":"4,994"},{"v":10531,"d":"10,531"},{"v":23814,"d":"23,814"},{"v":8699,"d":"8,699"}]
[{"$nulls":5},1259,"CENTRO DE SALUD JAVIER LLOSA GARCIA -  HUNTER",33,{"v":18855,"d":"18,855"},163,168,193,197,232,250,324,315,308,301,271,275,279,288,220,278,290,290,265,265,{"v":1394,"d":"1,394"},{"v":1549,"d":"1,549"},{"v":1499,"d":"1,499"},{"v":1434,"d":"1,434"},{"v":1432,"d":"1,432"},{"v":1322,"d":"1,322"},{"v":1149,"d":"1,149"},{"v":1026,"d":"1,026"},828,678,527,384,226,228,9,86,79,245,{"v":9621,"d":"9,621"},667,706,{"v":4349,"d":"4,349"},468,null,null,{"v":18855,"d":"18,855"},{"v":3002,"d":"3,002"},{"v":1649,"d":"1,649"},{"v":3475,"d":"3,475"},{"v":7860,"d":"7,860"},{"v":2870,"d":"2,870"}]
[{"$nulls":5},1273,"PUESTO DE SALUD DANIEL ALCIDES CARRION",15,{"v":8571,"d":"8,571"},75,76,87,90,106,113,148,143,140,138,123,125,127,131,100,126,132,133,120,121,634,705,681,652,651,601,522,465,376,308,240,174,103,103,4,39,36,111,{"v":4373,"d":"4,373"},303,321,{"v":1977,"d":"1,977"},212,null,null,{"v":8571,"d":"8,571"},{"v":1365,"d":"1,365"},749,{"v":1580,"d":"1,580"},{"v":3572,"d":"3,572"},{"v":1305,"d":"1,305"}]
[{"$nulls":5},1274,"PUESTO DE SALUD PAMPAS DEL CUZCO",16,{"v":9142,"d":"9,142"},80,81,93,96,113,121,158,153,150,147,131,134,136,140,107,135,140,142,128,129,676,752,727,695,694,641,557,496,401,329,256,186,110,110,4,42,38,119,{"v":4665,"d":"4,665"},323,342,{"v":2108,"d":"2,108"},227,null,null,{"v":9142,"d":"9,142"},{"v":1456,"d":"1,456"},799,{"v":1685,"d":"1,685"},{"v":3810,"d":"3,810"},{"v":1392,"d":"1,392"}]
[{"$nulls":5},1275,"PUESTO DE SALUD CHILPINILLA",9,{"v":5142,"d":"5,142"},45,46,52,54,64,68,89,86,84,83,74,75,76,79,60,76,79,80,72,73,380,423,409,391,390,360,313,279,226,185,144,104,62,62,2,23,21,67,{"v":2624,"d":"2,624"},182,193,{"v":1186,"d":"1,186"},127,null,null,{"v":5142,"d":"5,142"},819,449,948,{"v":2143,"d":"2,143"},783]
[{"$nulls":5},1276,"CENTRO DE SALUD CAMINOS DEL INCA",10,{"v":5714,"d":"5,714"},50,51,58,60,71,76,99,95,94,92,82,84,85,88,67,84,88,89,80,81,423,470,454,435,434,401,348,310,251,205,160,116,69,69,3,26,24,74,{"v":2916,"d":"2,916"},202,214,{"v":1318,"d":"1,318"},142,null,null,{"v":5714,"d":"5,714"},910,499,{"v":1053,"d":"1,053"},{"v":2381,"d":"2,381"},870]
[{"$nulls":5},1277,"ALTO ALIANZA",8,{"v":4571,"d":"4,571"},40,41,47,48,57,60,79,76,75,73,66,67,68,70,53,67,70,71,64,65,338,376,363,348,347,320,278,248,201,164,128,93,55,55,2,21,19,59,{"v":2332,"d":"2,332"},162,171,{"v":1054,"d":"1,054"},113,null,null,{"v":4571,"d":"4,571"},728,400,842,{"v":1905,"d":"1,905"},696]
[{"$nulls":5},1279,"PUESTO DE SALUD UPIS PAISAJISTA",9,{"v":5142,"d":"5,142"},45,46,52,54,64,68,89,86,84,83,74,75,76,79,60,76,79,80,72,73,380,423,409,391,390,360,313,279,226,185,144,104,62,62,2,23,21,67,{"v":2624,"d":"2,624"},182,193,{"v":1186,"d":"1,186"},127,null,null,{"v":5142,"d":"5,142"},819,449,948,{"v":2143,"d":"2,143"},783]
["040108","AREQUIPA","AREQUIPA","AREQUIPA","LA JOYA",{"$nulls":3},{"v":44201,"d":"44,201"},491,516,607,597,650,595,689,626,793,825,701,699,771,672,708,778,810,797,826,805,{"v":3652,"d":"3,652"},{"v":4011,"d":"4,011"},{"v":3597,"d":"3,597"},{"v":3351,"d":"3,351"},{"v":2976,"d":"2,976"},{"v":2852,"d":"2,852"},{"v":2265,"d":"2,265"},{"v":2060,"d":"2,060"},{"v":1674,"d":"1,674"},{"v":1364,"d":"1,364"},934,693,432,384,24,234,257,803,{"v":22646,"d":"22,646"},{"v":1865,"d":"1,865"},{"v":2060,"d":"2,060"},{"v":10601,"d":"10,601"},{"v":1130,"d":"1,130"},null,null,{"v":44201,"d":"44,201"},{"v":7789,"d":"7,789"},{"v":4536,"d":"4,536"},{"v":9294,"d":"9,294"},{"v":17101,"d":"17,101"},{"v":5481,"d":"5,481"}]
[{"$nulls":5},1322,"LA JOYA",20,{"v":8840,"d":"8,840"},98,103,121,119,130,119,138,125,159,165,140,140,154,134,142,156,162,159,165,161,730,802,719,670,595,570,453,412,335,273,187,139,86,77,5,47,51,161,{"v":4529,"d":"4,529"},373,412,{"v":2120,"d":"2,120"},226,null,null,{"v":8840,"d":"8,840"},{"v":1558,"d":"1,558"},907,{"v":1859,"d":"1,859"},{"v":3420,"d":"3,420"},{"v":1096,"d":"1,096"}]
[{"$nulls":5},1327,"PUESTO DE SALUD CERRITO BUENA VISTA",14,{"v":6188,"d":"6,188"},69,72,85,84,91,83,96,88,111,116,98,98,108,94,99,109,113,112,116,113,511,562,504,469,417,399,317,288,234,191,131,97,60,54,3,33,36,112,{"v":3170,"d":"3,170"},261,288,{"v":1484,"d":"1,484"},158,null,null,{"v":6188,"d":"6,188"},{"v":1090,"d":"1,090"},635,{"v":1301,"d":"1,301"},{"v":2394,"d":"2,394"},767]
[{"$nulls":5},1330,"EL CRUCE - TRIUNFO",27,{"v":11935,"d":"11,935"},132,140,166,160,173,160,187,169,212,222,190,188,208,182,192,210,218,214,223,218,985,{"v":1082,"d":"1,082"},970,903,803,769,612,556,452,369,252,185,117,103,7,63,70,218,{"v":6116,"d":"6,116"},504,556,{"v":2863,"d":"2,863"},304,null,null,{"v":11935,"d":"11,935"},{"v":2104,"d":"2,104"},{"v":1224,"d":"1,224"},{"v":2508,"d":"2,508"},{"v":4618,"d":"4,618"},{"v":1480,"d":"1,480"}]
[{"$nulls":5},1328,"LOS MEDANOS",5,{"v":2210,"d":"2,210"},25,26,30,30,33,30,34,31,40,41,35,35,39,34,35,39,41,40,41,40,183,201,180,168,149,143,113,103,84,68,47,35,22,19,1,12,13,40,{"v":1132,"d":"1,132"},93,103,530,57,null,null,{"v":2210,"d":"2,210"},389,227,465,855,274]
[{"$nulls":5},1329,"BENITO LAZO",5,{"v":2210,"d":"2,210"},25,26,30,30,33,30,34,31,40,41,35,35,39,34,35,39,41,40,41,40,183,201,180,168,149,143,113,103,84,68,47,35,22,19,1,12,13,40,{"v":1132,"d":"1,132"},93,103,530,57,null,null,{"v":2210,"d":"2,210"},389,227,465,855,274]
[{"$nulls":5},1323,"SAN ISIDRO",13,{"v":5746,"d":"5,746"},64,67,79,78,85,77,90,81,103,107,91,91,100,87,92,101,105,104,107,105,475,521,468,436,387,371,294,268,218,177,121,90,56,50,3,30,33,104,{"v":2944,"d":"2,944"},242,268,{"v":1378,"d":"1,378"},147,null,null,{"v":5746,"d":"5,746"},{"v":1013,"d":"1,013"},590,{"v":1208,"d":"1,208"},{"v":2223,"d":"2,223"},713]
[{"$nulls":5},1333,"SAN JOSE",3,{"v":1326,"d":"1,326"},15,15,18,18,20,18,21,19,24,25,21,21,23,20,21,23,24,24,25,24,110,120,108,101,89,86,68,62,50,41,28,21,13,12,1,7,8,24,679,56,62,318,34,null,null,{"v":1326,"d":"1,326"},234,136,279,513,164]
[{"$nulls":5},1332,"PUESTO DE SALUD SAN CAMILO 6",6,{"v":2652,"d":"2,652"},29,31,36,36,39,36,41,38,48,50,42,42,46,40,42,47,49,48,50,48,219,241,216,201,179,171,136,124,100,82,56,42,26,23,1,14,15,48,{"v":1359,"d":"1,359"},112,124,636,68,null,null,{"v":2652,"d":"2,652"},467,272,558,{"v":1026,"d":"1,026"},329]
[{"$nulls":5},1331,"LA CANO",7,{"v":3094,"d":"3,094"},34,36,42,42,46,42,48,44,56,58,49,49,54,47,50,54,57,56,58,56,256,281,252,235,208,200,159,144,117,95,65,49,30,27,2,16,18,56,{"v":1585,"d":"1,585"},131,144,742,79,null,null,{"v":3094,"d":"3,094"},545,318,651,{"v":1197,"d":"1,197"},384]
["040109","AREQUIPA","AREQUIPA","AREQUIPA","MARIANO MELGAR",{"$nulls":3},{"v":71941,"d":"71,941"},727,724,724,759,863,883,{"v":1092,"d":"1,092"},{"v":1064,"d":"1,064"},{"v":1114,"d":"1,114"},{"v":1081,"d":"1,081"},963,944,{"v":1036,"d":"1,036"},{"v":1002,"d":"1,002"},956,{"v":1072,"d":"1,072"},{"v":1085,"d":"1,085"},{"v":1009,"d":"1,009"},{"v":1029,"d":"1,029"},{"v":1084,"d":"1,084"},{"v":5179,"d":"5,179"},{"v":5837,"d":"5,837"},{"v":5855,"d":"5,855"},{"v":5043,"d":"5,043"},{"v":5155,"d":"5,155"},{"v":4964,"d":"4,964"},{"v":4513,"d":"4,513"},{"v":4134,"d":"4,134"},{"v":3540,"d":"3,540"},{"v":2770,"d":"2,770"},{"v":2229,"d":"2,229"},{"v":1489,"d":"1,489"},977,{"v":1045,"d":"1,045"},36,379,348,{"v":1053,"d":"1,053"},{"v":36533,"d":"36,533"},{"v":2446,"d":"2,446"},{"v":2630,"d":"2,630"},{"v":16159,"d":"16,159"},{"v":1732,"d":"1,732"},null,null,{"v":71941,"d":"71,941"},{"v":10938,"d":"10,938"},{"v":6160,"d":"6,160"},{"v":13129,"d":"13,129"},{"v":29664,"d":"29,664"},{"v":12050,"d":"12,050"}]
[{"$nulls":5},1294,"CENTRO DE SALUD MARIANO MELGAR",30,{"v":21583,"d":"21,583"},217,218,219,227,256,264,329,319,332,323,290,282,311,302,288,322,325,302,309,326,{"v":1553,"d":"1,553"},{"v":1750,"d":"1,750"},{"v":1756,"d":"1,756"},{"v":1511,"d":"1,511"},{"v":1546,"d":"1,546"},{"v":1488,"d":"1,488"},{"v":1354,"d":"1,354"},{"v":1240,"d":"1,240"},{"v":1062,"d":"1,062"},832,669,445,293,313,12,114,105,317,{"v":10962,"d":"10,962"},734,789,{"v":4849,"d":"4,849"},519,null,null,{"v":21583,"d":"21,583"},{"v":3282,"d":"3,282"},{"v":1847,"d":"1,847"},{"v":3938,"d":"3,938"},{"v":8900,"d":"8,900"},{"v":3615,"d":"3,615"}]
[{"$nulls":5},1308,"PUESTO DE SALUD ATALAYA",20,{"v":14388,"d":"14,388"},147,144,143,152,175,177,218,213,225,218,191,190,207,200,190,215,217,202,205,216,{"v":1036,"d":"1,036"},{"v":1169,"d":"1,169"},{"v":1171,"d":"1,171"},{"v":1010,"d":"1,010"},{"v":1031,"d":"1,031"},994,902,827,708,553,445,299,196,209,6,75,68,209,{"v":7304,"d":"7,304"},489,526,{"v":3230,"d":"3,230"},348,null,null,{"v":14388,"d":"14,388"},{"v":2186,"d":"2,186"},{"v":1233,"d":"1,233"},{"v":2626,"d":"2,626"},{"v":5932,"d":"5,932"},{"v":2410,"d":"2,410"}]
[{"$nulls":5},1295,"CENTRO DE SALUD GENERALISIMO SAN MARTIN",20,{"v":14388,"d":"14,388"},145,145,145,152,173,177,218,213,223,216,193,189,207,200,191,214,217,202,206,217,{"v":1036,"d":"1,036"},{"v":1167,"d":"1,167"},{"v":1171,"d":"1,171"},{"v":1009,"d":"1,009"},{"v":1031,"d":"1,031"},993,903,827,708,554,446,298,195,209,7,76,70,211,{"v":7307,"d":"7,307"},489,526,{"v":3232,"d":"3,232"},346,null,null,{"v":14388,"d":"14,388"},{"v":2188,"d":"2,188"},{"v":1232,"d":"1,232"},{"v":2626,"d":"2,626"},{"v":5933,"d":"5,933"},{"v":2410,"d":"2,410"}]
[{"$nulls":5},1309,"JERUSALEN",20,{"v":14388,"d":"14,388"},145,145,145,152,173,177,218,213,223,216,193,189,207,200,191,214,217,202,206,217,{"v":1036,"d":"1,036"},{"v":1167,"d":"1,167"},{"v":1171,"d":"1,171"},{"v":1009,"d":"1,009"},{"v":1031,"d":"1,031"},993,903,827,708,554,446,298,195,209,7,76,70,211,{"v":7307,"d":"7,307"},489,526,{"v":3232,"d":"3,232"},346,null,null,{"v":14388,"d":"14,388"},{"v":2188,"d":"2,188"},{"v":1232,"d":"1,232"},{"v":2626,"d":"2,626"},{"v":5933,"d":"5,933"},{"v":2410,"d":"2,410"}]
[{"$nulls":5},7743,"PUESTO DE SALUD SANTA ROSA",0,0,0,0,0,0,0,0,0,0,0,0,0,0,0,0,0,0,0,0,0,0,0,0,0,0,0,0,0,0,0,0,0,0,0,0,0,0,0,0,0,0,0,0,0,null,null,0,0,0,0,0,0]
[{"$nulls":5},7722,"EL MIRADOR",10,{"v":7194,"d":"7,194"},73,72,72,76,86,88,109,106,111,108,96,94,104,100,96,107,109,101,103,108,518,584,586,504,516,496,451,413,354,277,223,149,98,105,4,38,35,105,{"v":3653,"d":"3,653"},245,263,{"v":1616,"d":"1,616"},173,null,null,{"v":7194,"d":"7,194"},{"v":1094,"d":"1,094"},616,{"v":1313,"d":"1,313"},{"v":2966,"d":"2,966"},{"v":1205,"d":"1,205"}]
["040110","AREQUIPA","AREQUIPA","AREQUIPA","MIRAFLORES",{"$nulls":3},{"v":70842,"d":"70,842"},603,643,727,702,821,922,{"v":1020,"d":"1,020"},{"v":1058,"d":"1,058"},{"v":1122,"d":"1,122"},987,{"v":1020,"d":"1,020"},923,925,905,835,923,992,947,972,{"v":1047,"d":"1,047"},{"v":5196,"d":"5,196"},{"v":5784,"d":"5,784"},{"v":5752,"d":"5,752"},{"v":5057,"d":"5,057"},{"v":5308,"d":"5,308"},{"v":5077,"d":"5,077"},{"v":4591,"d":"4,591"},{"v":4074,"d":"4,074"},{"v":3513,"d":"3,513"},{"v":2675,"d":"2,675"},{"v":2146,"d":"2,146"},{"v":1501,"d":"1,501"},983,{"v":1091,"d":"1,091"},29,295,308,984,{"v":36211,"d":"36,211"},{"v":2353,"d":"2,353"},{"v":2503,"d":"2,503"},{"v":16332,"d":"16,332"},{"v":1739,"d":"1,739"},null,null,{"v":70842,"d":"70,842"},{"v":10548,"d":"10,548"},{"v":5527,"d":"5,527"},{"v":12999,"d":"12,999"},{"v":29859,"d":"29,859"},{"v":11909,"d":"11,909"}]
[{"$nulls":5},1293,"CENTRO DE SALUD MIRAFLORES",34,{"v":24086,"d":"24,086"},205,219,247,239,279,313,347,360,381,336,347,314,315,308,284,314,337,322,330,356,{"v":1767,"d":"1,767"},{"v":1967,"d":"1,967"},{"v":1956,"d":"1,956"},{"v":1719,"d":"1,719"},{"v":1805,"d":"1,805"},{"v":1726,"d":"1,726"},{"v":1561,"d":"1,561"},{"v":1385,"d":"1,385"},{"v":1194,"d":"1,194"},910,730,510,334,371,10,100,105,335,{"v":12312,"d":"12,312"},800,851,{"v":5553,"d":"5,553"},591,null,null,{"v":24086,"d":"24,086"},{"v":3586,"d":"3,586"},{"v":1879,"d":"1,879"},{"v":4420,"d":"4,420"},{"v":10152,"d":"10,152"},{"v":4049,"d":"4,049"}]
[{"$nulls":5},1292,"CENTRO DE SALUD EDIFICADORES MISTI",40,{"v":28338,"d":"28,338"},242,258,291,281,328,369,407,422,449,394,407,369,369,362,333,369,398,378,389,418,{"v":2077,"d":"2,077"},{"v":2313,"d":"2,313"},{"v":2301,"d":"2,301"},{"v":2022,"d":"2,022"},{"v":2122,"d":"2,122"},{"v":2031,"d":"2,031"},{"v":1837,"d":"1,837"},{"v":1630,"d":"1,630"},{"v":1406,"d":"1,406"},{"v":1069,"d":"1,069"},857,601,393,437,12,117,122,393,{"v":14484,"d":"14,484"},942,{"v":1002,"d":"1,002"},{"v":6532,"d":"6,532"},696,null,null,{"v":28338,"d":"28,338"},{"v":4219,"d":"4,219"},{"v":2211,"d":"2,211"},{"v":5199,"d":"5,199"},{"v":11943,"d":"11,943"},{"v":4763,"d":"4,763"}]
[{"$nulls":5},1306,"CENTRO DE SALUD PORVENIR-MIRAFLORES",10,{"v":7084,"d":"7,084"},60,64,73,70,82,92,102,106,112,99,102,92,93,91,84,92,99,95,97,105,520,578,575,506,531,508,459,407,351,268,215,150,98,109,3,30,31,98,{"v":3621,"d":"3,621"},235,250,{"v":1633,"d":"1,633"},174,null,null,{"v":7084,"d":"7,084"},{"v":1055,"d":"1,055"},553,{"v":1300,"d":"1,300"},{"v":2986,"d":"2,986"},{"v":1191,"d":"1,191"}]
[{"$nulls":5},1307,"CENTRO DE SALUD MATEO PUMACAHUA",8,{"v":5667,"d":"5,667"},48,51,58,56,66,74,82,85,90,79,82,74,74,72,67,74,79,76,78,84,416,463,460,405,425,406,367,326,281,214,172,120,79,87,2,24,25,79,{"v":2897,"d":"2,897"},188,200,{"v":1307,"d":"1,307"},139,null,null,{"v":5667,"d":"5,667"},844,442,{"v":1040,"d":"1,040"},{"v":2389,"d":"2,389"},953]
[{"$nulls":5},1305,"PUESTO DE SALUD TOMASA T. COMDEMAYTA",8,{"v":5667,"d":"5,667"},48,51,58,56,66,74,82,85,90,79,82,74,74,72,67,74,79,76,78,84,416,463,460,405,425,406,367,326,281,214,172,120,79,87,2,24,25,79,{"v":2897,"d":"2,897"},188,200,{"v":1307,"d":"1,307"},139,null,null,{"v":5667,"d":"5,667"},844,442,{"v":1040,"d":"1,040"},{"v":2389,"d":"2,389"},953]
["040111","AREQUIPA","AREQUIPA","AREQUIPA","MOLLEBAYA",{"$nulls":3},{"v":8627,"d":"8,627"},67,56,83,62,70,67,116,179,164,135,94,115,111,131,119,135,134,121,138,92,513,719,901,779,718,681,420,438,399,295,245,165,82,83,2,31,36,99,{"v":4339,"d":"4,339"},287,303,{"v":2241,"d":"2,241"},175,null,null,{"v":8627,"d":"8,627"},{"v":1208,"d":"1,208"},751,{"v":1462,"d":"1,462"},{"v":3937,"d":"3,937"},{"v":1269,"d":"1,269"}]
[{"$nulls":5},1285,"PUESTO DE SALUD MOLLEBAYA",30,{"v":2588,"d":"2,588"},20,17,25,19,21,20,35,54,49,41,28,35,33,39,36,41,40,36,41,28,154,216,270,234,215,204,126,131,120,89,74,50,25,25,1,9,11,30,{"v":1302,"d":"1,302"},86,91,672,53,null,null,{"v":2588,"d":"2,588"},362,225,439,{"v":1181,"d":"1,181"},381]
[{"$nulls":5},11677,"PUESTO DE SALUD MACHAHUAYA",70,{"v":6039,"d":"6,039"},47,39,58,43,49,47,81,125,115,94,66,80,78,92,83,94,94,85,97,64,359,503,631,545,503,477,294,307,279,206,171,115,57,58,1,22,25,69,{"v":3037,"d":"3,037"},201,212,{"v":1569,"d":"1,569"},122,null,null,{"v":6039,"d":"6,039"},846,526,{"v":1023,"d":"1,023"},{"v":2756,"d":"2,756"},888]
["040112","AREQUIPA","AREQUIPA","AREQUIPA","PAUCARPATA",{"$nulls":3},{"v":142855,"d":"142,855"},{"v":1505,"d":"1,505"},{"v":1642,"d":"1,642"},{"v":1699,"d":"1,699"},{"v":1610,"d":"1,610"},{"v":1779,"d":"1,779"},{"v":2123,"d":"2,123"},{"v":2294,"d":"2,294"},{"v":2369,"d":"2,369"},{"v":2302,"d":"2,302"},{"v":2190,"d":"2,190"},{"v":2127,"d":"2,127"},{"v":2111,"d":"2,111"},{"v":2121,"d":"2,121"},{"v":2031,"d":"2,031"},{"v":1996,"d":"1,996"},{"v":2231,"d":"2,231"},{"v":2264,"d":"2,264"},{"v":2159,"d":"2,159"},{"v":2150,"d":"2,150"},{"v":2150,"d":"2,150"},{"v":10384,"d":"10,384"},{"v":11335,"d":"11,335"},{"v":11184,"d":"11,184"},{"v":10225,"d":"10,225"},{"v":10689,"d":"10,689"},{"v":10163,"d":"10,163"},{"v":8913,"d":"8,913"},{"v":7370,"d":"7,370"},{"v":5822,"d":"5,822"},{"v":4848,"d":"4,848"},{"v":4130,"d":"4,130"},{"v":3183,"d":"3,183"},{"v":1957,"d":"1,957"},{"v":1799,"d":"1,799"},65,699,806,{"v":2084,"d":"2,084"},{"v":73204,"d":"73,204"},{"v":5225,"d":"5,225"},{"v":5561,"d":"5,561"},{"v":32524,"d":"32,524"},{"v":3575,"d":"3,575"},null,null,{"v":142855,"d":"142,855"},{"v":23751,"d":"23,751"},{"v":12802,"d":"12,802"},{"v":26019,"d":"26,019"},{"v":58544,"d":"58,544"},{"v":21739,"d":"21,739"}]
[{"$nulls":5},1298,"CENTRO DE SALUD 15 DE AGOSTO",11,{"v":15715,"d":"15,715"},167,182,187,175,196,233,250,258,254,243,233,232,233,226,216,248,250,236,236,236,{"v":1142,"d":"1,142"},{"v":1247,"d":"1,247"},{"v":1230,"d":"1,230"},{"v":1123,"d":"1,123"},{"v":1176,"d":"1,176"},{"v":1119,"d":"1,119"},981,809,639,532,456,349,213,197,5,77,92,229,{"v":8056,"d":"8,056"},573,612,{"v":3578,"d":"3,578"},392,null,null,{"v":15715,"d":"15,715"},{"v":2613,"d":"2,613"},{"v":1410,"d":"1,410"},{"v":2861,"d":"2,861"},{"v":6438,"d":"6,438"},{"v":2391,"d":"2,391"}]
[{"$nulls":5},1316,"PUESTO DE SALUD MIGUEL GRAU  MODULO A",8,{"v":11428,"d":"11,428"},120,131,136,129,142,170,184,190,184,175,170,169,170,162,160,178,181,173,172,172,831,907,895,818,855,813,713,590,466,388,330,255,157,144,5,56,64,167,{"v":5856,"d":"5,856"},418,445,{"v":2602,"d":"2,602"},286,null,null,{"v":11428,"d":"11,428"},{"v":1900,"d":"1,900"},{"v":1024,"d":"1,024"},{"v":2082,"d":"2,082"},{"v":4684,"d":"4,684"},{"v":1739,"d":"1,739"}]
[{"$nulls":5},1317,"CENTRO DE SALUD MIGUEL GRAU  B",7,{"v":10000,"d":"10,000"},105,115,119,113,125,149,161,166,161,153,149,148,148,142,140,156,158,151,151,151,727,793,783,716,748,711,624,516,408,339,289,223,137,126,5,49,56,146,{"v":5124,"d":"5,124"},366,389,{"v":2277,"d":"2,277"},250,null,null,{"v":10000,"d":"10,000"},{"v":1663,"d":"1,663"},896,{"v":1821,"d":"1,821"},{"v":4098,"d":"4,098"},{"v":1522,"d":"1,522"}]
[{"$nulls":5},1318,"PUESTO DE SALUD MIGUEL GRAU  MODULO C-D",7.5,{"v":10714,"d":"10,714"},113,123,127,121,133,159,172,178,173,164,160,158,159,152,150,167,170,162,161,161,779,850,839,767,802,762,668,553,437,364,310,239,147,135,5,52,60,156,{"v":5490,"d":"5,490"},392,417,{"v":2439,"d":"2,439"},268,null,null,{"v":10714,"d":"10,714"},{"v":1781,"d":"1,781"},960,{"v":1951,"d":"1,951"},{"v":4391,"d":"4,391"},{"v":1630,"d":"1,630"}]
[{"$nulls":5},1296,"CENTRO DE SALUD  AMPLIACIÓN PAUCARPATA",10,{"v":14286,"d":"14,286"},151,164,170,161,178,212,229,237,230,219,213,211,212,203,200,223,226,216,215,215,{"v":1038,"d":"1,038"},{"v":1134,"d":"1,134"},{"v":1118,"d":"1,118"},{"v":1023,"d":"1,023"},{"v":1069,"d":"1,069"},{"v":1016,"d":"1,016"},891,737,582,485,413,318,196,180,7,70,81,208,{"v":7320,"d":"7,320"},523,556,{"v":3252,"d":"3,252"},358,null,null,{"v":14286,"d":"14,286"},{"v":2375,"d":"2,375"},{"v":1280,"d":"1,280"},{"v":2602,"d":"2,602"},{"v":5854,"d":"5,854"},{"v":2174,"d":"2,174"}]
[{"$nulls":5},1310,"CENTRO DE SALUD MANUEL PRADO",8,{"v":11428,"d":"11,428"},120,131,136,129,142,170,184,190,184,175,170,169,170,162,160,178,181,173,172,172,831,907,895,818,855,813,713,590,466,388,330,255,157,144,5,56,64,167,{"v":5856,"d":"5,856"},418,445,{"v":2602,"d":"2,602"},286,null,null,{"v":11428,"d":"11,428"},{"v":1900,"d":"1,900"},{"v":1024,"d":"1,024"},{"v":2082,"d":"2,082"},{"v":4684,"d":"4,684"},{"v":1739,"d":"1,739"}]
[{"$nulls":5},1313,"CENTRO DE SALUD NUEVA ALBORADA",8,{"v":11428,"d":"11,428"},120,131,136,129,142,170,184,190,184,175,170,169,170,162,160,178,181,173,172,172,831,907,895,818,855,813,713,590,466,388,330,255,157,144,5,56,64,167,{"v":5856,"d":"5,856"},418,445,{"v":2602,"d":"2,602"},286,null,null,{"v":11428,"d":"11,428"},{"v":1900,"d":"1,900"},{"v":1024,"d":"1,024"},{"v":2082,"d":"2,082"},{"v":4684,"d":"4,684"},{"v":1739,"d":"1,739"}]
[{"$nulls":5},1315,"CENTRO DE SALUD CAMPO MARTE",7,{"v":10000,"d":"10,000"},105,115,119,113,125,149,161,166,161,153,149,148,148,142,140,156,158,151,151,151,727,793,783,716,748,711,624,516,408,339,289,223,137,126,5,49,56,146,{"v":5124,"d":"5,124"},366,389,{"v":2277,"d":"2,277"},250,null,null,{"v":10000,"d":"10,000"},{"v":1663,"d":"1,663"},896,{"v":1821,"d":"1,821"},{"v":4098,"d":"4,098"},{"v":1522,"d":"1,522"}]
[{"$nulls":5},1297,"CENTRO DE SALUD CIUDAD BLANCA",10,{"v":14286,"d":"14,286"},151,164,170,161,178,212,229,237,230,219,213,211,212,203,200,223,226,216,215,215,{"v":1038,"d":"1,038"},{"v":1134,"d":"1,134"},{"v":1118,"d":"1,118"},{"v":1023,"d":"1,023"},{"v":1069,"d":"1,069"},{"v":1016,"d":"1,016"},891,737,582,485,413,318,196,180,7,70,81,208,{"v":7320,"d":"7,320"},523,556,{"v":3252,"d":"3,252"},358,null,null,{"v":14286,"d":"14,286"},{"v":2375,"d":"2,375"},{"v":1280,"d":"1,280"},{"v":2602,"d":"2,602"},{"v":5854,"d":"5,854"},{"v":2174,"d":"2,174"}]
[{"$nulls":5},1314,"SAN JUAN DE CIUDAD BLANCA",8,{"v":11428,"d":"11,428"},120,131,136,129,142,170,184,190,184,175,170,169,170,162,160,178,181,173,172,172,831,907,895,818,855,813,713,590,466,388,330,255,157,144,5,56,64,167,{"v":5856,"d":"5,856"},418,445,{"v":2602,"d":"2,602"},286,null,null,{"v":11428,"d":"11,428"},{"v":1900,"d":"1,900"},{"v":1024,"d":"1,024"},{"v":2082,"d":"2,082"},{"v":4684,"d":"4,684"},{"v":1739,"d":"1,739"}]
[{"$nulls":5},1311,"ALTO JESUS",4,{"v":5714,"d":"5,714"},60,66,68,64,71,85,92,95,92,88,85,84,85,81,80,89,91,86,86,86,415,453,447,409,428,407,357,295,233,194,165,127,78,72,3,28,32,83,{"v":2928,"d":"2,928"},209,222,{"v":1301,"d":"1,301"},143,null,null,{"v":5714,"d":"5,714"},950,512,{"v":1041,"d":"1,041"},{"v":2342,"d":"2,342"},870]
[{"$nulls":5},1312,"ISRAEL",6,{"v":8571,"d":"8,571"},90,99,102,97,107,127,138,142,138,131,128,127,127,122,120,134,136,130,129,129,623,680,671,614,641,610,535,442,349,291,248,191,117,108,4,42,48,125,{"v":4392,"d":"4,392"},314,334,{"v":1951,"d":"1,951"},215,null,null,{"v":8571,"d":"8,571"},{"v":1425,"d":"1,425"},768,{"v":1561,"d":"1,561"},{"v":3513,"d":"3,513"},{"v":1304,"d":"1,304"}]
[{"$nulls":5},7744,"P.S. VILLA JESUS",5.5,{"v":7857,"d":"7,857"},83,90,93,89,98,117,126,130,127,120,117,116,117,112,110,123,125,119,118,118,571,623,615,562,588,559,490,405,320,267,227,175,108,99,4,38,44,115,{"v":4026,"d":"4,026"},287,306,{"v":1789,"d":"1,789"},197,null,null,{"v":7857,"d":"7,857"},{"v":1306,"d":"1,306"},704,{"v":1431,"d":"1,431"},{"v":3220,"d":"3,220"},{"v":1196,"d":"1,196"}]
["040113","AREQUIPA","AREQUIPA","AREQUIPA","POCSI",{"$nulls":3},525,11,4,5,2,9,9,2,2,2,2,2,2,4,4,3,3,3,3,5,5,25,41,45,33,39,42,39,38,35,27,24,19,21,15,0,4,7,17,273,7,7,117,11,null,null,525,52,20,76,236,141]
[{"$nulls":5},1288,"PUESTO DE SALUD POCSI",56,294,6,2,3,1,5,5,1,1,1,1,1,1,2,2,2,2,2,2,3,3,14,23,25,18,22,24,22,21,20,15,13,11,12,8,0,2,4,10,153,4,4,66,6,null,null,294,29,11,43,132,79]
[{"$nulls":5},1289,"PUESTO DE SALUD PIACA",44,231,5,2,2,1,4,4,1,1,1,1,1,1,2,2,1,1,1,1,2,2,11,18,20,15,17,18,17,17,15,12,11,8,9,7,0,2,3,7,120,3,3,51,5,null,null,231,23,9,33,104,62]
["040114","AREQUIPA","AREQUIPA","AREQUIPA","POLOBAYA",{"$nulls":3},878,13,6,12,12,17,8,3,5,6,7,6,8,13,8,7,7,8,5,7,20,54,64,66,55,54,51,54,73,66,56,43,20,22,22,0,5,8,25,452,20,22,179,30,null,null,878,103,48,145,353,229]
[{"$nulls":5},1262,"PUESTO DE SALUD POLOBAYA",100,878,13,6,12,12,17,8,3,5,6,7,6,8,13,8,7,7,8,5,7,20,54,64,66,55,54,51,54,73,66,56,43,20,22,22,0,5,8,25,452,20,22,179,30,null,null,878,103,48,145,353,229]
["040115","AREQUIPA","AREQUIPA","AREQUIPA","QUEQUEÑA",{"$nulls":3},{"v":8720,"d":"8,720"},39,35,43,53,40,35,113,110,67,96,89,95,111,68,75,104,94,97,121,95,401,586,843,906,727,709,683,593,540,360,289,235,135,133,3,21,18,99,{"v":4313,"d":"4,313"},206,253,{"v":2166,"d":"2,166"},129,null,null,{"v":8720,"d":"8,720"},815,549,{"v":1203,"d":"1,203"},{"v":4461,"d":"4,461"},{"v":1692,"d":"1,692"}]
[{"$nulls":5},1286,"PUESTO DE SALUD QUEQUEÑA",100,{"v":8720,"d":"8,720"},39,35,43,53,40,35,113,110,67,96,89,95,111,68,75,104,94,97,121,95,401,586,843,906,727,709,683,593,540,360,289,235,135,133,3,21,18,99,{"v":4313,"d":"4,313"},206,253,{"v":2166,"d":"2,166"},129,null,null,{"v":8720,"d":"8,720"},815,549,{"v":1203,"d":"1,203"},{"v":4461,"d":"4,461"},{"v":1692,"d":"1,692"}]
["040116","AREQUIPA","AREQUIPA","AREQUIPA","SABANDIA",{"$nulls":3},{"v":5241,"d":"5,241"},81,67,63,100,93,96,76,72,89,64,62,70,74,64,62,75,70,64,69,64,344,403,369,403,388,366,311,266,220,193,191,129,103,80,1,45,36,164,{"v":2665,"d":"2,665"},166,172,{"v":1168,"d":"1,168"},202,null,null,{"v":5241,"d":"5,241"},933,409,880,{"v":2103,"d":"2,103"},916]
[{"$nulls":5},1284,"PUESTO DE SALUD LEOPOLDO RONDON - SABANDIA",100,{"v":5241,"d":"5,241"},81,67,63,100,93,96,76,72,89,64,62,70,74,64,62,75,70,64,69,64,344,403,369,403,388,366,311,266,220,193,191,129,103,80,1,45,36,164,{"v":2665,"d":"2,665"},166,172,{"v":1168,"d":"1,168"},202,null,null,{"v":5241,"d":"5,241"},933,409,880,{"v":2103,"d":"2,103"},916]
["040117","AREQUIPA","AREQUIPA","AREQUIPA","SACHACA",{"$nulls":3},{"v":31532,"d":"31,532"},365,331,347,371,429,466,508,525,499,471,384,446,466,470,414,479,456,478,461,470,{"v":2298,"d":"2,298"},{"v":2323,"d":"2,323"},{"v":2420,"d":"2,420"},{"v":2189,"d":"2,189"},{"v":2283,"d":"2,283"},{"v":2135,"d":"2,135"},{"v":1870,"d":"1,870"},{"v":1708,"d":"1,708"},{"v":1476,"d":"1,476"},{"v":1296,"d":"1,296"},{"v":1048,"d":"1,048"},748,458,444,13,198,167,528,{"v":16052,"d":"16,052"},{"v":1066,"d":"1,066"},{"v":1180,"d":"1,180"},{"v":6894,"d":"6,894"},669,null,null,{"v":31532,"d":"31,532"},{"v":5142,"d":"5,142"},{"v":2763,"d":"2,763"},{"v":5552,"d":"5,552"},{"v":12605,"d":"12,605"},{"v":5470,"d":"5,470"}]
[{"$nulls":5},1282,"PUESTO DE SALUD SACHACA",65,{"v":20496,"d":"20,496"},237,215,226,241,279,303,330,341,324,306,250,290,303,305,269,311,296,311,300,305,{"v":1494,"d":"1,494"},{"v":1510,"d":"1,510"},{"v":1573,"d":"1,573"},{"v":1423,"d":"1,423"},{"v":1484,"d":"1,484"},{"v":1388,"d":"1,388"},{"v":1215,"d":"1,215"},{"v":1110,"d":"1,110"},959,842,681,486,298,289,8,129,109,343,{"v":10434,"d":"10,434"},693,767,{"v":4481,"d":"4,481"},435,null,null,{"v":20496,"d":"20,496"},{"v":3342,"d":"3,342"},{"v":1796,"d":"1,796"},{"v":3609,"d":"3,609"},{"v":8193,"d":"8,193"},{"v":3555,"d":"3,555"}]
[{"$nulls":5},1283,"PUESTO DE SALUD PAMPA DE CAMARONES",35,{"v":11036,"d":"11,036"},128,116,121,130,150,163,178,184,175,165,134,156,163,165,145,168,160,167,161,165,804,813,847,766,799,747,655,598,517,454,367,262,160,155,5,69,58,185,{"v":5618,"d":"5,618"},373,413,{"v":2413,"d":"2,413"},234,null,null,{"v":11036,"d":"11,036"},{"v":1800,"d":"1,800"},967,{"v":1943,"d":"1,943"},{"v":4412,"d":"4,412"},{"v":1915,"d":"1,915"}]
["040118","AREQUIPA","AREQUIPA","AREQUIPA","SAN JUAN DE SIGUAS",{"$nulls":3},597,6,5,10,11,9,6,4,7,4,6,9,9,9,3,3,3,11,5,7,6,40,43,47,36,43,33,47,46,36,37,24,14,7,11,1,5,1,17,331,22,18,135,49,null,null,597,86,34,96,252,129]
[{"$nulls":5},1339,"PUESTO DE SALUD SAN JUAN DE SIGUAS - TAMBILLO",100,597,6,5,10,11,9,6,4,7,4,6,9,9,9,3,3,3,11,5,7,6,40,43,47,36,43,33,47,46,36,37,24,14,7,11,1,5,1,17,331,22,18,135,49,null,null,597,86,34,96,252,129]
["040119","AREQUIPA","AREQUIPA","AREQUIPA","SAN JUAN DE TARUCANI",{"$nulls":3},{"v":1377,"d":"1,377"},20,15,27,18,27,23,7,10,9,9,10,6,6,21,6,17,9,15,13,13,69,98,97,108,128,104,97,106,82,64,47,35,31,30,0,13,8,29,723,23,34,337,49,null,null,{"v":1377,"d":"1,377"},181,74,193,640,289]
[{"$nulls":5},1319,"PUESTO DE SALUD SAN JUAN DE TARUCANI",80,{"v":1102,"d":"1,102"},16,12,22,14,22,18,6,8,7,7,8,5,5,17,5,14,7,12,10,10,55,78,78,86,102,83,78,85,66,51,38,28,25,24,0,10,6,23,578,18,27,270,39,null,null,{"v":1102,"d":"1,102"},145,59,154,512,231]
[{"$nulls":5},1321,"PUESTO DE SALUD SALINAS HUITO",20,275,4,3,5,4,5,5,1,2,2,2,2,1,1,4,1,3,2,3,3,3,14,20,19,22,26,21,19,21,16,13,9,7,6,6,0,3,2,6,145,5,7,67,10,null,null,275,36,15,39,128,58]
["040120","AREQUIPA","AREQUIPA","AREQUIPA","SANTA ISABEL DE SIGUAS",{"$nulls":3},705,8,3,5,4,13,7,10,11,9,6,10,10,9,12,2,10,10,15,6,9,52,48,53,35,37,46,52,46,46,38,26,23,18,16,0,4,4,9,377,29,25,147,15,null,null,705,96,58,115,269,167]
[{"$nulls":5},1336,"SANTA ISABEL DE SIGUAS",74,521,6,3,3,2,9,5,8,9,7,4,8,8,7,8,2,8,8,11,4,7,38,36,39,25,27,34,38,34,34,28,20,17,14,12,0,2,2,7,279,21,19,109,11,null,null,521,72,42,85,199,123]
[{"$nulls":5},1378,"PUESTO DE SALUD SONDOR",13,92,1,0,1,1,2,1,1,1,1,1,1,1,1,2,0,1,1,2,1,1,7,6,7,5,5,6,7,6,6,5,3,3,2,2,0,1,1,1,49,4,3,19,2,null,null,92,12,8,15,35,22]
[{"$nulls":5},1337,"PUESTO DE SALUD PITAY",13,92,1,0,1,1,2,1,1,1,1,1,1,1,1,2,0,1,1,2,1,1,7,6,7,5,5,6,7,6,6,5,3,3,2,2,0,1,1,1,49,4,3,19,2,null,null,92,12,8,15,35,22]
["040121","AREQUIPA","AREQUIPA","AREQUIPA","SANTA RITA DE SIGUAS",{"$nulls":3},{"v":8744,"d":"8,744"},93,86,100,104,112,98,165,176,140,141,143,138,145,147,123,163,129,130,139,164,713,887,912,791,682,504,397,385,314,176,148,96,58,45,1,39,54,175,{"v":4505,"d":"4,505"},357,374,{"v":2317,"d":"2,317"},250,null,null,{"v":8744,"d":"8,744"},{"v":1496,"d":"1,496"},837,{"v":1903,"d":"1,903"},{"v":3671,"d":"3,671"},837]
[{"$nulls":5},1335,"CENTRO  DE SALUD SANTA RITA DE SIGUAS",100,{"v":8744,"d":"8,744"},93,86,100,104,112,98,165,176,140,141,143,138,145,147,123,163,129,130,139,164,713,887,912,791,682,504,397,385,314,176,148,96,58,45,1,39,54,175,{"v":4505,"d":"4,505"},357,374,{"v":2317,"d":"2,317"},250,null,null,{"v":8744,"d":"8,744"},{"v":1496,"d":"1,496"},837,{"v":1903,"d":"1,903"},{"v":3671,"d":"3,671"},837]
["040122","AREQUIPA","AREQUIPA","AREQUIPA","SOCABAYA",{"$nulls":3},{"v":91530,"d":"91,530"},714,717,656,779,935,{"v":1096,"d":"1,096"},{"v":1400,"d":"1,400"},{"v":1467,"d":"1,467"},{"v":1472,"d":"1,472"},{"v":1494,"d":"1,494"},{"v":1262,"d":"1,262"},{"v":1386,"d":"1,386"},{"v":1366,"d":"1,366"},{"v":1404,"d":"1,404"},{"v":1181,"d":"1,181"},{"v":1393,"d":"1,393"},{"v":1500,"d":"1,500"},{"v":1395,"d":"1,395"},{"v":1474,"d":"1,474"},{"v":1482,"d":"1,482"},{"v":7238,"d":"7,238"},{"v":7799,"d":"7,799"},{"v":7445,"d":"7,445"},{"v":6681,"d":"6,681"},{"v":6788,"d":"6,788"},{"v":6350,"d":"6,350"},{"v":5407,"d":"5,407"},{"v":4965,"d":"4,965"},{"v":4274,"d":"4,274"},{"v":3565,"d":"3,565"},{"v":2616,"d":"2,616"},{"v":1802,"d":"1,802"},{"v":1041,"d":"1,041"},986,20,356,358,{"v":1216,"d":"1,216"},{"v":46307,"d":"46,307"},{"v":3357,"d":"3,357"},{"v":3567,"d":"3,567"},{"v":21293,"d":"21,293"},{"v":1445,"d":"1,445"},null,null,{"v":91530,"d":"91,530"},{"v":13378,"d":"13,378"},{"v":8239,"d":"8,239"},{"v":17993,"d":"17,993"},{"v":37636,"d":"37,636"},{"v":14284,"d":"14,284"}]
[{"$nulls":5},1258,"CENTRO DE SALUD SAN MARTIN DE SOCABAYA",21,{"v":19220,"d":"19,220"},150,150,138,163,196,230,294,308,309,314,265,291,286,295,248,292,315,293,309,312,{"v":1520,"d":"1,520"},{"v":1637,"d":"1,637"},{"v":1564,"d":"1,564"},{"v":1403,"d":"1,403"},{"v":1425,"d":"1,425"},{"v":1333,"d":"1,333"},{"v":1136,"d":"1,136"},{"v":1043,"d":"1,043"},897,749,549,380,218,207,5,75,76,255,{"v":9725,"d":"9,725"},706,749,{"v":4471,"d":"4,471"},304,null,null,{"v":19220,"d":"19,220"},{"v":2810,"d":"2,810"},{"v":1730,"d":"1,730"},{"v":3778,"d":"3,778"},{"v":7904,"d":"7,904"},{"v":3000,"d":"3,000"}]
[{"$nulls":5},1269,"PUESTO DE SALUD CIUDAD MI TRABAJO",16,{"v":14645,"d":"14,645"},114,115,105,125,150,175,224,235,236,239,202,222,219,225,189,223,240,223,236,237,{"v":1158,"d":"1,158"},{"v":1248,"d":"1,248"},{"v":1191,"d":"1,191"},{"v":1069,"d":"1,069"},{"v":1086,"d":"1,086"},{"v":1016,"d":"1,016"},865,794,684,570,419,288,167,158,3,57,57,195,{"v":7409,"d":"7,409"},537,571,{"v":3407,"d":"3,407"},231,null,null,{"v":14645,"d":"14,645"},{"v":2140,"d":"2,140"},{"v":1318,"d":"1,318"},{"v":2879,"d":"2,879"},{"v":6022,"d":"6,022"},{"v":2285,"d":"2,285"}]
[{"$nulls":5},1270,"PUESTO DE SALUD LARA",16,{"v":14645,"d":"14,645"},114,115,105,125,150,175,224,235,236,239,202,222,219,225,189,223,240,223,236,237,{"v":1158,"d":"1,158"},{"v":1248,"d":"1,248"},{"v":1191,"d":"1,191"},{"v":1069,"d":"1,069"},{"v":1086,"d":"1,086"},{"v":1016,"d":"1,016"},865,794,684,570,419,288,167,158,3,57,57,195,{"v":7409,"d":"7,409"},537,571,{"v":3407,"d":"3,407"},231,null,null,{"v":14645,"d":"14,645"},{"v":2140,"d":"2,140"},{"v":1318,"d":"1,318"},{"v":2879,"d":"2,879"},{"v":6022,"d":"6,022"},{"v":2285,"d":"2,285"}]
[{"$nulls":5},1271,"CENTRO DE SALUD SAN FERNANDO",6,{"v":5492,"d":"5,492"},43,43,39,47,56,66,84,88,88,90,76,83,82,84,71,84,90,84,88,89,434,468,447,401,407,381,324,298,256,214,157,108,62,59,1,21,21,73,{"v":2778,"d":"2,778"},201,214,{"v":1278,"d":"1,278"},87,null,null,{"v":5492,"d":"5,492"},803,494,{"v":1080,"d":"1,080"},{"v":2258,"d":"2,258"},857]
[{"$nulls":5},1272,"PUESTO DE SALUD SALAVERRY",12,{"v":10984,"d":"10,984"},86,86,79,93,112,132,168,176,177,179,151,166,164,168,142,167,180,167,177,178,869,936,893,802,815,762,649,596,513,428,314,216,125,118,2,43,43,146,{"v":5557,"d":"5,557"},403,428,{"v":2555,"d":"2,555"},173,null,null,{"v":10984,"d":"10,984"},{"v":1605,"d":"1,605"},989,{"v":2159,"d":"2,159"},{"v":4516,"d":"4,516"},{"v":1714,"d":"1,714"}]
[{"$nulls":5},1268,"CENTRO DE SALUD 4 DE OCTUBRE",20,{"v":18306,"d":"18,306"},143,143,131,156,187,219,280,293,294,299,252,277,273,281,236,279,300,279,295,296,{"v":1448,"d":"1,448"},{"v":1560,"d":"1,560"},{"v":1489,"d":"1,489"},{"v":1336,"d":"1,336"},{"v":1358,"d":"1,358"},{"v":1270,"d":"1,270"},{"v":1081,"d":"1,081"},993,855,713,523,360,208,197,4,71,72,243,{"v":9261,"d":"9,261"},671,713,{"v":4259,"d":"4,259"},289,null,null,{"v":18306,"d":"18,306"},{"v":2676,"d":"2,676"},{"v":1648,"d":"1,648"},{"v":3599,"d":"3,599"},{"v":7527,"d":"7,527"},{"v":2857,"d":"2,857"}]
[{"$nulls":5},23338,"PUESTO DE SALUD HORACIO ZEBALLOS GÁMEZ",9,{"v":8238,"d":"8,238"},64,65,59,70,84,99,126,132,132,134,114,125,123,126,106,125,135,126,133,133,651,702,670,601,611,572,487,447,385,321,235,162,94,89,2,32,32,109,{"v":4168,"d":"4,168"},302,321,{"v":1916,"d":"1,916"},130,null,null,{"v":8238,"d":"8,238"},{"v":1204,"d":"1,204"},742,{"v":1619,"d":"1,619"},{"v":3387,"d":"3,387"},{"v":1286,"d":"1,286"}]
["040123","AREQUIPA","AREQUIPA","AREQUIPA","TIABAYA",{"$nulls":3},{"v":19123,"d":"19,123"},262,261,252,232,298,272,293,358,286,282,231,258,298,245,248,264,257,292,245,279,{"v":1382,"d":"1,382"},{"v":1626,"d":"1,626"},{"v":1620,"d":"1,620"},{"v":1469,"d":"1,469"},{"v":1435,"d":"1,435"},{"v":1260,"d":"1,260"},{"v":1056,"d":"1,056"},995,812,643,527,392,242,251,8,121,141,380,{"v":9858,"d":"9,858"},659,705,{"v":4414,"d":"4,414"},720,null,null,{"v":19123,"d":"19,123"},{"v":3285,"d":"3,285"},{"v":1604,"d":"1,604"},{"v":3532,"d":"3,532"},{"v":7835,"d":"7,835"},{"v":2867,"d":"2,867"}]
[{"$nulls":5},1260,"CENTRO DE SALUD TIABAYA",100,{"v":19123,"d":"19,123"},262,261,252,232,298,272,293,358,286,282,231,258,298,245,248,264,257,292,245,279,{"v":1382,"d":"1,382"},{"v":1626,"d":"1,626"},{"v":1620,"d":"1,620"},{"v":1469,"d":"1,469"},{"v":1435,"d":"1,435"},{"v":1260,"d":"1,260"},{"v":1056,"d":"1,056"},995,812,643,527,392,242,251,8,121,141,380,{"v":9858,"d":"9,858"},659,705,{"v":4414,"d":"4,414"},720,null,null,{"v":19123,"d":"19,123"},{"v":3285,"d":"3,285"},{"v":1604,"d":"1,604"},{"v":3532,"d":"3,532"},{"v":7835,"d":"7,835"},{"v":2867,"d":"2,867"}]
["040124","AREQUIPA","AREQUIPA","AREQUIPA","UCHUMAYO",{"$nulls":3},{"v":18826,"d":"18,826"},212,214,222,202,247,266,305,293,276,257,251,251,286,242,213,258,260,249,271,262,{"v":1212,"d":"1,212"},{"v":1631,"d":"1,631"},{"v":1660,"d":"1,660"},{"v":1627,"d":"1,627"},{"v":1608,"d":"1,608"},{"v":1361,"d":"1,361"},{"v":1105,"d":"1,105"},{"v":1008,"d":"1,008"},830,670,460,309,183,125,13,97,115,282,{"v":9923,"d":"9,923"},687,698,{"v":4667,"d":"4,667"},534,null,null,{"v":18826,"d":"18,826"},{"v":2996,"d":"2,996"},{"v":1508,"d":"1,508"},{"v":3376,"d":"3,376"},{"v":8369,"d":"8,369"},{"v":2577,"d":"2,577"}]
[{"$nulls":5},1280,"CERRO VERDE",43.5,{"v":8190,"d":"8,190"},92,93,96,88,108,115,132,128,120,112,109,109,125,106,92,112,113,109,118,114,527,710,722,707,700,592,480,439,361,292,200,135,79,55,5,42,50,122,{"v":4316,"d":"4,316"},299,303,{"v":2030,"d":"2,030"},233,null,null,{"v":8190,"d":"8,190"},{"v":1304,"d":"1,304"},656,{"v":1468,"d":"1,468"},{"v":3640,"d":"3,640"},{"v":1121,"d":"1,121"}]
[{"$nulls":5},1281,"CONGATA",43.5,{"v":8189,"d":"8,189"},92,93,97,88,107,116,133,127,120,112,109,109,124,105,93,112,113,108,118,114,527,709,722,708,699,592,481,438,361,291,200,134,80,54,6,42,50,123,{"v":4317,"d":"4,317"},299,304,{"v":2030,"d":"2,030"},232,null,null,{"v":8189,"d":"8,189"},{"v":1303,"d":"1,303"},656,{"v":1469,"d":"1,469"},{"v":3641,"d":"3,641"},{"v":1121,"d":"1,121"}]
[{"$nulls":5},1290,"UCHUMAYO",13,{"v":2447,"d":"2,447"},28,28,29,26,32,35,40,38,36,33,33,33,37,31,28,34,34,32,35,34,158,212,216,212,209,177,144,131,108,87,60,40,24,16,2,13,15,37,{"v":1290,"d":"1,290"},89,91,607,69,null,null,{"v":2447,"d":"2,447"},389,196,439,{"v":1088,"d":"1,088"},335]
["040125","AREQUIPA","AREQUIPA","AREQUIPA","VITOR",{"$nulls":3},{"v":5469,"d":"5,469"},67,52,37,38,36,34,60,87,70,74,63,67,72,97,71,97,92,103,100,97,420,464,434,419,384,332,308,329,289,234,176,104,82,80,0,28,39,87,{"v":2837,"d":"2,837"},206,263,{"v":1307,"d":"1,307"},97,null,null,{"v":5469,"d":"5,469"},685,532,{"v":1081,"d":"1,081"},{"v":2206,"d":"2,206"},965]
[{"$nulls":5},1324,"CENTRO DE SALUD VITOR",80,{"v":4375,"d":"4,375"},54,42,30,30,29,27,48,70,56,59,50,54,58,78,57,78,74,82,80,78,336,371,347,335,307,266,246,263,231,187,141,83,66,64,0,22,31,70,{"v":2270,"d":"2,270"},165,210,{"v":1046,"d":"1,046"},78,null,null,{"v":4375,"d":"4,375"},548,426,865,{"v":1765,"d":"1,765"},772]
[{"$nulls":5},1334,"PUESTO DE SALUD YURAMAYO",20,{"v":1094,"d":"1,094"},13,10,7,8,7,7,12,17,14,15,13,13,14,19,14,19,18,21,20,19,84,93,87,84,77,66,62,66,58,47,35,21,16,16,0,6,8,17,567,41,53,261,19,null,null,{"v":1094,"d":"1,094"},137,106,216,441,193]
["040126","AREQUIPA","AREQUIPA","AREQUIPA","YANAHUARA",{"$nulls":3},{"v":30515,"d":"30,515"},277,181,225,306,411,431,386,369,403,421,370,331,352,342,313,331,365,328,366,386,{"v":1676,"d":"1,676"},{"v":1923,"d":"1,923"},{"v":2069,"d":"2,069"},{"v":1938,"d":"1,938"},{"v":2067,"d":"2,067"},{"v":2197,"d":"2,197"},{"v":2080,"d":"2,080"},{"v":1998,"d":"1,998"},{"v":1909,"d":"1,909"},{"v":1626,"d":"1,626"},{"v":1442,"d":"1,442"},{"v":1090,"d":"1,090"},751,855,6,160,117,369,{"v":15023,"d":"15,023"},748,774,{"v":5869,"d":"5,869"},545,null,null,{"v":30515,"d":"30,515"},{"v":4111,"d":"4,111"},{"v":2031,"d":"2,031"},{"v":4351,"d":"4,351"},{"v":12349,"d":"12,349"},{"v":7673,"d":"7,673"}]
[{"$nulls":5},1233,"CENTRO DE SALUD YANAHUARA",38,{"v":11596,"d":"11,596"},105,69,86,116,156,164,147,140,153,160,141,126,134,130,119,126,139,125,139,147,637,731,786,736,785,835,790,759,725,618,548,414,285,325,2,61,44,140,{"v":5709,"d":"5,709"},284,294,{"v":2230,"d":"2,230"},207,null,null,{"v":11596,"d":"11,596"},{"v":1562,"d":"1,562"},772,{"v":1653,"d":"1,653"},{"v":4693,"d":"4,693"},{"v":2916,"d":"2,916"}]
[{"$nulls":5},1241,"PUESTO DE SALUD SUMBAY - CHASQUIPAMPA",4,{"v":1221,"d":"1,221"},11,7,9,12,16,17,15,15,16,17,15,13,14,14,13,13,15,13,15,15,67,77,83,78,83,88,83,80,76,65,58,44,30,34,0,6,5,15,601,30,31,235,22,null,null,{"v":1221,"d":"1,221"},164,81,174,494,307]
[{"$nulls":6},"NO MINSA",58,{"v":17698,"d":"17,698"},161,105,130,178,239,250,224,214,234,244,214,192,204,198,181,192,211,190,212,224,972,{"v":1115,"d":"1,115"},{"v":1200,"d":"1,200"},{"v":1124,"d":"1,124"},{"v":1199,"d":"1,199"},{"v":1274,"d":"1,274"},{"v":1207,"d":"1,207"},{"v":1159,"d":"1,159"},{"v":1108,"d":"1,108"},943,836,632,436,496,4,93,68,214,{"v":8713,"d":"8,713"},434,449,{"v":3404,"d":"3,404"},316,null,null,{"v":17698,"d":"17,698"},{"v":2385,"d":"2,385"},{"v":1178,"d":"1,178"},{"v":2524,"d":"2,524"},{"v":7162,"d":"7,162"},{"v":4450,"d":"4,450"}]
["040127","AREQUIPA","AREQUIPA","AREQUIPA","YARABAMBA",{"$nulls":3},{"v":1977,"d":"1,977"},50,44,40,31,37,22,15,21,17,14,16,18,13,16,11,20,16,17,28,20,116,167,196,155,155,163,123,117,97,70,63,35,25,29,2,28,22,76,{"v":1093,"d":"1,093"},46,55,515,86,null,null,{"v":1977,"d":"1,977"},325,93,331,909,319]
[{"$nulls":5},1287,"PUESTO DE SALUD YARABAMBA",100,{"v":1977,"d":"1,977"},50,44,40,31,37,22,15,21,17,14,16,18,13,16,11,20,16,17,28,20,116,167,196,155,155,163,123,117,97,70,63,35,25,29,2,28,22,76,{"v":1093,"d":"1,093"},46,55,515,86,null,null,{"v":1977,"d":"1,977"},325,93,331,909,319]
["040128","AREQUIPA","AREQUIPA","AREQUIPA","YURA",{"$nulls":3},{"v":48226,"d":"48,226"},594,563,619,609,766,886,997,927,909,788,817,782,771,773,676,780,701,792,875,798,{"v":3942,"d":"3,942"},{"v":4609,"d":"4,609"},{"v":4675,"d":"4,675"},{"v":3908,"d":"3,908"},{"v":3348,"d":"3,348"},{"v":2871,"d":"2,871"},{"v":2372,"d":"2,372"},{"v":2097,"d":"2,097"},{"v":1628,"d":"1,628"},{"v":1304,"d":"1,304"},912,567,304,266,20,289,305,867,{"v":24313,"d":"24,313"},{"v":1893,"d":"1,893"},{"v":1961,"d":"1,961"},{"v":12022,"d":"12,022"},{"v":1179,"d":"1,179"},null,null,{"v":48226,"d":"48,226"},{"v":9257,"d":"9,257"},{"v":4493,"d":"4,493"},{"v":10224,"d":"10,224"},{"v":19271,"d":"19,271"},{"v":4981,"d":"4,981"}]
[{"$nulls":5},1253,"CENTRO DE SALUD CIUDAD DE DIOS",85,{"v":40992,"d":"40,992"},505,479,526,518,651,753,847,788,773,670,694,665,655,657,575,663,596,673,744,678,{"v":3351,"d":"3,351"},{"v":3918,"d":"3,918"},{"v":3974,"d":"3,974"},{"v":3322,"d":"3,322"},{"v":2846,"d":"2,846"},{"v":2440,"d":"2,440"},{"v":2016,"d":"2,016"},{"v":1782,"d":"1,782"},{"v":1384,"d":"1,384"},{"v":1108,"d":"1,108"},775,482,258,226,17,246,259,737,{"v":20666,"d":"20,666"},{"v":1609,"d":"1,609"},{"v":1667,"d":"1,667"},{"v":10219,"d":"10,219"},{"v":1002,"d":"1,002"},null,null,{"v":40992,"d":"40,992"},{"v":7868,"d":"7,868"},{"v":3819,"d":"3,819"},{"v":8690,"d":"8,690"},{"v":16380,"d":"16,380"},{"v":4234,"d":"4,234"}]
[{"$nulls":5},1254,"PUESTO DE SALUD YURA",15,{"v":7234,"d":"7,234"},89,84,93,91,115,133,150,139,136,118,123,117,116,116,101,117,105,119,131,120,591,691,701,586,502,431,356,315,244,196,137,85,46,40,3,43,46,130,{"v":3647,"d":"3,647"},284,294,{"v":1803,"d":"1,803"},177,null,null,{"v":7234,"d":"7,234"},{"v":1389,"d":"1,389"},674,{"v":1534,"d":"1,534"},{"v":2891,"d":"2,891"},747]
["040129","AREQUIPA","AREQUIPA","AREQUIPA","JOSE LUIS BUSTAMANTE Y RIVERO",{"$nulls":3},{"v":90831,"d":"90,831"},698,724,770,775,924,{"v":1067,"d":"1,067"},{"v":1238,"d":"1,238"},{"v":1294,"d":"1,294"},{"v":1326,"d":"1,326"},{"v":1232,"d":"1,232"},{"v":1147,"d":"1,147"},{"v":1143,"d":"1,143"},{"v":1260,"d":"1,260"},{"v":1076,"d":"1,076"},{"v":1136,"d":"1,136"},{"v":1250,"d":"1,250"},{"v":1247,"d":"1,247"},{"v":1277,"d":"1,277"},{"v":1255,"d":"1,255"},{"v":1302,"d":"1,302"},{"v":6506,"d":"6,506"},{"v":7118,"d":"7,118"},{"v":7317,"d":"7,317"},{"v":6478,"d":"6,478"},{"v":6738,"d":"6,738"},{"v":6326,"d":"6,326"},{"v":5635,"d":"5,635"},{"v":5117,"d":"5,117"},{"v":4518,"d":"4,518"},{"v":3729,"d":"3,729"},{"v":3441,"d":"3,441"},{"v":2589,"d":"2,589"},{"v":1640,"d":"1,640"},{"v":1538,"d":"1,538"},27,361,337,930,{"v":46096,"d":"46,096"},{"v":2827,"d":"2,827"},{"v":3133,"d":"3,133"},{"v":20175,"d":"20,175"},{"v":1703,"d":"1,703"},null,null,{"v":90831,"d":"90,831"},{"v":12338,"d":"12,338"},{"v":7246,"d":"7,246"},{"v":16181,"d":"16,181"},{"v":37611,"d":"37,611"},{"v":17455,"d":"17,455"}]
[{"$nulls":5},1257,"VICTOR RAUL HINOJOSA",57,{"v":51774,"d":"51,774"},397,413,439,441,527,608,706,738,755,703,653,652,719,613,647,712,710,727,715,743,{"v":3708,"d":"3,708"},{"v":4057,"d":"4,057"},{"v":4171,"d":"4,171"},{"v":3692,"d":"3,692"},{"v":3841,"d":"3,841"},{"v":3605,"d":"3,605"},{"v":3211,"d":"3,211"},{"v":2917,"d":"2,917"},{"v":2575,"d":"2,575"},{"v":2125,"d":"2,125"},{"v":1961,"d":"1,961"},{"v":1476,"d":"1,476"},934,877,15,205,192,530,{"v":26275,"d":"26,275"},{"v":1611,"d":"1,611"},{"v":1786,"d":"1,786"},{"v":11499,"d":"11,499"},971,null,null,{"v":51774,"d":"51,774"},{"v":7033,"d":"7,033"},{"v":4130,"d":"4,130"},{"v":9224,"d":"9,224"},{"v":21438,"d":"21,438"},{"v":9949,"d":"9,949"}]
[{"$nulls":5},1263,"PUESTO DE SALUD 13 DE ENERO",19,{"v":17258,"d":"17,258"},133,138,146,147,176,203,235,246,252,234,218,217,239,204,216,238,237,243,238,247,{"v":1236,"d":"1,236"},{"v":1352,"d":"1,352"},{"v":1390,"d":"1,390"},{"v":1231,"d":"1,231"},{"v":1280,"d":"1,280"},{"v":1202,"d":"1,202"},{"v":1071,"d":"1,071"},972,858,709,654,492,312,292,5,69,64,177,{"v":8758,"d":"8,758"},537,595,{"v":3833,"d":"3,833"},324,null,null,{"v":17258,"d":"17,258"},{"v":2344,"d":"2,344"},{"v":1377,"d":"1,377"},{"v":3074,"d":"3,074"},{"v":7146,"d":"7,146"},{"v":3316,"d":"3,316"}]
[{"$nulls":5},1264,"CENTRO DE SALUD LAS ESMERALDAS",14,{"v":12716,"d":"12,716"},98,101,108,109,129,149,173,181,186,172,161,160,176,151,159,175,175,179,176,182,911,997,{"v":1024,"d":"1,024"},907,943,886,789,716,633,522,482,362,230,215,4,51,47,130,{"v":6453,"d":"6,453"},396,439,{"v":2825,"d":"2,825"},238,null,null,{"v":12716,"d":"12,716"},{"v":1727,"d":"1,727"},{"v":1014,"d":"1,014"},{"v":2265,"d":"2,265"},{"v":5266,"d":"5,266"},{"v":2444,"d":"2,444"}]
[{"$nulls":5},1267,"CERRO JULI",10,{"v":9083,"d":"9,083"},70,72,77,78,92,107,124,129,133,123,115,114,126,108,114,125,125,128,126,130,651,712,732,648,674,633,564,512,452,373,344,259,164,154,3,36,34,93,{"v":4610,"d":"4,610"},283,313,{"v":2018,"d":"2,018"},170,null,null,{"v":9083,"d":"9,083"},{"v":1234,"d":"1,234"},725,{"v":1618,"d":"1,618"},{"v":3761,"d":"3,761"},{"v":1746,"d":"1,746"}]
[{"$nulls":5},1266,"FELIX NAQUIRA VILDOSO",0,0,0,0,0,0,0,0,0,0,0,0,0,0,0,0,0,0,0,0,0,0,0,0,0,0,0,0,0,0,0,0,0,0,0,0,0,0,0,0,0,0,0,0,0,null,null,0,0,0,0,0,0]
[{"$nulls":5},1265,"HUGO LUMBRERAS CRUZ",0,0,0,0,0,0,0,0,0,0,0,0,0,0,0,0,0,0,0,0,0,0,0,0,0,0,0,0,0,0,0,0,0,0,0,0,0,0,0,0,0,0,0,0,0,null,null,0,0,0,0,0,0]
["040201","AREQUIPA","AREQUIPA","CAMANA","CAMANA",{"$nulls":3},{"v":15524,"d":"15,524"},156,97,79,40,20,75,224,252,260,220,255,203,238,238,237,297,257,282,252,265,{"v":1252,"d":"1,252"},{"v":1213,"d":"1,213"},{"v":1172,"d":"1,172"},954,954,{"v":1020,"d":"1,020"},{"v":1012,"d":"1,012"},957,922,672,550,383,272,244,9,79,77,210,{"v":8035,"d":"8,035"},589,711,{"v":3384,"d":"3,384"},250,null,null,{"v":15524,"d":"15,524"},{"v":1881,"d":"1,881"},{"v":1549,"d":"1,549"},{"v":2982,"d":"2,982"},{"v":6069,"d":"6,069"},{"v":3043,"d":"3,043"}]
[{"$nulls":5},1344,"HOSPITAL DE CAMANA",100,{"v":15524,"d":"15,524"},156,97,79,40,20,75,224,252,260,220,255,203,238,238,237,297,257,282,252,265,{"v":1252,"d":"1,252"},{"v":1213,"d":"1,213"},{"v":1172,"d":"1,172"},954,954,{"v":1020,"d":"1,020"},{"v":1012,"d":"1,012"},957,922,672,550,383,272,244,9,79,77,210,{"v":8035,"d":"8,035"},589,711,{"v":3384,"d":"3,384"},250,null,null,{"v":15524,"d":"15,524"},{"v":1881,"d":"1,881"},{"v":1549,"d":"1,549"},{"v":2982,"d":"2,982"},{"v":6069,"d":"6,069"},{"v":3043,"d":"3,043"}]
["040202","AREQUIPA","AREQUIPA","CAMANA","JOSE MARIA QUIMPER",{"$nulls":3},{"v":5988,"d":"5,988"},86,76,70,47,80,84,86,123,115,81,77,89,94,71,89,92,91,74,82,77,372,491,455,439,400,365,332,363,354,292,183,117,74,67,4,45,41,111,{"v":3004,"d":"3,004"},219,219,{"v":1300,"d":"1,300"},119,null,null,{"v":5988,"d":"5,988"},{"v":1014,"d":"1,014"},511,{"v":1022,"d":"1,022"},{"v":2354,"d":"2,354"},{"v":1087,"d":"1,087"}]
[{"$nulls":5},1355,"EL CARDO",10,599,9,8,7,5,8,8,9,12,12,8,8,9,9,7,9,9,9,7,8,8,37,49,46,44,40,37,33,36,35,29,18,12,7,7,0,5,4,11,300,22,22,130,12,null,null,599,101,51,102,235,109]
[{"$nulls":5},1354,"PUESTO DE SALUD LUIS FERNANDEZ CORTEGANA - HUACAPUY",45,{"v":2694,"d":"2,694"},38,34,31,21,36,38,38,56,51,37,34,40,43,32,40,42,41,34,37,34,168,221,204,197,180,164,150,164,160,132,83,52,34,30,2,20,19,50,{"v":1352,"d":"1,352"},98,98,585,53,null,null,{"v":2694,"d":"2,694"},457,230,460,{"v":1060,"d":"1,060"},489]
[{"$nulls":5},1356,"PUESTO DE SALUD EL PUENTE",45,{"v":2695,"d":"2,695"},39,34,32,21,36,38,39,55,52,36,35,40,42,32,40,41,41,33,37,35,167,221,205,198,180,164,149,163,159,131,82,53,33,30,2,20,18,50,{"v":1352,"d":"1,352"},99,99,585,54,null,null,{"v":2695,"d":"2,695"},456,230,460,{"v":1059,"d":"1,059"},489]
["040203","AREQUIPA","AREQUIPA","CAMANA","MARIANO NICOLAS VALCARCEL",{"$nulls":3},{"v":9512,"d":"9,512"},158,149,154,182,163,211,168,130,96,151,136,174,162,133,96,108,113,106,82,49,369,679,{"v":1101,"d":"1,101"},{"v":1030,"d":"1,030"},836,727,613,617,371,221,108,53,44,22,7,82,76,228,{"v":4785,"d":"4,785"},411,243,{"v":2588,"d":"2,588"},156,null,null,{"v":9512,"d":"9,512"},{"v":1872,"d":"1,872"},718,{"v":1179,"d":"1,179"},{"v":4924,"d":"4,924"},819]
[{"$nulls":5},1365,"PUESTO DE SALUD URASQUI",15,{"v":1427,"d":"1,427"},24,22,23,27,24,32,25,20,14,23,20,26,24,20,14,16,17,16,12,7,55,102,165,155,125,109,92,93,56,33,16,8,7,3,1,12,11,34,718,62,36,388,23,null,null,{"v":1427,"d":"1,427"},281,108,177,739,123]
[{"$nulls":5},18691,"PUESTO DE SALUD SECOCHA",75,{"v":7134,"d":"7,134"},118,112,116,137,123,158,126,97,72,113,102,131,122,100,72,81,85,79,62,37,277,509,826,772,627,545,460,462,278,166,81,40,33,17,5,62,57,171,{"v":3588,"d":"3,588"},308,183,{"v":1941,"d":"1,941"},117,null,null,{"v":7134,"d":"7,134"},{"v":1404,"d":"1,404"},538,884,{"v":3693,"d":"3,693"},614]
[{"$nulls":5},1366,"LA EUGENIA",10,951,16,15,15,18,16,21,17,13,10,15,14,17,16,13,10,11,11,11,8,5,37,68,110,103,84,73,61,62,37,22,11,5,4,2,1,8,8,23,479,41,24,259,16,null,null,951,187,72,118,492,82]
["040204","AREQUIPA","AREQUIPA","CAMANA","MARISCAL CACERES",{"$nulls":3},{"v":8458,"d":"8,458"},108,103,80,80,106,95,115,117,128,111,100,110,94,116,118,126,125,132,134,113,508,732,682,654,638,624,585,507,436,337,238,132,94,80,5,50,58,133,{"v":4284,"d":"4,284"},258,322,{"v":2016,"d":"2,016"},312,null,null,{"v":8458,"d":"8,458"},{"v":1253,"d":"1,253"},711,{"v":1487,"d":"1,487"},{"v":3690,"d":"3,690"},{"v":1317,"d":"1,317"}]
[{"$nulls":5},1345,"CENTRO DE SALUD SAN JOSE",20,{"v":1692,"d":"1,692"},22,21,16,16,21,19,23,23,26,22,20,22,19,23,24,25,25,26,27,23,102,146,136,131,128,125,117,101,87,67,48,26,19,16,1,10,12,27,857,52,64,403,62,null,null,{"v":1692,"d":"1,692"},251,142,297,738,263]
[{"$nulls":5},1353,"CENTRO DE SALUD PUCCHUN",80,{"v":6766,"d":"6,766"},86,82,64,64,85,76,92,94,102,89,80,88,75,93,94,101,100,106,107,90,406,586,546,523,510,499,468,406,349,270,190,106,75,64,4,40,46,106,{"v":3427,"d":"3,427"},206,258,{"v":1613,"d":"1,613"},250,null,null,{"v":6766,"d":"6,766"},{"v":1002,"d":"1,002"},569,{"v":1190,"d":"1,190"},{"v":2952,"d":"2,952"},{"v":1054,"d":"1,054"}]
["040205","AREQUIPA","AREQUIPA","CAMANA","NICOLAS DE PIEROLA",{"$nulls":3},{"v":9336,"d":"9,336"},92,87,94,84,116,110,129,168,154,141,118,147,153,165,123,144,155,141,151,143,620,695,721,678,651,621,597,577,506,370,285,194,109,97,1,49,44,134,{"v":4749,"d":"4,749"},346,360,{"v":2108,"d":"2,108"},247,null,null,{"v":9336,"d":"9,336"},{"v":1440,"d":"1,440"},881,{"v":1609,"d":"1,609"},{"v":3845,"d":"3,845"},{"v":1561,"d":"1,561"}]
[{"$nulls":5},1347,"CENTRO DE SALUD SAN GREGORIO",65,{"v":6068,"d":"6,068"},60,56,61,54,76,72,83,110,100,91,77,95,100,108,80,93,101,91,98,93,403,452,469,440,423,404,388,375,329,241,185,126,71,63,1,32,28,87,{"v":3087,"d":"3,087"},225,234,{"v":1370,"d":"1,370"},160,null,null,{"v":6068,"d":"6,068"},936,572,{"v":1046,"d":"1,046"},{"v":2499,"d":"2,499"},{"v":1015,"d":"1,015"}]
[{"$nulls":5},1360,"PUESTO DE SALUD HACIENDA DEL MEDIO",33,{"v":3081,"d":"3,081"},30,29,31,28,38,36,43,55,51,47,39,49,50,54,41,48,51,47,50,47,205,229,238,224,215,205,197,190,167,122,94,64,36,32,0,16,15,44,{"v":1567,"d":"1,567"},114,119,696,82,null,null,{"v":3081,"d":"3,081"},475,291,531,{"v":1269,"d":"1,269"},515]
[{"$nulls":5},1361,"SONAY",2,187,2,2,2,2,2,2,3,3,3,3,2,3,3,3,2,3,3,3,3,3,12,14,14,14,13,12,12,12,10,7,6,4,2,2,0,1,1,3,95,7,7,42,5,null,null,187,29,18,32,77,31]
["040206","AREQUIPA","AREQUIPA","CAMANA","OCOÑA",{"$nulls":3},{"v":4900,"d":"4,900"},57,48,49,46,68,58,70,75,65,47,49,55,53,66,64,78,72,95,63,60,281,368,295,320,345,319,345,336,323,244,208,120,80,78,6,29,28,104,{"v":2568,"d":"2,568"},157,201,{"v":1062,"d":"1,062"},102,null,null,{"v":4900,"d":"4,900"},687,428,772,{"v":1960,"d":"1,960"},{"v":1053,"d":"1,053"}]
[{"$nulls":5},1348,"CENTRO DE SALUD OCOÑA",78,{"v":3822,"d":"3,822"},44,38,39,36,53,45,54,59,50,37,39,43,41,51,50,61,56,74,50,47,219,287,230,250,269,249,269,262,252,190,162,94,62,61,5,23,22,81,{"v":2003,"d":"2,003"},122,157,829,80,null,null,{"v":3822,"d":"3,822"},536,334,602,{"v":1529,"d":"1,529"},821]
[{"$nulls":5},1363,"LA PLANCHADA",15,735,9,7,7,7,10,9,11,11,10,7,7,8,8,10,10,12,11,14,9,9,42,55,44,48,52,48,52,50,48,37,31,18,12,12,1,4,4,16,385,24,30,159,15,null,null,735,103,64,116,294,158]
[{"$nulls":5},1364,"PESCADORES",7,343,4,3,3,3,5,4,5,5,5,3,3,4,4,5,4,5,5,7,4,4,20,26,21,22,24,22,24,24,23,17,15,8,6,5,0,2,2,7,180,11,14,74,7,null,null,343,48,30,54,137,74]
["040207","AREQUIPA","AREQUIPA","CAMANA","QUILCA",{"$nulls":3},{"v":1449,"d":"1,449"},14,11,17,15,13,13,23,18,12,21,15,23,9,18,24,20,23,22,12,17,72,102,119,121,110,102,99,85,111,60,54,33,20,21,0,6,8,31,772,55,56,351,45,null,null,{"v":1449,"d":"1,449"},195,116,203,636,299]
[{"$nulls":5},1362,"PUESTO DE SALUD QUILCA",100,{"v":1449,"d":"1,449"},14,11,17,15,13,13,23,18,12,21,15,23,9,18,24,20,23,22,12,17,72,102,119,121,110,102,99,85,111,60,54,33,20,21,0,6,8,31,772,55,56,351,45,null,null,{"v":1449,"d":"1,449"},195,116,203,636,299]
["040208","AREQUIPA","AREQUIPA","CAMANA","SAMUEL PASTOR",{"$nulls":3},{"v":18561,"d":"18,561"},191,200,255,249,307,325,333,325,324,291,278,311,315,270,259,310,314,308,312,286,{"v":1388,"d":"1,388"},{"v":1546,"d":"1,546"},{"v":1465,"d":"1,465"},{"v":1384,"d":"1,384"},{"v":1286,"d":"1,286"},{"v":1217,"d":"1,217"},{"v":1127,"d":"1,127"},990,846,576,402,260,153,158,3,84,107,363,{"v":9482,"d":"9,482"},727,757,{"v":4330,"d":"4,330"},505,null,null,{"v":18561,"d":"18,561"},{"v":3389,"d":"3,389"},{"v":1776,"d":"1,776"},{"v":3532,"d":"3,532"},{"v":7469,"d":"7,469"},{"v":2395,"d":"2,395"}]
[{"$nulls":5},1346,"LA PAMPA",33,{"v":6125,"d":"6,125"},63,66,84,82,101,107,110,107,107,96,92,103,104,89,85,102,104,102,103,94,458,510,483,457,424,402,372,327,279,190,133,86,50,52,1,28,35,120,{"v":3129,"d":"3,129"},240,250,{"v":1429,"d":"1,429"},167,null,null,{"v":6125,"d":"6,125"},{"v":1118,"d":"1,118"},586,{"v":1166,"d":"1,166"},{"v":2465,"d":"2,465"},790]
[{"$nulls":5},1357,"EL CARMEN-CAMANA",36,{"v":6682,"d":"6,682"},68,72,92,91,111,117,120,117,116,104,100,112,114,97,93,112,113,111,112,103,500,557,528,497,463,437,405,355,305,208,145,93,55,56,2,29,39,131,{"v":3414,"d":"3,414"},261,272,{"v":1558,"d":"1,558"},181,null,null,{"v":6682,"d":"6,682"},{"v":1220,"d":"1,220"},640,{"v":1271,"d":"1,271"},{"v":2689,"d":"2,689"},863]
[{"$nulls":5},1359,"JUAN PABLO VIZCARDO GUZMAN",13,{"v":2413,"d":"2,413"},25,26,33,32,40,42,43,42,42,38,36,40,41,35,34,40,41,40,41,37,180,201,190,180,167,158,147,129,110,75,52,34,20,21,0,11,14,47,{"v":1233,"d":"1,233"},95,98,563,66,null,null,{"v":2413,"d":"2,413"},441,231,459,971,311]
[{"$nulls":5},1358,"PUESTO DE SALUD LA PUNTA",3,557,6,6,8,7,9,10,10,10,10,9,8,9,9,8,8,9,9,9,9,9,42,46,44,42,39,37,34,30,25,17,12,8,5,5,0,3,3,11,284,22,23,130,15,null,null,557,102,53,106,224,72]
[{"$nulls":5},7723,"PUESTO DE SALUD SOLIDARIDAD",15,{"v":2784,"d":"2,784"},29,30,38,37,46,49,50,49,49,44,42,47,47,41,39,47,47,46,47,43,208,232,220,208,193,183,169,149,127,86,60,39,23,24,0,13,16,54,{"v":1422,"d":"1,422"},109,114,650,76,null,null,{"v":2784,"d":"2,784"},508,266,530,{"v":1120,"d":"1,120"},359]
["040301","AREQUIPA","AREQUIPA","CARAVELI","CARAVELI",{"$nulls":3},{"v":5398,"d":"5,398"},91,97,88,81,70,72,89,83,68,66,89,46,81,68,54,86,104,89,110,104,453,482,404,349,306,324,327,270,232,183,133,103,97,99,7,32,59,111,{"v":2749,"d":"2,749"},170,249,{"v":1224,"d":"1,224"},148,null,null,{"v":5398,"d":"5,398"},940,482,{"v":1149,"d":"1,149"},{"v":1980,"d":"1,980"},847]
[{"$nulls":5},1351,"CENTRO DE SALUD CARAVELI",100,{"v":5398,"d":"5,398"},91,97,88,81,70,72,89,83,68,66,89,46,81,68,54,86,104,89,110,104,453,482,404,349,306,324,327,270,232,183,133,103,97,99,7,32,59,111,{"v":2749,"d":"2,749"},170,249,{"v":1224,"d":"1,224"},148,null,null,{"v":5398,"d":"5,398"},940,482,{"v":1149,"d":"1,149"},{"v":1980,"d":"1,980"},847]
["040302","AREQUIPA","AREQUIPA","CARAVELI","ACARI",{"$nulls":3},{"v":6593,"d":"6,593"},49,38,65,51,63,57,83,107,82,106,120,110,118,126,87,126,136,130,104,83,422,402,368,415,404,431,428,407,377,297,282,238,120,161,1,21,28,85,{"v":3329,"d":"3,329"},285,287,{"v":1288,"d":"1,288"},185,null,null,{"v":6593,"d":"6,593"},931,723,{"v":1011,"d":"1,011"},{"v":2453,"d":"2,453"},{"v":1475,"d":"1,475"}]
[{"$nulls":5},1352,"CENTRO DE SALUD ACARI",100,{"v":6593,"d":"6,593"},49,38,65,51,63,57,83,107,82,106,120,110,118,126,87,126,136,130,104,83,422,402,368,415,404,431,428,407,377,297,282,238,120,161,1,21,28,85,{"v":3329,"d":"3,329"},285,287,{"v":1288,"d":"1,288"},185,null,null,{"v":6593,"d":"6,593"},931,723,{"v":1011,"d":"1,011"},{"v":2453,"d":"2,453"},{"v":1475,"d":"1,475"}]
["040303","AREQUIPA","AREQUIPA","CARAVELI","ATICO",{"$nulls":3},{"v":6696,"d":"6,696"},81,74,79,58,74,67,118,92,98,98,111,113,74,109,113,115,125,110,113,90,404,498,559,519,487,497,448,388,293,258,166,133,78,56,5,29,52,112,{"v":3453,"d":"3,453"},262,280,{"v":1574,"d":"1,574"},191,null,null,{"v":6696,"d":"6,696"},{"v":1063,"d":"1,063"},646,{"v":1105,"d":"1,105"},{"v":2898,"d":"2,898"},984]
[{"$nulls":5},1349,"CENTRO DE SALUD ATICO",100,{"v":6696,"d":"6,696"},81,74,79,58,74,67,118,92,98,98,111,113,74,109,113,115,125,110,113,90,404,498,559,519,487,497,448,388,293,258,166,133,78,56,5,29,52,112,{"v":3453,"d":"3,453"},262,280,{"v":1574,"d":"1,574"},191,null,null,{"v":6696,"d":"6,696"},{"v":1063,"d":"1,063"},646,{"v":1105,"d":"1,105"},{"v":2898,"d":"2,898"},984]
["040304","AREQUIPA","AREQUIPA","CARAVELI","ATIQUIPA",{"$nulls":3},745,11,4,11,6,13,11,3,7,11,12,14,8,14,8,6,8,11,9,11,8,46,74,61,51,60,32,48,49,47,21,34,15,11,10,0,7,5,18,389,30,29,172,28,null,null,745,111,56,139,301,138]
[{"$nulls":5},1369,"PUESTO DE SALUD ATIQUIPA",75,559,8,3,8,4,10,8,2,5,8,9,10,6,10,6,4,6,8,7,8,6,34,55,46,38,45,24,36,37,35,16,25,11,8,7,0,5,4,13,292,22,22,129,21,null,null,559,83,42,104,226,103]
[{"$nulls":5},1368,"PUESTO DE SALUD SANTA ROSA",25,186,3,1,3,2,3,3,1,2,3,3,4,2,4,2,2,2,3,2,3,2,12,19,15,13,15,8,12,12,12,5,9,4,3,3,0,2,1,5,97,8,7,43,7,null,null,186,28,14,35,75,35]
["040305","AREQUIPA","AREQUIPA","CARAVELI","BELLA UNION",{"$nulls":3},{"v":3563,"d":"3,563"},48,32,48,45,37,40,58,48,50,46,30,50,48,52,30,56,75,52,55,56,232,281,251,272,265,269,212,205,177,121,125,90,54,53,1,24,24,68,{"v":1817,"d":"1,817"},106,161,837,135,null,null,{"v":3563,"d":"3,563"},532,313,624,{"v":1474,"d":"1,474"},620]
[{"$nulls":5},1374,"PUESTO DE SALUD BELLA UNION",100,{"v":3563,"d":"3,563"},48,32,48,45,37,40,58,48,50,46,30,50,48,52,30,56,75,52,55,56,232,281,251,272,265,269,212,205,177,121,125,90,54,53,1,24,24,68,{"v":1817,"d":"1,817"},106,161,837,135,null,null,{"v":3563,"d":"3,563"},532,313,624,{"v":1474,"d":"1,474"},620]
["040306","AREQUIPA","AREQUIPA","CARAVELI","CAHUACHO",{"$nulls":3},{"v":1369,"d":"1,369"},11,8,10,32,10,6,10,10,26,17,16,16,28,23,16,23,16,22,26,27,69,92,78,72,89,74,85,79,63,67,68,56,51,73,0,9,2,57,719,57,64,242,348,null,null,{"v":1369,"d":"1,369"},172,128,214,477,378]
[{"$nulls":5},1377,"PUESTO DE SALUD CAHUACHO",31,424,3,2,3,10,3,2,3,3,8,5,5,5,9,7,5,7,5,7,8,8,21,29,24,22,28,23,26,24,20,21,21,17,16,23,0,3,1,18,223,18,20,75,108,null,null,424,53,40,66,148,117]
[{"$nulls":5},1338,"PUESTO DE SALUD SONDOR - CARAVELI",33,452,4,3,3,11,3,2,3,3,9,6,5,5,9,8,5,8,5,7,9,9,23,30,26,24,29,24,28,26,21,22,22,18,17,24,0,3,1,19,237,19,21,80,115,null,null,452,57,42,71,157,125]
[{"$nulls":5},1379,"PUESTO DE SALUD AYROCA",36,493,4,3,4,11,4,2,4,4,9,6,6,6,10,8,6,8,6,8,9,10,25,33,28,26,32,27,31,29,22,24,25,21,18,26,0,3,0,20,259,20,23,87,125,null,null,493,62,46,77,172,136]
["040307","AREQUIPA","AREQUIPA","CARAVELI","CHALA",{"$nulls":3},{"v":11423,"d":"11,423"},160,163,181,159,192,174,230,236,265,223,238,194,169,155,197,225,229,207,172,175,757,853,945,977,835,741,619,528,428,315,204,115,77,85,5,67,93,249,{"v":5822,"d":"5,822"},457,519,{"v":2805,"d":"2,805"},364,null,null,{"v":11423,"d":"11,423"},{"v":2415,"d":"2,415"},{"v":1182,"d":"1,182"},{"v":1957,"d":"1,957"},{"v":4645,"d":"4,645"},{"v":1224,"d":"1,224"}]
[{"$nulls":5},1350,"CENTRO DE SALUD CHALA",100,{"v":11423,"d":"11,423"},160,163,181,159,192,174,230,236,265,223,238,194,169,155,197,225,229,207,172,175,757,853,945,977,835,741,619,528,428,315,204,115,77,85,5,67,93,249,{"v":5822,"d":"5,822"},457,519,{"v":2805,"d":"2,805"},364,null,null,{"v":11423,"d":"11,423"},{"v":2415,"d":"2,415"},{"v":1182,"d":"1,182"},{"v":1957,"d":"1,957"},{"v":4645,"d":"4,645"},{"v":1224,"d":"1,224"}]
["040308","AREQUIPA","AREQUIPA","CARAVELI","CHAPARRA",{"$nulls":3},{"v":3778,"d":"3,778"},38,36,56,48,61,77,52,54,45,48,63,76,55,47,77,82,68,76,48,41,197,207,321,336,335,268,233,259,134,108,104,41,41,46,1,19,19,71,{"v":2051,"d":"2,051"},202,211,868,106,null,null,{"v":3778,"d":"3,778"},654,405,493,{"v":1752,"d":"1,752"},474]
[{"$nulls":5},1370,"PUESTO DE SALUD CHAPARRA",80,{"v":3022,"d":"3,022"},30,29,45,38,49,62,42,43,36,38,50,61,44,38,62,66,54,61,38,33,158,166,257,269,268,214,186,207,107,86,83,33,33,37,1,15,15,57,{"v":1641,"d":"1,641"},162,169,694,85,null,null,{"v":3022,"d":"3,022"},523,324,394,{"v":1402,"d":"1,402"},379]
[{"$nulls":5},1371,"PUESTO DE SALUD ACHANIZO",20,756,8,7,11,10,12,15,10,11,9,10,13,15,11,9,15,16,14,15,10,8,39,41,64,67,67,54,47,52,27,22,21,8,8,9,0,4,4,14,410,40,42,174,21,null,null,756,131,81,99,350,95]
["040309","AREQUIPA","AREQUIPA","CARAVELI","HUANUHUANU",{"$nulls":3},{"v":3453,"d":"3,453"},45,31,49,42,55,32,42,47,37,60,44,65,51,92,78,63,62,57,46,49,198,261,357,313,253,273,226,178,145,79,48,15,21,39,2,28,18,72,{"v":1942,"d":"1,942"},219,165,914,104,null,null,{"v":3453,"d":"3,453"},549,403,554,{"v":1600,"d":"1,600"},347]
[{"$nulls":5},25072,"PUESTO DE SALUD MOLLEHUACA",20,691,9,6,10,8,11,6,8,9,7,12,9,13,10,18,16,13,12,11,9,10,40,52,71,63,51,55,45,36,29,16,10,3,4,8,0,6,4,14,388,44,33,183,21,null,null,691,110,81,111,320,69]
[{"$nulls":5},1367,"PUESTO DE SALUD TOCOTA",80,{"v":2762,"d":"2,762"},36,25,39,34,44,26,34,38,30,48,35,52,41,74,62,50,50,46,37,39,158,209,286,250,202,218,181,142,116,63,38,12,17,31,2,22,14,58,{"v":1554,"d":"1,554"},175,132,731,83,null,null,{"v":2762,"d":"2,762"},439,322,443,{"v":1280,"d":"1,280"},278]
["040310","AREQUIPA","AREQUIPA","CARAVELI","JAQUI",{"$nulls":3},{"v":1978,"d":"1,978"},29,21,17,20,27,20,29,28,29,25,24,45,40,30,32,40,35,33,32,25,108,145,122,102,119,133,134,136,127,100,63,39,34,35,2,16,13,37,{"v":1037,"d":"1,037"},91,93,384,60,null,null,{"v":1978,"d":"1,978"},314,210,310,746,398]
[{"$nulls":5},1373,"PUESTO DE SALUD JAQUI",100,{"v":1978,"d":"1,978"},29,21,17,20,27,20,29,28,29,25,24,45,40,30,32,40,35,33,32,25,108,145,122,102,119,133,134,136,127,100,63,39,34,35,2,16,13,37,{"v":1037,"d":"1,037"},91,93,384,60,null,null,{"v":1978,"d":"1,978"},314,210,310,746,398]
["040311","AREQUIPA","AREQUIPA","CARAVELI","LOMAS",{"$nulls":3},{"v":1731,"d":"1,731"},18,16,28,26,17,14,23,18,26,40,23,19,26,21,23,25,26,22,17,18,119,139,140,133,134,135,108,112,103,61,48,32,10,11,1,8,10,34,905,60,62,421,43,null,null,{"v":1731,"d":"1,731"},268,143,293,762,265]
[{"$nulls":5},1376,"PUESTO DE SALUD LOMAS",100,{"v":1731,"d":"1,731"},18,16,28,26,17,14,23,18,26,40,23,19,26,21,23,25,26,22,17,18,119,139,140,133,134,135,108,112,103,61,48,32,10,11,1,8,10,34,905,60,62,421,43,null,null,{"v":1731,"d":"1,731"},268,143,293,762,265]
["040312","AREQUIPA","AREQUIPA","CARAVELI","QUICACHA",{"$nulls":3},{"v":2385,"d":"2,385"},25,19,29,22,40,16,42,38,35,40,46,51,38,51,36,55,51,53,37,44,178,159,159,160,136,145,132,130,111,90,66,49,38,64,2,10,15,43,{"v":1226,"d":"1,226"},135,122,469,74,null,null,{"v":2385,"d":"2,385"},403,284,418,862,418]
[{"$nulls":5},1372,"PUESTO DE SALUD QUICACHA",100,{"v":2385,"d":"2,385"},25,19,29,22,40,16,42,38,35,40,46,51,38,51,36,55,51,53,37,44,178,159,159,160,136,145,132,130,111,90,66,49,38,64,2,10,15,43,{"v":1226,"d":"1,226"},135,122,469,74,null,null,{"v":2385,"d":"2,385"},403,284,418,862,418]
["040313","AREQUIPA","AREQUIPA","CARAVELI","YAUCA",{"$nulls":3},{"v":2807,"d":"2,807"},27,30,33,18,22,14,38,42,42,57,40,42,56,29,48,42,47,36,29,34,167,215,169,157,187,187,176,216,198,125,111,71,40,62,0,14,14,39,{"v":1404,"d":"1,404"},119,83,591,51,null,null,{"v":2807,"d":"2,807"},405,258,445,{"v":1092,"d":"1,092"},607]
[{"$nulls":5},1375,"PUESTO DE SALUD YAUCA",100,{"v":2807,"d":"2,807"},27,30,33,18,22,14,38,42,42,57,40,42,56,29,48,42,47,36,29,34,167,215,169,157,187,187,176,216,198,125,111,71,40,62,0,14,14,39,{"v":1404,"d":"1,404"},119,83,591,51,null,null,{"v":2807,"d":"2,807"},405,258,445,{"v":1092,"d":"1,092"},607]
["040401","AREQUIPA","AREQUIPA","CASTILLA","APLAO",{"$nulls":3},{"v":10457,"d":"10,457"},113,114,114,117,142,127,135,134,140,121,132,168,207,134,157,147,201,194,161,165,746,817,743,664,658,688,655,674,527,441,358,261,141,161,6,50,63,141,{"v":5355,"d":"5,355"},394,467,{"v":2299,"d":"2,299"},259,null,null,{"v":10457,"d":"10,457"},{"v":1557,"d":"1,557"},{"v":1040,"d":"1,040"},{"v":1889,"d":"1,889"},{"v":4082,"d":"4,082"},{"v":1889,"d":"1,889"}]
[{"$nulls":5},1382,"HOSPITAL APLAO",48,{"v":5019,"d":"5,019"},54,55,55,55,68,60,64,65,68,59,63,81,100,65,75,70,97,93,77,78,357,391,357,320,316,331,313,324,252,212,172,125,68,77,3,23,31,68,{"v":2569,"d":"2,569"},189,224,{"v":1103,"d":"1,103"},124,null,null,{"v":5019,"d":"5,019"},747,500,907,{"v":1960,"d":"1,960"},907]
[{"$nulls":5},1393,"PUESTO DE SALUD ACOY",5,523,6,6,6,6,7,6,7,7,7,6,7,8,10,7,8,7,10,10,8,8,37,41,37,33,33,34,33,34,26,22,18,13,7,8,0,3,3,7,268,20,23,115,13,null,null,523,78,52,94,204,94]
[{"$nulls":5},1396,"PUESTO DE SALUD EL CASTILLO",10,{"v":1046,"d":"1,046"},11,11,11,12,14,13,14,13,14,12,13,17,21,13,16,15,20,19,16,17,75,82,74,66,66,69,66,67,53,44,36,26,14,16,1,5,6,14,536,39,47,230,26,null,null,{"v":1046,"d":"1,046"},156,104,189,408,189]
[{"$nulls":5},1395,"CENTRO DE SALUD LA REAL",21,{"v":2196,"d":"2,196"},24,24,24,25,30,27,28,28,29,25,28,35,43,28,33,31,42,41,34,35,157,172,156,139,138,144,138,142,111,93,75,55,30,34,1,11,13,30,{"v":1125,"d":"1,125"},83,98,483,54,null,null,{"v":2196,"d":"2,196"},327,218,397,857,397]
[{"$nulls":5},1394,"PUESTO DE SALUD HUATIAPILLA",10,{"v":1046,"d":"1,046"},11,11,11,12,14,13,14,13,14,12,13,17,21,13,16,15,20,19,16,17,75,82,74,66,66,69,66,67,53,44,36,26,14,16,1,5,6,14,536,39,47,230,26,null,null,{"v":1046,"d":"1,046"},156,104,189,408,189]
[{"$nulls":5},1397,"PUESTO DE SALUD LA CENTRAL",6,627,7,7,7,7,9,8,8,8,8,7,8,10,12,8,9,9,12,12,10,10,45,49,45,40,39,41,39,40,32,26,21,16,8,10,0,3,4,8,321,24,28,138,16,null,null,627,93,62,113,245,113]
["040402","AREQUIPA","AREQUIPA","CASTILLA","ANDAGUA",{"$nulls":3},982,14,5,10,10,13,8,12,12,8,12,12,11,11,14,13,7,20,12,12,10,76,54,52,53,61,64,66,63,64,53,51,44,20,35,0,4,10,39,517,35,32,180,21,null,null,982,127,77,152,359,267]
[{"$nulls":5},1387,"CENTRO DE SALUD ANDAGUA",83,815,12,4,8,8,11,7,10,10,7,10,10,9,9,12,11,6,17,10,10,8,63,45,43,44,51,53,55,52,53,44,42,37,17,29,0,3,8,32,429,29,27,149,17,null,null,815,105,64,126,298,222]
[{"$nulls":5},1408,"PUESTO DE SALUD SOPORO",17,167,2,1,2,2,2,1,2,2,1,2,2,2,2,2,2,1,3,2,2,2,13,9,9,9,10,11,11,11,11,9,9,7,3,6,0,1,2,7,88,6,5,31,4,null,null,167,22,13,26,61,45]
["040403","AREQUIPA","AREQUIPA","CASTILLA","AYO",{"$nulls":3},377,5,2,2,6,3,3,2,2,2,1,0,6,1,1,2,1,3,3,1,3,7,15,21,27,25,21,33,25,30,30,18,30,16,30,0,1,4,11,200,7,3,56,13,null,null,377,34,11,26,152,154]
[{"$nulls":5},1404,"PUESTO DE SALUD AYO",100,377,5,2,2,6,3,3,2,2,2,1,0,6,1,1,2,1,3,3,1,3,7,15,21,27,25,21,33,25,30,30,18,30,16,30,0,1,4,11,200,7,3,56,13,null,null,377,34,11,26,152,154]
["040404","AREQUIPA","AREQUIPA","CASTILLA","CHACHAS",{"$nulls":3},{"v":1847,"d":"1,847"},35,27,28,31,30,32,23,26,29,31,46,27,30,25,34,47,29,39,24,26,138,136,144,127,90,100,87,112,89,62,41,36,26,40,1,18,17,71,{"v":1013,"d":"1,013"},96,97,376,80,null,null,{"v":1847,"d":"1,847"},365,204,324,660,294]
[{"$nulls":5},1442,"PUESTO DE SALUD TOLCONI",63,{"v":1164,"d":"1,164"},22,17,18,20,19,20,14,16,18,20,29,17,19,16,21,30,18,25,15,16,87,86,91,80,57,63,55,71,56,39,26,23,16,25,1,11,11,45,638,60,61,237,50,null,null,{"v":1164,"d":"1,164"},230,129,204,416,185]
[{"$nulls":5},1405,"CHACHAS",37,683,13,10,10,11,11,12,9,10,11,11,17,10,11,9,13,17,11,14,9,10,51,50,53,47,33,37,32,41,33,23,15,13,10,15,0,7,6,26,375,36,36,139,30,null,null,683,135,75,120,244,109]
["040405","AREQUIPA","AREQUIPA","CASTILLA","CHILCAYMARCA",{"$nulls":3},{"v":1148,"d":"1,148"},13,12,16,9,13,10,18,17,18,21,17,26,6,13,9,25,19,26,19,8,69,93,97,100,103,88,71,56,54,38,24,15,14,11,0,1,12,21,597,33,56,282,23,null,null,{"v":1148,"d":"1,148"},190,98,189,515,156]
[{"$nulls":5},1406,"PUESTO DE SALUD CHAPACOCO",30,344,4,4,5,3,4,3,5,5,5,6,5,8,2,4,3,8,6,8,6,2,21,28,29,30,31,26,21,17,16,11,7,5,4,3,0,0,4,6,179,10,17,85,7,null,null,344,57,29,57,155,47]
[{"$nulls":5},14382,"PUESTO DE SALUD CHILCAYMARCA",70,804,9,8,11,6,9,7,13,12,13,15,12,18,4,9,6,17,13,18,13,6,48,65,68,70,72,62,50,39,38,27,17,10,10,8,0,1,8,15,418,23,39,197,16,null,null,804,133,69,132,360,109]
["040406","AREQUIPA","AREQUIPA","CASTILLA","CHOCO",{"$nulls":3},806,10,4,7,4,6,6,7,8,6,5,5,11,5,10,10,7,13,5,12,12,41,35,51,49,65,59,53,46,53,50,40,46,27,38,0,5,5,22,465,31,29,156,32,null,null,806,79,50,100,323,254]
[{"$nulls":5},1441,"PUESTO DE SALUD CHOCO",100,806,10,4,7,4,6,6,7,8,6,5,5,11,5,10,10,7,13,5,12,12,41,35,51,49,65,59,53,46,53,50,40,46,27,38,0,5,5,22,465,31,29,156,32,null,null,806,79,50,100,323,254]
["040407","AREQUIPA","AREQUIPA","CASTILLA","HUANCARQUI",{"$nulls":3},{"v":1731,"d":"1,731"},28,17,18,12,26,16,16,14,18,19,19,5,21,13,22,23,16,24,13,18,91,102,145,120,128,120,130,128,120,84,80,50,33,42,0,14,14,36,931,43,51,365,22,null,null,{"v":1731,"d":"1,731"},208,119,224,771,409]
[{"$nulls":5},1384,"CENTRO DE SALUD HUANCARQUI",100,{"v":1731,"d":"1,731"},28,17,18,12,26,16,16,14,18,19,19,5,21,13,22,23,16,24,13,18,91,102,145,120,128,120,130,128,120,84,80,50,33,42,0,14,14,36,931,43,51,365,22,null,null,{"v":1731,"d":"1,731"},208,119,224,771,409]
["040408","AREQUIPA","AREQUIPA","CASTILLA","MACHAGUAY",{"$nulls":3},482,12,6,3,5,2,7,2,4,2,5,2,9,3,5,7,5,7,9,6,9,25,19,18,15,24,29,34,35,37,19,39,21,24,33,0,4,8,22,259,17,18,72,9,null,null,482,59,36,59,155,173]
[{"$nulls":5},1402,"PUESTO DE SALUD MACHAGUAY",100,482,12,6,3,5,2,7,2,4,2,5,2,9,3,5,7,5,7,9,6,9,25,19,18,15,24,29,34,35,37,19,39,21,24,33,0,4,8,22,259,17,18,72,9,null,null,482,59,36,59,155,173]
["040409","AREQUIPA","AREQUIPA","CASTILLA","ORCOPAMPA",{"$nulls":3},{"v":9089,"d":"9,089"},58,55,80,52,91,72,151,172,202,193,193,191,160,189,188,267,229,264,180,140,748,721,683,691,630,530,428,457,344,253,210,120,74,73,0,24,34,75,{"v":4617,"d":"4,617"},477,552,{"v":2033,"d":"2,033"},118,null,null,{"v":9089,"d":"9,089"},{"v":1510,"d":"1,510"},{"v":1297,"d":"1,297"},{"v":1789,"d":"1,789"},{"v":3419,"d":"3,419"},{"v":1074,"d":"1,074"}]
[{"$nulls":5},1407,"CENTRO DE SALUD ORCOPAMPA",100,{"v":9089,"d":"9,089"},58,55,80,52,91,72,151,172,202,193,193,191,160,189,188,267,229,264,180,140,748,721,683,691,630,530,428,457,344,253,210,120,74,73,0,24,34,75,{"v":4617,"d":"4,617"},477,552,{"v":2033,"d":"2,033"},118,null,null,{"v":9089,"d":"9,089"},{"v":1510,"d":"1,510"},{"v":1297,"d":"1,297"},{"v":1789,"d":"1,789"},{"v":3419,"d":"3,419"},{"v":1074,"d":"1,074"}]
["040410","AREQUIPA","AREQUIPA","CASTILLA","PAMPACOLCA",{"$nulls":3},{"v":2145,"d":"2,145"},33,20,17,30,33,20,25,22,35,26,32,34,34,30,29,43,40,43,26,39,149,116,102,86,103,125,126,161,112,94,76,104,87,93,0,7,27,72,{"v":1109,"d":"1,109"},79,104,337,128,null,null,{"v":2145,"d":"2,145"},327,219,330,703,566]
[{"$nulls":5},1385,"CENTRO DE SALUD PAMPACOLCA",80,{"v":1716,"d":"1,716"},26,16,14,24,26,16,20,17,28,21,25,27,27,24,24,35,32,35,21,31,119,93,82,69,83,100,101,129,90,75,61,84,70,75,0,5,22,57,887,64,84,270,103,null,null,{"v":1716,"d":"1,716"},262,175,264,563,453]
[{"$nulls":5},1398,"PUESTO DE SALUD SAN ANTONIO",12,257,4,2,2,4,4,2,3,3,4,3,4,4,4,4,3,5,5,5,3,5,18,14,12,10,12,15,15,19,13,11,9,12,10,11,0,1,3,9,133,9,12,40,15,null,null,257,39,26,40,84,68]
[{"$nulls":5},1399,"PUESTO DE SALUD PISCOPAMPA",8,172,3,2,1,2,3,2,2,2,3,2,3,3,3,2,2,3,3,3,2,3,12,9,8,7,8,10,10,13,9,8,6,8,7,7,0,1,2,6,89,6,8,27,10,null,null,172,26,18,26,56,45]
["040411","AREQUIPA","AREQUIPA","CASTILLA","TIPAN",{"$nulls":3},450,4,2,4,2,3,0,5,6,3,3,2,5,3,7,4,6,3,8,9,10,22,19,22,17,26,23,24,39,36,29,28,36,10,30,0,0,4,13,238,12,21,61,6,null,null,450,39,31,60,151,169]
[{"$nulls":5},1400,"PUESTO DE SALUD TIPAN",43,194,2,1,2,1,1,0,2,3,1,1,1,2,1,3,2,3,1,3,4,4,9,8,9,7,11,10,10,17,15,12,12,15,4,13,0,0,2,6,102,5,9,26,3,null,null,194,17,13,26,65,73]
[{"$nulls":5},1401,"PUESTO DE SALUD TAGRE",57,256,2,1,2,1,2,0,3,3,2,2,1,3,2,4,2,3,2,5,5,6,13,11,13,10,15,13,14,22,21,17,16,21,6,17,0,0,2,7,136,7,12,35,3,null,null,256,22,18,34,86,96]
["040412","AREQUIPA","AREQUIPA","CASTILLA","UÑON",{"$nulls":3},296,4,1,3,2,2,0,5,0,3,5,0,2,0,2,6,2,2,2,0,4,9,23,18,17,20,24,23,18,28,21,17,12,10,11,0,0,4,8,160,6,7,57,17,null,null,296,27,14,36,120,99]
[{"$nulls":5},1403,"PUESTO DE SALUD UÑON",100,296,4,1,3,2,2,0,5,0,3,5,0,2,0,2,6,2,2,2,0,4,9,23,18,17,20,24,23,18,28,21,17,12,10,11,0,0,4,8,160,6,7,57,17,null,null,296,27,14,36,120,99]
["040413","AREQUIPA","AREQUIPA","CASTILLA","URACA",{"$nulls":3},{"v":6584,"d":"6,584"},59,51,77,70,66,80,82,90,83,85,91,75,84,84,72,120,128,103,92,111,447,525,441,457,468,431,431,425,367,279,235,153,106,116,1,26,33,124,{"v":3406,"d":"3,406"},223,303,{"v":1446,"d":"1,446"},167,null,null,{"v":6584,"d":"6,584"},909,591,{"v":1175,"d":"1,175"},{"v":2653,"d":"2,653"},{"v":1256,"d":"1,256"}]
[{"$nulls":5},1383,"CENTRO DE SALUD CORIRE",70,{"v":4609,"d":"4,609"},41,36,54,49,46,56,57,63,58,59,64,52,59,59,50,84,90,73,65,78,312,367,309,319,328,302,302,297,257,196,164,108,74,81,1,18,23,87,{"v":2384,"d":"2,384"},156,213,{"v":1011,"d":"1,011"},117,null,null,{"v":4609,"d":"4,609"},636,414,822,{"v":1858,"d":"1,858"},879]
[{"$nulls":5},1390,"PUESTO DE SALUD TORAN",12,790,7,6,9,8,8,10,10,11,10,10,11,9,10,10,9,14,15,12,11,13,54,63,53,55,56,52,52,51,44,33,28,18,13,14,0,3,4,15,409,27,36,174,20,null,null,790,109,71,141,318,151]
[{"$nulls":5},1391,"PUESTO DE SALUD EL PEDREGAL",8,527,5,4,6,6,5,6,7,7,7,7,7,6,7,7,6,10,10,8,7,9,36,42,35,37,37,34,34,34,29,22,19,12,8,9,0,2,3,10,272,18,24,116,13,null,null,527,73,47,94,212,100]
[{"$nulls":5},1392,"PUESTO DE SALUD ESCALERILLAS",10,658,6,5,8,7,7,8,8,9,8,9,9,8,8,8,7,12,13,10,9,11,45,53,44,46,47,43,43,43,37,28,24,15,11,12,0,3,3,12,341,22,30,145,17,null,null,658,91,59,118,265,126]
["040414","AREQUIPA","AREQUIPA","CASTILLA","VIRACO",{"$nulls":3},{"v":1535,"d":"1,535"},16,11,12,15,11,14,18,17,14,15,9,17,25,17,16,17,22,30,18,18,84,87,70,63,91,95,96,95,114,106,86,82,63,71,0,7,9,38,800,54,64,247,43,null,null,{"v":1535,"d":"1,535"},169,127,207,510,522]
[{"$nulls":5},1386,"CENTRO DE SALUD VIRACO",90,{"v":1381,"d":"1,381"},14,10,11,13,10,13,16,15,13,13,8,15,22,15,14,15,20,27,16,16,76,78,63,57,82,85,86,85,103,95,77,74,57,64,0,6,8,34,720,49,58,222,39,null,null,{"v":1381,"d":"1,381"},152,114,186,459,470]
[{"$nulls":5},6766,"PUESTO DE SALUD HUAMI",10,154,2,1,1,2,1,1,2,2,1,2,1,2,3,2,2,2,2,3,2,2,8,9,7,6,9,10,10,10,11,11,9,8,6,7,0,1,1,4,80,5,6,25,4,null,null,154,17,13,21,51,52]
["040501","AREQUIPA","AREQUIPA","CAYLLOMA","CHIVAY",{"$nulls":3},{"v":7959,"d":"7,959"},53,51,95,59,81,79,137,142,145,141,145,121,170,148,115,172,177,165,167,145,752,704,641,534,475,436,357,429,317,216,202,186,89,113,1,26,27,94,{"v":4058,"d":"4,058"},341,402,{"v":1807,"d":"1,807"},139,null,null,{"v":7959,"d":"7,959"},{"v":1249,"d":"1,249"},947,{"v":1768,"d":"1,768"},{"v":2872,"d":"2,872"},{"v":1123,"d":"1,123"}]
[{"$nulls":5},1419,"CENTRO DE SALUD CHIVAY",90,{"v":7163,"d":"7,163"},48,46,85,53,73,71,123,128,130,127,130,109,153,133,103,155,159,148,150,130,677,634,577,481,427,392,321,386,285,194,182,167,80,102,1,23,24,85,{"v":3652,"d":"3,652"},307,362,{"v":1626,"d":"1,626"},125,null,null,{"v":7163,"d":"7,163"},{"v":1124,"d":"1,124"},852,{"v":1591,"d":"1,591"},{"v":2585,"d":"2,585"},{"v":1011,"d":"1,011"}]
[{"$nulls":5},1423,"PUESTO DE SALUD CANOCOTA",10,796,5,5,10,6,8,8,14,14,15,14,15,12,17,15,12,17,18,17,17,15,75,70,64,53,48,44,36,43,32,22,20,19,9,11,0,3,3,9,406,34,40,181,14,null,null,796,125,95,177,287,112]
["040502","AREQUIPA","AREQUIPA","CAYLLOMA","ACHOMA",{"$nulls":3},{"v":1225,"d":"1,225"},14,9,13,11,8,6,12,11,9,5,7,9,11,11,11,15,10,15,8,22,82,101,77,59,82,96,90,99,85,59,55,43,40,40,0,12,3,25,661,26,40,253,26,null,null,{"v":1225,"d":"1,225"},114,73,213,503,322]
[{"$nulls":5},1429,"PUESTO DE SALUD ACHOMA",100,{"v":1225,"d":"1,225"},14,9,13,11,8,6,12,11,9,5,7,9,11,11,11,15,10,15,8,22,82,101,77,59,82,96,90,99,85,59,55,43,40,40,0,12,3,25,661,26,40,253,26,null,null,{"v":1225,"d":"1,225"},114,73,213,503,322]
["040503","AREQUIPA","AREQUIPA","CAYLLOMA","CABANACONDE",{"$nulls":3},{"v":2960,"d":"2,960"},17,15,19,18,29,17,41,32,25,22,27,29,29,41,34,33,58,42,38,35,187,213,183,156,192,194,212,265,169,161,124,96,98,109,0,10,8,30,{"v":1501,"d":"1,501"},76,106,555,64,null,null,{"v":2960,"d":"2,960"},291,237,473,{"v":1202,"d":"1,202"},757]
[{"$nulls":5},1420,"CABANACONDE",80,{"v":2368,"d":"2,368"},14,12,15,14,23,14,33,26,20,18,22,23,23,33,27,26,46,34,30,28,150,170,146,125,154,155,170,212,135,129,99,77,78,87,0,8,6,24,{"v":1201,"d":"1,201"},61,85,444,51,null,null,{"v":2368,"d":"2,368"},233,190,378,962,606]
[{"$nulls":5},1432,"PUESTO DE SALUD PINCHOLLO",20,592,3,3,4,4,6,3,8,6,5,4,5,6,6,8,7,7,12,8,8,7,37,43,37,31,38,39,42,53,34,32,25,19,20,22,0,2,2,6,300,15,21,111,13,null,null,592,58,47,95,240,151]
["040504","AREQUIPA","AREQUIPA","CAYLLOMA","CALLALLI",{"$nulls":3},{"v":2214,"d":"2,214"},28,20,17,15,27,9,25,17,21,28,23,34,17,32,9,23,29,19,26,21,146,175,154,135,121,166,173,172,148,121,107,66,40,50,2,19,9,43,{"v":1163,"d":"1,163"},61,72,452,64,null,null,{"v":2214,"d":"2,214"},264,129,368,921,532]
[{"$nulls":5},1421,"CENTRO DE SALUD CALLALLI",100,{"v":2214,"d":"2,214"},28,20,17,15,27,9,25,17,21,28,23,34,17,32,9,23,29,19,26,21,146,175,154,135,121,166,173,172,148,121,107,66,40,50,2,19,9,43,{"v":1163,"d":"1,163"},61,72,452,64,null,null,{"v":2214,"d":"2,214"},264,129,368,921,532]
["040505","AREQUIPA","AREQUIPA","CAYLLOMA","CAYLLOMA",{"$nulls":3},{"v":5339,"d":"5,339"},39,37,62,63,58,55,63,82,96,96,97,102,108,82,91,112,100,114,114,87,475,470,378,373,341,312,284,286,245,182,135,96,57,47,2,23,16,98,{"v":2797,"d":"2,797"},267,275,{"v":1218,"d":"1,218"},272,null,null,{"v":5339,"d":"5,339"},850,607,{"v":1146,"d":"1,146"},{"v":1974,"d":"1,974"},762]
[{"$nulls":5},1422,"CENTRO DE SALUD CAYLLOMA",77,{"v":4111,"d":"4,111"},30,28,48,49,45,42,49,63,74,74,75,79,83,63,70,86,77,88,88,67,366,362,291,287,263,240,219,220,189,140,104,74,44,36,2,18,12,75,{"v":2154,"d":"2,154"},206,212,938,209,null,null,{"v":4111,"d":"4,111"},654,467,882,{"v":1520,"d":"1,520"},587]
[{"$nulls":5},1418,"PUESTO DE SALUD JACHAÑA",23,{"v":1228,"d":"1,228"},9,9,14,14,13,13,14,19,22,22,22,23,25,19,21,26,23,26,26,20,109,108,87,86,78,72,65,66,56,42,31,22,13,11,0,5,4,23,643,61,63,280,63,null,null,{"v":1228,"d":"1,228"},196,140,264,454,175]
["040506","AREQUIPA","AREQUIPA","CAYLLOMA","COPORAQUE",{"$nulls":3},{"v":1554,"d":"1,554"},18,11,16,10,16,16,25,23,17,17,16,14,6,14,11,20,22,16,18,23,85,116,98,119,151,101,94,92,98,74,66,51,38,42,0,7,11,20,772,30,48,342,37,null,null,{"v":1554,"d":"1,554"},199,89,242,655,369]
[{"$nulls":5},1424,"PUESTO DE SALUD COPORAQUE",100,{"v":1554,"d":"1,554"},18,11,16,10,16,16,25,23,17,17,16,14,6,14,11,20,22,16,18,23,85,116,98,119,151,101,94,92,98,74,66,51,38,42,0,7,11,20,772,30,48,342,37,null,null,{"v":1554,"d":"1,554"},199,89,242,655,369]
["040507","AREQUIPA","AREQUIPA","CAYLLOMA","HUAMBO",{"$nulls":3},964,10,9,5,9,7,7,9,9,2,4,13,9,8,8,13,12,21,21,11,6,56,60,56,45,58,49,66,73,52,84,50,41,42,39,0,7,3,14,523,32,44,165,20,null,null,964,93,83,133,347,308]
[{"$nulls":5},1433,"PUESTO DE SALUD HUAMBO",100,964,10,9,5,9,7,7,9,9,2,4,13,9,8,8,13,12,21,21,11,6,56,60,56,45,58,49,66,73,52,84,50,41,42,39,0,7,3,14,523,32,44,165,20,null,null,964,93,83,133,347,308]
["040508","AREQUIPA","AREQUIPA","CAYLLOMA","HUANCA",{"$nulls":3},{"v":1499,"d":"1,499"},19,12,12,14,11,6,7,7,8,9,11,9,7,15,9,8,18,20,13,21,74,84,79,89,109,120,118,109,121,96,87,65,52,60,0,6,13,39,809,28,47,278,47,null,null,{"v":1499,"d":"1,499"},125,77,192,624,481]
[{"$nulls":5},1239,"PUESTO DE SALUD HUANCA",100,{"v":1499,"d":"1,499"},19,12,12,14,11,6,7,7,8,9,11,9,7,15,9,8,18,20,13,21,74,84,79,89,109,120,118,109,121,96,87,65,52,60,0,6,13,39,809,28,47,278,47,null,null,{"v":1499,"d":"1,499"},125,77,192,624,481]
["040509","AREQUIPA","AREQUIPA","CAYLLOMA","ICHUPAMPA",{"$nulls":3},972,11,5,12,6,15,3,9,10,13,7,7,15,16,7,16,9,13,16,3,14,54,72,83,65,61,64,59,64,56,60,47,34,24,22,0,2,9,24,514,32,26,217,36,null,null,972,113,77,143,396,243]
[{"$nulls":5},1425,"PUESTO DE SALUD ICHUPAMPA",100,972,11,5,12,6,15,3,9,10,13,7,7,15,16,7,16,9,13,16,3,14,54,72,83,65,61,64,59,64,56,60,47,34,24,22,0,2,9,24,514,32,26,217,36,null,null,972,113,77,143,396,243]
["040510","AREQUIPA","AREQUIPA","CAYLLOMA","LARI",{"$nulls":3},{"v":1338,"d":"1,338"},13,13,14,12,14,10,14,16,7,16,21,21,13,23,17,23,24,20,25,23,100,110,107,66,86,90,83,82,71,62,38,35,42,27,2,6,8,28,714,54,62,286,40,null,null,{"v":1338,"d":"1,338"},171,120,258,514,275]
[{"$nulls":5},1426,"PUESTO DE SALUD LARI",100,{"v":1338,"d":"1,338"},13,13,14,12,14,10,14,16,7,16,21,21,13,23,17,23,24,20,25,23,100,110,107,66,86,90,83,82,71,62,38,35,42,27,2,6,8,28,714,54,62,286,40,null,null,{"v":1338,"d":"1,338"},171,120,258,514,275]
["040511","AREQUIPA","AREQUIPA","CAYLLOMA","LLUTA",{"$nulls":3},{"v":1282,"d":"1,282"},16,14,19,8,10,7,4,8,14,4,12,16,18,16,7,22,12,22,22,9,62,59,71,77,85,94,90,99,82,62,79,66,46,50,0,4,12,27,734,39,60,241,61,null,null,{"v":1282,"d":"1,282"},132,97,152,516,385]
[{"$nulls":5},1255,"PUESTO DE SALUD LLUTA",60,769,9,9,12,5,6,4,2,5,9,2,7,9,11,9,4,13,7,13,13,5,37,35,43,46,51,56,54,59,49,37,48,40,27,29,0,2,7,16,440,23,36,145,37,null,null,769,80,59,91,309,231]
[{"$nulls":5},1256,"PUESTO DE SALUD TAYA",23,295,4,3,4,2,2,2,1,2,3,1,3,4,4,4,2,5,3,5,5,2,14,14,16,18,20,22,21,23,19,14,18,15,11,12,0,1,3,6,169,9,14,55,14,null,null,295,30,22,35,119,89]
[{"$nulls":5},1340,"PUESTO DE SALUD QUERQUE",17,218,3,2,3,1,2,1,1,1,2,1,2,3,3,3,1,4,2,4,4,2,11,10,12,13,14,16,15,17,14,11,13,11,8,9,0,1,2,5,125,7,10,41,10,null,null,218,22,16,26,88,65]
["040512","AREQUIPA","AREQUIPA","CAYLLOMA","MACA",{"$nulls":3},{"v":1059,"d":"1,059"},7,3,4,6,5,5,6,12,11,6,12,2,12,9,1,14,12,16,7,17,64,68,55,80,82,85,74,72,57,68,51,67,30,39,0,4,4,9,555,15,30,217,22,null,null,{"v":1059,"d":"1,059"},79,64,156,448,312]
[{"$nulls":5},1430,"PUESTO DE SALUD MACA",100,{"v":1059,"d":"1,059"},7,3,4,6,5,5,6,12,11,6,12,2,12,9,1,14,12,16,7,17,64,68,55,80,82,85,74,72,57,68,51,67,30,39,0,4,4,9,555,15,30,217,22,null,null,{"v":1059,"d":"1,059"},79,64,156,448,312]
["040513","AREQUIPA","AREQUIPA","CAYLLOMA","MADRIGAL",{"$nulls":3},935,7,2,5,3,4,7,4,5,5,4,3,3,9,11,10,8,15,12,8,10,57,53,50,62,55,72,56,61,78,68,56,53,35,44,1,4,3,9,487,21,35,164,14,null,null,935,52,65,128,356,334]
[{"$nulls":5},1427,"PUESTO DE SALUD MADRIGAL",100,935,7,2,5,3,4,7,4,5,5,4,3,3,9,11,10,8,15,12,8,10,57,53,50,62,55,72,56,61,78,68,56,53,35,44,1,4,3,9,487,21,35,164,14,null,null,935,52,65,128,356,334]
["040514","AREQUIPA","AREQUIPA","CAYLLOMA","SAN ANTONIO DE CHUCA",{"$nulls":3},{"v":1192,"d":"1,192"},18,11,12,11,14,13,17,18,16,17,27,25,10,11,12,19,26,29,23,14,75,76,65,80,80,76,76,85,71,49,54,31,17,14,2,10,8,41,603,41,56,244,27,null,null,{"v":1192,"d":"1,192"},199,107,188,462,236]
[{"$nulls":5},1242,"PUESTO DE SALUD IMATA",60,715,11,7,7,7,8,8,10,11,10,10,16,15,6,7,7,11,16,17,14,8,45,46,39,48,48,46,46,51,43,29,32,19,10,8,1,6,5,25,362,25,34,146,16,null,null,715,119,64,113,277,142]
[{"$nulls":5},1243,"PUESTO DE SALUD PILLONES",40,477,7,4,5,4,6,5,7,7,6,7,11,10,4,4,5,8,10,12,9,6,30,30,26,32,32,30,30,34,28,20,22,12,7,6,1,4,3,16,241,16,22,98,11,null,null,477,80,43,75,185,94]
["040515","AREQUIPA","AREQUIPA","CAYLLOMA","SIBAYO",{"$nulls":3},{"v":1122,"d":"1,122"},13,11,8,4,9,8,5,15,7,14,15,13,15,15,1,23,20,18,14,13,88,87,86,76,83,95,60,67,66,48,44,40,19,22,0,3,10,25,578,23,41,262,21,null,null,{"v":1122,"d":"1,122"},122,92,202,467,239]
[{"$nulls":5},1435,"PUESTO DE SALUD SANTA ROSA DE SIBAYO",100,{"v":1122,"d":"1,122"},13,11,8,4,9,8,5,15,7,14,15,13,15,15,1,23,20,18,14,13,88,87,86,76,83,95,60,67,66,48,44,40,19,22,0,3,10,25,578,23,41,262,21,null,null,{"v":1122,"d":"1,122"},122,92,202,467,239]
["040516","AREQUIPA","AREQUIPA","CAYLLOMA","TAPAY",{"$nulls":3},{"v":1044,"d":"1,044"},14,2,10,9,9,10,10,8,10,7,6,9,11,8,15,10,15,11,11,12,50,73,69,85,78,70,56,67,70,65,60,38,37,29,0,5,9,57,594,31,41,225,38,null,null,{"v":1044,"d":"1,044"},104,70,146,425,299]
[{"$nulls":5},1434,"PUESTO DE SALUD TAPAY",100,{"v":1044,"d":"1,044"},14,2,10,9,9,10,10,8,10,7,6,9,11,8,15,10,15,11,11,12,50,73,69,85,78,70,56,67,70,65,60,38,37,29,0,5,9,57,594,31,41,225,38,null,null,{"v":1044,"d":"1,044"},104,70,146,425,299]
["040517","AREQUIPA","AREQUIPA","CAYLLOMA","TISCO",{"$nulls":3},{"v":2192,"d":"2,192"},12,12,16,12,16,19,27,23,25,24,25,19,32,36,31,40,34,46,43,29,182,158,134,125,149,147,147,160,127,93,81,86,44,38,0,2,10,17,{"v":1191,"d":"1,191"},75,102,470,42,null,null,{"v":2192,"d":"2,192"},230,219,412,862,469]
[{"$nulls":5},1438,"PUESTO DE SALUD TISCO",39,855,5,5,6,5,6,7,11,8,10,9,10,7,12,14,13,15,13,18,17,11,71,62,52,49,58,58,58,63,50,37,32,33,17,15,0,1,4,7,464,29,40,183,16,null,null,855,90,85,161,336,182]
[{"$nulls":5},1431,"PUESTO DE SALUD COTACOTA",37,811,4,4,6,4,6,7,10,9,9,9,9,7,12,13,11,15,13,17,16,11,67,58,50,46,55,54,54,59,47,34,30,32,16,14,0,1,4,6,441,28,38,174,16,null,null,811,85,81,152,319,174]
[{"$nulls":5},6891,"PUESTO DE SALUD TARUCAMARCA",24,526,3,3,4,3,4,5,6,6,6,6,6,5,8,9,7,10,8,11,10,7,44,38,32,30,36,35,35,38,30,22,19,21,11,9,0,0,2,4,286,18,24,113,10,null,null,526,55,53,99,207,113]
["040518","AREQUIPA","AREQUIPA","CAYLLOMA","TUTI",{"$nulls":3},{"v":1093,"d":"1,093"},10,10,9,6,10,5,18,16,8,13,16,16,15,2,9,13,25,16,20,28,84,78,77,79,82,71,57,60,55,43,62,41,19,20,0,4,7,21,580,30,41,252,28,null,null,{"v":1093,"d":"1,093"},137,80,210,426,240]
[{"$nulls":5},1436,"PUESTO DE SALUD TUTI",100,{"v":1093,"d":"1,093"},10,10,9,6,10,5,18,16,8,13,16,16,15,2,9,13,25,16,20,28,84,78,77,79,82,71,57,60,55,43,62,41,19,20,0,4,7,21,580,30,41,252,28,null,null,{"v":1093,"d":"1,093"},137,80,210,426,240]
["040519","AREQUIPA","AREQUIPA","CAYLLOMA","YANQUE",{"$nulls":3},{"v":3145,"d":"3,145"},30,22,19,23,40,24,38,37,29,31,38,27,38,38,34,34,42,54,50,53,229,268,256,217,226,221,180,179,170,147,148,79,63,61,1,18,12,44,{"v":1639,"d":"1,639"},97,108,743,96,null,null,{"v":3145,"d":"3,145"},358,240,600,{"v":1279,"d":"1,279"},668]
[{"$nulls":5},1428,"PUESTO DE SALUD YANQUE",54,{"v":1698,"d":"1,698"},16,12,10,12,22,13,21,20,16,17,21,15,21,21,18,18,23,29,27,29,124,145,138,117,122,119,97,97,92,79,80,43,34,33,1,10,6,24,885,52,58,401,52,null,null,{"v":1698,"d":"1,698"},193,130,324,691,361]
[{"$nulls":5},1437,"PUESTO DE SALUD CHALHUANCA",46,{"v":1447,"d":"1,447"},14,10,9,11,18,11,17,17,13,14,17,12,17,17,16,16,19,25,23,24,105,123,118,100,104,102,83,82,78,68,68,36,29,28,0,8,6,20,754,45,50,342,44,null,null,{"v":1447,"d":"1,447"},165,110,276,588,307]
["040520","AREQUIPA","AREQUIPA","CAYLLOMA","MAJES",{"$nulls":3},{"v":79357,"d":"79,357"},954,985,{"v":1183,"d":"1,183"},{"v":1233,"d":"1,233"},{"v":1307,"d":"1,307"},{"v":1337,"d":"1,337"},{"v":1320,"d":"1,320"},{"v":1428,"d":"1,428"},{"v":1232,"d":"1,232"},{"v":1238,"d":"1,238"},{"v":1161,"d":"1,161"},{"v":1171,"d":"1,171"},{"v":1155,"d":"1,155"},{"v":1146,"d":"1,146"},{"v":1153,"d":"1,153"},{"v":1129,"d":"1,129"},{"v":1338,"d":"1,338"},{"v":1305,"d":"1,305"},{"v":1273,"d":"1,273"},{"v":1217,"d":"1,217"},{"v":5619,"d":"5,619"},{"v":6563,"d":"6,563"},{"v":6722,"d":"6,722"},{"v":6517,"d":"6,517"},{"v":6147,"d":"6,147"},{"v":5619,"d":"5,619"},{"v":4663,"d":"4,663"},{"v":4013,"d":"4,013"},{"v":3134,"d":"3,134"},{"v":2254,"d":"2,254"},{"v":1752,"d":"1,752"},{"v":1108,"d":"1,108"},554,427,38,469,485,{"v":1606,"d":"1,606"},{"v":40207,"d":"40,207"},{"v":2910,"d":"2,910"},{"v":3069,"d":"3,069"},{"v":19254,"d":"19,254"},{"v":2114,"d":"2,114"},null,null,{"v":79357,"d":"79,357"},{"v":14549,"d":"14,549"},{"v":7226,"d":"7,226"},{"v":14672,"d":"14,672"},{"v":33681,"d":"33,681"},{"v":9229,"d":"9,229"}]
[{"$nulls":5},16721,"HOSPITAL CENTRAL DE MAJES ING. ANGEL GABRIEL CHURA GALLEGOS",0,0,0,0,0,0,0,0,0,0,0,0,0,0,0,0,0,0,0,0,0,0,0,0,0,0,0,0,0,0,0,0,0,0,0,0,0,0,0,0,0,0,0,0,0,null,null,0,0,0,0,0,0]
[{"$nulls":5},1326,"CENTRO DE SALUD LA COLINA",41,{"v":32536,"d":"32,536"},391,404,485,506,536,548,541,585,505,508,476,480,474,470,473,463,549,535,522,499,{"v":2304,"d":"2,304"},{"v":2691,"d":"2,691"},{"v":2756,"d":"2,756"},{"v":2672,"d":"2,672"},{"v":2520,"d":"2,520"},{"v":2304,"d":"2,304"},{"v":1912,"d":"1,912"},{"v":1645,"d":"1,645"},{"v":1285,"d":"1,285"},924,718,454,227,175,16,192,199,658,{"v":16485,"d":"16,485"},{"v":1193,"d":"1,193"},{"v":1258,"d":"1,258"},{"v":7894,"d":"7,894"},867,null,null,{"v":32536,"d":"32,536"},{"v":5965,"d":"5,965"},{"v":2963,"d":"2,963"},{"v":6016,"d":"6,016"},{"v":13809,"d":"13,809"},{"v":3784,"d":"3,784"}]
[{"$nulls":5},1325,"CENTRO DE SALUD  SANDRITA PEREZ EL PEDREGAL",46,{"v":36505,"d":"36,505"},439,453,544,567,602,615,608,657,567,569,534,539,531,527,530,519,615,601,586,560,{"v":2585,"d":"2,585"},{"v":3019,"d":"3,019"},{"v":3092,"d":"3,092"},{"v":2998,"d":"2,998"},{"v":2828,"d":"2,828"},{"v":2585,"d":"2,585"},{"v":2145,"d":"2,145"},{"v":1846,"d":"1,846"},{"v":1442,"d":"1,442"},{"v":1037,"d":"1,037"},806,510,255,196,17,216,223,740,{"v":18496,"d":"18,496"},{"v":1338,"d":"1,338"},{"v":1412,"d":"1,412"},{"v":8857,"d":"8,857"},972,null,null,{"v":36505,"d":"36,505"},{"v":6693,"d":"6,693"},{"v":3323,"d":"3,323"},{"v":6749,"d":"6,749"},{"v":15493,"d":"15,493"},{"v":4245,"d":"4,245"}]
[{"$nulls":5},1341,"ASENTAMIENTO B-1",7,{"v":5555,"d":"5,555"},67,69,83,86,91,94,92,100,86,87,81,82,81,80,81,79,94,91,89,85,393,459,471,456,430,393,326,281,219,158,123,78,39,30,3,33,34,112,{"v":2814,"d":"2,814"},204,215,{"v":1348,"d":"1,348"},148,null,null,{"v":5555,"d":"5,555"},{"v":1018,"d":"1,018"},506,{"v":1027,"d":"1,027"},{"v":2358,"d":"2,358"},646]
[{"$nulls":5},1342,"PUESTO DE SALUD  B-2",6,{"v":4761,"d":"4,761"},57,59,71,74,78,80,79,86,74,74,70,70,69,69,69,68,80,78,76,73,337,394,403,391,369,337,280,241,188,135,105,66,33,26,2,28,29,96,{"v":2412,"d":"2,412"},175,184,{"v":1155,"d":"1,155"},127,null,null,{"v":4761,"d":"4,761"},873,434,880,{"v":2021,"d":"2,021"},554]
["040601","AREQUIPA","AREQUIPA","CONDESUYOS","CHUQUIBAMBA",{"$nulls":3},{"v":3529,"d":"3,529"},40,39,32,37,45,43,47,51,54,58,56,52,56,47,60,76,62,65,63,52,256,249,210,172,217,206,183,191,161,150,171,113,95,120,1,25,15,54,{"v":1809,"d":"1,809"},140,139,676,60,null,null,{"v":3529,"d":"3,529"},554,366,620,{"v":1179,"d":"1,179"},810]
[{"$nulls":5},1388,"CENTRO DE SALUD CHUQUIBAMBA",100,{"v":3529,"d":"3,529"},40,39,32,37,45,43,47,51,54,58,56,52,56,47,60,76,62,65,63,52,256,249,210,172,217,206,183,191,161,150,171,113,95,120,1,25,15,54,{"v":1809,"d":"1,809"},140,139,676,60,null,null,{"v":3529,"d":"3,529"},554,366,620,{"v":1179,"d":"1,179"},810]
["040602","AREQUIPA","AREQUIPA","CONDESUYOS","ANDARAY",{"$nulls":3},752,9,3,6,3,4,4,5,2,6,7,6,4,4,9,2,8,5,11,5,12,36,62,43,60,39,58,48,46,55,39,57,29,24,41,0,1,8,15,382,13,18,151,8,null,null,752,59,39,115,294,245]
[{"$nulls":5},1415,"PUESTO DE SALUD ANDARAY",100,752,9,3,6,3,4,4,5,2,6,7,6,4,4,9,2,8,5,11,5,12,36,62,43,60,39,58,48,46,55,39,57,29,24,41,0,1,8,15,382,13,18,151,8,null,null,752,59,39,115,294,245]
["040603","AREQUIPA","AREQUIPA","CONDESUYOS","CAYARANI",{"$nulls":3},{"v":3322,"d":"3,322"},30,28,35,44,41,38,52,53,52,58,51,61,44,70,56,88,80,75,72,74,321,272,240,203,184,200,149,199,131,113,73,46,44,45,1,13,17,78,{"v":1729,"d":"1,729"},153,210,722,75,null,null,{"v":3322,"d":"3,322"},543,413,739,{"v":1175,"d":"1,175"},452]
[{"$nulls":5},1440,"CENTRO DE SALUD CAYARANI",80,{"v":2658,"d":"2,658"},24,22,28,35,33,30,42,42,42,46,41,49,35,56,45,70,64,60,58,59,257,218,192,162,147,160,119,159,105,90,58,37,35,36,1,10,14,62,{"v":1383,"d":"1,383"},122,168,578,60,null,null,{"v":2658,"d":"2,658"},434,330,591,940,362]
[{"$nulls":5},7407,"PUESTO DE SALUD ARCATA",20,664,6,6,7,9,8,8,10,11,10,12,10,12,9,14,11,18,16,15,14,15,64,54,48,41,37,40,30,40,26,23,15,9,9,9,0,3,3,16,346,31,42,144,15,null,null,664,109,83,148,235,90]
["040604","AREQUIPA","AREQUIPA","CONDESUYOS","CHICHAS",{"$nulls":3},789,9,5,4,4,2,2,8,7,6,6,8,8,11,8,8,9,11,12,5,11,32,38,40,35,34,50,61,62,49,58,38,48,38,62,0,6,3,20,433,25,27,121,18,null,null,789,69,59,86,282,293]
[{"$nulls":5},1410,"PUESTO DE SALUD CHICHAS",30,237,3,2,1,1,1,1,2,2,2,2,2,2,3,2,2,3,3,4,2,3,10,11,12,11,10,15,18,19,15,17,11,14,11,19,0,2,1,6,130,8,8,36,5,null,null,237,21,18,26,85,88]
[{"$nulls":5},1411,"PUESTO DE SALUD YACHANGUILLO",30,237,3,2,1,1,1,1,2,2,2,2,2,2,3,2,2,3,3,4,2,3,10,11,12,11,10,15,18,19,15,17,11,14,11,19,0,2,1,6,130,8,8,36,5,null,null,237,21,18,26,85,88]
[{"$nulls":5},1416,"YANQUE",40,315,3,1,2,2,0,0,4,3,2,2,4,4,5,4,4,3,5,4,1,5,12,16,16,13,14,20,25,24,19,24,16,20,16,24,0,2,1,8,173,9,11,49,8,null,null,315,27,23,34,112,117]
["040605","AREQUIPA","AREQUIPA","CONDESUYOS","IRAY",{"$nulls":3},769,12,7,5,11,7,6,9,6,9,5,9,10,9,9,4,4,11,13,6,5,40,44,41,33,42,42,59,54,52,47,35,39,35,49,1,6,6,21,411,21,21,128,20,null,null,769,96,50,95,271,257]
[{"$nulls":5},1409,"IRAY",100,769,12,7,5,11,7,6,9,6,9,5,9,10,9,9,4,4,11,13,6,5,40,44,41,33,42,42,59,54,52,47,35,39,35,49,1,6,6,21,411,21,21,128,20,null,null,769,96,50,95,271,257]
["040606","AREQUIPA","AREQUIPA","CONDESUYOS","RIO GRANDE",{"$nulls":3},{"v":4049,"d":"4,049"},65,79,61,38,53,57,56,57,47,49,29,39,58,40,55,58,86,71,39,49,230,286,247,303,296,293,272,269,215,172,129,98,74,79,5,28,37,66,{"v":2139,"d":"2,139"},121,156,873,127,null,null,{"v":4049,"d":"4,049"},630,368,604,{"v":1680,"d":"1,680"},767]
[{"$nulls":5},1380,"IQUIPI",88,{"v":3563,"d":"3,563"},57,70,54,33,47,50,49,50,41,43,26,34,51,35,48,51,76,62,34,43,202,252,217,267,260,258,239,237,189,151,114,86,65,70,4,25,33,58,{"v":1882,"d":"1,882"},106,137,768,112,null,null,{"v":3563,"d":"3,563"},554,324,532,{"v":1478,"d":"1,478"},675]
[{"$nulls":5},1381,"PUESTO DE SALUD PIUCA",12,486,8,9,7,5,6,7,7,7,6,6,3,5,7,5,7,7,10,9,5,6,28,34,30,36,36,35,33,32,26,21,15,12,9,9,1,3,4,8,257,15,19,105,15,null,null,486,76,44,72,202,92]
["040607","AREQUIPA","AREQUIPA","CONDESUYOS","SALAMANCA",{"$nulls":3},486,7,6,4,6,4,4,4,3,5,3,5,5,5,5,2,4,7,8,5,6,29,23,24,24,25,29,34,37,28,31,28,28,27,21,0,3,4,9,253,9,15,69,15,null,null,486,56,31,63,173,163]
[{"$nulls":5},1412,"PUESTO DE SALUD SALAMANCA",70,340,5,4,3,4,3,3,3,2,3,2,3,3,3,3,1,3,5,6,3,4,20,16,17,17,17,20,24,26,20,22,20,20,19,15,0,2,3,6,177,6,10,48,10,null,null,340,39,22,44,121,114]
[{"$nulls":5},1413,"PUESTO DE SALUD PUCUNCHO",30,146,2,2,1,2,1,1,1,1,2,1,2,2,2,2,1,1,2,2,2,2,9,7,7,7,8,9,10,11,8,9,8,8,8,6,0,1,1,3,76,3,5,21,5,null,null,146,17,9,19,52,49]
["040608","AREQUIPA","AREQUIPA","CONDESUYOS","YANAQUIHUA",{"$nulls":3},{"v":4257,"d":"4,257"},52,46,73,51,49,38,37,33,43,54,53,60,44,30,50,65,68,89,71,45,254,344,279,312,329,302,267,262,216,178,127,107,102,127,3,28,24,76,{"v":2288,"d":"2,288"},126,200,922,114,null,null,{"v":4257,"d":"4,257"},589,346,714,{"v":1751,"d":"1,751"},857]
[{"$nulls":5},1389,"CENTRO DE SALUD YANAQUIHUA",51,{"v":2171,"d":"2,171"},27,23,37,26,25,19,19,17,22,28,27,31,22,15,25,33,35,45,36,23,130,175,142,159,168,154,136,134,110,91,65,55,52,65,2,14,12,39,{"v":1167,"d":"1,167"},64,102,470,58,null,null,{"v":2171,"d":"2,171"},300,176,364,893,437]
[{"$nulls":5},1414,"PUESTO DE SALUD ISPACAS",49,{"v":2086,"d":"2,086"},25,23,36,25,24,19,18,16,21,26,26,29,22,15,25,32,33,44,35,22,124,169,137,153,161,148,131,128,106,87,62,52,50,62,1,14,12,37,{"v":1121,"d":"1,121"},62,98,452,56,null,null,{"v":2086,"d":"2,086"},289,170,350,858,420]
["040701","AREQUIPA","AREQUIPA","ISLAY","MOLLENDO",{"$nulls":3},{"v":28553,"d":"28,553"},243,227,293,317,319,378,379,428,386,389,332,347,382,353,386,395,429,403,409,403,{"v":1909,"d":"1,909"},{"v":2009,"d":"2,009"},{"v":1905,"d":"1,905"},{"v":1813,"d":"1,813"},{"v":2009,"d":"2,009"},{"v":2045,"d":"2,045"},{"v":1877,"d":"1,877"},{"v":1771,"d":"1,771"},{"v":1576,"d":"1,576"},{"v":1309,"d":"1,309"},{"v":1163,"d":"1,163"},864,600,505,13,127,116,391,{"v":14649,"d":"14,649"},928,{"v":1054,"d":"1,054"},{"v":6041,"d":"6,041"},583,null,null,{"v":28553,"d":"28,553"},{"v":4038,"d":"4,038"},{"v":2348,"d":"2,348"},{"v":4730,"d":"4,730"},{"v":11420,"d":"11,420"},{"v":6017,"d":"6,017"}]
[{"$nulls":5},1444,"CENTRO DE SALUD ALTO INCLAN",42,{"v":11992,"d":"11,992"},102,95,123,133,134,159,159,180,162,163,139,146,160,148,162,166,180,169,172,169,802,844,800,761,844,859,788,744,662,550,488,363,252,212,5,53,49,164,{"v":6153,"d":"6,153"},390,443,{"v":2537,"d":"2,537"},245,null,null,{"v":11992,"d":"11,992"},{"v":1696,"d":"1,696"},986,{"v":1987,"d":"1,987"},{"v":4796,"d":"4,796"},{"v":2527,"d":"2,527"}]
[{"$nulls":5},13295,"HOSPITAL II MANUEL DE TORRES MUÑOZ -  MOLLENDO",46,{"v":13135,"d":"13,135"},112,105,135,146,147,174,175,197,178,179,153,159,176,163,178,182,198,186,188,186,878,924,876,834,924,941,864,814,725,602,535,397,276,232,6,59,53,180,{"v":6738,"d":"6,738"},427,485,{"v":2779,"d":"2,779"},268,null,null,{"v":13135,"d":"13,135"},{"v":1857,"d":"1,857"},{"v":1080,"d":"1,080"},{"v":2175,"d":"2,175"},{"v":5254,"d":"5,254"},{"v":2768,"d":"2,768"}]
[{"$nulls":5},1447,"PUESTO DE SALUD VILLA LOURDES",12,{"v":3426,"d":"3,426"},29,27,35,38,38,45,45,51,46,47,40,42,46,42,46,47,51,48,49,48,229,241,229,218,241,245,225,213,189,157,140,104,72,61,2,15,14,47,{"v":1758,"d":"1,758"},111,126,725,70,null,null,{"v":3426,"d":"3,426"},485,282,568,{"v":1370,"d":"1,370"},722]
["040702","AREQUIPA","AREQUIPA","ISLAY","COCACHACRA",{"$nulls":3},{"v":9274,"d":"9,274"},102,99,100,98,100,111,97,115,134,98,109,89,83,119,102,130,110,126,122,132,583,690,700,701,671,641,648,670,512,445,305,221,149,162,4,47,55,151,{"v":4871,"d":"4,871"},271,333,{"v":2111,"d":"2,111"},295,null,null,{"v":9274,"d":"9,274"},{"v":1252,"d":"1,252"},670,{"v":1527,"d":"1,527"},{"v":4031,"d":"4,031"},{"v":1794,"d":"1,794"}]
[{"$nulls":5},1445,"CENTRO DE SALUD COCACHACRA",74,{"v":6864,"d":"6,864"},76,73,74,72,74,82,71,85,99,72,81,66,61,88,76,96,82,92,91,98,431,510,518,519,497,474,479,496,379,329,226,164,110,120,3,34,41,112,{"v":3605,"d":"3,605"},201,246,{"v":1562,"d":"1,562"},218,null,null,{"v":6864,"d":"6,864"},927,496,{"v":1129,"d":"1,129"},{"v":2983,"d":"2,983"},{"v":1327,"d":"1,327"}]
[{"$nulls":5},1453,"PUESTO DE SALUD EL TORO",2,185,2,2,2,2,2,2,2,2,3,2,2,2,2,2,2,3,2,3,2,3,12,14,14,14,13,13,13,13,10,9,6,4,3,3,0,1,1,3,97,5,7,42,6,null,null,185,25,13,31,81,36]
[{"$nulls":5},1452,"PUESTO DE SALUD EL FISCAL",6,556,6,6,6,6,6,7,6,7,8,6,7,5,5,7,6,8,7,8,7,8,35,41,42,42,40,38,39,40,31,27,18,13,9,10,0,3,3,9,292,16,20,127,18,null,null,556,75,40,92,242,108]
[{"$nulls":5},1454,"PUESTO DE SALUD LA PASCANA",4,371,4,4,4,4,4,4,4,5,5,4,4,4,3,5,4,5,4,5,5,5,23,28,28,28,27,26,26,27,20,18,12,9,6,6,0,2,2,6,195,11,13,84,12,null,null,371,50,27,61,161,72]
[{"$nulls":5},1343,"SAN CAMILO 7",14,{"v":1298,"d":"1,298"},14,14,14,14,14,16,14,16,19,14,15,12,12,17,14,18,15,18,17,18,82,97,98,98,94,90,91,94,72,62,43,31,21,23,1,7,8,21,682,38,47,296,41,null,null,{"v":1298,"d":"1,298"},175,94,214,564,251]
["040703","AREQUIPA","AREQUIPA","ISLAY","DEAN VALDIVIA",{"$nulls":3},{"v":7834,"d":"7,834"},85,85,93,100,104,83,114,106,93,107,82,85,122,83,96,120,133,104,110,112,570,647,668,550,576,513,467,461,389,310,239,168,123,136,1,46,39,152,{"v":4039,"d":"4,039"},235,301,{"v":1827,"d":"1,827"},206,null,null,{"v":7834,"d":"7,834"},{"v":1137,"d":"1,137"},658,{"v":1439,"d":"1,439"},{"v":3235,"d":"3,235"},{"v":1365,"d":"1,365"}]
[{"$nulls":5},1451,"PUESTO DE SALUD EL ARENAL",32,{"v":2507,"d":"2,507"},27,27,30,32,33,27,36,34,30,34,26,27,39,27,31,38,43,33,35,36,182,207,214,176,184,164,149,148,124,99,76,54,39,44,0,15,12,49,{"v":1292,"d":"1,292"},75,96,585,66,null,null,{"v":2507,"d":"2,507"},364,211,460,{"v":1035,"d":"1,035"},437]
[{"$nulls":5},1449,"CENTRO DE SALUD LA CURVA",53,{"v":4152,"d":"4,152"},45,45,49,53,55,44,61,56,49,57,44,45,65,44,51,64,70,55,58,59,302,343,354,291,306,272,248,244,207,164,127,89,66,72,1,24,21,80,{"v":2141,"d":"2,141"},125,160,968,109,null,null,{"v":4152,"d":"4,152"},602,348,763,{"v":1715,"d":"1,715"},723]
[{"$nulls":5},1450,"PUESTO DE SALUD ALTO ENSENADA",15,{"v":1175,"d":"1,175"},13,13,14,15,16,12,17,16,14,16,12,13,18,12,14,18,20,16,17,17,86,97,100,83,86,77,70,69,58,47,36,25,18,20,0,7,6,23,606,35,45,274,31,null,null,{"v":1175,"d":"1,175"},171,99,216,485,205]
["040704","AREQUIPA","AREQUIPA","ISLAY","ISLAY",{"$nulls":3},{"v":5490,"d":"5,490"},80,79,86,81,96,82,97,85,81,94,71,95,71,80,60,84,109,104,97,82,376,438,423,415,404,406,346,295,215,180,135,89,22,32,2,40,40,113,{"v":2838,"d":"2,838"},188,259,{"v":1306,"d":"1,306"},195,null,null,{"v":5490,"d":"5,490"},{"v":1027,"d":"1,027"},508,993,{"v":2289,"d":"2,289"},673]
[{"$nulls":5},1443,"CENTRO DE SALUD MATARANI",100,{"v":5490,"d":"5,490"},80,79,86,81,96,82,97,85,81,94,71,95,71,80,60,84,109,104,97,82,376,438,423,415,404,406,346,295,215,180,135,89,22,32,2,40,40,113,{"v":2838,"d":"2,838"},188,259,{"v":1306,"d":"1,306"},195,null,null,{"v":5490,"d":"5,490"},{"v":1027,"d":"1,027"},508,993,{"v":2289,"d":"2,289"},673]
["040705","AREQUIPA","AREQUIPA","ISLAY","MEJIA",{"$nulls":3},{"v":1480,"d":"1,480"},12,7,16,16,16,12,13,15,14,16,22,11,9,13,14,8,11,12,16,17,95,99,99,108,116,95,109,119,123,68,70,44,35,30,0,8,5,28,803,38,27,352,42,null,null,{"v":1480,"d":"1,480"},170,67,227,646,370]
[{"$nulls":5},1448,"PUESTO DE SALUD MEJIA",100,{"v":1480,"d":"1,480"},12,7,16,16,16,12,13,15,14,16,22,11,9,13,14,8,11,12,16,17,95,99,99,108,116,95,109,119,123,68,70,44,35,30,0,8,5,28,803,38,27,352,42,null,null,{"v":1480,"d":"1,480"},170,67,227,646,370]
["040706","AREQUIPA","AREQUIPA","ISLAY","PUNTA DE BOMBON",{"$nulls":3},{"v":7210,"d":"7,210"},76,73,86,76,107,79,85,83,90,76,78,117,81,83,72,116,100,111,101,96,470,537,505,524,488,467,464,446,427,362,269,192,115,158,2,41,35,134,{"v":3778,"d":"3,778"},232,276,{"v":1562,"d":"1,562"},173,null,null,{"v":7210,"d":"7,210"},{"v":1026,"d":"1,026"},563,{"v":1204,"d":"1,204"},{"v":2894,"d":"2,894"},{"v":1523,"d":"1,523"}]
[{"$nulls":5},1446,"CENTRO DE SALUD LA PUNTA",100,{"v":7210,"d":"7,210"},76,73,86,76,107,79,85,83,90,76,78,117,81,83,72,116,100,111,101,96,470,537,505,524,488,467,464,446,427,362,269,192,115,158,2,41,35,134,{"v":3778,"d":"3,778"},232,276,{"v":1562,"d":"1,562"},173,null,null,{"v":7210,"d":"7,210"},{"v":1026,"d":"1,026"},563,{"v":1204,"d":"1,204"},{"v":2894,"d":"2,894"},{"v":1523,"d":"1,523"}]
["040801","AREQUIPA","AREQUIPA","LA UNION","COTAHUASI",{"$nulls":3},{"v":3104,"d":"3,104"},44,32,38,51,49,56,45,44,40,44,63,40,61,53,40,55,73,58,71,61,231,192,153,170,183,176,159,169,152,111,109,90,80,111,2,20,24,102,{"v":1581,"d":"1,581"},130,172,569,95,null,null,{"v":3104,"d":"3,104"},546,340,555,{"v":1010,"d":"1,010"},653]
[{"$nulls":5},1455,"CENTRO DE SALUD COTAHUASI",100,{"v":3104,"d":"3,104"},44,32,38,51,49,56,45,44,40,44,63,40,61,53,40,55,73,58,71,61,231,192,153,170,183,176,159,169,152,111,109,90,80,111,2,20,24,102,{"v":1581,"d":"1,581"},130,172,569,95,null,null,{"v":3104,"d":"3,104"},546,340,555,{"v":1010,"d":"1,010"},653]
["040802","AREQUIPA","AREQUIPA","LA UNION","ALCA",{"$nulls":3},{"v":1844,"d":"1,844"},37,23,27,34,27,22,26,33,35,33,29,30,18,20,29,35,35,42,41,34,148,112,104,87,86,99,102,111,94,76,57,65,46,47,0,20,17,49,939,70,103,308,61,null,null,{"v":1844,"d":"1,844"},356,179,335,589,385]
[{"$nulls":5},1464,"CENTRO DE SALUD ALCA",100,{"v":1844,"d":"1,844"},37,23,27,34,27,22,26,33,35,33,29,30,18,20,29,35,35,42,41,34,148,112,104,87,86,99,102,111,94,76,57,65,46,47,0,20,17,49,939,70,103,308,61,null,null,{"v":1844,"d":"1,844"},356,179,335,589,385]
["040803","AREQUIPA","AREQUIPA","LA UNION","CHARCANA",{"$nulls":3},703,10,7,9,7,7,4,14,15,8,16,10,13,13,10,11,12,13,17,13,4,42,48,39,38,38,46,39,42,27,32,32,31,17,19,1,3,8,19,369,40,36,118,21,null,null,703,120,76,107,242,158]
[{"$nulls":5},1467,"PUESTO DE SALUD CHARCANA",68,478,7,5,6,5,5,3,10,10,5,11,7,9,9,7,7,8,9,12,9,3,29,33,27,26,26,31,27,29,18,22,22,21,12,13,1,2,5,13,251,27,24,80,14,null,null,478,82,52,73,165,107]
[{"$nulls":5},1466,"PUESTO DE SALUD ANDAMARCA",32,225,3,2,3,2,2,1,4,5,3,5,3,4,4,3,4,4,4,5,4,1,13,15,12,12,12,15,12,13,9,10,10,10,5,6,0,1,3,6,118,13,12,38,7,null,null,225,38,24,34,77,51]
["040804","AREQUIPA","AREQUIPA","LA UNION","HUAYNACOTAS",{"$nulls":3},{"v":2112,"d":"2,112"},39,35,29,39,34,23,40,33,37,36,30,44,34,34,32,43,45,46,39,35,183,143,102,97,120,127,120,121,80,82,65,52,40,53,0,21,19,82,{"v":1094,"d":"1,094"},87,108,392,112,null,null,{"v":2112,"d":"2,112"},419,234,400,687,372]
[{"$nulls":5},1463,"PUESTO DE SALUD HUAYNACOTAS",61,{"v":1288,"d":"1,288"},24,22,18,24,21,14,25,20,22,22,19,27,21,21,19,26,28,28,24,22,112,87,63,60,73,77,73,74,49,50,39,32,25,32,0,13,12,50,667,53,66,239,68,null,null,{"v":1288,"d":"1,288"},256,143,244,419,227]
[{"$nulls":5},7265,"PUESTO DE SALUD HUARCAYA",21,444,8,7,6,8,7,5,8,7,8,8,6,9,7,7,7,9,9,10,8,7,38,30,21,20,25,27,25,25,17,17,14,11,8,11,0,4,4,17,230,18,23,82,24,null,null,444,88,49,84,144,78]
[{"$nulls":5},1461,"PUESTO DE SALUD TAURISMA",18,380,7,6,5,7,6,4,7,6,7,6,5,8,6,6,6,8,8,8,7,6,33,26,18,17,22,23,22,22,14,15,12,9,7,10,0,4,3,15,197,16,19,71,20,null,null,380,75,42,72,124,67]
["040805","AREQUIPA","AREQUIPA","LA UNION","PAMPAMARCA",{"$nulls":3},{"v":1581,"d":"1,581"},371,80,22,7,15,10,10,16,15,21,14,19,23,16,24,25,23,30,30,18,97,57,73,65,73,66,59,57,51,66,43,35,22,28,2,31,340,232,794,61,64,205,35,null,null,{"v":1581,"d":"1,581"},600,141,202,393,245]
[{"$nulls":5},1462,"PUESTO DE SALUD PAMPAMARCA",67,{"v":1059,"d":"1,059"},248,54,15,5,10,6,6,11,10,14,9,13,16,11,16,16,16,20,20,12,65,38,49,43,49,44,39,38,34,44,29,24,15,19,2,20,228,155,532,41,42,137,24,null,null,{"v":1059,"d":"1,059"},402,95,136,263,164]
[{"$nulls":5},1460,"PUESTO DE SALUD MUNGUI",18,285,67,14,4,1,3,2,2,3,3,4,3,3,4,3,4,5,4,5,5,3,17,10,13,12,13,12,11,10,9,12,8,6,4,5,0,6,61,42,143,11,12,37,6,null,null,285,108,25,36,71,44]
[{"$nulls":5},1459,"PUESTO DE SALUD HUARHUA",15,237,56,12,3,1,2,2,2,2,2,3,2,3,3,2,4,4,3,5,5,3,15,9,11,10,11,10,9,9,8,10,6,5,3,4,0,5,51,35,119,9,10,31,5,null,null,237,90,21,30,59,37]
["040806","AREQUIPA","AREQUIPA","LA UNION","PUYCA",{"$nulls":3},{"v":2549,"d":"2,549"},28,21,30,32,31,32,44,58,54,52,49,62,64,62,46,77,67,66,54,45,211,146,153,118,140,128,138,132,115,86,82,58,40,28,0,9,19,59,{"v":1322,"d":"1,322"},145,162,446,143,null,null,{"v":2549,"d":"2,549"},493,382,456,809,409]
[{"$nulls":5},1465,"PUESTO DE SALUD PUYCA",73,{"v":1861,"d":"1,861"},20,15,22,23,23,23,32,42,39,38,36,45,47,45,34,56,49,48,39,33,154,107,112,86,102,93,101,96,84,63,60,42,29,20,0,7,14,43,965,106,118,326,104,null,null,{"v":1861,"d":"1,861"},360,279,333,591,299]
[{"$nulls":5},1471,"PUESTO DE SALUD CHURCA",27,688,8,6,8,9,8,9,12,16,15,14,13,17,17,17,12,21,18,18,15,12,57,39,41,32,38,35,37,36,31,23,22,16,11,8,0,2,5,16,357,39,44,120,39,null,null,688,133,103,123,218,110]
["040807","AREQUIPA","AREQUIPA","LA UNION","QUECHUALLA",{"$nulls":3},433,3,1,1,0,2,3,2,2,5,4,1,1,1,1,1,2,2,2,5,2,10,29,45,33,27,31,27,41,40,37,20,19,14,19,0,0,3,5,220,4,8,90,17,null,null,433,25,9,46,204,149]
[{"$nulls":5},1468,"PUESTO DE SALUD VELINGA",100,433,3,1,1,0,2,3,2,2,5,4,1,1,1,1,1,2,2,2,5,2,10,29,45,33,27,31,27,41,40,37,20,19,14,19,0,0,3,5,220,4,8,90,17,null,null,433,25,9,46,204,149]
["040808","AREQUIPA","AREQUIPA","LA UNION","SAYLA",{"$nulls":3},351,16,10,2,3,2,0,2,5,3,3,2,2,8,6,5,5,10,9,7,8,18,21,21,19,18,22,13,23,12,23,16,9,6,22,1,10,6,32,204,14,27,60,18,null,null,351,50,43,54,116,88]
[{"$nulls":5},1469,"PUESTO DE SALUD SAYLA",100,351,16,10,2,3,2,0,2,5,3,3,2,2,8,6,5,5,10,9,7,8,18,21,21,19,18,22,13,23,12,23,16,9,6,22,1,10,6,32,204,14,27,60,18,null,null,351,50,43,54,116,88]
["040809","AREQUIPA","AREQUIPA","LA UNION","TAURIA",{"$nulls":3},506,8,2,9,4,10,10,7,4,11,1,6,5,10,1,5,6,12,11,3,12,29,27,39,38,35,18,12,26,28,14,27,28,21,27,0,6,2,13,257,22,28,77,22,null,null,506,77,45,71,168,145]
[{"$nulls":5},1470,"PUESTO DE SALUD TAURIA",100,506,8,2,9,4,10,10,7,4,11,1,6,5,10,1,5,6,12,11,3,12,29,27,39,38,35,18,12,26,28,14,27,28,21,27,0,6,2,13,257,22,28,77,22,null,null,506,77,45,71,168,145]
["040810","AREQUIPA","AREQUIPA","LA UNION","TOMEPAMPA",{"$nulls":3},713,5,3,6,6,8,5,10,4,11,5,7,9,9,14,9,8,15,15,9,10,49,41,47,31,43,46,56,37,44,42,30,30,23,26,0,1,4,8,373,25,28,135,14,null,null,713,79,70,109,260,195]
[{"$nulls":5},1456,"PUESTO DE SALUD TOMEPAMPA",100,713,5,3,6,6,8,5,10,4,11,5,7,9,9,14,9,8,15,15,9,10,49,41,47,31,43,46,56,37,44,42,30,30,23,26,0,1,4,8,373,25,28,135,14,null,null,713,79,70,109,260,195]
["040811","AREQUIPA","AREQUIPA","LA UNION","TORO",{"$nulls":3},597,9,4,1,4,6,1,4,3,3,8,10,3,2,3,8,4,7,11,5,11,31,35,24,30,29,46,46,48,37,26,26,30,39,43,1,4,5,13,322,15,21,102,13,null,null,597,56,35,82,223,201]
[{"$nulls":5},1457,"PUESTO DE SALUD TORO",51,304,5,2,1,2,3,1,2,2,2,4,5,2,1,2,4,2,4,6,3,6,16,18,12,15,15,23,23,24,19,13,13,15,20,22,1,2,3,7,164,8,11,52,7,null,null,304,29,18,42,114,103]
[{"$nulls":5},1458,"PUESTO DE SALUD CASPI",49,293,4,2,0,2,3,0,2,1,1,4,5,1,1,1,4,2,3,5,2,5,15,17,12,15,14,23,23,24,18,13,13,15,19,21,0,2,2,6,158,7,10,50,6,null,null,293,27,17,40,109,98]

{"sheet":"Pob x Genero","index":4,"n_rows":122,"n_cols":133,"rows_kept":122,"merged":[[5,6,6,6],[5,41,5,43],[5,44,6,44],[5,45,6,45],[5,80,5,82],[5,83,6,83],[5,84,6,84]]}
[]
[]
[]
["POBLACION ESTIMADA POR EDADES SIMPLES, GRUPOS DE EDAD y GÉNERO, SEGÚN DEPARTAMENTO, PROVINCIA Y DISTRITO. 2025"]
["* Actualizado con datos INEI"]
["POBLACION 2025",{"$nulls":5},"Total Hombres","HOMBRES",{"$nulls":19},"POBLACIÓN TOTAL,  POR GRUPOS QUINQUEN ALES DE EDAD",{"$nulls":13},"EDADES ESPECIALES",null,null,"NACIMIENTOS VIVOS","Total Mujeres","MUJERES",{"$nulls":19},"POBLACIÓN TOTAL,  POR GRUPOS QUINQUEN ALES DE EDAD",{"$nulls":13},"EDADES ESPECIALES",null,null,"NACIMIENTOS VIVOS","GESTANTES  ESPERADAS",null,null,"Hombre",{"$nulls":4},"Mujer",{"$nulls":4},"Hombre",{"$nulls":17},"Mujer"]
["UBIGEO","DIRESA","DEPARTAMENTO","PROVINCIA","DISTRITO","TOTAL",null,"0",1,2,3,4,5,6,7,8,9,10,11,12,13,14,15,16,17,18,19,"20-24","25-29","30-34","35-39","40-44","45-49","50-54","55-59","60-64","65-69","70-74","75-79","80-84","85-+","28 DIAS","0-5 MESES","6-11 MESES",null,null,"0",1,2,3,4,5,6,7,8,9,10,11,12,13,14,15,16,17,18,19,"20-24","25-29","30-34","35-39","40-44","45-49","50-54","55-59","60-64","65-69","70-74","75-79","80-84","85-+","28 DIAS","0-5 MESES","6-11 MESES",{"$nulls":4},"NIÑO","Adolescente","Joven","Adulto","Adulto Mayor","NIÑO","Adolescente","Joven","Adulto","Adulto Mayor","00-04","05-09","10-14","15-19","20-24","25-29","30-34","35-39","40-44","45-49","50-54","55-59","60-64","65-69","70-74","75-79","80-84","85-+","00-04","05-09","10-14","15-19","20-24","25-29","30-34","35-39","40-44","45-49","50-54","55-59","60-64","65-69","70-74","75-79","80-84","85-+"]
["000000","PERU","PERU","PERU","PERU",{"$f":"G8+AT8","v":{"v":1662314,"d":"1,662,314"}},{"$f":"SUM(G9:G117)","v":{"v":818583,"d":"818,583"}},{"v":8897,"d":"8,897"},{"v":8325,"d":"8,325"},{"v":8972,"d":"8,972"},{"v":9184,"d":"9,184"},{"v":10669,"d":"10,669"},{"v":11392,"d":"11,392"},{"v":13324,"d":"13,324"},{"v":13692,"d":"13,692"},{"v":13527,"d":"13,527"},{"v":13359,"d":"13,359"},{"v":11866,"d":"11,866"},{"v":11866,"d":"11,866"},{"v":12274,"d":"12,274"},{"v":11708,"d":"11,708"},{"v":10991,"d":"10,991"},{"v":12620,"d":"12,620"},{"v":12792,"d":"12,792"},{"v":12689,"d":"12,689"},{"v":12448,"d":"12,448"},{"v":12681,"d":"12,681"},{"v":58784,"d":"58,784"},{"v":63333,"d":"63,333"},{"v":66465,"d":"66,465"},{"v":62287,"d":"62,287"},{"v":60582,"d":"60,582"},{"v":56244,"d":"56,244"},{"v":47933,"d":"47,933"},{"v":44629,"d":"44,629"},{"v":37706,"d":"37,706"},{"v":28919,"d":"28,919"},{"v":23107,"d":"23,107"},{"v":16290,"d":"16,290"},{"v":9959,"d":"9,959"},{"v":9069,"d":"9,069"},328,{"v":4244,"d":"4,244"},{"v":138066,"d":"138,066"},{"$f":"SUM(AS9:AS117)","v":{"v":13240,"d":"13,240"}},{"v":843731,"d":"843,731"},{"v":8414,"d":"8,414"},{"v":8050,"d":"8,050"},{"v":8694,"d":"8,694"},{"v":8876,"d":"8,876"},{"v":10278,"d":"10,278"},{"v":10894,"d":"10,894"},{"v":12961,"d":"12,961"},{"v":13216,"d":"13,216"},{"v":12990,"d":"12,990"},{"v":12125,"d":"12,125"},{"v":11846,"d":"11,846"},{"v":11888,"d":"11,888"},{"v":12267,"d":"12,267"},{"v":11718,"d":"11,718"},{"v":11003,"d":"11,003"},{"v":12659,"d":"12,659"},{"v":12740,"d":"12,740"},{"v":12691,"d":"12,691"},{"v":12444,"d":"12,444"},{"v":12369,"d":"12,369"},{"v":62370,"d":"62,370"},{"v":71746,"d":"71,746"},{"v":68785,"d":"68,785"},{"v":60040,"d":"60,040"},{"v":60228,"d":"60,228"},{"v":56307,"d":"56,307"},{"v":51200,"d":"51,200"},{"v":46045,"d":"46,045"},{"v":38481,"d":"38,481"},{"v":31608,"d":"31,608"},{"v":25666,"d":"25,666"},{"v":18143,"d":"18,143"},{"v":11969,"d":"11,969"},{"v":13020,"d":"13,020"},333,{"v":4068,"d":"4,068"},{"v":4352,"d":"4,352"},{"v":12636,"d":"12,636"},{"v":41624,"d":"41,624"},null,null,{"$f":"SUM(CJ9:CJ117)","v":{"v":135073,"d":"135,073"}},{"v":73074,"d":"73,074"},{"v":147246,"d":"147,246"},{"v":338140,"d":"338,140"},{"v":125050,"d":"125,050"},{"v":130232,"d":"130,232"},{"v":73078,"d":"73,078"},{"v":158929,"d":"158,929"},{"v":342605,"d":"342,605"},{"v":138887,"d":"138,887"},{"v":46047,"d":"46,047"},{"v":65294,"d":"65,294"},{"v":58705,"d":"58,705"},{"v":63230,"d":"63,230"},{"v":58784,"d":"58,784"},{"v":63333,"d":"63,333"},{"v":66465,"d":"66,465"},{"v":62287,"d":"62,287"},{"v":60582,"d":"60,582"},{"v":56244,"d":"56,244"},{"v":47933,"d":"47,933"},{"v":44629,"d":"44,629"},{"v":37706,"d":"37,706"},{"v":28919,"d":"28,919"},{"v":23107,"d":"23,107"},{"v":16290,"d":"16,290"},{"v":9959,"d":"9,959"},{"v":9069,"d":"9,069"},{"v":44312,"d":"44,312"},{"v":62186,"d":"62,186"},{"v":58722,"d":"58,722"},{"v":62903,"d":"62,903"},{"v":62370,"d":"62,370"},{"v":71746,"d":"71,746"},{"v":68785,"d":"68,785"},{"v":60040,"d":"60,040"},{"v":60228,"d":"60,228"},{"v":56307,"d":"56,307"},{"v":51200,"d":"51,200"},{"v":46045,"d":"46,045"},{"v":38481,"d":"38,481"},{"v":31608,"d":"31,608"},{"v":25666,"d":"25,666"},{"v":18143,"d":"18,143"},{"v":11969,"d":"11,969"},{"v":13020,"d":"13,020"}]
["040101","AREQUIPA","AREQUIPA","AREQUIPA","AREQUIPA",{"$f":"G9+AT9","v":60675},{"$f":"SUM(H9:AO9)","v":30044},293,273,236,269,344,383,358,372,357,344,295,306,318,314,324,340,332,332,316,352,{"v":1691,"d":"1,691"},{"v":1771,"d":"1,771"},{"v":2038,"d":"2,038"},{"v":1833,"d":"1,833"},{"v":1937,"d":"1,937"},{"v":2147,"d":"2,147"},{"v":2163,"d":"2,163"},{"v":2229,"d":"2,229"},{"v":2149,"d":"2,149"},{"v":1696,"d":"1,696"},{"v":1448,"d":"1,448"},{"v":1074,"d":"1,074"},715,695,6,151,142,445,{"$f":"SUM(AU9:CB9)","v":{"v":30631,"d":"30,631"}},268,260,244,265,323,366,277,312,327,295,266,275,286,282,291,320,314,307,295,286,{"v":1652,"d":"1,652"},{"v":1836,"d":"1,836"},{"v":1885,"d":"1,885"},{"v":1742,"d":"1,742"},{"v":1988,"d":"1,988"},{"v":2094,"d":"2,094"},{"v":2221,"d":"2,221"},{"v":2295,"d":"2,295"},{"v":2186,"d":"2,186"},{"v":1946,"d":"1,946"},{"v":1708,"d":"1,708"},{"v":1238,"d":"1,238"},906,{"v":1075,"d":"1,075"},5,113,155,414,{"v":1754,"d":"1,754"},null,null,{"$f":"SUM(H9:S9)","v":{"v":3830,"d":"3,830"}},{"$f":"SUM(T9:Y9)","v":{"v":1960,"d":"1,960"}},{"$f":"SUM(Z9:AC9)","v":{"v":4130,"d":"4,130"}},{"$f":"SUM(AD9:AI9)","v":{"v":12347,"d":"12,347"}},{"$f":"SUM(AJ9:AO9)","v":{"v":7777,"d":"7,777"}},{"$f":"SUM(AU9:BF9)","v":{"v":3478,"d":"3,478"}},{"$f":"SUM(BG9:BL9)","v":{"v":1800,"d":"1,800"}},{"$f":"SUM(BM9:BP9)","v":{"v":4069,"d":"4,069"}},{"$f":"SUM(BQ9:BV9)","v":{"v":12225,"d":"12,225"}},{"$f":"SUM(BW9:CB9)","v":{"v":9059,"d":"9,059"}},{"$f":"SUM(H9:L9)","v":{"v":1415,"d":"1,415"}},{"$f":"SUM(M9:Q9)","v":{"v":1814,"d":"1,814"}},{"$f":"SUM(R9:V9)","v":{"v":1557,"d":"1,557"}},{"$f":"SUM(W9:AA9)","v":{"v":1672,"d":"1,672"}},{"$f":"AB9","v":{"v":1691,"d":"1,691"}},{"$f":"AC9","v":{"v":1771,"d":"1,771"}},{"$f":"AD9","v":{"v":2038,"d":"2,038"}},{"$f":"AE9","v":{"v":1833,"d":"1,833"}},{"$f":"AF9","v":{"v":1937,"d":"1,937"}},{"$f":"AG9","v":{"v":2147,"d":"2,147"}},{"$f":"AH9","v":{"v":2163,"d":"2,163"}},{"$f":"AI9","v":{"v":2229,"d":"2,229"}},{"$f":"AJ9","v":{"v":2149,"d":"2,149"}},{"$f":"AK9","v":{"v":1696,"d":"1,696"}},{"$f":"AL9","v":{"v":1448,"d":"1,448"}},{"$f":"AM9","v":{"v":1074,"d":"1,074"}},{"$f":"AN9","v":715},{"$f":"AO9","v":695},{"$f":"SUM(AU9:AY9)","v":{"v":1360,"d":"1,360"}},{"$f":"SUM(AZ9:BD9)","v":{"v":1577,"d":"1,577"}},{"$f":"SUM(BE9:BI9)","v":{"v":1400,"d":"1,400"}},{"$f":"SUM(BJ9:BN9)","v":{"v":1522,"d":"1,522"}},{"$f":"BO9","v":{"v":1652,"d":"1,652"}},{"$f":"BP9","v":{"v":1836,"d":"1,836"}},{"$f":"BQ9","v":{"v":1885,"d":"1,885"}},{"$f":"BR9","v":{"v":1742,"d":"1,742"}},{"$f":"BS9","v":{"v":1988,"d":"1,988"}},{"$f":"BT9","v":{"v":2094,"d":"2,094"}},{"$f":"BU9","v":{"v":2221,"d":"2,221"}},{"$f":"BV9","v":{"v":2295,"d":"2,295"}},{"$f":"BW9","v":{"v":2186,"d":"2,186"}},{"$f":"BX9","v":{"v":1946,"d":"1,946"}},{"$f":"BY9","v":{"v":1708,"d":"1,708"}},{"$f":"BZ9","v":{"v":1238,"d":"1,238"}},{"$f":"CA9","v":906},{"$f":"CB9","v":{"v":1075,"d":"1,075"}}]
["040102","AREQUIPA","AREQUIPA","AREQUIPA","ALTO SELVA ALEGRE",96431,47566,456,449,447,517,705,639,758,865,802,807,685,707,727,720,665,699,763,700,689,746,{"v":3586,"d":"3,586"},{"v":4055,"d":"4,055"},{"v":4251,"d":"4,251"},{"v":3698,"d":"3,698"},{"v":3487,"d":"3,487"},{"v":2977,"d":"2,977"},{"v":2562,"d":"2,562"},{"v":2609,"d":"2,609"},{"v":2299,"d":"2,299"},{"v":1616,"d":"1,616"},{"v":1150,"d":"1,150"},753,482,495,18,226,230,596,{"v":48865,"d":"48,865"},458,461,447,525,607,690,755,706,749,669,643,664,683,676,624,663,668,697,629,720,{"v":3789,"d":"3,789"},{"v":4627,"d":"4,627"},{"v":4229,"d":"4,229"},{"v":3421,"d":"3,421"},{"v":3322,"d":"3,322"},{"v":3158,"d":"3,158"},{"v":3107,"d":"3,107"},{"v":2785,"d":"2,785"},{"v":2447,"d":"2,447"},{"v":1788,"d":"1,788"},{"v":1305,"d":"1,305"},867,593,693,13,211,247,633,{"v":2417,"d":"2,417"},null,null,{"v":7837,"d":"7,837"},{"v":4274,"d":"4,274"},{"v":9076,"d":"9,076"},{"v":19584,"d":"19,584"},{"v":6795,"d":"6,795"},{"v":7374,"d":"7,374"},{"v":4011,"d":"4,011"},{"v":9765,"d":"9,765"},{"v":20022,"d":"20,022"},{"v":7693,"d":"7,693"},{"v":2574,"d":"2,574"},{"v":3871,"d":"3,871"},{"v":3504,"d":"3,504"},{"v":3597,"d":"3,597"},{"v":3586,"d":"3,586"},{"v":4055,"d":"4,055"},{"v":4251,"d":"4,251"},{"v":3698,"d":"3,698"},{"v":3487,"d":"3,487"},{"v":2977,"d":"2,977"},{"v":2562,"d":"2,562"},{"v":2609,"d":"2,609"},{"v":2299,"d":"2,299"},{"v":1616,"d":"1,616"},{"v":1150,"d":"1,150"},753,482,495,{"v":2498,"d":"2,498"},{"v":3569,"d":"3,569"},{"v":3290,"d":"3,290"},{"v":3377,"d":"3,377"},{"v":3789,"d":"3,789"},{"v":4627,"d":"4,627"},{"v":4229,"d":"4,229"},{"v":3421,"d":"3,421"},{"v":3322,"d":"3,322"},{"v":3158,"d":"3,158"},{"v":3107,"d":"3,107"},{"v":2785,"d":"2,785"},{"v":2447,"d":"2,447"},{"v":1788,"d":"1,788"},{"v":1305,"d":"1,305"},867,593,693]
["040103","AREQUIPA","AREQUIPA","AREQUIPA","CAYMA",114695,56261,554,570,667,645,752,878,{"v":1022,"d":"1,022"},954,{"v":1014,"d":"1,014"},984,871,855,912,834,750,915,780,880,913,891,{"v":4217,"d":"4,217"},{"v":4681,"d":"4,681"},{"v":5090,"d":"5,090"},{"v":4504,"d":"4,504"},{"v":4076,"d":"4,076"},{"v":3657,"d":"3,657"},{"v":3012,"d":"3,012"},{"v":2763,"d":"2,763"},{"v":2443,"d":"2,443"},{"v":1792,"d":"1,792"},{"v":1410,"d":"1,410"},962,504,509,15,243,311,903,{"v":58434,"d":"58,434"},550,610,718,626,702,798,977,1005,920,840,848,832,888,812,730,886,838,824,811,795,{"v":4346,"d":"4,346"},{"v":5098,"d":"5,098"},{"v":5241,"d":"5,241"},{"v":4429,"d":"4,429"},{"v":4147,"d":"4,147"},{"v":3714,"d":"3,714"},{"v":3446,"d":"3,446"},{"v":3106,"d":"3,106"},{"v":2607,"d":"2,607"},{"v":2132,"d":"2,132"},{"v":1628,"d":"1,628"},{"v":1132,"d":"1,132"},668,730,33,268,282,800,{"v":2619,"d":"2,619"},null,null,{"v":9766,"d":"9,766"},{"v":5071,"d":"5,071"},{"v":10702,"d":"10,702"},{"v":23102,"d":"23,102"},{"v":7620,"d":"7,620"},{"v":9426,"d":"9,426"},{"v":4978,"d":"4,978"},{"v":11050,"d":"11,050"},{"v":24083,"d":"24,083"},{"v":8897,"d":"8,897"},{"v":3188,"d":"3,188"},{"v":4852,"d":"4,852"},{"v":4222,"d":"4,222"},{"v":4379,"d":"4,379"},{"v":4217,"d":"4,217"},{"v":4681,"d":"4,681"},{"v":5090,"d":"5,090"},{"v":4504,"d":"4,504"},{"v":4076,"d":"4,076"},{"v":3657,"d":"3,657"},{"v":3012,"d":"3,012"},{"v":2763,"d":"2,763"},{"v":2443,"d":"2,443"},{"v":1792,"d":"1,792"},{"v":1410,"d":"1,410"},962,504,509,{"v":3206,"d":"3,206"},{"v":4540,"d":"4,540"},{"v":4110,"d":"4,110"},{"v":4154,"d":"4,154"},{"v":4346,"d":"4,346"},{"v":5098,"d":"5,098"},{"v":5241,"d":"5,241"},{"v":4429,"d":"4,429"},{"v":4147,"d":"4,147"},{"v":3714,"d":"3,714"},{"v":3446,"d":"3,446"},{"v":3106,"d":"3,106"},{"v":2607,"d":"2,607"},{"v":2132,"d":"2,132"},{"v":1628,"d":"1,628"},{"v":1132,"d":"1,132"},668,730]
["040104","AREQUIPA","AREQUIPA","AREQUIPA","CERRO COLORADO",232673,118583,{"v":1285,"d":"1,285"},{"v":1150,"d":"1,150"},{"v":1178,"d":"1,178"},{"v":1373,"d":"1,373"},{"v":1669,"d":"1,669"},{"v":1733,"d":"1,733"},{"v":2318,"d":"2,318"},{"v":2389,"d":"2,389"},{"v":2397,"d":"2,397"},{"v":2381,"d":"2,381"},{"v":2046,"d":"2,046"},{"v":1950,"d":"1,950"},{"v":2036,"d":"2,036"},{"v":1887,"d":"1,887"},{"v":1727,"d":"1,727"},{"v":2034,"d":"2,034"},{"v":2009,"d":"2,009"},{"v":2001,"d":"2,001"},{"v":1949,"d":"1,949"},{"v":2077,"d":"2,077"},{"v":9674,"d":"9,674"},{"v":9944,"d":"9,944"},{"v":10205,"d":"10,205"},{"v":9353,"d":"9,353"},{"v":9035,"d":"9,035"},{"v":7756,"d":"7,756"},{"v":6417,"d":"6,417"},{"v":5387,"d":"5,387"},{"v":4117,"d":"4,117"},{"v":3069,"d":"3,069"},{"v":2599,"d":"2,599"},{"v":1613,"d":"1,613"},980,845,57,624,661,{"v":1820,"d":"1,820"},{"v":114090,"d":"114,090"},{"v":1242,"d":"1,242"},{"v":1100,"d":"1,100"},{"v":1126,"d":"1,126"},{"v":1328,"d":"1,328"},{"v":1465,"d":"1,465"},{"v":1649,"d":"1,649"},2149,2204,2132,{"v":1946,"d":"1,946"},{"v":1867,"d":"1,867"},1780,1858,1723,{"v":1573,"d":"1,573"},{"v":1830,"d":"1,830"},1709,1840,1839,{"v":1848,"d":"1,848"},{"v":9212,"d":"9,212"},{"v":10508,"d":"10,508"},{"v":10161,"d":"10,161"},{"v":8607,"d":"8,607"},{"v":8620,"d":"8,620"},{"v":7565,"d":"7,565"},{"v":6107,"d":"6,107"},{"v":5239,"d":"5,239"},{"v":3933,"d":"3,933"},{"v":3297,"d":"3,297"},{"v":2639,"d":"2,639"},{"v":1740,"d":"1,740"},{"v":1133,"d":"1,133"},{"v":1121,"d":"1,121"},51,649,593,{"v":1730,"d":"1,730"},{"v":6600,"d":"6,600"},null,null,{"v":21869,"d":"21,869"},{"v":11694,"d":"11,694"},{"v":23644,"d":"23,644"},{"v":48153,"d":"48,153"},{"v":13223,"d":"13,223"},{"v":19988,"d":"19,988"},{"v":10533,"d":"10,533"},{"v":23407,"d":"23,407"},{"v":46299,"d":"46,299"},{"v":13863,"d":"13,863"},{"v":6655,"d":"6,655"},{"v":11218,"d":"11,218"},{"v":9646,"d":"9,646"},{"v":10070,"d":"10,070"},{"v":9674,"d":"9,674"},{"v":9944,"d":"9,944"},{"v":10205,"d":"10,205"},{"v":9353,"d":"9,353"},{"v":9035,"d":"9,035"},{"v":7756,"d":"7,756"},{"v":6417,"d":"6,417"},{"v":5387,"d":"5,387"},{"v":4117,"d":"4,117"},{"v":3069,"d":"3,069"},{"v":2599,"d":"2,599"},{"v":1613,"d":"1,613"},980,845,{"v":6261,"d":"6,261"},{"v":10080,"d":"10,080"},{"v":8801,"d":"8,801"},{"v":9066,"d":"9,066"},{"v":9212,"d":"9,212"},{"v":10508,"d":"10,508"},{"v":10161,"d":"10,161"},{"v":8607,"d":"8,607"},{"v":8620,"d":"8,620"},{"v":7565,"d":"7,565"},{"v":6107,"d":"6,107"},{"v":5239,"d":"5,239"},{"v":3933,"d":"3,933"},{"v":3297,"d":"3,297"},{"v":2639,"d":"2,639"},{"v":1740,"d":"1,740"},{"v":1133,"d":"1,133"},{"v":1121,"d":"1,121"}]
["040105","AREQUIPA","AREQUIPA","AREQUIPA","CHARACATO",19480,9674,88,72,102,87,92,97,179,164,125,155,150,138,158,136,144,133,171,140,150,177,727,701,761,785,756,708,578,520,425,341,302,207,119,86,3,42,46,121,{"v":9806,"d":"9,806"},73,67,92,78,102,117,201,174,154,127,144,132,151,130,139,158,127,125,144,186,748,801,767,716,818,721,586,524,408,367,255,206,140,128,0,37,36,97,371,null,null,{"v":1449,"d":"1,449"},882,{"v":1755,"d":"1,755"},{"v":4108,"d":"4,108"},{"v":1480,"d":"1,480"},{"v":1461,"d":"1,461"},830,{"v":1879,"d":"1,879"},{"v":4132,"d":"4,132"},{"v":1504,"d":"1,504"},441,720,726,771,727,701,761,785,756,708,578,520,425,341,302,207,119,86,412,773,696,740,748,801,767,716,818,721,586,524,408,367,255,206,140,128]
["040106","AREQUIPA","AREQUIPA","AREQUIPA","CHIGUATA",3633,1723,24,19,29,30,40,24,26,31,24,24,19,29,15,15,25,26,12,23,20,23,111,115,146,129,104,105,100,98,74,78,74,46,32,33,2,12,12,45,{"v":1910,"d":"1,910"},25,24,24,24,30,32,22,26,29,24,20,30,15,15,25,26,16,22,26,20,129,155,161,138,145,126,123,107,90,86,68,42,31,34,2,10,15,41,182,null,null,319,116,269,682,337,310,119,330,800,351,142,129,103,104,111,115,146,129,104,105,100,98,74,78,74,46,32,33,127,133,105,110,129,155,161,138,145,126,123,107,90,86,68,42,31,34]
["040107","AREQUIPA","AREQUIPA","AREQUIPA","JACOBO HUNTER",57137,27982,246,250,312,303,372,387,491,486,445,472,411,418,424,438,333,398,432,438,398,407,{"v":2047,"d":"2,047"},{"v":2210,"d":"2,210"},{"v":2274,"d":"2,274"},{"v":2246,"d":"2,246"},{"v":2231,"d":"2,231"},{"v":1968,"d":"1,968"},{"v":1629,"d":"1,629"},{"v":1488,"d":"1,488"},{"v":1189,"d":"1,189"},986,721,543,304,285,11,123,123,393,{"v":29155,"d":"29,155"},252,259,270,296,335,369,495,468,490,445,410,417,423,437,334,444,446,447,403,400,{"v":2178,"d":"2,178"},{"v":2488,"d":"2,488"},{"v":2268,"d":"2,268"},{"v":2100,"d":"2,100"},{"v":2107,"d":"2,107"},{"v":2037,"d":"2,037"},{"v":1851,"d":"1,851"},{"v":1615,"d":"1,615"},{"v":1320,"d":"1,320"},{"v":1068,"d":"1,068"},878,618,383,404,15,137,115,349,{"v":1416,"d":"1,416"},null,null,{"v":4593,"d":"4,593"},{"v":2463,"d":"2,463"},{"v":5062,"d":"5,062"},{"v":11836,"d":"11,836"},{"v":4028,"d":"4,028"},{"v":4506,"d":"4,506"},{"v":2531,"d":"2,531"},{"v":5469,"d":"5,469"},{"v":11978,"d":"11,978"},{"v":4671,"d":"4,671"},{"v":1483,"d":"1,483"},{"v":2281,"d":"2,281"},{"v":2024,"d":"2,024"},{"v":2073,"d":"2,073"},{"v":2047,"d":"2,047"},{"v":2210,"d":"2,210"},{"v":2274,"d":"2,274"},{"v":2246,"d":"2,246"},{"v":2231,"d":"2,231"},{"v":1968,"d":"1,968"},{"v":1629,"d":"1,629"},{"v":1488,"d":"1,488"},{"v":1189,"d":"1,189"},986,721,543,304,285,{"v":1412,"d":"1,412"},{"v":2267,"d":"2,267"},{"v":2021,"d":"2,021"},{"v":2140,"d":"2,140"},{"v":2178,"d":"2,178"},{"v":2488,"d":"2,488"},{"v":2268,"d":"2,268"},{"v":2100,"d":"2,100"},{"v":2107,"d":"2,107"},{"v":2037,"d":"2,037"},{"v":1851,"d":"1,851"},{"v":1615,"d":"1,615"},{"v":1320,"d":"1,320"},{"v":1068,"d":"1,068"},878,618,383,404]
["040108","AREQUIPA","AREQUIPA","AREQUIPA","LA JOYA",44201,21555,269,270,315,301,327,340,304,280,389,432,333,332,366,319,336,390,390,410,402,364,{"v":1720,"d":"1,720"},{"v":1856,"d":"1,856"},{"v":1753,"d":"1,753"},{"v":1662,"d":"1,662"},{"v":1459,"d":"1,459"},{"v":1388,"d":"1,388"},{"v":1111,"d":"1,111"},{"v":1029,"d":"1,029"},838,665,481,331,205,188,17,127,142,437,{"v":22646,"d":"22,646"},222,246,292,296,323,255,385,346,404,393,368,367,405,353,372,388,420,387,424,441,{"v":1932,"d":"1,932"},{"v":2155,"d":"2,155"},{"v":1844,"d":"1,844"},{"v":1689,"d":"1,689"},{"v":1517,"d":"1,517"},{"v":1464,"d":"1,464"},{"v":1154,"d":"1,154"},{"v":1031,"d":"1,031"},836,699,453,362,227,196,7,107,115,366,{"v":1130,"d":"1,130"},null,null,{"v":3892,"d":"3,892"},{"v":2211,"d":"2,211"},{"v":4342,"d":"4,342"},{"v":8402,"d":"8,402"},{"v":2708,"d":"2,708"},{"v":3897,"d":"3,897"},{"v":2325,"d":"2,325"},{"v":4952,"d":"4,952"},{"v":8699,"d":"8,699"},{"v":2773,"d":"2,773"},{"v":1482,"d":"1,482"},{"v":1745,"d":"1,745"},{"v":1686,"d":"1,686"},{"v":1956,"d":"1,956"},{"v":1720,"d":"1,720"},{"v":1856,"d":"1,856"},{"v":1753,"d":"1,753"},{"v":1662,"d":"1,662"},{"v":1459,"d":"1,459"},{"v":1388,"d":"1,388"},{"v":1111,"d":"1,111"},{"v":1029,"d":"1,029"},838,665,481,331,205,188,{"v":1379,"d":"1,379"},{"v":1783,"d":"1,783"},{"v":1865,"d":"1,865"},{"v":2060,"d":"2,060"},{"v":1932,"d":"1,932"},{"v":2155,"d":"2,155"},{"v":1844,"d":"1,844"},{"v":1689,"d":"1,689"},{"v":1517,"d":"1,517"},{"v":1464,"d":"1,464"},{"v":1154,"d":"1,154"},{"v":1031,"d":"1,031"},836,699,453,362,227,196]
["040109","AREQUIPA","AREQUIPA","AREQUIPA","MARIANO MELGAR",71941,35408,379,366,374,382,414,465,591,545,560,543,482,473,519,502,479,525,548,479,517,580,{"v":2552,"d":"2,552"},{"v":2752,"d":"2,752"},{"v":2927,"d":"2,927"},{"v":2550,"d":"2,550"},{"v":2622,"d":"2,622"},{"v":2471,"d":"2,471"},{"v":2169,"d":"2,169"},{"v":2062,"d":"2,062"},{"v":1718,"d":"1,718"},{"v":1294,"d":"1,294"},{"v":1030,"d":"1,030"},691,449,398,16,200,179,563,{"v":36533,"d":"36,533"},348,358,350,377,449,418,501,519,554,538,481,471,517,500,477,547,537,530,512,504,{"v":2627,"d":"2,627"},{"v":3085,"d":"3,085"},{"v":2928,"d":"2,928"},{"v":2493,"d":"2,493"},{"v":2533,"d":"2,533"},{"v":2493,"d":"2,493"},{"v":2344,"d":"2,344"},{"v":2072,"d":"2,072"},{"v":1822,"d":"1,822"},{"v":1476,"d":"1,476"},{"v":1199,"d":"1,199"},798,528,647,20,179,169,490,{"v":1732,"d":"1,732"},null,null,{"v":5574,"d":"5,574"},{"v":3052,"d":"3,052"},{"v":6401,"d":"6,401"},{"v":14801,"d":"14,801"},{"v":5580,"d":"5,580"},{"v":5364,"d":"5,364"},{"v":3108,"d":"3,108"},{"v":6728,"d":"6,728"},{"v":14863,"d":"14,863"},{"v":6470,"d":"6,470"},{"v":1915,"d":"1,915"},{"v":2704,"d":"2,704"},{"v":2455,"d":"2,455"},{"v":2649,"d":"2,649"},{"v":2552,"d":"2,552"},{"v":2752,"d":"2,752"},{"v":2927,"d":"2,927"},{"v":2550,"d":"2,550"},{"v":2622,"d":"2,622"},{"v":2471,"d":"2,471"},{"v":2169,"d":"2,169"},{"v":2062,"d":"2,062"},{"v":1718,"d":"1,718"},{"v":1294,"d":"1,294"},{"v":1030,"d":"1,030"},691,449,398,{"v":1882,"d":"1,882"},{"v":2530,"d":"2,530"},{"v":2446,"d":"2,446"},{"v":2630,"d":"2,630"},{"v":2627,"d":"2,627"},{"v":3085,"d":"3,085"},{"v":2928,"d":"2,928"},{"v":2493,"d":"2,493"},{"v":2533,"d":"2,533"},{"v":2493,"d":"2,493"},{"v":2344,"d":"2,344"},{"v":2072,"d":"2,072"},{"v":1822,"d":"1,822"},{"v":1476,"d":"1,476"},{"v":1199,"d":"1,199"},798,528,647]
["040110","AREQUIPA","AREQUIPA","AREQUIPA","MIRAFLORES",70842,34631,324,346,367,356,417,496,566,532,574,518,499,452,453,443,408,431,488,458,483,518,{"v":2534,"d":"2,534"},{"v":2738,"d":"2,738"},{"v":2827,"d":"2,827"},{"v":2583,"d":"2,583"},{"v":2647,"d":"2,647"},{"v":2513,"d":"2,513"},{"v":2225,"d":"2,225"},{"v":1959,"d":"1,959"},{"v":1720,"d":"1,720"},{"v":1264,"d":"1,264"},980,668,422,422,16,162,162,492,{"v":36211,"d":"36,211"},279,297,360,346,404,426,454,526,548,469,521,471,472,462,427,492,504,489,489,529,{"v":2662,"d":"2,662"},{"v":3046,"d":"3,046"},{"v":2925,"d":"2,925"},{"v":2474,"d":"2,474"},{"v":2661,"d":"2,661"},{"v":2564,"d":"2,564"},{"v":2366,"d":"2,366"},{"v":2115,"d":"2,115"},{"v":1793,"d":"1,793"},{"v":1411,"d":"1,411"},{"v":1166,"d":"1,166"},833,561,669,13,133,146,492,{"v":1739,"d":"1,739"},null,null,{"v":5447,"d":"5,447"},{"v":2681,"d":"2,681"},{"v":6273,"d":"6,273"},{"v":14754,"d":"14,754"},{"v":5476,"d":"5,476"},{"v":5101,"d":"5,101"},{"v":2846,"d":"2,846"},{"v":6726,"d":"6,726"},{"v":15105,"d":"15,105"},{"v":6433,"d":"6,433"},{"v":1810,"d":"1,810"},{"v":2686,"d":"2,686"},{"v":2255,"d":"2,255"},{"v":2378,"d":"2,378"},{"v":2534,"d":"2,534"},{"v":2738,"d":"2,738"},{"v":2827,"d":"2,827"},{"v":2583,"d":"2,583"},{"v":2647,"d":"2,647"},{"v":2513,"d":"2,513"},{"v":2225,"d":"2,225"},{"v":1959,"d":"1,959"},{"v":1720,"d":"1,720"},{"v":1264,"d":"1,264"},980,668,422,422,{"v":1686,"d":"1,686"},{"v":2423,"d":"2,423"},{"v":2353,"d":"2,353"},{"v":2503,"d":"2,503"},{"v":2662,"d":"2,662"},{"v":3046,"d":"3,046"},{"v":2925,"d":"2,925"},{"v":2474,"d":"2,474"},{"v":2661,"d":"2,661"},{"v":2564,"d":"2,564"},{"v":2366,"d":"2,366"},{"v":2115,"d":"2,115"},{"v":1793,"d":"1,793"},{"v":1411,"d":"1,411"},{"v":1166,"d":"1,166"},833,561,669]
["040111","AREQUIPA","AREQUIPA","AREQUIPA","MOLLEBAYA",8627,4288,33,24,45,37,36,26,60,95,92,60,47,57,55,65,59,68,61,71,75,42,244,277,449,393,355,352,218,221,217,145,126,107,38,38,0,17,16,50,{"v":4339,"d":"4,339"},34,32,38,25,34,41,56,84,72,75,47,58,56,66,60,67,73,50,63,50,269,442,452,386,363,329,202,217,182,150,119,58,44,45,2,14,20,49,175,null,null,612,379,638,{"v":1988,"d":"1,988"},671,596,372,824,{"v":1949,"d":"1,949"},598,175,333,283,317,244,277,449,393,355,352,218,221,217,145,126,107,38,38,163,328,287,303,269,442,452,386,363,329,202,217,182,150,119,58,44,45]
["040112","AREQUIPA","AREQUIPA","AREQUIPA","PAUCARPATA",142855,69651,785,840,854,812,889,{"v":1094,"d":"1,094"},{"v":1165,"d":"1,165"},{"v":1164,"d":"1,164"},{"v":1136,"d":"1,136"},{"v":1121,"d":"1,121"},{"v":1057,"d":"1,057"},{"v":1049,"d":"1,049"},{"v":1054,"d":"1,054"},{"v":1009,"d":"1,009"},992,{"v":1109,"d":"1,109"},{"v":1105,"d":"1,105"},{"v":1065,"d":"1,065"},{"v":1051,"d":"1,051"},{"v":1063,"d":"1,063"},{"v":4970,"d":"4,970"},{"v":5338,"d":"5,338"},{"v":5484,"d":"5,484"},{"v":5189,"d":"5,189"},{"v":5393,"d":"5,393"},{"v":5082,"d":"5,082"},{"v":4258,"d":"4,258"},{"v":3602,"d":"3,602"},{"v":2792,"d":"2,792"},{"v":2191,"d":"2,191"},{"v":1794,"d":"1,794"},{"v":1499,"d":"1,499"},886,759,27,353,432,{"v":1047,"d":"1,047"},{"v":73204,"d":"73,204"},720,802,845,798,890,{"v":1029,"d":"1,029"},1129,1205,1166,{"v":1069,"d":"1,069"},{"v":1070,"d":"1,070"},1062,1067,1022,{"v":1004,"d":"1,004"},{"v":1122,"d":"1,122"},1159,1094,1099,{"v":1087,"d":"1,087"},{"v":5414,"d":"5,414"},{"v":5997,"d":"5,997"},{"v":5700,"d":"5,700"},{"v":5036,"d":"5,036"},{"v":5296,"d":"5,296"},{"v":5081,"d":"5,081"},{"v":4655,"d":"4,655"},{"v":3768,"d":"3,768"},{"v":3030,"d":"3,030"},{"v":2657,"d":"2,657"},{"v":2336,"d":"2,336"},{"v":1684,"d":"1,684"},{"v":1071,"d":"1,071"},{"v":1040,"d":"1,040"},38,346,374,{"v":1037,"d":"1,037"},{"v":3575,"d":"3,575"},null,null,{"v":11966,"d":"11,966"},{"v":6334,"d":"6,334"},{"v":12422,"d":"12,422"},{"v":29008,"d":"29,008"},{"v":9921,"d":"9,921"},{"v":11785,"d":"11,785"},{"v":6468,"d":"6,468"},{"v":13597,"d":"13,597"},{"v":29536,"d":"29,536"},{"v":11818,"d":"11,818"},{"v":4180,"d":"4,180"},{"v":5680,"d":"5,680"},{"v":5161,"d":"5,161"},{"v":5393,"d":"5,393"},{"v":4970,"d":"4,970"},{"v":5338,"d":"5,338"},{"v":5484,"d":"5,484"},{"v":5189,"d":"5,189"},{"v":5393,"d":"5,393"},{"v":5082,"d":"5,082"},{"v":4258,"d":"4,258"},{"v":3602,"d":"3,602"},{"v":2792,"d":"2,792"},{"v":2191,"d":"2,191"},{"v":1794,"d":"1,794"},{"v":1499,"d":"1,499"},886,759,{"v":4055,"d":"4,055"},{"v":5598,"d":"5,598"},{"v":5225,"d":"5,225"},{"v":5561,"d":"5,561"},{"v":5414,"d":"5,414"},{"v":5997,"d":"5,997"},{"v":5700,"d":"5,700"},{"v":5036,"d":"5,036"},{"v":5296,"d":"5,296"},{"v":5081,"d":"5,081"},{"v":4655,"d":"4,655"},{"v":3768,"d":"3,768"},{"v":3030,"d":"3,030"},{"v":2657,"d":"2,657"},{"v":2336,"d":"2,336"},{"v":1684,"d":"1,684"},{"v":1071,"d":"1,071"},{"v":1040,"d":"1,040"}]
["040113","AREQUIPA","AREQUIPA","AREQUIPA","POCSI",525,252,6,4,4,1,4,6,1,1,1,1,1,1,2,2,2,2,2,2,2,4,11,18,23,19,20,17,18,16,17,11,9,9,9,6,0,2,4,10,273,5,0,1,1,5,3,1,1,1,1,1,1,2,2,1,1,1,1,3,1,14,23,22,14,19,25,21,22,18,16,15,10,12,9,0,2,3,7,11,null,null,31,12,35,113,61,21,8,41,123,80,19,10,8,12,11,18,23,19,20,17,18,16,17,11,9,9,9,6,12,7,7,7,14,23,22,14,19,25,21,22,18,16,15,10,12,9]
["040114","AREQUIPA","AREQUIPA","AREQUIPA","POLOBAYA",878,426,5,3,6,3,8,5,1,2,4,7,3,4,7,4,4,3,4,3,4,11,22,31,29,29,31,23,25,35,38,25,16,15,10,6,0,1,4,12,452,8,3,6,9,9,3,2,3,2,0,3,4,6,4,3,4,4,2,3,9,32,33,37,26,23,28,29,38,28,31,27,5,12,16,0,4,4,13,30,null,null,51,25,68,172,110,52,23,77,181,119,25,19,22,25,22,31,29,29,31,23,25,35,38,25,16,15,10,6,35,10,20,22,32,33,37,26,23,28,29,38,28,31,27,5,12,16]
["040115","AREQUIPA","AREQUIPA","AREQUIPA","QUEQUEÑA",8720,4407,17,16,23,30,21,19,59,49,34,53,47,50,59,36,40,63,36,39,63,57,185,304,346,480,349,342,335,308,332,190,150,119,86,70,1,8,9,41,{"v":4313,"d":"4,313"},22,19,20,23,19,16,54,61,33,43,42,45,52,32,35,41,58,58,58,38,216,282,497,426,378,367,348,285,208,170,139,116,49,63,2,13,9,58,129,null,null,418,273,609,{"v":2160,"d":"2,160"},947,397,276,594,{"v":2301,"d":"2,301"},745,107,214,232,258,185,304,346,480,349,342,335,308,332,190,150,119,86,70,103,207,206,253,216,282,497,426,378,367,348,285,208,170,139,116,49,63]
["040116","AREQUIPA","AREQUIPA","AREQUIPA","SABANDIA",5241,2576,40,35,29,46,50,48,37,38,51,31,31,35,37,32,31,37,35,26,40,32,173,178,184,205,187,178,147,127,106,102,90,67,51,40,0,19,21,74,{"v":2665,"d":"2,665"},41,32,34,54,43,48,39,34,38,33,31,35,37,32,31,38,35,38,29,32,171,225,185,198,201,188,164,139,114,91,101,62,52,40,1,26,15,90,202,null,null,471,198,423,{"v":1028,"d":"1,028"},456,462,211,457,{"v":1075,"d":"1,075"},460,200,205,166,170,173,178,184,205,187,178,147,127,106,102,90,67,51,40,204,192,166,172,171,225,185,198,201,188,164,139,114,91,101,62,52,40]
["040117","AREQUIPA","AREQUIPA","AREQUIPA","SACHACA",31532,15480,165,156,169,187,227,262,274,281,254,243,196,228,238,240,212,228,225,255,230,226,{"v":1139,"d":"1,139"},{"v":1131,"d":"1,131"},{"v":1177,"d":"1,177"},{"v":1121,"d":"1,121"},{"v":1114,"d":"1,114"},{"v":1072,"d":"1,072"},893,836,693,593,482,339,206,188,8,80,85,233,{"v":16052,"d":"16,052"},200,175,178,184,202,204,234,244,245,228,188,218,228,230,202,251,231,223,231,244,{"v":1159,"d":"1,159"},{"v":1192,"d":"1,192"},{"v":1243,"d":"1,243"},{"v":1068,"d":"1,068"},{"v":1169,"d":"1,169"},{"v":1063,"d":"1,063"},977,872,783,703,566,409,252,256,5,118,82,295,669,null,null,{"v":2642,"d":"2,642"},{"v":1398,"d":"1,398"},{"v":2726,"d":"2,726"},{"v":6213,"d":"6,213"},{"v":2501,"d":"2,501"},{"v":2500,"d":"2,500"},{"v":1365,"d":"1,365"},{"v":2826,"d":"2,826"},{"v":6392,"d":"6,392"},{"v":2969,"d":"2,969"},904,{"v":1314,"d":"1,314"},{"v":1114,"d":"1,114"},{"v":1164,"d":"1,164"},{"v":1139,"d":"1,139"},{"v":1131,"d":"1,131"},{"v":1177,"d":"1,177"},{"v":1121,"d":"1,121"},{"v":1114,"d":"1,114"},{"v":1072,"d":"1,072"},893,836,693,593,482,339,206,188,939,{"v":1155,"d":"1,155"},{"v":1066,"d":"1,066"},{"v":1180,"d":"1,180"},{"v":1159,"d":"1,159"},{"v":1192,"d":"1,192"},{"v":1243,"d":"1,243"},{"v":1068,"d":"1,068"},{"v":1169,"d":"1,169"},{"v":1063,"d":"1,063"},977,872,783,703,566,409,252,256]
["040118","AREQUIPA","AREQUIPA","AREQUIPA","SAN JUAN DE SIGUAS",597,266,4,4,7,5,4,5,3,2,3,2,3,3,3,1,1,2,4,3,2,3,16,19,18,15,23,16,21,21,16,15,7,8,4,3,1,3,1,10,331,2,1,3,6,5,1,1,5,1,4,6,6,6,2,2,1,7,2,5,3,24,24,29,21,20,17,26,25,20,22,17,6,3,8,0,2,0,7,49,null,null,45,14,40,114,53,41,20,56,138,76,24,15,11,14,16,19,18,15,23,16,21,21,16,15,7,8,4,3,17,12,22,18,24,24,29,21,20,17,26,25,20,22,17,6,3,8]
["040119","AREQUIPA","AREQUIPA","AREQUIPA","SAN JUAN DE TARUCANI",1377,654,11,12,15,10,13,12,5,5,6,9,5,3,3,11,4,7,6,10,8,2,33,34,47,48,53,52,46,50,38,29,27,16,12,12,0,6,6,18,723,9,3,12,8,14,11,2,5,3,0,5,3,3,10,2,10,3,5,5,11,36,64,50,60,75,52,51,56,44,35,20,19,19,18,0,7,2,11,49,null,null,106,41,77,296,134,75,33,116,344,155,61,37,26,33,33,34,47,48,53,52,46,50,38,29,27,16,12,12,46,21,23,34,36,64,50,60,75,52,51,56,44,35,20,19,19,18]
["040120","AREQUIPA","AREQUIPA","AREQUIPA","SANTA ISABEL DE SIGUAS",705,328,3,1,3,2,7,5,4,3,3,4,3,3,3,4,1,4,4,7,5,5,25,20,22,18,18,21,28,22,23,19,15,5,10,8,0,1,2,5,377,5,2,2,2,6,2,6,8,6,2,7,7,6,8,1,6,6,8,1,4,27,28,31,17,19,25,24,24,23,19,11,18,8,8,0,3,2,4,15,null,null,41,23,55,129,80,55,35,60,140,87,16,19,14,25,25,20,22,18,18,21,28,22,23,19,15,5,10,8,17,24,29,25,27,28,31,17,19,25,24,24,23,19,11,18,8,8]
["040121","AREQUIPA","AREQUIPA","AREQUIPA","SANTA RITA DE SIGUAS",8744,4239,38,40,45,54,60,48,67,94,72,68,70,67,71,72,59,66,61,63,67,94,336,394,430,405,338,269,192,176,166,88,89,47,19,14,0,18,20,75,{"v":4505,"d":"4,505"},55,46,55,50,52,50,98,82,68,73,73,71,74,75,64,97,68,67,72,70,377,493,482,386,344,235,205,209,148,88,59,49,39,31,1,21,34,100,250,null,null,723,392,891,{"v":1810,"d":"1,810"},423,773,445,{"v":1012,"d":"1,012"},{"v":1861,"d":"1,861"},414,237,349,339,351,336,394,430,405,338,269,192,176,166,88,89,47,19,14,258,371,357,374,377,493,482,386,344,235,205,209,148,88,59,49,39,31]
["040122","AREQUIPA","AREQUIPA","AREQUIPA","SOCABAYA",91530,45223,382,370,330,408,470,558,709,762,790,776,620,681,671,690,580,709,747,706,752,763,{"v":3565,"d":"3,565"},{"v":3676,"d":"3,676"},{"v":3722,"d":"3,722"},{"v":3471,"d":"3,471"},{"v":3433,"d":"3,433"},{"v":3141,"d":"3,141"},{"v":2567,"d":"2,567"},{"v":2365,"d":"2,365"},{"v":2069,"d":"2,069"},{"v":1697,"d":"1,697"},{"v":1233,"d":"1,233"},873,496,441,15,200,182,643,{"v":46307,"d":"46,307"},332,347,326,371,465,538,691,705,682,718,642,705,695,714,601,684,753,689,722,719,{"v":3673,"d":"3,673"},{"v":4123,"d":"4,123"},{"v":3723,"d":"3,723"},{"v":3210,"d":"3,210"},{"v":3355,"d":"3,355"},{"v":3209,"d":"3,209"},{"v":2840,"d":"2,840"},{"v":2600,"d":"2,600"},{"v":2205,"d":"2,205"},{"v":1868,"d":"1,868"},{"v":1383,"d":"1,383"},929,545,545,5,156,176,573,{"v":1445,"d":"1,445"},null,null,{"v":6856,"d":"6,856"},{"v":4103,"d":"4,103"},{"v":8756,"d":"8,756"},{"v":18699,"d":"18,699"},{"v":6809,"d":"6,809"},{"v":6522,"d":"6,522"},{"v":4136,"d":"4,136"},{"v":9237,"d":"9,237"},{"v":18937,"d":"18,937"},{"v":7475,"d":"7,475"},{"v":1960,"d":"1,960"},{"v":3595,"d":"3,595"},{"v":3242,"d":"3,242"},{"v":3677,"d":"3,677"},{"v":3565,"d":"3,565"},{"v":3676,"d":"3,676"},{"v":3722,"d":"3,722"},{"v":3471,"d":"3,471"},{"v":3433,"d":"3,433"},{"v":3141,"d":"3,141"},{"v":2567,"d":"2,567"},{"v":2365,"d":"2,365"},{"v":2069,"d":"2,069"},{"v":1697,"d":"1,697"},{"v":1233,"d":"1,233"},873,496,441,{"v":1841,"d":"1,841"},{"v":3334,"d":"3,334"},{"v":3357,"d":"3,357"},{"v":3567,"d":"3,567"},{"v":3673,"d":"3,673"},{"v":4123,"d":"4,123"},{"v":3723,"d":"3,723"},{"v":3210,"d":"3,210"},{"v":3355,"d":"3,355"},{"v":3209,"d":"3,209"},{"v":2840,"d":"2,840"},{"v":2600,"d":"2,600"},{"v":2205,"d":"2,205"},{"v":1868,"d":"1,868"},{"v":1383,"d":"1,383"},929,545,545]
["040123","AREQUIPA","AREQUIPA","AREQUIPA","TIABAYA",19123,9265,146,135,126,112,144,140,136,172,133,131,112,125,145,119,120,134,115,139,112,132,678,776,835,758,715,616,488,478,411,278,236,161,110,97,5,75,71,209,{"v":9858,"d":"9,858"},116,126,126,120,154,132,157,186,153,151,119,133,153,126,128,130,142,153,133,147,704,850,785,711,720,644,568,517,401,365,291,231,132,154,3,46,70,171,720,null,null,{"v":1612,"d":"1,612"},772,{"v":1698,"d":"1,698"},{"v":3890,"d":"3,890"},{"v":1293,"d":"1,293"},{"v":1673,"d":"1,673"},832,{"v":1834,"d":"1,834"},{"v":3945,"d":"3,945"},{"v":1574,"d":"1,574"},663,712,621,632,678,776,835,758,715,616,488,478,411,278,236,161,110,97,642,779,659,705,704,850,785,711,720,644,568,517,401,365,291,231,132,154]
["040124","AREQUIPA","AREQUIPA","AREQUIPA","UCHUMAYO",18826,8903,108,105,125,97,138,139,139,142,123,128,112,112,128,108,96,115,121,121,127,118,547,753,832,847,805,648,508,468,354,274,208,130,82,45,6,50,58,142,{"v":9923,"d":"9,923"},104,109,97,105,109,127,166,151,153,129,139,139,158,134,117,143,139,128,144,144,665,878,828,780,803,713,597,540,476,396,252,179,101,80,7,47,57,140,534,null,null,{"v":1468,"d":"1,468"},689,{"v":1545,"d":"1,545"},{"v":4108,"d":"4,108"},{"v":1093,"d":"1,093"},{"v":1528,"d":"1,528"},819,{"v":1831,"d":"1,831"},{"v":4261,"d":"4,261"},{"v":1484,"d":"1,484"},573,671,556,602,547,753,832,847,805,648,508,468,354,274,208,130,82,45,524,726,687,698,665,878,828,780,803,713,597,540,476,396,252,179,101,80]
["040125","AREQUIPA","AREQUIPA","AREQUIPA","VITOR",5469,2632,40,28,20,16,22,14,23,43,36,37,28,30,32,43,31,43,55,48,43,37,184,197,223,196,191,155,148,156,167,124,90,56,41,35,0,20,20,43,{"v":2837,"d":"2,837"},27,24,17,22,14,20,37,44,34,37,35,37,40,54,40,54,37,55,57,60,236,267,211,223,193,177,160,173,122,110,86,48,41,45,0,8,19,44,97,null,null,337,252,461,{"v":1069,"d":"1,069"},513,348,280,620,{"v":1137,"d":"1,137"},452,126,153,164,226,184,197,223,196,191,155,148,156,167,124,90,56,41,35,104,172,206,263,236,267,211,223,193,177,160,173,122,110,86,48,41,45]
["040126","AREQUIPA","AREQUIPA","AREQUIPA","YANAHUARA",30515,15492,146,92,122,178,200,243,218,206,236,241,208,186,198,192,176,189,212,175,195,231,845,959,{"v":1022,"d":"1,022"},{"v":1030,"d":"1,030"},{"v":1044,"d":"1,044"},{"v":1101,"d":"1,101"},{"v":1062,"d":"1,062"},985,916,802,683,533,317,349,3,89,57,212,{"v":15023,"d":"15,023"},131,89,103,128,211,188,168,163,167,180,162,145,154,150,137,142,153,153,171,155,831,964,{"v":1047,"d":"1,047"},908,{"v":1023,"d":"1,023"},{"v":1096,"d":"1,096"},{"v":1018,"d":"1,018"},{"v":1013,"d":"1,013"},993,824,759,557,434,506,3,71,60,157,545,null,null,{"v":2276,"d":"2,276"},{"v":1142,"d":"1,142"},{"v":2230,"d":"2,230"},{"v":6244,"d":"6,244"},{"v":3600,"d":"3,600"},{"v":1835,"d":"1,835"},889,{"v":2121,"d":"2,121"},{"v":6105,"d":"6,105"},{"v":4073,"d":"4,073"},738,{"v":1144,"d":"1,144"},960,{"v":1002,"d":"1,002"},845,959,{"v":1022,"d":"1,022"},{"v":1030,"d":"1,030"},{"v":1044,"d":"1,044"},{"v":1101,"d":"1,101"},{"v":1062,"d":"1,062"},985,916,802,683,533,317,349,662,866,748,774,831,964,{"v":1047,"d":"1,047"},908,{"v":1023,"d":"1,023"},{"v":1096,"d":"1,096"},{"v":1018,"d":"1,018"},{"v":1013,"d":"1,013"},993,824,759,557,434,506]
["040127","AREQUIPA","AREQUIPA","AREQUIPA","YARABAMBA",1977,884,26,25,19,18,16,11,7,8,6,7,6,7,5,6,4,8,8,5,13,12,55,70,83,79,72,78,56,47,35,26,31,16,9,10,0,16,10,33,{"v":1093,"d":"1,093"},24,19,21,13,21,11,8,13,11,7,10,11,8,10,7,12,8,12,15,8,61,97,113,76,83,85,67,70,62,44,32,19,16,19,2,12,12,43,86,null,null,156,36,150,415,127,169,57,181,494,192,104,39,28,46,55,70,83,79,72,78,56,47,35,26,31,16,9,10,98,50,46,55,61,97,113,76,83,85,67,70,62,44,32,19,16,19]
["040128","AREQUIPA","AREQUIPA","AREQUIPA","YURA",48226,23913,308,292,343,313,360,440,534,479,493,406,412,394,389,390,341,404,353,399,423,406,{"v":1908,"d":"1,908"},{"v":2164,"d":"2,164"},{"v":2211,"d":"2,211"},{"v":1989,"d":"1,989"},{"v":1680,"d":"1,680"},{"v":1379,"d":"1,379"},{"v":1144,"d":"1,144"},{"v":1019,"d":"1,019"},855,683,443,271,151,137,14,149,159,430,{"v":24313,"d":"24,313"},286,271,276,296,406,446,463,448,416,382,405,388,382,383,335,376,348,393,452,392,{"v":2034,"d":"2,034"},{"v":2445,"d":"2,445"},{"v":2464,"d":"2,464"},{"v":1919,"d":"1,919"},{"v":1668,"d":"1,668"},{"v":1492,"d":"1,492"},{"v":1228,"d":"1,228"},{"v":1078,"d":"1,078"},773,621,469,296,153,129,6,140,146,437,{"v":1179,"d":"1,179"},null,null,{"v":4774,"d":"4,774"},{"v":2276,"d":"2,276"},{"v":4901,"d":"4,901"},{"v":9422,"d":"9,422"},{"v":2540,"d":"2,540"},{"v":4483,"d":"4,483"},{"v":2217,"d":"2,217"},{"v":5323,"d":"5,323"},{"v":9849,"d":"9,849"},{"v":2441,"d":"2,441"},{"v":1616,"d":"1,616"},{"v":2352,"d":"2,352"},{"v":1926,"d":"1,926"},{"v":1985,"d":"1,985"},{"v":1908,"d":"1,908"},{"v":2164,"d":"2,164"},{"v":2211,"d":"2,211"},{"v":1989,"d":"1,989"},{"v":1680,"d":"1,680"},{"v":1379,"d":"1,379"},{"v":1144,"d":"1,144"},{"v":1019,"d":"1,019"},855,683,443,271,151,137,{"v":1535,"d":"1,535"},{"v":2155,"d":"2,155"},{"v":1893,"d":"1,893"},{"v":1961,"d":"1,961"},{"v":2034,"d":"2,034"},{"v":2445,"d":"2,445"},{"v":2464,"d":"2,464"},{"v":1919,"d":"1,919"},{"v":1668,"d":"1,668"},{"v":1492,"d":"1,492"},{"v":1228,"d":"1,228"},{"v":1078,"d":"1,078"},773,621,469,296,153,129]
["040129","AREQUIPA","AREQUIPA","AREQUIPA","JOSE LUIS BUSTAMANTE Y RIVERO",90831,44735,357,364,408,397,454,519,650,689,712,649,584,582,642,548,579,627,623,625,658,665,{"v":3140,"d":"3,140"},{"v":3406,"d":"3,406"},{"v":3689,"d":"3,689"},{"v":3361,"d":"3,361"},{"v":3495,"d":"3,495"},{"v":3217,"d":"3,217"},{"v":2643,"d":"2,643"},{"v":2437,"d":"2,437"},{"v":2141,"d":"2,141"},{"v":1675,"d":"1,675"},{"v":1573,"d":"1,573"},{"v":1200,"d":"1,200"},775,651,17,185,172,498,{"v":46096,"d":"46,096"},341,360,362,378,470,548,588,605,614,583,563,561,618,528,557,623,624,652,597,637,{"v":3366,"d":"3,366"},{"v":3712,"d":"3,712"},{"v":3628,"d":"3,628"},{"v":3117,"d":"3,117"},{"v":3243,"d":"3,243"},{"v":3109,"d":"3,109"},{"v":2992,"d":"2,992"},{"v":2680,"d":"2,680"},{"v":2377,"d":"2,377"},{"v":2054,"d":"2,054"},{"v":1868,"d":"1,868"},{"v":1389,"d":"1,389"},865,887,10,176,165,432,{"v":1703,"d":"1,703"},null,null,{"v":6365,"d":"6,365"},{"v":3644,"d":"3,644"},{"v":7869,"d":"7,869"},{"v":18842,"d":"18,842"},{"v":8015,"d":"8,015"},{"v":5973,"d":"5,973"},{"v":3602,"d":"3,602"},{"v":8312,"d":"8,312"},{"v":18769,"d":"18,769"},{"v":9440,"d":"9,440"},{"v":1980,"d":"1,980"},{"v":3219,"d":"3,219"},{"v":2935,"d":"2,935"},{"v":3198,"d":"3,198"},{"v":3140,"d":"3,140"},{"v":3406,"d":"3,406"},{"v":3689,"d":"3,689"},{"v":3361,"d":"3,361"},{"v":3495,"d":"3,495"},{"v":3217,"d":"3,217"},{"v":2643,"d":"2,643"},{"v":2437,"d":"2,437"},{"v":2141,"d":"2,141"},{"v":1675,"d":"1,675"},{"v":1573,"d":"1,573"},{"v":1200,"d":"1,200"},775,651,{"v":1911,"d":"1,911"},{"v":2938,"d":"2,938"},{"v":2827,"d":"2,827"},{"v":3133,"d":"3,133"},{"v":3366,"d":"3,366"},{"v":3712,"d":"3,712"},{"v":3628,"d":"3,628"},{"v":3117,"d":"3,117"},{"v":3243,"d":"3,243"},{"v":3109,"d":"3,109"},{"v":2992,"d":"2,992"},{"v":2680,"d":"2,680"},{"v":2377,"d":"2,377"},{"v":2054,"d":"2,054"},{"v":1868,"d":"1,868"},{"v":1389,"d":"1,389"},865,887]
["040201","AREQUIPA","AREQUIPA","CAMANA","CAMANA",15524,7489,89,49,39,16,9,37,104,122,119,116,127,101,118,118,118,150,123,129,123,117,597,590,596,468,435,495,477,464,469,331,259,174,114,96,3,43,46,103,{"v":8035,"d":"8,035"},67,48,40,24,11,38,120,130,141,104,128,102,120,120,119,147,134,153,129,148,655,623,576,486,519,525,535,493,453,341,291,209,158,148,6,36,31,107,250,null,null,928,756,{"v":1427,"d":"1,427"},{"v":2935,"d":"2,935"},{"v":1443,"d":"1,443"},953,793,{"v":1555,"d":"1,555"},{"v":3134,"d":"3,134"},{"v":1600,"d":"1,600"},202,498,582,642,597,590,596,468,435,495,477,464,469,331,259,174,114,96,190,533,589,711,655,623,576,486,519,525,535,493,453,341,291,209,158,148]
["040202","AREQUIPA","AREQUIPA","CAMANA","JOSE MARIA QUIMPER",5988,2984,47,41,32,26,37,36,49,65,62,35,37,43,45,34,42,49,37,40,35,36,178,212,231,215,202,184,160,196,169,174,92,74,33,36,2,25,22,48,{"v":3004,"d":"3,004"},39,35,38,21,43,48,37,58,53,46,40,46,49,37,47,43,54,34,47,41,194,279,224,224,198,181,172,167,185,118,91,43,41,31,2,20,19,63,119,null,null,510,247,461,{"v":1188,"d":"1,188"},578,504,264,561,{"v":1166,"d":"1,166"},509,183,247,201,197,178,212,231,215,202,184,160,196,169,174,92,74,33,36,176,242,219,219,194,279,224,224,198,181,172,167,185,118,91,43,41,31]
["040203","AREQUIPA","AREQUIPA","CAMANA","MARIANO NICOLAS VALCARCEL",9512,4727,65,72,73,93,86,107,81,61,65,68,56,72,67,55,40,41,58,53,36,27,152,223,415,504,459,401,371,408,226,144,72,34,28,14,3,34,31,109,{"v":4785,"d":"4,785"},93,77,81,89,77,104,87,69,31,83,80,102,95,78,56,67,55,53,46,22,217,456,686,526,377,326,242,209,145,77,36,19,16,8,4,48,45,119,156,null,null,899,314,438,{"v":2558,"d":"2,558"},518,973,404,741,{"v":2366,"d":"2,366"},301,389,382,290,215,152,223,415,504,459,401,371,408,226,144,72,34,28,14,417,374,411,243,217,456,686,526,377,326,242,209,145,77,36,19,16,8]
["040204","AREQUIPA","AREQUIPA","CAMANA","MARISCAL CACERES",8458,4174,64,61,47,37,46,48,58,61,66,54,52,57,49,60,62,58,70,54,71,55,237,327,323,308,320,307,299,266,232,168,113,71,45,28,4,31,33,86,{"v":4284,"d":"4,284"},44,42,33,43,60,47,57,56,62,57,48,53,45,56,56,68,55,78,63,58,271,405,359,346,318,317,286,241,204,169,125,61,49,52,1,19,25,47,312,null,null,651,353,690,{"v":1823,"d":"1,823"},657,602,358,797,{"v":1867,"d":"1,867"},660,255,287,280,308,237,327,323,308,320,307,299,266,232,168,113,71,45,28,222,279,258,322,271,405,359,346,318,317,286,241,204,169,125,61,49,52]
["040205","AREQUIPA","AREQUIPA","CAMANA","NICOLAS DE PIEROLA",9336,4587,47,43,44,46,51,60,67,85,83,77,60,75,78,84,63,80,76,72,75,71,271,315,334,314,327,317,270,287,276,188,142,98,59,52,0,24,24,68,{"v":4749,"d":"4,749"},45,44,50,38,65,50,62,83,71,64,58,72,75,81,60,64,79,69,76,72,349,380,387,364,324,304,327,290,230,182,143,96,50,45,1,25,20,66,247,null,null,738,453,732,{"v":1849,"d":"1,849"},815,702,428,877,{"v":1996,"d":"1,996"},746,231,372,360,374,271,315,334,314,327,317,270,287,276,188,142,98,59,52,242,330,346,360,349,380,387,364,324,304,327,290,230,182,143,96,50,45]
["040206","AREQUIPA","AREQUIPA","CAMANA","OCOÑA",4900,2332,27,26,24,29,34,26,32,43,30,17,22,25,24,30,29,35,26,52,28,26,128,139,135,145,159,160,165,190,158,123,113,58,37,37,4,12,15,39,{"v":2568,"d":"2,568"},30,22,25,17,34,32,38,32,35,30,27,30,29,36,35,43,46,43,35,34,153,229,160,175,186,159,180,146,165,121,95,62,43,41,2,17,13,65,102,null,null,335,196,321,954,526,352,232,451,{"v":1006,"d":"1,006"},527,140,148,130,167,128,139,135,145,159,160,165,190,158,123,113,58,37,37,128,167,157,201,153,229,160,175,186,159,180,146,165,121,95,62,43,41]
["040207","AREQUIPA","AREQUIPA","CAMANA","QUILCA",1449,677,6,5,11,12,6,7,6,6,5,11,6,9,3,7,9,9,7,10,7,5,26,34,61,51,46,57,50,48,48,34,34,24,12,5,0,2,4,17,772,8,6,6,3,7,6,17,12,7,10,9,14,6,11,15,11,16,12,5,12,46,68,58,70,64,45,49,37,63,26,20,9,8,16,0,4,4,14,45,null,null,90,45,72,313,157,105,71,131,323,142,40,35,34,38,26,34,61,51,46,57,50,48,48,34,34,24,12,5,30,52,55,56,46,68,58,70,64,45,49,37,63,26,20,9,8,16]
["040208","AREQUIPA","AREQUIPA","CAMANA","SAMUEL PASTOR",18561,9079,95,97,127,131,151,167,157,166,146,179,137,153,155,133,128,157,157,149,170,140,658,703,691,675,612,617,525,494,444,283,197,134,73,78,0,40,55,179,{"v":9482,"d":"9,482"},96,103,128,118,156,158,176,159,178,112,141,158,160,137,131,153,157,159,142,146,730,843,774,709,674,600,602,496,402,293,205,126,80,80,3,44,52,184,505,null,null,{"v":1706,"d":"1,706"},879,{"v":1671,"d":"1,671"},{"v":3614,"d":"3,614"},{"v":1209,"d":"1,209"},{"v":1683,"d":"1,683"},897,{"v":1861,"d":"1,861"},{"v":3855,"d":"3,855"},{"v":1186,"d":"1,186"},601,815,706,773,658,703,691,675,612,617,525,494,444,283,197,134,73,78,601,783,727,757,730,843,774,709,674,600,602,496,402,293,205,126,80,80]
["040301","AREQUIPA","AREQUIPA","CARAVELI","CARAVELI",5398,2649,47,49,46,43,35,41,39,41,29,40,44,23,40,34,27,53,58,49,42,42,193,211,197,185,152,156,181,144,121,93,74,46,31,43,5,17,30,61,{"v":2749,"d":"2,749"},44,48,42,38,35,31,50,42,39,26,45,23,41,34,27,33,46,40,68,62,260,271,207,164,154,168,146,126,111,90,59,57,66,56,2,15,29,50,148,null,null,477,261,488,{"v":1015,"d":"1,015"},408,463,221,661,965,439,220,190,168,244,193,211,197,185,152,156,181,144,121,93,74,46,31,43,207,188,170,249,260,271,207,164,154,168,146,126,111,90,59,57,66,56]
["040302","AREQUIPA","AREQUIPA","CARAVELI","ACARI",6593,3264,23,18,28,26,28,22,44,59,37,48,59,54,58,62,43,58,72,63,58,41,215,173,140,211,197,218,209,232,219,139,139,130,50,91,0,9,14,39,{"v":3329,"d":"3,329"},26,20,37,25,35,35,39,48,45,58,61,56,60,64,44,68,64,67,46,42,207,229,228,204,207,213,219,175,158,158,143,108,70,70,1,12,14,46,185,null,null,446,356,487,{"v":1207,"d":"1,207"},768,485,367,524,{"v":1246,"d":"1,246"},707,123,210,276,292,215,173,140,211,197,218,209,232,219,139,139,130,50,91,143,225,285,287,207,229,228,204,207,213,219,175,158,158,143,108,70,70]
["040303","AREQUIPA","AREQUIPA","CARAVELI","ATICO",6696,3243,37,38,37,27,45,30,51,44,48,44,55,56,37,54,56,50,69,57,54,43,200,208,244,241,250,247,231,205,157,127,84,55,47,15,2,13,24,50,{"v":3453,"d":"3,453"},44,36,42,31,29,37,67,48,50,54,56,57,37,55,57,65,56,53,59,47,204,290,315,278,237,250,217,183,136,131,82,78,31,41,3,16,28,62,191,null,null,512,323,505,{"v":1418,"d":"1,418"},485,551,323,600,{"v":1480,"d":"1,480"},499,184,217,258,273,200,208,244,241,250,247,231,205,157,127,84,55,47,15,182,256,262,280,204,290,315,278,237,250,217,183,136,131,82,78,31,41]
["040304","AREQUIPA","AREQUIPA","CARAVELI","ATIQUIPA",745,356,5,4,6,3,8,6,2,2,6,7,6,3,6,3,2,7,2,1,2,6,22,34,29,23,29,15,19,25,25,9,15,9,6,9,0,3,3,8,389,6,0,5,3,5,5,1,5,5,5,8,5,8,5,4,1,9,8,9,2,24,40,32,28,31,17,29,24,22,12,19,6,5,1,0,4,2,10,28,null,null,58,21,64,140,73,53,35,75,161,65,26,23,20,18,22,34,29,23,29,15,19,25,25,9,15,9,6,9,19,21,30,29,24,40,32,28,31,17,29,24,22,12,19,6,5,1]
["040305","AREQUIPA","AREQUIPA","CARAVELI","BELLA UNION",3563,1746,23,23,27,28,17,19,24,22,25,26,15,25,24,26,14,21,36,15,32,29,104,102,117,123,138,149,111,110,93,55,66,56,33,18,0,8,15,44,{"v":1817,"d":"1,817"},25,9,21,17,20,21,34,26,25,20,15,25,24,26,16,35,39,37,23,27,128,179,134,149,127,120,101,95,84,66,59,34,21,35,1,16,9,24,135,null,null,274,136,267,748,321,258,177,357,726,299,118,116,104,133,104,102,117,123,138,149,111,110,93,55,66,56,33,18,92,126,106,161,128,179,134,149,127,120,101,95,84,66,59,34,21,35]
["040306","AREQUIPA","AREQUIPA","CARAVELI","CAHUACHO",1369,650,5,4,1,17,5,3,3,7,12,9,7,7,12,10,6,13,9,12,8,8,34,44,34,43,38,39,40,35,31,35,36,25,29,29,0,5,0,22,719,6,4,9,15,5,3,7,3,14,8,9,9,16,13,10,10,7,10,18,19,35,48,44,29,51,35,45,44,32,32,32,31,22,44,0,4,2,35,348,null,null,80,62,94,229,185,92,66,120,248,193,32,34,42,50,34,44,34,43,38,39,40,35,31,35,36,25,29,29,39,35,57,64,35,48,44,29,51,35,45,44,32,32,32,31,22,44]
["040307","AREQUIPA","AREQUIPA","CARAVELI","CHALA",11423,5601,80,81,88,91,95,97,114,130,150,134,124,101,88,81,102,110,100,112,67,100,335,354,429,427,364,394,298,301,214,178,109,66,42,45,2,34,46,124,{"v":5822,"d":"5,822"},80,82,93,68,97,77,116,106,115,89,114,93,81,74,95,115,129,95,105,75,422,499,516,550,471,347,321,227,214,137,95,49,35,40,3,33,47,125,364,null,null,{"v":1285,"d":"1,285"},593,856,{"v":2213,"d":"2,213"},654,{"v":1130,"d":"1,130"},589,{"v":1101,"d":"1,101"},{"v":2432,"d":"2,432"},570,435,625,496,489,335,354,429,427,364,394,298,301,214,178,109,66,42,45,420,503,457,519,422,499,516,550,471,347,321,227,214,137,95,49,35,40]
["040308","AREQUIPA","AREQUIPA","CARAVELI","CHAPARRA",3778,1727,18,16,20,18,34,37,18,17,18,28,23,28,20,17,28,20,23,20,23,18,75,91,160,162,156,152,134,117,80,52,54,15,15,20,1,11,7,31,{"v":2051,"d":"2,051"},20,20,36,30,27,40,34,37,27,20,40,48,35,30,49,62,45,56,25,23,122,116,161,174,179,116,99,142,54,56,50,26,26,26,0,8,12,40,106,null,null,275,128,207,881,236,379,277,286,871,238,106,118,116,104,75,91,160,162,156,152,134,117,80,52,54,15,15,20,133,158,202,211,122,116,161,174,179,116,99,142,54,56,50,26,26,26]
["040309","AREQUIPA","AREQUIPA","CARAVELI","HUANUHUANU",3453,1511,20,15,36,17,32,20,12,24,12,15,15,22,17,31,26,20,29,18,28,17,60,104,157,171,127,122,108,83,74,44,16,7,4,8,1,15,5,36,{"v":1942,"d":"1,942"},25,16,13,25,23,12,30,23,25,45,29,43,34,61,52,43,33,39,18,32,138,157,200,142,126,151,118,95,71,35,32,8,17,31,1,13,13,36,104,null,null,240,141,209,768,153,309,262,345,832,194,120,83,111,112,60,104,157,171,127,122,108,83,74,44,16,7,4,8,102,135,219,165,138,157,200,142,126,151,118,95,71,35,32,8,17,31]
["040310","AREQUIPA","AREQUIPA","CARAVELI","JAQUI",1978,941,8,8,8,8,16,10,19,10,14,9,11,21,19,14,15,16,15,15,15,11,46,71,55,52,59,62,65,74,60,60,34,16,13,12,2,7,1,12,{"v":1037,"d":"1,037"},21,13,9,12,11,10,10,18,15,16,13,24,21,16,17,24,20,18,17,14,62,74,67,50,60,71,69,62,67,40,29,23,21,23,0,9,12,25,60,null,null,142,94,143,367,195,172,116,167,379,203,48,62,80,72,46,71,55,52,59,62,65,74,60,60,34,16,13,12,66,69,91,93,62,74,67,50,60,71,69,62,67,40,29,23,21,23]
["040311","AREQUIPA","AREQUIPA","CARAVELI","LOMAS",1731,826,10,11,11,11,11,11,11,13,5,12,11,9,12,10,10,9,10,9,12,6,57,54,64,66,67,71,48,58,56,29,19,19,9,5,0,4,6,13,905,8,5,17,15,6,3,12,5,21,28,12,10,14,11,13,16,16,13,5,12,62,85,76,67,67,64,60,54,47,32,29,13,1,6,1,4,4,21,43,null,null,126,60,129,374,137,142,83,164,388,128,54,52,52,46,57,54,64,66,67,71,48,58,56,29,19,19,9,5,51,69,60,62,62,85,76,67,67,64,60,54,47,32,29,13,1,6]
["040312","AREQUIPA","AREQUIPA","CARAVELI","QUICACHA",{"$f":"G57+AT57","v":2385},1159,14,9,17,9,21,8,16,13,20,23,18,20,15,20,14,31,26,21,19,21,84,65,85,80,71,83,61,72,61,47,34,24,17,20,1,8,6,30,{"v":1226,"d":"1,226"},11,10,12,13,19,8,26,25,15,17,28,31,23,31,22,24,25,32,18,23,94,94,74,80,65,62,71,58,50,43,32,25,21,44,1,2,9,13,74,null,null,188,127,189,452,203,215,157,229,410,215,70,80,87,118,84,65,85,80,71,83,61,72,61,47,34,24,17,20,65,91,135,122,94,94,74,80,65,62,71,58,50,43,32,25,21,44]
["040313","AREQUIPA","AREQUIPA","CARAVELI","YAUCA",2807,1403,16,22,17,10,10,6,20,22,26,28,18,19,25,13,21,26,25,19,21,14,79,89,71,69,96,87,85,104,123,70,61,40,27,24,0,8,8,19,{"v":1404,"d":"1,404"},11,8,16,8,12,8,18,20,16,29,22,23,31,16,27,16,22,17,8,20,88,126,98,88,91,100,91,112,75,55,50,31,13,38,0,6,6,20,51,null,null,{"$f":"SUM(H58:S58)","v":214},{"$f":"SUM(T58:Y58)","v":129},{"$f":"SUM(Z58:AC58)","v":203},{"$f":"SUM(AD58:AI58)","v":512},{"$f":"SUM(AJ58:AO58)","v":345},{"$f":"SUM(AU58:BF58)","v":191},{"$f":"SUM(BG58:BL58)","v":129},{"$f":"SUM(BM58:BP58)","v":242},{"$f":"SUM(BQ58:BV58)","v":580},{"$f":"SUM(BW58:CB58)","v":262},{"$f":"SUM(H58:L58)","v":75},{"$f":"SUM(M58:Q58)","v":102},{"$f":"SUM(R58:V58)","v":96},{"$f":"SUM(W58:AA58)","v":105},{"$f":"AB58","v":79},{"$f":"AC58","v":89},{"$f":"AD58","v":71},{"$f":"AE58","v":69},{"$f":"AF58","v":96},{"$f":"AG58","v":87},{"$f":"AH58","v":85},{"$f":"AI58","v":104},{"$f":"AJ58","v":123},{"$f":"AK58","v":70},{"$f":"AL58","v":61},{"$f":"AM58","v":40},{"$f":"AN58","v":27},{"$f":"AO58","v":24},{"$f":"SUM(AU58:AY58)","v":55},{"$f":"SUM(AZ58:BD58)","v":91},{"$f":"SUM(BE58:BI58)","v":119},{"$f":"SUM(BJ58:BN58)","v":83},{"$f":"BO58","v":88},{"$f":"BP58","v":126},{"$f":"BQ58","v":98},{"$f":"BR58","v":88},{"$f":"BS58","v":91},{"$f":"BT58","v":100},{"$f":"BU58","v":91},{"$f":"BV58","v":112},{"$f":"BW58","v":75},{"$f":"BX58","v":55},{"$f":"BY58","v":50},{"$f":"BZ58","v":31},{"$f":"CA58","v":13},{"$f":"CB58","v":38}]
["040401","AREQUIPA","AREQUIPA","CASTILLA","APLAO",10457,{"$f":"SUM(H59:AO59)","v":5102},58,57,66,50,72,65,66,67,71,64,67,85,105,68,79,70,92,100,66,73,326,363,358,319,316,335,323,345,285,224,200,130,68,69,1,21,37,82,{"$f":"SUM(AU59:CB59)","v":{"v":5355,"d":"5,355"}},55,57,48,67,70,62,69,67,69,57,65,83,102,66,78,77,109,94,95,92,420,454,385,345,342,353,332,329,242,217,158,131,73,92,5,29,26,59,259,null,null,788,514,828,{"v":1996,"d":"1,996"},976,769,526,{"v":1061,"d":"1,061"},{"v":2086,"d":"2,086"},913,303,333,404,401,326,363,358,319,316,335,323,345,285,224,200,130,68,69,297,324,394,467,420,454,385,345,342,353,332,329,242,217,158,131,73,92]
["040402","AREQUIPA","AREQUIPA","CASTILLA","ANDAGUA",982,465,9,1,8,4,4,3,5,8,6,5,5,5,5,6,5,5,9,5,5,5,33,28,28,25,32,34,36,30,27,25,26,15,6,12,0,3,6,33,517,5,4,2,6,9,5,7,4,2,7,7,6,6,8,8,2,11,7,7,5,43,26,24,28,29,30,30,33,37,28,25,29,14,23,0,1,4,6,21,null,null,63,35,71,185,111,64,42,81,174,156,26,27,26,29,33,28,28,25,32,34,36,30,27,25,26,15,6,12,26,25,35,32,43,26,24,28,29,30,30,33,37,28,25,29,14,23]
["040403","AREQUIPA","AREQUIPA","CASTILLA","AYO",377,177,3,1,1,4,1,1,1,1,1,1,0,2,0,0,1,1,2,2,1,2,6,6,9,15,12,12,10,10,14,14,11,13,10,9,0,1,2,6,200,2,1,1,2,2,2,1,1,1,0,0,4,1,1,1,0,1,1,0,1,1,9,12,12,13,9,23,15,16,16,7,17,6,21,0,0,2,5,13,null,null,17,6,15,68,71,17,5,11,84,83,10,5,3,8,6,6,9,15,12,12,10,10,14,14,11,13,10,9,8,5,7,3,1,9,12,12,13,9,23,15,16,16,7,17,6,21]
["040404","AREQUIPA","AREQUIPA","CASTILLA","CHACHAS",1847,834,16,14,9,14,16,19,13,5,14,8,19,11,12,10,14,17,15,16,10,10,63,55,70,64,55,52,44,48,34,26,24,20,5,12,1,14,2,21,{"v":1013,"d":"1,013"},19,13,19,17,14,13,10,21,15,23,27,16,18,15,20,30,14,23,14,16,75,81,74,63,35,48,43,64,55,36,17,16,21,28,0,4,15,50,80,null,null,158,84,138,333,121,207,120,186,327,173,69,59,66,68,63,55,70,64,55,52,44,48,34,26,24,20,5,12,82,82,96,97,75,81,74,63,35,48,43,64,55,36,17,16,21,28]
["040405","AREQUIPA","AREQUIPA","CASTILLA","CHILCAYMARCA",1148,551,5,4,8,4,3,4,7,12,6,11,9,14,3,7,5,8,6,11,11,5,30,37,50,50,49,52,37,29,29,19,8,9,6,3,0,0,5,11,597,8,8,8,5,10,6,11,5,12,10,8,12,3,6,4,17,13,15,8,3,39,56,47,50,54,36,34,27,25,19,16,6,8,8,0,1,7,10,23,null,null,87,40,83,267,74,103,58,106,248,82,24,40,38,41,30,37,50,50,49,52,37,29,29,19,8,9,6,3,39,44,33,56,39,56,47,50,54,36,34,27,25,19,16,6,8,8]
["040406","AREQUIPA","AREQUIPA","CASTILLA","CHOCO",806,341,5,3,4,2,4,3,3,4,2,2,1,3,1,2,3,2,4,4,4,6,19,12,28,25,25,35,23,20,22,16,15,12,14,13,0,5,0,11,465,5,1,3,2,2,3,4,4,4,3,4,8,4,8,7,5,9,1,8,6,22,23,23,24,40,24,30,26,31,34,25,34,13,25,0,0,5,11,32,null,null,36,16,41,156,92,43,34,59,167,162,18,14,10,20,19,12,28,25,25,35,23,20,22,16,15,12,14,13,13,18,31,29,22,23,23,24,40,24,30,26,31,34,25,34,13,25]
["040407","AREQUIPA","AREQUIPA","CASTILLA","HUANCARQUI",1731,800,13,8,7,7,9,5,5,7,6,10,9,2,10,6,10,8,10,10,5,10,36,52,64,59,67,63,61,55,49,41,41,24,17,14,0,5,8,19,931,15,9,11,5,17,11,11,7,12,9,10,3,11,7,12,15,6,14,8,8,55,50,81,61,61,57,69,73,71,43,39,26,16,28,0,9,6,17,22,null,null,88,54,103,369,186,120,65,121,402,223,44,33,37,43,36,52,64,59,67,63,61,55,49,41,41,24,17,14,57,50,43,51,55,50,81,61,61,57,69,73,71,43,39,26,16,28]
["040408","AREQUIPA","AREQUIPA","CASTILLA","MACHAGUAY",482,223,9,5,1,4,1,5,0,2,0,4,1,3,1,2,2,2,4,7,3,2,9,9,10,8,10,12,13,19,17,7,20,9,10,12,0,2,7,18,259,3,1,2,1,1,2,2,2,2,1,1,6,2,3,5,3,3,2,3,7,16,10,8,7,14,17,21,16,20,12,19,12,14,21,0,2,1,4,9,null,null,35,18,23,72,75,24,18,36,83,98,20,11,9,18,9,9,10,8,10,12,13,19,17,7,20,9,10,12,8,9,17,18,16,10,8,7,14,17,21,16,20,12,19,12,14,21]
["040409","AREQUIPA","AREQUIPA","CASTILLA","ORCOPAMPA",9089,4472,34,34,48,28,44,39,81,86,94,105,93,92,77,91,91,127,110,149,79,63,351,372,318,365,314,250,222,221,163,122,89,58,29,33,0,16,18,41,{"v":4617,"d":"4,617"},24,21,32,24,47,33,70,86,108,88,100,99,83,98,97,140,119,115,101,77,397,349,365,326,316,280,206,236,181,131,121,62,45,40,0,8,16,34,118,null,null,778,645,865,{"v":1690,"d":"1,690"},494,732,652,924,{"v":1729,"d":"1,729"},580,188,405,444,528,351,372,318,365,314,250,222,221,163,122,89,58,29,33,148,385,477,552,397,349,365,326,316,280,206,236,181,131,121,62,45,40]
["040410","AREQUIPA","AREQUIPA","CASTILLA","PAMPACOLCA",2145,1036,18,11,8,12,15,6,15,10,17,9,16,17,17,15,15,21,16,21,9,20,69,61,50,43,51,70,57,87,51,51,32,55,38,33,0,5,14,40,{"v":1109,"d":"1,109"},15,9,9,18,18,14,10,12,18,17,16,17,17,15,14,22,24,22,17,19,80,55,52,43,52,55,69,74,61,43,44,49,49,60,0,2,13,32,128,null,null,154,105,159,358,260,173,114,171,345,306,64,57,80,87,69,61,50,43,51,70,57,87,51,51,32,55,38,33,69,71,79,104,80,55,52,43,52,55,69,74,61,43,44,49,49,60]
["040411","AREQUIPA","AREQUIPA","CASTILLA","TIPAN",450,212,2,2,1,1,1,0,3,4,1,0,1,2,1,3,2,2,0,4,4,5,9,13,11,10,12,13,10,24,19,11,9,15,5,12,0,0,2,7,238,2,0,3,1,2,0,2,2,2,3,1,3,2,4,2,4,3,4,5,5,13,6,11,7,14,10,14,15,17,18,19,21,5,18,0,0,2,6,6,null,null,18,12,31,80,71,21,19,29,71,98,7,8,9,15,9,13,11,10,12,13,10,24,19,11,9,15,5,12,8,9,12,21,13,6,11,7,14,10,14,15,17,18,19,21,5,18]
["040412","AREQUIPA","AREQUIPA","CASTILLA","UÑON",296,136,3,0,2,0,2,0,0,0,2,0,0,1,0,1,2,1,1,1,0,0,4,7,9,12,9,13,13,5,14,10,12,4,5,3,0,0,3,6,160,1,1,1,2,0,0,5,0,1,5,0,1,0,1,4,1,1,1,0,4,5,16,9,5,11,11,10,13,14,11,5,8,5,8,0,0,1,2,17,null,null,10,6,11,61,48,17,8,25,59,51,7,2,4,3,4,7,9,12,9,13,13,5,14,10,12,4,5,3,5,11,6,7,5,16,9,5,11,11,10,13,14,11,5,8,5,8]
["040413","AREQUIPA","AREQUIPA","CASTILLA","URACA",6584,3178,26,23,39,41,38,43,40,35,41,40,41,34,38,38,32,58,51,41,41,60,218,254,206,218,222,205,214,212,197,139,117,75,52,49,0,15,11,56,{"v":3406,"d":"3,406"},33,28,38,29,28,37,42,55,42,45,50,41,46,46,40,62,77,62,51,51,229,271,235,239,246,226,217,213,170,140,118,78,54,67,1,11,22,68,167,null,null,441,258,573,{"v":1277,"d":"1,277"},629,468,333,602,{"v":1376,"d":"1,376"},627,167,199,183,251,218,254,206,218,222,205,214,212,197,139,117,75,52,49,156,221,223,303,229,271,235,239,246,226,217,213,170,140,118,78,54,67]
["040414","AREQUIPA","AREQUIPA","CASTILLA","VIRACO",1535,735,8,7,5,12,7,8,6,6,6,5,3,6,9,6,6,5,4,17,5,10,36,42,33,33,49,50,52,47,60,62,36,40,32,22,0,3,5,15,800,8,4,7,3,4,6,12,11,8,10,6,11,16,11,10,12,18,13,13,8,48,45,37,30,42,45,44,48,54,44,50,42,31,49,0,4,4,23,43,null,null,79,47,93,264,252,90,80,114,246,270,39,31,30,41,36,42,33,33,49,50,52,47,60,62,36,40,32,22,26,47,54,64,48,45,37,30,42,45,44,48,54,44,50,42,31,49]
["040501","AREQUIPA","AREQUIPA","CAYLLOMA","CHIVAY",7959,3901,29,26,56,22,33,37,52,75,67,72,74,62,87,76,59,99,92,83,79,71,362,326,319,281,217,230,174,207,174,106,89,81,42,42,0,11,18,49,{"v":4058,"d":"4,058"},24,25,39,37,48,42,85,67,78,69,71,59,83,72,56,73,85,82,88,74,390,378,322,253,258,206,183,222,143,110,113,105,47,71,1,15,9,45,139,null,null,605,496,838,{"v":1428,"d":"1,428"},534,644,451,930,{"v":1444,"d":"1,444"},589,166,303,358,424,362,326,319,281,217,230,174,207,174,106,89,81,42,42,173,341,341,402,390,378,322,253,258,206,183,222,143,110,113,105,47,71]
["040502","AREQUIPA","AREQUIPA","CAYLLOMA","ACHOMA",1225,564,5,4,9,5,4,1,7,4,3,1,3,4,5,5,6,4,3,10,3,10,44,49,42,25,36,48,39,51,36,27,26,17,14,14,0,3,3,13,661,9,5,4,6,4,5,5,7,6,4,4,5,6,6,5,11,7,5,5,12,38,52,35,34,46,48,51,48,49,32,29,26,26,26,0,9,0,12,26,null,null,50,33,106,241,134,64,40,107,262,188,27,16,23,30,44,49,42,25,36,48,39,51,36,27,26,17,14,14,28,27,26,40,38,52,35,34,46,48,51,48,49,32,29,26,26,26]
["040503","AREQUIPA","AREQUIPA","CAYLLOMA","CABANACONDE",2960,1459,6,5,7,7,12,9,14,16,10,12,14,15,15,22,18,17,22,24,22,15,98,96,90,81,104,101,105,129,100,91,61,43,35,43,0,4,2,14,{"v":1501,"d":"1,501"},11,10,12,11,17,8,27,16,15,10,13,14,14,19,16,16,36,18,16,20,89,117,93,75,88,93,107,136,69,70,63,53,63,66,0,6,6,16,64,null,null,127,118,231,610,373,164,119,242,592,384,37,61,84,100,98,96,90,81,104,101,105,129,100,91,61,43,35,43,61,76,76,106,89,117,93,75,88,93,107,136,69,70,63,53,63,66]
["040504","AREQUIPA","AREQUIPA","CAYLLOMA","CALLALLI",2214,1051,16,11,8,8,13,4,12,8,11,15,11,16,8,15,4,8,9,9,12,8,62,84,81,71,62,85,77,81,77,55,45,35,15,15,1,12,4,23,{"v":1163,"d":"1,163"},12,9,9,7,14,5,13,9,10,13,12,18,9,17,5,15,20,10,14,13,84,91,73,64,59,81,96,91,71,66,62,31,25,35,1,7,5,20,64,null,null,133,53,166,457,242,131,76,202,464,290,56,50,54,46,62,84,81,71,62,85,77,81,77,55,45,35,15,15,51,50,61,72,84,91,73,64,59,81,96,91,71,66,62,31,25,35]
["040505","AREQUIPA","AREQUIPA","CAYLLOMA","CAYLLOMA",5339,2542,20,18,28,30,34,34,21,47,44,45,43,45,48,36,41,51,55,64,47,35,223,211,186,197,161,153,137,149,115,85,61,35,23,20,1,11,9,54,{"v":2797,"d":"2,797"},19,19,34,33,24,21,42,35,52,51,54,57,60,46,50,61,45,50,67,52,252,259,192,176,180,159,147,137,130,97,74,61,34,27,1,12,7,44,272,null,null,409,295,516,983,339,441,312,630,991,423,130,191,213,252,223,211,186,197,161,153,137,149,115,85,61,35,23,20,129,201,267,275,252,259,192,176,180,159,147,137,130,97,74,61,34,27]
["040506","AREQUIPA","AREQUIPA","CAYLLOMA","COPORAQUE",1554,782,11,7,13,5,6,8,15,14,7,7,8,7,3,7,6,11,15,3,7,15,42,44,51,66,79,46,36,50,56,40,30,25,19,23,0,4,7,13,772,7,4,3,5,10,8,10,9,10,10,8,7,3,7,5,9,7,13,11,8,43,72,47,53,72,55,58,42,42,34,36,26,19,19,0,3,4,7,37,null,null,108,45,108,328,193,91,44,134,327,176,42,51,31,51,42,44,51,66,79,46,36,50,56,40,30,25,19,23,29,47,30,48,43,72,47,53,72,55,58,42,42,34,36,26,19,19]
["040507","AREQUIPA","AREQUIPA","CAYLLOMA","HUAMBO",964,441,6,6,4,4,3,5,4,4,1,4,5,3,3,3,5,2,9,9,5,2,22,30,31,22,25,29,30,29,29,26,16,28,17,20,0,6,0,10,523,4,3,1,5,4,2,5,5,1,0,8,6,5,5,8,10,12,12,6,4,34,30,25,23,33,20,36,44,23,58,34,13,25,19,0,1,3,4,20,null,null,49,31,59,166,136,44,52,74,181,172,23,18,19,27,22,30,31,22,25,29,30,29,29,26,16,28,17,20,17,13,32,44,34,30,25,23,33,20,36,44,23,58,34,13,25,19]
["040508","AREQUIPA","AREQUIPA","CAYLLOMA","HUANCA",1499,690,8,4,6,7,8,2,1,3,2,3,5,4,3,7,4,3,9,11,4,6,32,37,37,45,62,64,58,51,60,41,39,23,22,19,0,0,8,16,809,11,8,6,7,3,4,6,4,6,6,6,5,4,8,5,5,9,9,9,15,42,47,42,44,47,56,60,58,61,55,48,42,30,41,0,6,5,23,47,null,null,53,37,79,317,204,72,40,113,307,277,33,11,23,33,32,37,37,45,62,64,58,51,60,41,39,23,22,19,35,26,28,47,42,47,42,44,47,56,60,58,61,55,48,42,30,41]
["040509","AREQUIPA","AREQUIPA","CAYLLOMA","ICHUPAMPA",972,458,7,4,5,3,7,3,1,2,5,7,3,7,8,3,8,5,9,8,2,5,21,31,43,27,29,31,29,33,27,26,27,11,12,9,0,0,7,13,514,4,1,7,3,8,0,8,8,8,0,4,8,8,4,8,4,4,8,1,9,33,41,40,38,32,33,30,31,29,34,20,23,12,13,0,2,2,11,36,null,null,54,41,59,192,112,59,36,84,204,131,26,18,29,29,21,31,43,27,29,31,29,33,27,26,27,11,12,9,23,24,32,26,33,41,40,38,32,33,30,31,29,34,20,23,12,13]
["040510","AREQUIPA","AREQUIPA","CAYLLOMA","LARI",1338,624,8,7,6,7,7,5,6,6,6,10,9,9,6,10,7,9,10,9,11,14,43,52,58,33,42,45,35,30,39,31,14,13,17,10,1,3,5,17,714,5,6,8,5,7,5,8,10,1,6,12,12,7,13,10,14,14,11,14,9,57,58,49,33,44,45,48,52,32,31,24,22,25,17,1,3,3,11,40,null,null,86,51,120,243,124,85,69,138,271,151,35,33,41,53,43,52,58,33,42,45,35,30,39,31,14,13,17,10,31,30,54,62,57,58,49,33,44,45,48,52,32,31,24,22,25,17]
["040511","AREQUIPA","AREQUIPA","CAYLLOMA","LLUTA",1282,548,8,6,11,4,5,5,1,1,4,3,5,7,8,7,3,3,5,10,3,6,22,22,35,38,43,47,39,46,35,32,31,21,18,14,0,4,4,15,734,8,8,8,4,5,2,3,7,10,1,7,9,10,9,4,19,7,12,19,3,40,37,36,39,42,47,51,53,47,30,48,45,28,36,0,0,8,12,61,null,null,60,36,53,248,151,72,61,99,268,234,34,14,30,27,22,22,35,38,43,47,39,46,35,32,31,21,18,14,33,23,39,60,40,37,36,39,42,47,51,53,47,30,48,45,28,36]
["040512","AREQUIPA","AREQUIPA","CAYLLOMA","MACA",1059,504,4,1,4,1,0,3,1,6,6,3,7,1,7,5,1,8,7,9,1,11,32,34,29,39,40,43,41,30,27,24,22,28,9,20,0,2,2,8,555,3,2,0,5,5,2,5,6,5,3,5,1,5,4,0,6,5,7,6,6,32,34,26,41,42,42,33,42,30,44,29,39,21,19,0,2,2,1,22,null,null,37,37,78,222,130,42,27,78,226,182,10,19,21,36,32,34,29,39,40,43,41,30,27,24,22,28,9,20,15,21,15,30,32,34,26,41,42,42,33,42,30,44,29,39,21,19]
["040513","AREQUIPA","AREQUIPA","CAYLLOMA","MADRIGAL",935,448,3,1,3,2,0,4,2,3,3,1,1,1,4,5,4,1,10,2,3,2,27,24,29,37,28,40,30,27,35,31,27,27,17,14,1,3,0,3,487,4,1,2,1,4,3,2,2,2,3,2,2,5,6,6,7,5,10,5,8,30,29,21,25,27,32,26,34,43,37,29,26,18,30,0,1,3,6,14,null,null,24,26,56,191,151,28,39,72,165,183,9,13,15,18,27,24,29,37,28,40,30,27,35,31,27,27,17,14,12,12,21,35,30,29,21,25,27,32,26,34,43,37,29,26,18,30]
["040514","AREQUIPA","AREQUIPA","CAYLLOMA","SAN ANTONIO DE CHUCA",1192,589,12,8,4,7,7,8,10,12,8,10,14,13,5,6,6,9,12,15,10,9,34,33,30,30,46,35,39,45,38,24,26,15,5,4,0,5,7,27,603,6,3,8,4,7,5,7,6,8,7,13,12,5,5,6,10,14,14,13,5,41,43,35,50,34,41,37,40,33,25,28,16,12,10,2,5,1,14,27,null,null,113,53,86,225,112,86,54,102,237,124,38,48,44,55,34,33,30,30,46,35,39,45,38,24,26,15,5,4,28,33,41,56,41,43,35,50,34,41,37,40,33,25,28,16,12,10]
["040515","AREQUIPA","AREQUIPA","CAYLLOMA","SIBAYO",1122,544,5,5,1,0,5,4,4,6,1,6,9,8,9,9,1,12,8,12,8,7,41,36,44,39,41,52,33,27,35,22,24,8,14,8,0,3,2,13,578,8,6,7,4,4,4,1,9,6,8,6,5,6,6,0,11,12,6,6,6,47,51,42,37,42,43,27,40,31,26,20,32,5,14,0,0,8,12,21,null,null,54,51,92,236,111,68,41,110,231,128,16,21,36,47,41,36,44,39,41,52,33,27,35,22,24,8,14,8,29,28,23,41,47,51,42,37,42,43,27,40,31,26,20,32,5,14]
["040516","AREQUIPA","AREQUIPA","CAYLLOMA","TAPAY",1044,450,4,0,8,6,3,6,4,7,3,3,2,3,4,3,6,3,3,4,4,4,26,33,29,38,40,34,31,30,31,30,22,13,9,4,0,0,4,15,594,10,2,2,3,6,4,6,1,7,4,4,6,7,5,9,7,12,7,7,8,24,40,40,47,38,36,25,37,39,35,38,25,28,25,0,5,5,42,38,null,null,49,23,67,202,109,55,47,79,223,190,21,23,18,18,26,33,29,38,40,34,31,30,31,30,22,13,9,4,23,22,31,41,24,40,40,47,38,36,25,37,39,35,38,25,28,25]
["040517","AREQUIPA","AREQUIPA","CAYLLOMA","TISCO",2192,1001,5,5,8,6,8,8,10,12,10,11,12,9,15,17,15,14,22,22,18,14,75,61,72,61,78,78,68,74,53,41,30,43,13,13,0,1,4,10,{"v":1191,"d":"1,191"},7,7,8,6,8,11,17,11,15,13,13,10,17,19,16,26,12,24,25,15,107,97,62,64,71,69,79,86,74,52,51,43,31,25,0,1,6,7,42,null,null,104,105,168,431,193,126,114,244,431,276,32,51,68,90,75,61,72,61,78,78,68,74,53,41,30,43,13,13,36,67,75,102,107,97,62,64,71,69,79,86,74,52,51,43,31,25]
["040518","AREQUIPA","AREQUIPA","CAYLLOMA","TUTI",1093,513,4,4,4,2,3,3,10,11,4,5,8,8,7,1,4,4,16,12,11,18,37,32,31,43,36,40,30,33,22,14,24,15,9,8,0,2,2,9,580,6,6,5,4,7,2,8,5,4,8,8,8,8,1,5,9,9,4,9,10,47,46,46,36,46,31,27,27,33,29,38,26,10,12,0,2,5,12,28,null,null,66,44,98,213,92,71,36,112,213,148,17,33,28,61,37,32,31,43,36,40,30,33,22,14,24,15,9,8,28,27,30,41,47,46,46,36,46,31,27,27,33,29,38,26,10,12]
["040519","AREQUIPA","AREQUIPA","CAYLLOMA","YANQUE",3145,1506,12,11,10,12,17,8,18,16,13,14,17,12,17,17,15,18,23,27,27,30,107,125,124,106,106,106,86,82,99,76,68,47,20,20,0,2,10,16,{"v":1639,"d":"1,639"},18,11,9,11,23,16,20,21,16,17,21,15,21,21,19,16,19,27,23,23,122,143,132,111,120,115,94,97,71,71,80,32,43,41,1,16,2,28,96,null,null,160,117,289,610,330,198,123,311,669,338,62,69,78,125,107,125,124,106,106,106,86,82,99,76,68,47,20,20,72,90,97,108,122,143,132,111,120,115,94,97,71,71,80,32,43,41]
["040520","AREQUIPA","AREQUIPA","CAYLLOMA","MAJES",79357,39150,492,513,591,618,646,662,675,734,607,633,577,582,574,570,573,579,676,670,637,631,{"v":2728,"d":"2,728"},{"v":2957,"d":"2,957"},{"v":3139,"d":"3,139"},{"v":3210,"d":"3,210"},{"v":3050,"d":"3,050"},{"v":2849,"d":"2,849"},{"v":2258,"d":"2,258"},{"v":1968,"d":"1,968"},{"v":1563,"d":"1,563"},{"v":1181,"d":"1,181"},921,616,292,178,17,239,253,826,{"v":40207,"d":"40,207"},462,472,592,615,661,675,645,694,625,605,584,589,581,576,580,550,662,635,636,586,{"v":2891,"d":"2,891"},{"v":3606,"d":"3,606"},{"v":3583,"d":"3,583"},{"v":3307,"d":"3,307"},{"v":3097,"d":"3,097"},{"v":2770,"d":"2,770"},{"v":2405,"d":"2,405"},{"v":2045,"d":"2,045"},{"v":1571,"d":"1,571"},{"v":1073,"d":"1,073"},831,492,262,249,21,230,232,780,{"v":2114,"d":"2,114"},null,null,{"v":7330,"d":"7,330"},{"v":3642,"d":"3,642"},{"v":6953,"d":"6,953"},{"v":16474,"d":"16,474"},{"v":4751,"d":"4,751"},{"v":7219,"d":"7,219"},{"v":3584,"d":"3,584"},{"v":7719,"d":"7,719"},{"v":17207,"d":"17,207"},{"v":4478,"d":"4,478"},{"v":2860,"d":"2,860"},{"v":3311,"d":"3,311"},{"v":2876,"d":"2,876"},{"v":3193,"d":"3,193"},{"v":2728,"d":"2,728"},{"v":2957,"d":"2,957"},{"v":3139,"d":"3,139"},{"v":3210,"d":"3,210"},{"v":3050,"d":"3,050"},{"v":2849,"d":"2,849"},{"v":2258,"d":"2,258"},{"v":1968,"d":"1,968"},{"v":1563,"d":"1,563"},{"v":1181,"d":"1,181"},921,616,292,178,{"v":2802,"d":"2,802"},{"v":3244,"d":"3,244"},{"v":2910,"d":"2,910"},{"v":3069,"d":"3,069"},{"v":2891,"d":"2,891"},{"v":3606,"d":"3,606"},{"v":3583,"d":"3,583"},{"v":3307,"d":"3,307"},{"v":3097,"d":"3,097"},{"v":2770,"d":"2,770"},{"v":2405,"d":"2,405"},{"v":2045,"d":"2,045"},{"v":1571,"d":"1,571"},{"v":1073,"d":"1,073"},831,492,262,249]
["040601","AREQUIPA","AREQUIPA","CONDESUYOS","CHUQUIBAMBA",3529,1720,16,14,15,18,25,21,27,29,31,26,27,25,27,23,29,49,33,28,41,28,115,110,104,90,110,105,84,88,74,90,85,55,42,36,0,10,6,22,{"v":1809,"d":"1,809"},24,25,17,19,20,22,20,22,23,32,29,27,29,24,31,27,29,37,22,24,141,139,106,82,107,101,99,103,87,60,86,58,53,84,1,15,9,32,60,null,null,274,189,294,581,382,280,177,326,598,428,88,134,131,179,115,110,104,90,110,105,84,88,74,90,85,55,42,36,105,119,140,139,141,139,106,82,107,101,99,103,87,60,86,58,53,84]
["040602","AREQUIPA","AREQUIPA","CONDESUYOS","ANDARAY",752,370,5,3,4,3,2,1,2,0,2,3,3,2,2,4,1,4,4,7,2,6,18,27,24,32,19,27,26,25,23,25,23,12,14,15,0,1,4,11,382,4,0,2,0,2,3,3,2,4,4,3,2,2,5,1,4,1,4,3,6,18,35,19,28,20,31,22,21,32,14,34,17,10,26,0,0,4,4,8,null,null,30,22,53,153,112,29,17,62,141,133,17,8,12,23,18,27,24,32,19,27,26,25,23,25,23,12,14,15,8,16,13,18,18,35,19,28,20,31,22,21,32,14,34,17,10,26]
["040603","AREQUIPA","AREQUIPA","CONDESUYOS","CAYARANI",3322,1593,13,11,21,25,28,15,27,22,28,23,23,28,20,32,26,40,44,30,34,31,140,131,132,98,88,109,70,110,66,48,38,12,13,17,0,5,8,36,{"v":1729,"d":"1,729"},17,17,14,19,13,23,25,31,24,35,28,33,24,38,30,48,36,45,38,43,181,141,108,105,96,91,79,89,65,65,35,34,31,28,1,8,9,42,75,null,null,264,192,336,607,194,279,221,403,568,258,98,115,129,179,140,131,132,98,88,109,70,110,66,48,38,12,13,17,80,138,153,210,181,141,108,105,96,91,79,89,65,65,35,34,31,28]
["040604","AREQUIPA","AREQUIPA","CONDESUYOS","CHICHAS",789,356,5,2,4,3,2,2,2,2,5,2,3,3,5,3,4,3,6,4,4,4,14,17,22,13,19,23,38,32,27,21,14,16,15,17,0,2,3,8,433,4,3,0,1,0,0,6,5,1,4,5,5,6,5,4,6,5,8,1,7,18,21,18,22,15,27,23,30,22,37,24,32,23,45,0,4,0,12,18,null,null,35,25,39,147,110,34,34,47,135,183,16,13,18,21,14,17,22,13,19,23,38,32,27,21,14,16,15,17,8,16,25,27,18,21,18,22,15,27,23,30,22,37,24,32,23,45]
["040605","AREQUIPA","AREQUIPA","CONDESUYOS","IRAY",769,358,7,4,2,6,6,5,3,4,3,1,4,5,4,4,3,2,5,4,4,3,20,24,16,20,20,14,30,25,27,29,16,13,10,15,1,5,2,11,411,5,3,3,5,1,1,6,2,6,4,5,5,5,5,1,2,6,9,2,2,20,20,25,13,22,28,29,29,25,18,19,26,25,34,0,1,4,10,20,null,null,50,22,51,125,110,46,28,44,146,147,25,16,20,18,20,24,16,20,20,14,30,25,27,29,16,13,10,15,17,19,21,21,20,20,25,13,22,28,29,29,25,18,19,26,25,34]
["040606","AREQUIPA","AREQUIPA","CONDESUYOS","RIO GRANDE",4049,1910,27,38,29,20,28,28,23,29,18,22,13,18,26,18,25,36,45,29,21,16,117,117,114,133,158,143,109,158,115,75,62,46,36,18,1,12,15,38,{"v":2139,"d":"2,139"},38,41,32,18,25,29,33,28,29,27,16,21,32,22,30,22,41,42,18,33,113,169,133,170,138,150,163,111,100,97,67,52,38,61,4,16,22,28,127,null,null,293,179,271,815,352,337,189,333,865,415,142,120,100,147,117,117,114,133,158,143,109,158,115,75,62,46,36,18,154,146,121,156,113,169,133,170,138,150,163,111,100,97,67,52,38,61]
["040607","AREQUIPA","AREQUIPA","CONDESUYOS","SALAMANCA",486,233,3,3,2,3,3,2,2,1,4,2,3,3,3,3,1,3,2,3,3,4,14,13,9,15,15,19,16,20,10,15,11,9,6,8,0,0,3,5,253,4,3,2,3,1,2,2,2,1,1,2,2,2,2,1,1,5,5,2,2,15,10,15,9,10,10,18,17,18,16,17,19,21,13,0,3,1,4,15,null,null,31,15,34,94,59,25,16,29,79,104,14,11,13,15,14,13,9,15,15,19,16,20,10,15,11,9,6,8,13,8,9,15,15,10,15,9,10,10,18,17,18,16,17,19,21,13]
["040608","AREQUIPA","AREQUIPA","CONDESUYOS","YANAQUIHUA",4257,1969,26,28,38,26,27,23,9,15,16,27,25,28,21,14,23,26,36,33,26,17,101,157,151,164,155,170,148,123,96,75,55,27,31,32,0,15,11,44,{"v":2288,"d":"2,288"},26,18,35,25,22,15,28,18,27,27,28,32,23,16,27,39,32,56,45,28,153,187,128,148,174,132,119,139,120,103,72,80,71,95,3,13,13,32,114,null,null,288,153,301,911,316,301,193,413,840,541,145,90,111,138,101,157,151,164,155,170,148,123,96,75,55,27,31,32,126,115,126,200,153,187,128,148,174,132,119,139,120,103,72,80,71,95]
["040701","AREQUIPA","AREQUIPA","ISLAY","MOLLENDO",28553,13904,131,111,149,168,173,194,201,208,186,206,161,168,185,171,187,201,195,189,205,195,848,929,937,919,986,{"v":1030,"d":"1,030"},923,903,776,622,541,394,297,215,7,74,57,200,{"v":14649,"d":"14,649"},112,116,144,149,146,184,178,220,200,183,171,179,197,182,199,194,234,214,204,208,{"v":1061,"d":"1,061"},{"v":1080,"d":"1,080"},968,894,{"v":1023,"d":"1,023"},{"v":1015,"d":"1,015"},954,868,800,687,622,470,303,290,6,53,59,191,583,null,null,{"v":2056,"d":"2,056"},{"v":1128,"d":"1,128"},{"v":2177,"d":"2,177"},{"v":5698,"d":"5,698"},{"v":2845,"d":"2,845"},{"v":1982,"d":"1,982"},{"v":1220,"d":"1,220"},{"v":2553,"d":"2,553"},{"v":5722,"d":"5,722"},{"v":3172,"d":"3,172"},732,995,872,985,848,929,937,919,986,{"v":1030,"d":"1,030"},923,903,776,622,541,394,297,215,667,965,928,{"v":1054,"d":"1,054"},{"v":1061,"d":"1,061"},{"v":1080,"d":"1,080"},968,894,{"v":1023,"d":"1,023"},{"v":1015,"d":"1,015"},954,868,800,687,622,470,303,290]
["040702","AREQUIPA","AREQUIPA","ISLAY","COCACHACRA",9274,4403,52,48,44,46,56,55,44,48,64,49,50,41,38,55,47,65,43,57,58,64,256,303,347,348,317,304,287,330,244,235,155,111,82,60,1,19,33,66,{"v":4871,"d":"4,871"},50,51,56,52,44,56,53,67,70,49,59,48,45,64,55,65,67,69,64,68,327,387,353,353,354,337,361,340,268,210,150,110,67,102,3,28,22,85,295,null,null,597,305,681,{"v":1933,"d":"1,933"},887,655,365,846,{"v":2098,"d":"2,098"},907,246,260,231,287,256,303,347,348,317,304,287,330,244,235,155,111,82,60,253,295,271,333,327,387,353,353,354,337,361,340,268,210,150,110,67,102]
["040703","AREQUIPA","AREQUIPA","ISLAY","DEAN VALDIVIA",7834,3795,41,43,32,54,45,43,54,46,48,51,41,42,61,41,48,56,68,55,47,52,259,281,312,303,264,278,215,234,193,170,117,86,54,61,1,19,22,59,{"v":4039,"d":"4,039"},44,42,61,46,59,40,60,60,45,56,41,43,61,42,48,64,65,49,63,60,311,366,356,247,312,235,252,227,196,140,122,82,69,75,0,27,17,93,206,null,null,540,329,639,{"v":1606,"d":"1,606"},681,597,329,800,{"v":1629,"d":"1,629"},684,215,242,233,278,259,281,312,303,264,278,215,234,193,170,117,86,54,61,252,261,235,301,311,366,356,247,312,235,252,227,196,140,122,82,69,75]
["040704","AREQUIPA","AREQUIPA","ISLAY","ISLAY",5490,2652,45,51,43,45,56,36,47,37,34,42,36,48,36,40,29,39,52,48,42,36,157,183,194,211,204,207,175,144,112,92,73,34,9,15,0,19,26,59,{"v":2838,"d":"2,838"},35,28,43,36,40,46,50,48,47,52,35,47,35,40,31,45,57,56,55,46,219,255,229,204,200,199,171,151,103,88,62,55,13,17,2,21,14,54,195,null,null,520,244,418,{"v":1135,"d":"1,135"},335,507,264,575,{"v":1154,"d":"1,154"},338,240,196,189,217,157,183,194,211,204,207,175,144,112,92,73,34,9,15,182,243,188,259,219,255,229,204,200,199,171,151,103,88,62,55,13,17]
["040705","AREQUIPA","AREQUIPA","ISLAY","MEJIA",1480,677,5,2,6,9,7,5,6,7,6,10,10,5,4,6,6,7,9,5,8,8,35,39,44,44,52,46,52,53,57,34,42,27,9,12,0,3,3,14,803,7,5,10,7,9,7,7,8,8,6,12,6,5,7,8,1,2,7,8,9,60,60,55,64,64,49,57,66,66,34,28,17,26,18,0,5,2,14,42,null,null,78,37,90,291,181,92,30,137,355,189,29,34,31,37,35,39,44,44,52,46,52,53,57,34,42,27,9,12,38,36,38,27,60,60,55,64,64,49,57,66,66,34,28,17,26,18]
["040706","AREQUIPA","AREQUIPA","ISLAY","PUNTA DE BOMBON",7210,3432,38,33,44,38,47,30,39,41,37,41,36,54,37,38,34,48,49,60,45,46,214,244,234,255,243,239,212,221,211,185,136,95,45,63,1,18,20,70,{"v":3778,"d":"3,778"},38,40,42,38,60,49,46,42,53,35,42,63,44,45,38,68,51,51,56,50,256,293,271,269,245,228,252,225,216,177,133,97,70,95,1,23,15,64,173,null,null,478,266,549,{"v":1404,"d":"1,404"},735,548,297,655,{"v":1490,"d":"1,490"},788,200,188,199,248,214,244,234,255,243,239,212,221,211,185,136,95,45,63,218,225,232,276,256,293,271,269,245,228,252,225,216,177,133,97,70,95]
["040801","AREQUIPA","AREQUIPA","LA UNION","COTAHUASI",3104,1523,26,18,21,29,23,31,18,18,21,23,31,20,30,26,20,27,28,29,32,30,108,90,85,89,77,87,81,91,78,61,53,47,33,42,2,12,14,57,{"v":1581,"d":"1,581"},18,14,17,22,26,25,27,26,19,21,32,20,31,27,20,28,45,29,39,31,123,102,68,81,106,89,78,78,74,50,56,43,47,69,0,8,10,45,95,null,null,279,160,260,510,314,267,180,295,500,339,117,111,127,146,108,90,85,89,77,87,81,91,78,61,53,47,33,42,97,118,130,172,123,102,68,81,106,89,78,78,74,50,56,43,47,69]
["040802","AREQUIPA","AREQUIPA","LA UNION","ALCA",1844,905,22,16,11,12,17,9,16,15,19,15,13,13,8,9,13,16,14,19,17,18,72,52,57,47,50,50,49,57,58,30,32,25,14,20,0,14,8,19,939,15,7,16,22,10,13,10,18,16,18,16,17,10,11,16,19,21,23,24,16,76,60,47,40,36,49,53,54,36,46,25,40,32,27,0,6,9,30,61,null,null,178,79,159,310,179,178,100,176,279,206,78,74,56,84,72,52,57,47,50,50,49,57,58,30,32,25,14,20,70,75,70,103,76,60,47,40,36,49,53,54,36,46,25,40,32,27]
["040803","AREQUIPA","AREQUIPA","LA UNION","CHARCANA",703,334,5,2,4,5,6,4,4,12,5,11,3,4,4,3,3,5,7,7,2,2,22,28,20,19,20,24,18,20,5,20,9,17,8,6,1,3,3,10,369,5,5,5,2,1,0,10,3,3,5,7,9,9,7,8,7,6,10,11,2,20,20,19,19,18,22,21,22,22,12,23,14,9,13,0,0,5,9,21,null,null,65,29,54,121,65,55,47,53,121,93,22,36,17,23,22,28,20,19,20,24,18,20,5,20,9,17,8,6,18,21,40,36,20,20,19,19,18,22,21,22,22,12,23,14,9,13]
["040804","AREQUIPA","AREQUIPA","LA UNION","HUAYNACOTAS",2112,1018,21,18,12,23,13,11,20,13,16,20,15,22,17,17,16,23,20,25,16,16,79,75,52,54,70,50,61,57,43,39,30,23,14,17,0,11,11,40,{"v":1094,"d":"1,094"},18,17,17,16,21,12,20,20,21,16,15,22,17,17,16,20,25,21,23,19,104,68,50,43,50,77,59,64,37,43,35,29,26,36,0,10,8,42,112,null,null,204,118,186,344,166,215,116,214,343,206,87,80,87,100,79,75,52,54,70,50,61,57,43,39,30,23,14,17,89,89,87,108,104,68,50,43,50,77,59,64,37,43,35,29,26,36]
["040805","AREQUIPA","AREQUIPA","LA UNION","PAMPAMARCA",1581,787,216,39,12,4,8,2,5,5,6,9,5,7,8,6,9,11,11,16,15,9,48,30,41,33,41,33,29,26,25,24,19,17,9,9,2,24,192,138,794,155,41,10,3,7,8,5,11,9,12,9,12,15,10,15,14,12,14,15,9,49,27,32,32,32,33,30,31,26,42,24,18,13,19,0,7,148,94,35,null,null,318,61,102,203,103,282,80,100,190,142,279,27,35,62,48,30,41,33,41,33,29,26,25,24,19,17,9,9,216,45,61,64,49,27,32,32,32,33,30,31,26,42,24,18,13,19]
["040806","AREQUIPA","AREQUIPA","LA UNION","PUYCA",2549,1227,16,13,17,13,13,12,18,34,27,25,24,30,31,30,23,37,32,30,23,25,100,73,73,59,73,72,70,62,48,42,39,24,14,5,0,7,9,31,{"v":1322,"d":"1,322"},12,8,13,19,18,20,26,24,27,27,25,32,33,32,23,40,35,36,31,20,111,73,80,59,67,56,68,70,67,44,43,34,26,23,0,2,10,28,143,null,null,242,183,221,409,172,251,199,235,400,237,72,116,138,147,100,73,73,59,73,72,70,62,48,42,39,24,14,5,70,124,145,162,111,73,80,59,67,56,68,70,67,44,43,34,26,23]
["040807","AREQUIPA","AREQUIPA","LA UNION","QUECHUALLA",433,213,1,0,0,0,2,0,1,1,1,1,0,0,0,0,1,1,1,1,1,1,6,7,21,18,16,17,15,19,27,19,12,11,6,6,0,0,1,1,220,2,1,1,0,0,3,1,1,4,3,1,1,1,1,0,1,1,1,4,1,4,22,24,15,11,14,12,22,13,18,8,8,8,13,0,0,2,4,17,null,null,7,4,15,106,81,18,5,31,98,68,3,4,1,5,6,7,21,18,16,17,15,19,27,19,12,11,6,6,4,12,4,8,4,22,24,15,11,14,12,22,13,18,8,8,8,13]
["040808","AREQUIPA","AREQUIPA","LA UNION","SAYLA",351,147,4,3,0,3,1,0,1,1,2,2,1,1,3,2,2,1,1,4,3,3,13,9,9,8,10,10,8,9,6,9,4,3,5,6,0,4,0,8,204,12,7,2,0,1,0,1,4,1,1,1,1,5,4,3,4,9,5,4,5,5,12,12,11,8,12,5,14,6,14,12,6,1,16,1,6,6,24,18,null,null,19,13,28,54,33,31,30,26,62,55,11,6,9,12,13,9,9,8,10,10,8,9,6,9,4,3,5,6,22,7,14,27,5,12,12,11,8,12,5,14,6,14,12,6,1,16]
["040809","AREQUIPA","AREQUIPA","LA UNION","TAURIA",506,249,6,2,6,2,5,5,2,0,7,0,1,1,2,0,1,2,7,2,2,3,20,19,19,23,19,9,8,16,14,9,15,7,9,6,0,4,2,10,257,2,0,3,2,5,5,5,4,4,1,5,4,8,1,4,4,5,9,1,9,9,8,20,15,16,9,4,10,14,5,12,21,12,21,0,2,0,3,22,null,null,37,14,44,94,60,40,31,27,74,85,21,14,5,16,20,19,19,23,19,9,8,16,14,9,15,7,9,6,12,19,22,28,9,8,20,15,16,9,4,10,14,5,12,21,12,21]
["040810","AREQUIPA","AREQUIPA","LA UNION","TOMEPAMPA",713,340,2,1,4,1,4,3,5,2,7,2,3,4,4,7,5,6,10,5,4,4,24,14,23,16,20,25,27,24,27,17,14,13,4,9,0,1,1,5,373,3,2,2,5,4,2,5,2,4,3,4,5,5,7,4,2,5,10,5,6,25,27,24,15,23,21,29,13,17,25,16,17,19,17,0,0,3,3,14,null,null,38,37,46,135,84,41,33,63,125,111,12,19,23,29,24,14,23,16,20,25,27,24,27,17,14,13,4,9,16,16,25,28,25,27,24,15,23,21,29,13,17,25,16,17,19,17]
["040811","AREQUIPA","AREQUIPA","LA UNION","TORO",597,275,6,3,0,2,2,1,3,2,2,3,4,1,1,1,4,3,1,5,3,5,11,22,15,12,14,19,22,32,18,12,9,9,13,15,0,2,4,10,322,3,1,1,2,4,0,1,1,1,5,6,2,1,2,4,1,6,6,2,6,20,13,9,18,15,27,24,16,19,14,17,21,26,28,1,2,1,3,13,null,null,29,15,41,114,76,27,20,41,109,125,13,11,11,17,11,22,15,12,14,19,22,32,18,12,9,9,13,15,11,8,15,21,20,13,9,18,15,27,24,16,19,14,17,21,26,28]
[]
["NOTA: LA POBLACION ESTIMADA DE EDADES  SIMPLES Y GRUPOS DE EDAD DE DISTRITOS, CORRESPONDEN A CIFRAS REFERENCIALES HASTA OBTENER LAS CIFRAS DE LAS PROYECCIONES DEL INEI"]
["FUENTE: CENSO NACIONAL XI DE POBLACION Y VI DE VIVIENDA 2017/- BOLETIN DEMOGRAFICO Nº 24,37, 39 / RENIEC / Padrón Nominal/ CNV"]
["La población de 0-5 años corresponden al reporte de la poblacion del Padrón Nominal con corte al 31/12/2024, con ajuste en la Edad \"0\""]
["OFICINA DE GESTION DE LA INFORMACION - MINISTERIO DE SALUD"]

{"sheet":"PIRAMIDE","index":5,"n_rows":43,"n_cols":8,"rows_kept":43}
[null,"PIRAMIDE POBLACIONAL 2025"]
{"$rows_empty":14}
[null," GRUPOS DE EDAD"]
[null,null,"Hombre","Mujer","Total general",null,"Hombre (%)","Mujer (%)"]
[null,"00-04",846,780,{"v":1626,"d":"1,626"},null,{"$f":"C18/$E$36","v":{"v":0.04102812803103783,"d":"4.1%"}},{"$f":"D18/$E$36*-1","v":{"v":-0.037827352085354024,"d":"3.8%"}}]
[null,"05-09",{"v":1199,"d":"1,199"},794,{"v":1993,"d":"1,993"},null,{"v":0.058147429679922404,"d":"5.8%"},{"v":-0.03850630455868089,"d":"3.9%"}]
[null,"10-14",{"v":1165,"d":"1,165"},766,{"v":1931,"d":"1,931"},null,{"v":0.05649854510184287,"d":"5.6%"},{"v":-0.03714839961202716,"d":"3.7%"}]
[null,"15-19",{"v":1109,"d":"1,109"},759,{"v":1868,"d":"1,868"},null,{"v":0.0537827352085354,"d":"5.4%"},{"v":-0.03680892337536373,"d":"3.7%"}]
[null,"20-24",866,707,{"v":1573,"d":"1,573"},null,{"v":0.041998060135790494,"d":"4.2%"},{"v":-0.03428709990300679,"d":"3.4%"}]
[null,"25-29",693,677,{"v":1370,"d":"1,370"},null,{"v":0.03360814742967992,"d":"3.4%"},{"v":-0.03283220174587779,"d":"3.3%"}]
[null,"30-34",570,699,{"v":1269,"d":"1,269"},null,{"v":0.027643064985451018,"d":"2.8%"},{"v":-0.033899127061105726,"d":"3.4%"}]
[null,"35-39",625,645,{"v":1270,"d":"1,270"},null,{"v":0.030310378273520854,"d":"3.0%"},{"v":-0.03128031037827352,"d":"3.1%"}]
[null,"40-44",583,589,{"v":1172,"d":"1,172"},null,{"v":0.028273520853540252,"d":"2.8%"},{"v":-0.028564500484966053,"d":"2.9%"}]
[null,"45-49",555,494,{"v":1049,"d":"1,049"},null,{"v":0.026915615906886518,"d":"2.7%"},{"v":-0.023957322987390884,"d":"2.4%"}]
[null,"50-54",577,525,{"v":1102,"d":"1,102"},null,{"v":0.02798254122211445,"d":"2.8%"},{"v":-0.025460717749757517,"d":"2.5%"}]
[null,"55-59",517,525,{"v":1042,"d":"1,042"},null,{"v":0.02507274490785645,"d":"2.5%"},{"v":-0.025460717749757517,"d":"2.5%"}]
[null,"60-64",442,482,924,null,{"v":0.021435499515033946,"d":"2.1%"},{"v":-0.023375363724539282,"d":"2.3%"}]
[null,"65-69",368,415,783,null,{"v":0.017846750727449078,"d":"1.8%"},{"v":-0.020126091173617848,"d":"2.0%"}]
[null,"70-74",315,292,607,null,{"v":0.015276430649854511,"d":"1.5%"},{"v":-0.014161008729388943,"d":"1.4%"}]
[null,"75-79",219,254,473,null,{"v":0.010620756547041707,"d":"1.1%"},{"v":-0.012318137730358876,"d":"1.2%"}]
[null,"80-84",131,183,314,null,{"v":0.006353055286129971,"d":"0.6%"},{"v":-0.008874878758486906,"d":"0.9%"}]
[null,"85-+",94,160,254,null,{"v":0.004558680892337536,"d":"0.5%"},{"v":-0.007759456838021339,"d":"0.8%"}]
[null,"Total general",{"v":10874,"d":"10,874"},{"v":9746,"d":"9,746"},{"v":20620,"d":"20,620"},null,{"$f":"SUM(G18:G35)","v":{"v":0.5273520853540252,"d":"52.74%"}},{"$f":"ABS(SUM(H18:H35))","v":{"v":0.4726479146459748,"d":"47.26%"}}]
[null,"Fuente: OGEI/OGTI-Minsa"]
[null,"* Actualizado con datos INEI"]
[]
[]
[]
[null,"FUENTE: CENSO NACIONAL XI DE POBLACION Y VI DE VIVIENDA 2017/- BOLETIN DEMOGRAFICO Nº 24,37, 39 / RENIEC / Padrón Nominal/ CNV"]
[null,"La población de 0-5 años corresponden al reporte de la poblacion del Padrón Nominal con corte al 31/12/2024, con ajuste en la Edad \"0\""]

{"sheet":"RED DE SALUD AREQUIPA CAYLLOMA","index":6,"n_rows":215,"n_cols":60,"rows_kept":215,"merged":[[5,43,5,45],[5,46,6,46],[5,47,6,47],[5,48,5,50],[5,51,6,51]]}
[]
[]
[]
["POBLACION ESTIMADA POR EDADES SIMPLES Y GRUPOS DE EDAD, SEGÚN DEPARTAMENTO, PROVINCIA Y DISTRITO. 2025"]
["* Actualizado con datos INEI"]
["POBLACION 2025",{"$nulls":8},"POBLACION TOTAL, POR EDADS SIMPLES",{"$nulls":19},"POBLACIÓN TOTAL,  POR GRUPOS QUINQUEN ALES DE EDAD",{"$nulls":13},"EDADES ESPECIALES",null,null,"NACIMIENTOS VIVOS","POBLACION FEMENINA TOTAL","POBLACION FEMENINA",null,null,"GESTANTES  ESPERADAS"]
["UBIGEO","DIRESA","DEPARTAMENTO","PROVINCIA","DISTRITO",{"$nulls":3},"Total","0",1,2,3,4,5,6,7,8,9,10,11,12,13,14,15,16,17,18,19,"20-24","25-29","30-34","35-39","40-44","45-49","50-54","55-59","60-64","65-69","70-74","75-79","80-84","85-+","28 DIAS","0-5 MESES","6-11 MESES",null,null,"10 - 14","15- 19","20- 49",{"$nulls":3},"TOTAL","NIÑO","Adolescente","Joven","Adulto","Adulto Mayor"]
["000000","PERU","PERU","PERU","PERU","CODIGO IPRESS","NOMBRE ESTABLECIMIENTO","PORCENTAJE",{"v":1662314,"d":"1,662,314"},{"v":17311,"d":"17,311"},{"v":16375,"d":"16,375"},{"v":17666,"d":"17,666"},{"v":18060,"d":"18,060"},{"v":20947,"d":"20,947"},{"v":22286,"d":"22,286"},{"v":26285,"d":"26,285"},{"v":26908,"d":"26,908"},{"v":26517,"d":"26,517"},{"v":25484,"d":"25,484"},{"v":23712,"d":"23,712"},{"v":23754,"d":"23,754"},{"v":24541,"d":"24,541"},{"v":23426,"d":"23,426"},{"v":21994,"d":"21,994"},{"v":25279,"d":"25,279"},{"v":25532,"d":"25,532"},{"v":25380,"d":"25,380"},{"v":24892,"d":"24,892"},{"v":25050,"d":"25,050"},{"v":121154,"d":"121,154"},{"v":135079,"d":"135,079"},{"v":135250,"d":"135,250"},{"v":122327,"d":"122,327"},{"v":120810,"d":"120,810"},{"v":112551,"d":"112,551"},{"v":99133,"d":"99,133"},{"v":90674,"d":"90,674"},{"v":76187,"d":"76,187"},{"v":60527,"d":"60,527"},{"v":48773,"d":"48,773"},{"v":34433,"d":"34,433"},{"v":21928,"d":"21,928"},{"v":22089,"d":"22,089"},661,{"v":8312,"d":"8,312"},{"v":9013,"d":"9,013"},{"v":25876,"d":"25,876"},{"v":843731,"d":"843,731"},{"v":58722,"d":"58,722"},{"v":62903,"d":"62,903"},{"v":379476,"d":"379,476"},{"v":41624,"d":"41,624"},null,null,{"v":1662314,"d":"1,662,314"},{"v":265305,"d":"265,305"},{"v":146152,"d":"146,152"},{"v":306175,"d":"306,175"},{"v":680745,"d":"680,745"},{"v":263937,"d":"263,937"}]
["040101","AREQUIPA","AREQUIPA","AREQUIPA","AREQUIPA",{"$nulls":3},{"v":60675,"d":"60,675"},561,533,480,534,667,749,635,684,684,639,561,581,604,596,615,660,646,639,611,638,{"v":3343,"d":"3,343"},{"v":3607,"d":"3,607"},{"v":3923,"d":"3,923"},{"v":3575,"d":"3,575"},{"v":3925,"d":"3,925"},{"v":4241,"d":"4,241"},{"v":4384,"d":"4,384"},{"v":4524,"d":"4,524"},{"v":4335,"d":"4,335"},{"v":3642,"d":"3,642"},{"v":3156,"d":"3,156"},{"v":2312,"d":"2,312"},{"v":1621,"d":"1,621"},{"v":1770,"d":"1,770"},11,264,297,859,{"v":30631,"d":"30,631"},{"v":1400,"d":"1,400"},{"v":1522,"d":"1,522"},{"v":11197,"d":"11,197"},{"v":1754,"d":"1,754"},null,null,{"v":60675,"d":"60,675"},{"v":7308,"d":"7,308"},{"v":3760,"d":"3,760"},{"v":8199,"d":"8,199"},{"v":24572,"d":"24,572"},{"v":16836,"d":"16,836"}]
[{"$nulls":5},7397,"INSTITUTO REGIONAL DE ENFERMEDADES NEOPLASICAS",0,0,0,0,0,0,0,0,0,0,0,0,0,0,0,0,0,0,0,0,0,0,0,0,0,0,0,0,0,0,0,0,0,0,0,0,0,0,0,0,0,0,0,0,0,null,null,0,0,0,0,0,0]
[{"$nulls":5},1232,"HOSPITAL GOYENECHE",0,0,0,0,0,0,0,0,0,0,0,0,0,0,0,0,0,0,0,0,0,0,0,0,0,0,0,0,0,0,0,0,0,0,0,0,0,0,0,0,0,0,0,0,0,null,null,0,0,0,0,0,0]
[{"$nulls":5},1231,"HOSPITAL REGIONAL HONORIO DELGADO ESPINOZA",0,0,0,0,0,0,0,0,0,0,0,0,0,0,0,0,0,0,0,0,0,0,0,0,0,0,0,0,0,0,0,0,0,0,0,0,0,0,0,0,0,0,0,0,0,null,null,0,0,0,0,0,0]
[{"$nulls":5},1291,"CENTRO DE SALUD ALTO SELVA ALEGRE",20,{"v":12135,"d":"12,135"},113,105,96,106,135,149,127,136,136,127,113,117,120,120,123,132,130,127,123,126,667,723,783,715,785,849,876,904,867,730,632,464,325,354,3,52,61,171,{"v":6127,"d":"6,127"},280,306,{"v":2241,"d":"2,241"},350,null,null,{"v":12135,"d":"12,135"},{"v":1460,"d":"1,460"},752,{"v":1639,"d":"1,639"},{"v":4916,"d":"4,916"},{"v":3368,"d":"3,368"}]
[{"$nulls":5},1294,"CENTRO DE SALUD MARIANO MELGAR",20,{"v":12135,"d":"12,135"},112,107,96,107,133,150,127,137,137,128,112,116,121,119,123,132,129,128,122,128,669,721,785,715,785,848,877,905,867,728,631,462,324,354,2,53,59,172,{"v":6126,"d":"6,126"},280,304,{"v":2239,"d":"2,239"},351,null,null,{"v":12135,"d":"12,135"},{"v":1462,"d":"1,462"},752,{"v":1640,"d":"1,640"},{"v":4914,"d":"4,914"},{"v":3367,"d":"3,367"}]
[{"$nulls":5},1293,"CENTRO DE SALUD MIRAFLORES",20,{"v":12135,"d":"12,135"},112,107,96,107,133,150,127,137,137,128,112,116,121,119,123,132,129,128,122,128,669,721,785,715,785,848,877,905,867,728,631,462,324,354,2,53,59,172,{"v":6126,"d":"6,126"},280,304,{"v":2239,"d":"2,239"},351,null,null,{"v":12135,"d":"12,135"},{"v":1462,"d":"1,462"},752,{"v":1640,"d":"1,640"},{"v":4914,"d":"4,914"},{"v":3367,"d":"3,367"}]
[{"$nulls":5},1233,"CENTRO DE SALUD YANAHUARA",20,{"v":12135,"d":"12,135"},112,107,96,107,133,150,127,137,137,128,112,116,121,119,123,132,129,128,122,128,669,721,785,715,785,848,877,905,867,728,631,462,324,354,2,53,59,172,{"v":6126,"d":"6,126"},280,304,{"v":2239,"d":"2,239"},351,null,null,{"v":12135,"d":"12,135"},{"v":1462,"d":"1,462"},752,{"v":1640,"d":"1,640"},{"v":4914,"d":"4,914"},{"v":3367,"d":"3,367"}]
[{"$nulls":5},1263,"PUESTO DE SALUD 13 DE ENERO (VRH)",20,{"v":12135,"d":"12,135"},112,107,96,107,133,150,127,137,137,128,112,116,121,119,123,132,129,128,122,128,669,721,785,715,785,848,877,905,867,728,631,462,324,354,2,53,59,172,{"v":6126,"d":"6,126"},280,304,{"v":2239,"d":"2,239"},351,null,null,{"v":12135,"d":"12,135"},{"v":1462,"d":"1,462"},752,{"v":1640,"d":"1,640"},{"v":4914,"d":"4,914"},{"v":3367,"d":"3,367"}]
[{"$nulls":8},{"v":7959,"d":"7,959"},53,51,95,59,81,79,137,142,145,141,145,121,170,148,115,172,177,165,167,145,752,704,641,534,475,436,357,429,317,216,202,186,89,113,1,26,27,94,{"v":4058,"d":"4,058"},341,402,{"v":1807,"d":"1,807"},139,null,null,{"v":7959,"d":"7,959"},{"v":1249,"d":"1,249"},947,{"v":1768,"d":"1,768"},{"v":2872,"d":"2,872"},{"v":1123,"d":"1,123"}]
[]
[{"$nulls":6},"RED DE SALUD AREQUIPA CAYLLOMA",null,{"$f":"+I21+I32+I41+I48+I55+I60+I65+I69+I75+I81+I87+I97+I108+I116+I120+I125+I132+I138+I144+I151+I157+I168+I177+I183+I189+I198+I205+I212","v":{"v":1334668,"d":"1,334,668"}},{"$f":"+J21+J32+J41+J48+J55+J60+J65+J69+J75+J81+J87+J97+J108+J116+J120+J125+J132+J138+J144+J151+J157+J168+J177+J183+J189+J198+J205+J212","v":{"v":13374,"d":"13,374"}},{"v":13132,"d":"13,132"},{"v":14179,"d":"14,179"},{"v":14645,"d":"14,645"},{"v":16988,"d":"16,988"},{"v":18298,"d":"18,298"},{"v":21840,"d":"21,840"},{"v":22300,"d":"22,300"},{"v":21921,"d":"21,921"},{"v":21012,"d":"21,012"},{"v":19459,"d":"19,459"},{"v":19337,"d":"19,337"},{"v":20085,"d":"20,085"},{"v":19144,"d":"19,144"},{"v":17746,"d":"17,746"},{"v":20295,"d":"20,295"},{"v":20410,"d":"20,410"},{"v":20345,"d":"20,345"},{"v":20326,"d":"20,326"},{"v":20635,"d":"20,635"},{"v":100256,"d":"100,256"},{"v":111862,"d":"111,862"},{"v":111832,"d":"111,832"},{"v":100157,"d":"100,157"},{"v":98542,"d":"98,542"},{"v":90395,"d":"90,395"},{"v":77992,"d":"77,992"},{"v":69989,"d":"69,989"},{"v":57948,"d":"57,948"},{"v":45993,"d":"45,993"},{"v":36834,"d":"36,834"},{"v":25803,"d":"25,803"},{"v":15979,"d":"15,979"},{"v":15619,"d":"15,619"},539,{"v":6578,"d":"6,578"},{"v":6803,"d":"6,803"},{"v":20044,"d":"20,044"},{"v":675815,"d":"675,815"},{"v":47595,"d":"47,595"},{"v":50488,"d":"50,488"},{"v":310028,"d":"310,028"},{"v":32759,"d":"32,759"},0,0,{"v":1334668,"d":"1,334,668"},{"v":216484,"d":"216,484"},{"v":118023,"d":"118,023"},{"v":253078,"d":"253,078"},{"v":522955,"d":"522,955"},{"v":170660,"d":"170,660"}]
["040501","AREQUIPA","AREQUIPA","CAYLLOMA","CHIVAY",null,"MR CHIVAY",null,{"$f":"SUM(I22:I30)","v":{"v":16740,"d":"16,740"}},{"$f":"SUM(J22:J30)","v":139},106,169,119,165,139,228,239,223,213,232,200,258,244,199,279,296,289,263,283,{"v":1318,"d":"1,318"},{"v":1369,"d":"1,369"},{"v":1249,"d":"1,249"},{"v":1102,"d":"1,102"},{"v":1114,"d":"1,114"},{"v":1063,"d":"1,063"},910,996,854,686,595,512,332,360,5,71,71,233,{"v":8646,"d":"8,646"},571,701,{"v":3687,"d":"3,687"},366,{"$f":"SUM(BA22:BA26)","v":0},{"$f":"SUM(BB22:BB26)","v":0},{"$f":"SUM(BC22:BC30)","v":{"v":16740,"d":"16,740"}},{"$f":"SUM(BD22:BD30)","v":{"v":2170,"d":"2,170"}},{"$f":"SUM(BE22:BE30)","v":{"v":1565,"d":"1,565"}},{"$f":"SUM(BF22:BF30)","v":{"v":3232,"d":"3,232"}},{"$f":"SUM(BG22:BG30)","v":{"v":6435,"d":"6,435"}},{"$f":"SUM(BH22:BH30)","v":{"v":3339,"d":"3,339"}}]
["040501","AREQUIPA","AREQUIPA","CAYLLOMA","CHIVAY",1419,"CENTRO DE SALUD CHIVAY",90,{"v":7163,"d":"7,163"},48,46,85,53,73,71,123,128,130,127,130,109,153,133,103,155,159,148,150,130,677,634,577,481,427,392,321,386,285,194,182,167,80,102,1,23,24,85,{"v":3652,"d":"3,652"},307,362,{"v":1626,"d":"1,626"},125,null,null,{"v":7163,"d":"7,163"},{"v":1124,"d":"1,124"},852,{"v":1591,"d":"1,591"},{"v":2585,"d":"2,585"},{"v":1011,"d":"1,011"}]
[{"$nulls":5},1423,"PUESTO DE SALUD CANOCOTA",10,796,5,5,10,6,8,8,14,14,15,14,15,12,17,15,12,17,18,17,17,15,75,70,64,53,48,44,36,43,32,22,20,19,9,11,0,3,3,9,406,34,40,181,14,null,null,796,125,95,177,287,112]
["040502","AREQUIPA","AREQUIPA","CAYLLOMA","ACHOMA",1429,"PUESTO DE SALUD ACHOMA",100,{"v":1225,"d":"1,225"},14,9,13,11,8,6,12,11,9,5,7,9,11,11,11,15,10,15,8,22,82,101,77,59,82,96,90,99,85,59,55,43,40,40,0,12,3,25,661,26,40,253,26,null,null,{"v":1225,"d":"1,225"},114,73,213,503,322]
["040506","AREQUIPA","AREQUIPA","CAYLLOMA","COPORAQUE",1424,"PUESTO DE SALUD COPORAQUE",100,{"v":1554,"d":"1,554"},18,11,16,10,16,16,25,23,17,17,16,14,6,14,11,20,22,16,18,23,85,116,98,119,151,101,94,92,98,74,66,51,38,42,0,7,11,20,772,30,48,342,37,null,null,{"v":1554,"d":"1,554"},199,89,242,655,369]
["040509","AREQUIPA","AREQUIPA","CAYLLOMA","ICHUPAMPA",1425,"PUESTO DE SALUD ICHUPAMPA",100,972,11,5,12,6,15,3,9,10,13,7,7,15,16,7,16,9,13,16,3,14,54,72,83,65,61,64,59,64,56,60,47,34,24,22,0,2,9,24,514,32,26,217,36,null,null,972,113,77,143,396,243]
["040510","AREQUIPA","AREQUIPA","CAYLLOMA","LARI",1426,"PUESTO DE SALUD LARI",100,{"v":1338,"d":"1,338"},13,13,14,12,14,10,14,16,7,16,21,21,13,23,17,23,24,20,25,23,100,110,107,66,86,90,83,82,71,62,38,35,42,27,2,6,8,28,714,54,62,286,40,null,null,{"v":1338,"d":"1,338"},171,120,258,514,275]
["040512","AREQUIPA","AREQUIPA","CAYLLOMA","MACA",1430,"PUESTO DE SALUD MACA",100,{"v":1059,"d":"1,059"},7,3,4,6,5,5,6,12,11,6,12,2,12,9,1,14,12,16,7,17,64,68,55,80,82,85,74,72,57,68,51,67,30,39,0,4,4,9,555,15,30,217,22,null,null,{"v":1059,"d":"1,059"},79,64,156,448,312]
["040513","AREQUIPA","AREQUIPA","CAYLLOMA","MADRIGAL",1427,"PUESTO DE SALUD MADRIGAL",100,935,7,2,5,3,4,7,4,5,5,4,3,3,9,11,10,8,15,12,8,10,57,53,50,62,55,72,56,61,78,68,56,53,35,44,1,4,3,9,487,21,35,164,14,null,null,935,52,65,128,356,334]
["040519","AREQUIPA","AREQUIPA","CAYLLOMA","YANQUE",1428,"PUESTO DE SALUD YANQUE",54,{"v":1698,"d":"1,698"},16,12,10,12,22,13,21,20,16,17,21,15,21,21,18,18,23,29,27,29,124,145,138,117,122,119,97,97,92,79,80,43,34,33,1,10,6,24,885,52,58,401,52,null,null,{"v":1698,"d":"1,698"},193,130,324,691,361]
[]
["040504","AREQUIPA","AREQUIPA","CAYLLOMA","CALLALLI",null,"MR CALLALLI",null,{"$f":"SUM(I33:I39)","v":{"v":8068,"d":"8,068"}},{"$f":"SUM(J33:J39)","v":77},63,59,48,80,52,92,88,74,93,96,94,96,102,66,115,127,124,126,115,605,621,569,515,539,581,520,541,474,373,362,269,151,158,2,36,42,126,{"v":4266,"d":"4,266"},234,306,{"v":1778,"d":"1,778"},199,0,0,{"v":8068,"d":"8,068"},918,630,{"v":1468,"d":"1,468"},{"v":3264,"d":"3,264"},{"v":1787,"d":"1,787"}]
["040504","AREQUIPA","AREQUIPA","CAYLLOMA","CALLALLI",1421,"CENTRO DE SALUD CALLALLI",100,{"v":2214,"d":"2,214"},28,20,17,15,27,9,25,17,21,28,23,34,17,32,9,23,29,19,26,21,146,175,154,135,121,166,173,172,148,121,107,66,40,50,2,19,9,43,{"v":1163,"d":"1,163"},61,72,452,64,null,null,{"v":2214,"d":"2,214"},264,129,368,921,532]
["040517","AREQUIPA","AREQUIPA","CAYLLOMA","TISCO",1438,"PUESTO DE SALUD TISCO",39,855,5,5,6,5,6,7,11,8,10,9,10,7,12,14,13,15,13,18,17,11,71,62,52,49,58,58,58,63,50,37,32,33,17,15,0,1,4,7,464,29,40,183,16,null,null,855,90,85,161,336,182]
[{"$nulls":5},1431,"PUESTO DE SALUD COTACOTA",37,811,4,4,6,4,6,7,10,9,9,9,9,7,12,13,11,15,13,17,16,11,67,58,50,46,55,54,54,59,47,34,30,32,16,14,0,1,4,6,441,28,38,174,16,null,null,811,85,81,152,319,174]
[{"$nulls":5},6891,"PUESTO DE SALUD TARUCAMARCA",24,526,3,3,4,3,4,5,6,6,6,6,6,5,8,9,7,10,8,11,10,7,44,38,32,30,36,35,35,38,30,22,19,21,11,9,0,0,2,4,286,18,24,113,10,null,null,526,55,53,99,207,113]
["040518","AREQUIPA","AREQUIPA","CAYLLOMA","TUTI",1436,"PUESTO DE SALUD TUTI",100,{"v":1093,"d":"1,093"},10,10,9,6,10,5,18,16,8,13,16,16,15,2,9,13,25,16,20,28,84,78,77,79,82,71,57,60,55,43,62,41,19,20,0,4,7,21,580,30,41,252,28,null,null,{"v":1093,"d":"1,093"},137,80,210,426,240]
["040515","AREQUIPA","AREQUIPA","CAYLLOMA","SIBAYO",1435,"PUESTO DE SALUD SANTA ROSA DE SIBAYO",100,{"v":1122,"d":"1,122"},13,11,8,4,9,8,5,15,7,14,15,13,15,15,1,23,20,18,14,13,88,87,86,76,83,95,60,67,66,48,44,40,19,22,0,3,10,25,578,23,41,262,21,null,null,{"v":1122,"d":"1,122"},122,92,202,467,239]
["040519","AREQUIPA","AREQUIPA","CAYLLOMA","YANQUE",1437,"PUESTO DE SALUD CHALHUANCA",46,{"v":1447,"d":"1,447"},14,10,9,11,18,11,17,17,13,14,17,12,17,17,16,16,19,25,23,24,105,123,118,100,104,102,83,82,78,68,68,36,29,28,0,8,6,20,754,45,50,342,44,null,null,{"v":1447,"d":"1,447"},165,110,276,588,307]
[]
["040503","AREQUIPA","AREQUIPA","CAYLLOMA","CABANACONDE",null,"MR CABANACONDE",null,{"$f":"SUM(I42:I46)","v":{"v":5774,"d":"5,774"}},{"$f":"SUM(J42:J46)","v":51},30,41,40,51,40,67,57,43,38,51,58,53,67,72,62,107,79,72,65,334,381,359,335,393,372,387,451,344,360,274,221,204,215,0,27,25,123,{"v":3083,"d":"3,083"},170,220,{"v":1101,"d":"1,101"},154,0,0,{"v":5774,"d":"5,774"},567,440,852,{"v":2297,"d":"2,297"},{"v":1618,"d":"1,618"}]
["040503","AREQUIPA","AREQUIPA","CAYLLOMA","CABANACONDE",1420,"CABANACONDE",80,{"v":2368,"d":"2,368"},14,12,15,14,23,14,33,26,20,18,22,23,23,33,27,26,46,34,30,28,150,170,146,125,154,155,170,212,135,129,99,77,78,87,0,8,6,24,{"v":1201,"d":"1,201"},61,85,444,51,null,null,{"v":2368,"d":"2,368"},233,190,378,962,606]
[{"$nulls":5},1432,"PUESTO DE SALUD PINCHOLLO",20,592,3,3,4,4,6,3,8,6,5,4,5,6,6,8,7,7,12,8,8,7,37,43,37,31,38,39,42,53,34,32,25,19,20,22,0,2,2,6,300,15,21,111,13,null,null,592,58,47,95,240,151]
["040507","AREQUIPA","AREQUIPA","CAYLLOMA","HUAMBO",1433,"PUESTO DE SALUD HUAMBO",100,964,10,9,5,9,7,7,9,9,2,4,13,9,8,8,13,12,21,21,11,6,56,60,56,45,58,49,66,73,52,84,50,41,42,39,0,7,3,14,523,32,44,165,20,null,null,964,93,83,133,347,308]
["040516","AREQUIPA","AREQUIPA","CAYLLOMA","TAPAY",1434,"PUESTO DE SALUD TAPAY",100,{"v":1044,"d":"1,044"},14,2,10,9,9,10,10,8,10,7,6,9,11,8,15,10,15,11,11,12,50,73,69,85,78,70,56,67,70,65,60,38,37,29,0,5,9,57,594,31,41,225,38,null,null,{"v":1044,"d":"1,044"},104,70,146,425,299]
["040406","AREQUIPA","AREQUIPA","CASTILLA","CHOCO",1441,"PUESTO DE SALUD CHOCO",100,806,10,4,7,4,6,6,7,8,6,5,5,11,5,10,10,7,13,5,12,12,41,35,51,49,65,59,53,46,53,50,40,46,27,38,0,5,5,22,465,31,29,156,32,null,null,806,79,50,100,323,254]
[]
["040505","AREQUIPA","AREQUIPA","CAYLLOMA","CAYLLOMA",null,"MR CAYLLOMA",null,{"$f":"SUM(I49:I53)","v":{"v":9825,"d":"9,825"}},{"$f":"SUM(J49:J53)","v":91},82,115,127,118,113,129,151,166,174,177,180,171,168,168,230,198,214,201,177,883,828,709,656,582,575,488,556,432,334,234,165,117,117,4,47,44,221,{"v":5164,"d":"5,164"},480,546,{"v":2177,"d":"2,177"},397,0,0,{"v":9825,"d":"9,825"},{"v":1623,"d":"1,623"},{"v":1149,"d":"1,149"},{"v":2089,"d":"2,089"},{"v":3565,"d":"3,565"},{"v":1399,"d":"1,399"}]
["040505","AREQUIPA","AREQUIPA","CAYLLOMA","CAYLLOMA",1422,"CENTRO DE SALUD CAYLLOMA",77,{"v":4111,"d":"4,111"},30,28,48,49,45,42,49,63,74,74,75,79,83,63,70,86,77,88,88,67,366,362,291,287,263,240,219,220,189,140,104,74,44,36,2,18,12,75,{"v":2154,"d":"2,154"},206,212,938,209,null,null,{"v":4111,"d":"4,111"},654,467,882,{"v":1520,"d":"1,520"},587]
[{"$nulls":5},1418,"PUESTO DE SALUD JACHAÑA",23,{"v":1228,"d":"1,228"},9,9,14,14,13,13,14,19,22,22,22,23,25,19,21,26,23,26,26,20,109,108,87,86,78,72,65,66,56,42,31,22,13,11,0,5,4,23,643,61,63,280,63,null,null,{"v":1228,"d":"1,228"},196,140,264,454,175]
["040404","AREQUIPA","AREQUIPA","CASTILLA","CHACHAS",1442,"PUESTO DE SALUD TOLCONI",63,{"v":1164,"d":"1,164"},22,17,18,20,19,20,14,16,18,20,29,17,19,16,21,30,18,25,15,16,87,86,91,80,57,63,55,71,56,39,26,23,16,25,1,11,11,45,638,60,61,237,50,null,null,{"v":1164,"d":"1,164"},230,129,204,416,185]
["040603","AREQUIPA","AREQUIPA","CONDESUYOS","CAYARANI",1440,"CENTRO DE SALUD CAYARANI",80,{"v":2658,"d":"2,658"},24,22,28,35,33,30,42,42,42,46,41,49,35,56,45,70,64,60,58,59,257,218,192,162,147,160,119,159,105,90,58,37,35,36,1,10,14,62,{"v":1383,"d":"1,383"},122,168,578,60,null,null,{"v":2658,"d":"2,658"},434,330,591,940,362]
[{"$nulls":5},7407,"PUESTO DE SALUD ARCATA",20,664,6,6,7,9,8,8,10,11,10,12,10,12,9,14,11,18,16,15,14,15,64,54,48,41,37,40,30,40,26,23,15,9,9,9,0,3,3,16,346,31,42,144,15,null,null,664,109,83,148,235,90]
[]
["040103","AREQUIPA","AREQUIPA","AREQUIPA","CAYMA",null,"MR FRANCISCO BOLOGNESI",null,{"$f":"SUM(I56:I58)","v":{"v":51613,"d":"51,613"}},{"$f":"SUM(J56:J58)","v":497},531,624,572,654,754,900,881,870,821,774,759,810,741,666,810,728,767,776,759,{"v":3853,"d":"3,853"},{"v":4401,"d":"4,401"},{"v":4649,"d":"4,649"},{"v":4020,"d":"4,020"},{"v":3701,"d":"3,701"},{"v":3317,"d":"3,317"},{"v":2906,"d":"2,906"},{"v":2641,"d":"2,641"},{"v":2273,"d":"2,273"},{"v":1766,"d":"1,766"},{"v":1367,"d":"1,367"},943,528,557,22,230,267,766,{"v":26295,"d":"26,295"},{"v":1850,"d":"1,850"},{"v":1869,"d":"1,869"},{"v":12139,"d":"12,139"},{"v":1179,"d":"1,179"},0,0,{"v":51613,"d":"51,613"},{"v":8636,"d":"8,636"},{"v":4522,"d":"4,522"},{"v":9788,"d":"9,788"},{"v":21234,"d":"21,234"},{"v":7433,"d":"7,433"}]
["040103","AREQUIPA","AREQUIPA","AREQUIPA","CAYMA",1234,"CENTRO DE SALUD FRANCISCO BOLOGNESI",16,{"v":18351,"d":"18,351"},177,189,222,203,233,268,320,313,309,292,275,270,288,263,237,288,259,273,276,270,{"v":1370,"d":"1,370"},{"v":1565,"d":"1,565"},{"v":1653,"d":"1,653"},{"v":1429,"d":"1,429"},{"v":1316,"d":"1,316"},{"v":1179,"d":"1,179"},{"v":1033,"d":"1,033"},939,808,628,486,335,188,198,8,82,95,272,{"v":9349,"d":"9,349"},658,665,{"v":4316,"d":"4,316"},419,null,null,{"v":18351,"d":"18,351"},{"v":3071,"d":"3,071"},{"v":1608,"d":"1,608"},{"v":3480,"d":"3,480"},{"v":7550,"d":"7,550"},{"v":2643,"d":"2,643"}]
[{"$nulls":5},1244,"PUESTO DE SALUD LA TOMILLA",8,{"v":9176,"d":"9,176"},88,94,111,102,116,134,160,157,155,146,138,135,144,132,118,144,129,136,138,135,685,782,826,715,658,590,517,470,404,314,243,168,94,99,4,41,47,136,{"v":4675,"d":"4,675"},329,332,{"v":2158,"d":"2,158"},210,null,null,{"v":9176,"d":"9,176"},{"v":1535,"d":"1,535"},804,{"v":1740,"d":"1,740"},{"v":3775,"d":"3,775"},{"v":1321,"d":"1,321"}]
[{"$nulls":5},6890,"PUESTO DE SALUD RAFAEL BELAUNDE",21,{"v":24086,"d":"24,086"},232,248,291,267,305,352,420,411,406,383,361,354,378,346,311,378,340,358,362,354,{"v":1798,"d":"1,798"},{"v":2054,"d":"2,054"},{"v":2170,"d":"2,170"},{"v":1876,"d":"1,876"},{"v":1727,"d":"1,727"},{"v":1548,"d":"1,548"},{"v":1356,"d":"1,356"},{"v":1232,"d":"1,232"},{"v":1061,"d":"1,061"},824,638,440,246,260,10,107,125,358,{"v":12271,"d":"12,271"},863,872,{"v":5665,"d":"5,665"},550,null,null,{"v":24086,"d":"24,086"},{"v":4030,"d":"4,030"},{"v":2110,"d":"2,110"},{"v":4568,"d":"4,568"},{"v":9909,"d":"9,909"},{"v":3469,"d":"3,469"}]
[]
["040103","AREQUIPA","AREQUIPA","AREQUIPA","CAYMA",null,"MR BUENOS AIRES DE CAYMA",null,{"$f":"SUM(I61:I63)","v":{"v":63082,"d":"63,082"}},{"$f":"SUM(J61:J63)","v":607},{"$f":"SUM(K61:K63)","v":649},761,699,800,922,{"v":1099,"d":"1,099"},{"v":1078,"d":"1,078"},{"v":1064,"d":"1,064"},{"v":1003,"d":"1,003"},945,928,990,905,814,991,890,937,948,927,{"v":4710,"d":"4,710"},{"v":5378,"d":"5,378"},{"v":5682,"d":"5,682"},{"v":4913,"d":"4,913"},{"v":4522,"d":"4,522"},{"v":4054,"d":"4,054"},{"v":3552,"d":"3,552"},{"v":3228,"d":"3,228"},{"v":2777,"d":"2,777"},{"v":2158,"d":"2,158"},{"v":1671,"d":"1,671"},{"v":1151,"d":"1,151"},644,682,26,281,326,937,{"v":32139,"d":"32,139"},{"v":2260,"d":"2,260"},{"v":2285,"d":"2,285"},{"v":14836,"d":"14,836"},{"v":1440,"d":"1,440"},0,0,{"v":63082,"d":"63,082"},{"v":10556,"d":"10,556"},{"v":5527,"d":"5,527"},{"v":11964,"d":"11,964"}]
[{"$nulls":5},1235,"BUENOS AIRES DE CAYMA",20,{"v":22939,"d":"22,939"},220,236,276,254,291,336,399,392,387,364,343,338,360,329,296,361,323,340,344,337,{"v":1713,"d":"1,713"},{"v":1955,"d":"1,955"},{"v":2066,"d":"2,066"},{"v":1786,"d":"1,786"},{"v":1644,"d":"1,644"},{"v":1474,"d":"1,474"},{"v":1291,"d":"1,291"},{"v":1174,"d":"1,174"},{"v":1009,"d":"1,009"},784,607,418,234,248,9,102,118,341,{"v":11687,"d":"11,687"},821,831,{"v":5395,"d":"5,395"},523,null,null,{"v":22939,"d":"22,939"},{"v":3839,"d":"3,839"},{"v":2010,"d":"2,010"},{"v":4351,"d":"4,351"},{"v":9436,"d":"9,436"},{"v":3303,"d":"3,303"}]
[{"$nulls":5},1245,"SAN JOSE",20,{"v":22939,"d":"22,939"},221,236,277,254,291,335,400,392,387,365,344,337,360,329,296,360,324,341,345,337,{"v":1713,"d":"1,713"},{"v":1956,"d":"1,956"},{"v":2066,"d":"2,066"},{"v":1787,"d":"1,787"},{"v":1645,"d":"1,645"},{"v":1474,"d":"1,474"},{"v":1292,"d":"1,292"},{"v":1174,"d":"1,174"},{"v":1010,"d":"1,010"},785,608,419,234,248,10,102,119,341,{"v":11687,"d":"11,687"},822,831,{"v":5395,"d":"5,395"},524,null,null,{"v":22939,"d":"22,939"},{"v":3838,"d":"3,838"},{"v":2010,"d":"2,010"},{"v":4350,"d":"4,350"},{"v":9437,"d":"9,437"},{"v":3303,"d":"3,303"}]
[{"$nulls":5},1246,"DEAN VALDIVIA",15,{"v":17204,"d":"17,204"},166,177,208,191,218,251,300,294,290,274,258,253,270,247,222,270,243,256,259,253,{"v":1284,"d":"1,284"},{"v":1467,"d":"1,467"},{"v":1550,"d":"1,550"},{"v":1340,"d":"1,340"},{"v":1233,"d":"1,233"},{"v":1106,"d":"1,106"},969,880,758,589,456,314,176,186,7,77,89,255,{"v":8765,"d":"8,765"},617,623,{"v":4046,"d":"4,046"},393,null,null,{"v":17204,"d":"17,204"},{"v":2879,"d":"2,879"},{"v":1507,"d":"1,507"},{"v":3263,"d":"3,263"},{"v":7078,"d":"7,078"},{"v":2478,"d":"2,478"}]
[]
["040104","AREQUIPA","AREQUIPA","AREQUIPA","CERRO COLORADO",null,"MR CERRO COLORADO",null,{"$f":"SUM(I66:I67)","v":{"v":46535,"d":"46,535"}},{"$f":"SUM(J66:J67)","v":505},451,460,540,627,676,893,918,906,865,782,746,778,722,660,773,744,769,758,785,{"v":3777,"d":"3,777"},{"v":4091,"d":"4,091"},{"v":4073,"d":"4,073"},{"v":3592,"d":"3,592"},{"v":3531,"d":"3,531"},{"v":3064,"d":"3,064"},{"v":2505,"d":"2,505"},{"v":2125,"d":"2,125"},{"v":1611,"d":"1,611"},{"v":1273,"d":"1,273"},{"v":1047,"d":"1,047"},671,422,393,22,255,251,711,{"v":22818,"d":"22,818"},{"v":1760,"d":"1,760"},{"v":1813,"d":"1,813"},{"v":10935,"d":"10,935"},{"v":1320,"d":"1,320"},0,0,{"v":46535,"d":"46,535"},{"v":8371,"d":"8,371"},{"v":4445,"d":"4,445"},{"v":9411,"d":"9,411"},{"v":18891,"d":"18,891"},{"v":5417,"d":"5,417"}]
["040104","AREQUIPA","AREQUIPA","AREQUIPA","CERRO COLORADO",1236,"CERRO COLORADO",11,{"v":25594,"d":"25,594"},278,248,253,297,345,372,491,505,498,476,430,410,428,397,363,425,409,423,417,432,{"v":2077,"d":"2,077"},{"v":2250,"d":"2,250"},{"v":2240,"d":"2,240"},{"v":1976,"d":"1,976"},{"v":1942,"d":"1,942"},{"v":1685,"d":"1,685"},{"v":1378,"d":"1,378"},{"v":1169,"d":"1,169"},886,700,576,369,232,216,12,140,138,391,{"v":12550,"d":"12,550"},968,997,{"v":6014,"d":"6,014"},726,null,null,{"v":25594,"d":"25,594"},{"v":4604,"d":"4,604"},{"v":2445,"d":"2,445"},{"v":5176,"d":"5,176"},{"v":10390,"d":"10,390"},{"v":2979,"d":"2,979"}]
[{"$nulls":5},1248,"ALTO LIBERTAD",9,{"v":20941,"d":"20,941"},227,203,207,243,282,304,402,413,408,389,352,336,350,325,297,348,335,346,341,353,{"v":1700,"d":"1,700"},{"v":1841,"d":"1,841"},{"v":1833,"d":"1,833"},{"v":1616,"d":"1,616"},{"v":1589,"d":"1,589"},{"v":1379,"d":"1,379"},{"v":1127,"d":"1,127"},956,725,573,471,302,190,177,10,115,113,320,{"v":10268,"d":"10,268"},792,816,{"v":4921,"d":"4,921"},594,null,null,{"v":20941,"d":"20,941"},{"v":3767,"d":"3,767"},{"v":2000,"d":"2,000"},{"v":4235,"d":"4,235"},{"v":8501,"d":"8,501"},{"v":2438,"d":"2,438"}]
[]
["040104","AREQUIPA","AREQUIPA","AREQUIPA","CERRO COLORADO",null,"MR MARISCAL CASTILLA",null,{"$f":"SUM(I70:I73)","v":{"v":46535,"d":"46,535"}},{"$f":"SUM(J70:J73)","v":505},451,460,540,627,677,893,918,905,865,782,745,780,722,660,773,743,767,758,785,{"v":3778,"d":"3,778"},{"v":4091,"d":"4,091"},{"v":4073,"d":"4,073"},{"v":3593,"d":"3,593"},{"v":3531,"d":"3,531"},{"v":3065,"d":"3,065"},{"v":2505,"d":"2,505"},{"v":2125,"d":"2,125"},{"v":1611,"d":"1,611"},{"v":1273,"d":"1,273"},{"v":1047,"d":"1,047"},671,422,393,22,255,251,711,{"v":22818,"d":"22,818"},{"v":1760,"d":"1,760"},{"v":1813,"d":"1,813"},{"v":10935,"d":"10,935"},{"v":1320,"d":"1,320"},0,0,{"v":46535,"d":"46,535"},{"v":8373,"d":"8,373"},{"v":4445,"d":"4,445"},{"v":9411,"d":"9,411"},{"v":18891,"d":"18,891"},{"v":5418,"d":"5,418"}]
["040104","AREQUIPA","AREQUIPA","AREQUIPA","CERRO COLORADO",1238,"CENTRO DE SALUD MARISCAL CASTILLA",8,{"v":18614,"d":"18,614"},202,180,184,216,251,271,357,367,362,346,313,298,312,289,264,309,297,307,303,314,{"v":1511,"d":"1,511"},{"v":1636,"d":"1,636"},{"v":1629,"d":"1,629"},{"v":1437,"d":"1,437"},{"v":1412,"d":"1,412"},{"v":1226,"d":"1,226"},{"v":1002,"d":"1,002"},850,644,509,419,268,169,157,9,102,100,284,{"v":9127,"d":"9,127"},704,725,{"v":4374,"d":"4,374"},528,null,null,{"v":18614,"d":"18,614"},{"v":3349,"d":"3,349"},{"v":1778,"d":"1,778"},{"v":3764,"d":"3,764"},{"v":7556,"d":"7,556"},{"v":2167,"d":"2,167"}]
[{"$nulls":5},1249,"CENTRO DE SALUD SEMI RURAL PACHACUTEC",8,{"v":18614,"d":"18,614"},202,180,184,216,251,271,357,367,362,346,313,298,312,289,264,309,297,307,303,314,{"v":1511,"d":"1,511"},{"v":1636,"d":"1,636"},{"v":1629,"d":"1,629"},{"v":1437,"d":"1,437"},{"v":1412,"d":"1,412"},{"v":1226,"d":"1,226"},{"v":1002,"d":"1,002"},850,644,509,419,268,169,157,9,102,100,284,{"v":9127,"d":"9,127"},704,725,{"v":4374,"d":"4,374"},528,null,null,{"v":18614,"d":"18,614"},{"v":3349,"d":"3,349"},{"v":1778,"d":"1,778"},{"v":3764,"d":"3,764"},{"v":7556,"d":"7,556"},{"v":2167,"d":"2,167"}]
[{"$nulls":5},1250,"PUESTO DE SALUD JOSE SANTOS ATAHUALPA",3,{"v":6980,"d":"6,980"},76,68,69,81,94,101,134,138,136,130,117,112,117,108,99,116,112,115,114,118,567,614,611,539,530,460,376,319,242,191,157,101,63,59,3,38,38,107,{"v":3423,"d":"3,423"},264,272,{"v":1640,"d":"1,640"},198,null,null,{"v":6980,"d":"6,980"},{"v":1256,"d":"1,256"},667,{"v":1412,"d":"1,412"},{"v":2834,"d":"2,834"},813]
[{"$nulls":5},1252,"PUESTO DE SALUD EL CURAL",1,{"v":2327,"d":"2,327"},25,23,23,27,31,34,45,46,45,43,39,37,39,36,33,39,37,38,38,39,189,205,204,180,177,153,125,106,81,64,52,34,21,20,1,13,13,36,{"v":1141,"d":"1,141"},88,91,547,66,null,null,{"v":2327,"d":"2,327"},419,222,471,945,271]
[]
["040104","AREQUIPA","AREQUIPA","AREQUIPA","CERRO COLORADO",null,"MR MARITZA CAMPOS - ZAMACOLA",null,{"$f":"SUM(I76:I79)","v":{"v":139603,"d":"139,603"}},{"$f":"SUM(J76:J79)","v":{"v":1517,"d":"1,517"}},{"v":1348,"d":"1,348"},{"v":1384,"d":"1,384"},{"v":1621,"d":"1,621"},{"v":1880,"d":"1,880"},{"v":2029,"d":"2,029"},{"v":2681,"d":"2,681"},{"v":2757,"d":"2,757"},{"v":2718,"d":"2,718"},{"v":2597,"d":"2,597"},{"v":2349,"d":"2,349"},{"v":2239,"d":"2,239"},{"v":2336,"d":"2,336"},{"v":2166,"d":"2,166"},{"v":1980,"d":"1,980"},{"v":2318,"d":"2,318"},{"v":2231,"d":"2,231"},{"v":2305,"d":"2,305"},{"v":2272,"d":"2,272"},{"v":2355,"d":"2,355"},{"v":11331,"d":"11,331"},{"v":12270,"d":"12,270"},{"v":12220,"d":"12,220"},{"v":10775,"d":"10,775"},{"v":10593,"d":"10,593"},{"v":9192,"d":"9,192"},{"v":7514,"d":"7,514"},{"v":6376,"d":"6,376"},{"v":4828,"d":"4,828"},{"v":3820,"d":"3,820"},{"v":3144,"d":"3,144"},{"v":2011,"d":"2,011"},{"v":1269,"d":"1,269"},{"v":1180,"d":"1,180"},64,763,752,{"v":2128,"d":"2,128"},{"v":68454,"d":"68,454"},{"v":5281,"d":"5,281"},{"v":5440,"d":"5,440"},{"v":32803,"d":"32,803"},{"v":3960,"d":"3,960"},0,0,{"v":139603,"d":"139,603"},{"v":25113,"d":"25,113"},{"v":13337,"d":"13,337"},{"v":28229,"d":"28,229"},{"v":56670,"d":"56,670"},{"v":16251,"d":"16,251"}]
["040104","AREQUIPA","AREQUIPA","AREQUIPA","CERRO COLORADO",1237,"MARITZA CAMPOS DIAZ - ZAMACOLA",13,{"v":30247,"d":"30,247"},329,293,300,351,407,440,581,597,589,563,509,485,506,469,429,502,483,499,492,510,{"v":2455,"d":"2,455"},{"v":2659,"d":"2,659"},{"v":2648,"d":"2,648"},{"v":2335,"d":"2,335"},{"v":2295,"d":"2,295"},{"v":1992,"d":"1,992"},{"v":1628,"d":"1,628"},{"v":1381,"d":"1,381"},{"v":1047,"d":"1,047"},828,681,436,275,256,14,165,163,462,{"v":14832,"d":"14,832"},{"v":1144,"d":"1,144"},{"v":1179,"d":"1,179"},{"v":7107,"d":"7,107"},858,null,null,{"v":30247,"d":"30,247"},{"v":5441,"d":"5,441"},{"v":2890,"d":"2,890"},{"v":6117,"d":"6,117"},{"v":12279,"d":"12,279"},{"v":3521,"d":"3,521"}]
[{"$nulls":5},1251,"PUESTO DE SALUD NAZARENO",17,{"v":39554,"d":"39,554"},430,383,392,459,533,575,759,781,770,736,665,634,662,614,561,657,632,653,644,667,{"v":3211,"d":"3,211"},{"v":3477,"d":"3,477"},{"v":3462,"d":"3,462"},{"v":3053,"d":"3,053"},{"v":3001,"d":"3,001"},{"v":2605,"d":"2,605"},{"v":2129,"d":"2,129"},{"v":1806,"d":"1,806"},{"v":1369,"d":"1,369"},{"v":1082,"d":"1,082"},890,570,359,334,18,216,213,604,{"v":19395,"d":"19,395"},{"v":1496,"d":"1,496"},{"v":1541,"d":"1,541"},{"v":9294,"d":"9,294"},{"v":1122,"d":"1,122"},null,null,{"v":39554,"d":"39,554"},{"v":7116,"d":"7,116"},{"v":3779,"d":"3,779"},{"v":7999,"d":"7,999"},{"v":16057,"d":"16,057"},{"v":4605,"d":"4,605"}]
[{"$nulls":5},1247,"PUESTO DE SALUD CIUDAD MUNICIPAL",19,{"v":44208,"d":"44,208"},480,424,439,514,595,642,850,874,861,822,745,710,740,686,627,734,707,730,719,746,{"v":3588,"d":"3,588"},{"v":3884,"d":"3,884"},{"v":3870,"d":"3,870"},{"v":3411,"d":"3,411"},{"v":3355,"d":"3,355"},{"v":2910,"d":"2,910"},{"v":2379,"d":"2,379"},{"v":2020,"d":"2,020"},{"v":1526,"d":"1,526"},{"v":1210,"d":"1,210"},997,636,403,374,20,242,238,671,{"v":21677,"d":"21,677"},{"v":1673,"d":"1,673"},{"v":1723,"d":"1,723"},{"v":10388,"d":"10,388"},{"v":1254,"d":"1,254"},null,null,{"v":44208,"d":"44,208"},{"v":7952,"d":"7,952"},{"v":4223,"d":"4,223"},{"v":8937,"d":"8,937"},{"v":17944,"d":"17,944"},{"v":5146,"d":"5,146"}]
[{"$nulls":5},11023,"PUESTO DE SALUD PERUARBO",11,{"v":25594,"d":"25,594"},278,248,253,297,345,372,491,505,498,476,430,410,428,397,363,425,409,423,417,432,{"v":2077,"d":"2,077"},{"v":2250,"d":"2,250"},{"v":2240,"d":"2,240"},{"v":1976,"d":"1,976"},{"v":1942,"d":"1,942"},{"v":1685,"d":"1,685"},{"v":1378,"d":"1,378"},{"v":1169,"d":"1,169"},886,700,576,369,232,216,12,140,138,391,{"v":12550,"d":"12,550"},968,997,{"v":6014,"d":"6,014"},726,null,null,{"v":25594,"d":"25,594"},{"v":4604,"d":"4,604"},{"v":2445,"d":"2,445"},{"v":5176,"d":"5,176"},{"v":10390,"d":"10,390"},{"v":2979,"d":"2,979"}]
[]
["040126","AREQUIPA","AREQUIPA","AREQUIPA","YANAHUARA",null,"MR YANAHUARA",null,{"$f":"SUM(I82:I84)","v":{"v":43128,"d":"43,128"}},{"$f":"SUM(J82:J84)","v":470},400,433,487,585,630,655,665,652,631,525,572,600,600,533,605,595,603,600,617,{"v":2935,"d":"2,935"},{"v":3054,"d":"3,054"},{"v":3206,"d":"3,206"},{"v":2925,"d":"2,925"},{"v":3068,"d":"3,068"},{"v":2970,"d":"2,970"},{"v":2660,"d":"2,660"},{"v":2467,"d":"2,467"},{"v":2201,"d":"2,201"},{"v":1914,"d":"1,914"},{"v":1596,"d":"1,596"},{"v":1162,"d":"1,162"},743,769,15,259,211,668,{"v":21761,"d":"21,761"},{"v":1350,"d":"1,350"},{"v":1474,"d":"1,474"},{"v":9124,"d":"9,124"},876,0,0,{"v":43128,"d":"43,128"},{"v":6704,"d":"6,704"},{"v":3535,"d":"3,535"},{"v":7205,"d":"7,205"},{"v":17298,"d":"17,298"},{"$f":"SUM(BH82:BH84)","v":{"v":8386,"d":"8,386"}}]
["040126","AREQUIPA","AREQUIPA","AREQUIPA","YANAHUARA",1233,"CENTRO DE SALUD YANAHUARA",38,{"v":11596,"d":"11,596"},105,69,86,116,156,164,147,140,153,160,141,126,134,130,119,126,139,125,139,147,637,731,786,736,785,835,790,759,725,618,548,414,285,325,2,61,44,140,{"v":5709,"d":"5,709"},284,294,{"v":2230,"d":"2,230"},207,null,null,{"v":11596,"d":"11,596"},{"v":1562,"d":"1,562"},772,{"v":1653,"d":"1,653"},{"v":4693,"d":"4,693"},{"v":2916,"d":"2,916"}]
["040117","AREQUIPA","AREQUIPA","AREQUIPA","SACHACA",1282,"PUESTO DE SALUD SACHACA",65,{"v":20496,"d":"20,496"},237,215,226,241,279,303,330,341,324,306,250,290,303,305,269,311,296,311,300,305,{"v":1494,"d":"1,494"},{"v":1510,"d":"1,510"},{"v":1573,"d":"1,573"},{"v":1423,"d":"1,423"},{"v":1484,"d":"1,484"},{"v":1388,"d":"1,388"},{"v":1215,"d":"1,215"},{"v":1110,"d":"1,110"},959,842,681,486,298,289,8,129,109,343,{"v":10434,"d":"10,434"},693,767,{"v":4481,"d":"4,481"},435,null,null,{"v":20496,"d":"20,496"},{"v":3342,"d":"3,342"},{"v":1796,"d":"1,796"},{"v":3609,"d":"3,609"},{"v":8193,"d":"8,193"},{"v":3555,"d":"3,555"}]
[{"$nulls":5},1283,"PUESTO DE SALUD PAMPA DE CAMARONES",35,{"v":11036,"d":"11,036"},128,116,121,130,150,163,178,184,175,165,134,156,163,165,145,168,160,167,161,165,804,813,847,766,799,747,655,598,517,454,367,262,160,155,5,69,58,185,{"v":5618,"d":"5,618"},373,413,{"v":2413,"d":"2,413"},234,null,null,{"v":11036,"d":"11,036"},{"v":1800,"d":"1,800"},967,{"v":1943,"d":"1,943"},{"v":4412,"d":"4,412"},{"v":1915,"d":"1,915"}]
[{"$nulls":6},"NO MINSA",58,{"v":17698,"d":"17,698"},161,105,130,178,239,250,224,214,234,244,214,192,204,198,181,192,211,190,212,224,972,{"v":1115,"d":"1,115"},{"v":1200,"d":"1,200"},{"v":1124,"d":"1,124"},{"v":1199,"d":"1,199"},{"v":1274,"d":"1,274"},{"v":1207,"d":"1,207"},{"v":1159,"d":"1,159"},{"v":1108,"d":"1,108"},943,836,632,436,496,4,93,68,214,{"v":8713,"d":"8,713"},434,449,{"v":3404,"d":"3,404"},316,null,null,{"v":17698,"d":"17,698"},{"v":2385,"d":"2,385"},{"v":1178,"d":"1,178"},{"v":2524,"d":"2,524"},{"v":7162,"d":"7,162"},{"v":4450,"d":"4,450"}]
[]
["040128","AREQUIPA","AREQUIPA","AREQUIPA","YURA",null,"MR CIUDAD DE DIOS",null,{"$f":"SUM(I88:I95)","v":{"v":53202,"d":"53,202"}},{"$f":"SUM(J88:J95)","v":655},605,668,653,815,928,{"v":1039,"d":"1,039"},974,961,834,880,842,817,826,716,838,770,872,944,855,{"v":4209,"d":"4,209"},{"v":4895,"d":"4,895"},{"v":4961,"d":"4,961"},{"v":4219,"d":"4,219"},{"v":3691,"d":"3,691"},{"v":3233,"d":"3,233"},{"v":2724,"d":"2,724"},{"v":2453,"d":"2,453"},{"v":1964,"d":"1,964"},{"v":1565,"d":"1,565"},{"v":1177,"d":"1,177"},762,441,415,22,314,341,984,{"v":26935,"d":"26,935"},{"v":2024,"d":"2,024"},{"v":2145,"d":"2,145"},{"v":12979,"d":"12,979"},{"v":1326,"d":"1,326"},0,0,{"v":53202,"d":"53,202"},{"v":9855,"d":"9,855"},{"v":4839,"d":"4,839"},{"v":10904,"d":"10,904"},{"v":21279,"d":"21,279"},{"v":6325,"d":"6,325"}]
["040128","AREQUIPA","AREQUIPA","AREQUIPA","YURA",1253,"CENTRO DE SALUD CIUDAD DE DIOS",85,{"v":40992,"d":"40,992"},505,479,526,518,651,753,847,788,773,670,694,665,655,657,575,663,596,673,744,678,{"v":3351,"d":"3,351"},{"v":3918,"d":"3,918"},{"v":3974,"d":"3,974"},{"v":3322,"d":"3,322"},{"v":2846,"d":"2,846"},{"v":2440,"d":"2,440"},{"v":2016,"d":"2,016"},{"v":1782,"d":"1,782"},{"v":1384,"d":"1,384"},{"v":1108,"d":"1,108"},775,482,258,226,17,246,259,737,{"v":20666,"d":"20,666"},{"v":1609,"d":"1,609"},{"v":1667,"d":"1,667"},{"v":10219,"d":"10,219"},{"v":1002,"d":"1,002"},null,null,{"v":40992,"d":"40,992"},{"v":7868,"d":"7,868"},{"v":3819,"d":"3,819"},{"v":8690,"d":"8,690"},{"v":16380,"d":"16,380"},{"v":4234,"d":"4,234"}]
[{"$nulls":5},1254,"PUESTO DE SALUD YURA",15,{"v":7234,"d":"7,234"},89,84,93,91,115,133,150,139,136,118,123,117,116,116,101,117,105,119,131,120,591,691,701,586,502,431,356,315,244,196,137,85,46,40,3,43,46,130,{"v":3647,"d":"3,647"},284,294,{"v":1803,"d":"1,803"},177,null,null,{"v":7234,"d":"7,234"},{"v":1389,"d":"1,389"},674,{"v":1534,"d":"1,534"},{"v":2891,"d":"2,891"},747]
["040508","AREQUIPA","AREQUIPA","CAYLLOMA","HUANCA",1239,"PUESTO DE SALUD HUANCA",100,{"v":1499,"d":"1,499"},19,12,12,14,11,6,7,7,8,9,11,9,7,15,9,8,18,20,13,21,74,84,79,89,109,120,118,109,121,96,87,65,52,60,0,6,13,39,809,28,47,278,47,null,null,{"v":1499,"d":"1,499"},125,77,192,624,481]
["040126","AREQUIPA","AREQUIPA","AREQUIPA","YANAHUARA",1241,"PUESTO DE SALUD SUMBAY - CHASQUIPAMPA",4,{"v":1221,"d":"1,221"},11,7,9,12,16,17,15,15,16,17,15,13,14,14,13,13,15,13,15,15,67,77,83,78,83,88,83,80,76,65,58,44,30,34,0,6,5,15,601,30,31,235,22,null,null,{"v":1221,"d":"1,221"},164,81,174,494,307]
["040511","AREQUIPA","AREQUIPA","CAYLLOMA","LLUTA",1255,"PUESTO DE SALUD LLUTA",60,769,9,9,12,5,6,4,2,5,9,2,7,9,11,9,4,13,7,13,13,5,37,35,43,46,51,56,54,59,49,37,48,40,27,29,0,2,7,16,440,23,36,145,37,null,null,769,80,59,91,309,231]
[{"$nulls":5},1256,"PUESTO DE SALUD TAYA",23,295,4,3,4,2,2,2,1,2,3,1,3,4,4,4,2,5,3,5,5,2,14,14,16,18,20,22,21,23,19,14,18,15,11,12,0,1,3,6,169,9,14,55,14,null,null,295,30,22,35,119,89]
["040514","AREQUIPA","AREQUIPA","CAYLLOMA","SAN ANTONIO DE CHUCA",1242,"PUESTO DE SALUD IMATA",60,715,11,7,7,7,8,8,10,11,10,10,16,15,6,7,7,11,16,17,14,8,45,46,39,48,48,46,46,51,43,29,32,19,10,8,1,6,5,25,362,25,34,146,16,null,null,715,119,64,113,277,142]
[{"$nulls":5},1243,"PUESTO DE SALUD PILLONES",40,477,7,4,5,4,6,5,7,7,6,7,11,10,4,4,5,8,10,12,9,6,30,30,26,32,32,30,30,34,28,20,22,12,7,6,1,4,3,16,241,16,22,98,11,null,null,477,80,43,75,185,94]
[]
["040520","AREQUIPA","AREQUIPA","CAYLLOMA","MAJES",null,"MR SANDRITA PEREZ- PEDREGAL",null,{"$f":"SUM(I98:I106)","v":{"v":80877,"d":"80,877"}},{"$f":"SUM(J98:J106)","v":971},995,{"v":1201,"d":"1,201"},{"v":1249,"d":"1,249"},{"v":1331,"d":"1,331"},{"v":1351,"d":"1,351"},{"v":1335,"d":"1,335"},{"v":1447,"d":"1,447"},{"v":1247,"d":"1,247"},{"v":1251,"d":"1,251"},{"v":1182,"d":"1,182"},{"v":1193,"d":"1,193"},{"v":1176,"d":"1,176"},{"v":1164,"d":"1,164"},{"v":1159,"d":"1,159"},{"v":1146,"d":"1,146"},{"v":1361,"d":"1,361"},{"v":1329,"d":"1,329"},{"v":1290,"d":"1,290"},{"v":1234,"d":"1,234"},{"v":5722,"d":"5,722"},{"v":6664,"d":"6,664"},{"v":6834,"d":"6,834"},{"v":6601,"d":"6,601"},{"v":6241,"d":"6,241"},{"v":5714,"d":"5,714"},{"v":4777,"d":"4,777"},{"v":4122,"d":"4,122"},{"v":3230,"d":"3,230"},{"v":2340,"d":"2,340"},{"v":1815,"d":"1,815"},{"v":1156,"d":"1,156"},587,463,39,479,492,{"v":1637,"d":"1,637"},{"v":41040,"d":"41,040"},{"v":2968,"d":"2,968"},{"v":3122,"d":"3,122"},{"v":19577,"d":"19,577"},{"v":2188,"d":"2,188"},0,0,{"v":80877,"d":"80,877"},{"v":14753,"d":"14,753"},{"v":7334,"d":"7,334"},{"v":14909,"d":"14,909"},{"v":34290,"d":"34,290"},{"v":9590,"d":"9,590"}]
["040520","AREQUIPA","AREQUIPA","CAYLLOMA","MAJES",1325,"CENTRO DE SALUD  SANDRITA PEREZ EL PEDREGAL",46,{"v":36505,"d":"36,505"},439,453,544,567,602,615,608,657,567,569,534,539,531,527,530,519,615,601,586,560,{"v":2585,"d":"2,585"},{"v":3019,"d":"3,019"},{"v":3092,"d":"3,092"},{"v":2998,"d":"2,998"},{"v":2828,"d":"2,828"},{"v":2585,"d":"2,585"},{"v":2145,"d":"2,145"},{"v":1846,"d":"1,846"},{"v":1442,"d":"1,442"},{"v":1037,"d":"1,037"},806,510,255,196,17,216,223,740,{"v":18496,"d":"18,496"},{"v":1338,"d":"1,338"},{"v":1412,"d":"1,412"},{"v":8857,"d":"8,857"},972,null,null,{"v":36505,"d":"36,505"},{"v":6693,"d":"6,693"},{"v":3323,"d":"3,323"},{"v":6749,"d":"6,749"},{"v":15493,"d":"15,493"},{"v":4245,"d":"4,245"}]
[{"$nulls":5},1326,"CENTRO DE SALUD LA COLINA",41,{"v":32536,"d":"32,536"},391,404,485,506,536,548,541,585,505,508,476,480,474,470,473,463,549,535,522,499,{"v":2304,"d":"2,304"},{"v":2691,"d":"2,691"},{"v":2756,"d":"2,756"},{"v":2672,"d":"2,672"},{"v":2520,"d":"2,520"},{"v":2304,"d":"2,304"},{"v":1912,"d":"1,912"},{"v":1645,"d":"1,645"},{"v":1285,"d":"1,285"},924,718,454,227,175,16,192,199,658,{"v":16485,"d":"16,485"},{"v":1193,"d":"1,193"},{"v":1258,"d":"1,258"},{"v":7894,"d":"7,894"},867,null,null,{"v":32536,"d":"32,536"},{"v":5965,"d":"5,965"},{"v":2963,"d":"2,963"},{"v":6016,"d":"6,016"},{"v":13809,"d":"13,809"},{"v":3784,"d":"3,784"}]
["040511","AREQUIPA","AREQUIPA","CAYLLOMA","LLUTA",1340,"PUESTO DE SALUD QUERQUE",17,218,3,2,3,1,2,1,1,1,2,1,2,3,3,3,1,4,2,4,4,2,11,10,12,13,14,16,15,17,14,11,13,11,8,9,0,1,2,5,125,7,10,41,10,null,null,218,22,16,26,88,65]
[{"$nulls":5},1341,"ASENTAMIENTO B-1",7,{"v":5555,"d":"5,555"},67,69,83,86,91,94,92,100,86,87,81,82,81,80,81,79,94,91,89,85,393,459,471,456,430,393,326,281,219,158,123,78,39,30,3,33,34,112,{"v":2814,"d":"2,814"},204,215,{"v":1348,"d":"1,348"},148,null,null,{"v":5555,"d":"5,555"},{"v":1018,"d":"1,018"},506,{"v":1027,"d":"1,027"},{"v":2358,"d":"2,358"},646]
[{"$nulls":5},1342,"PUESTO DE SALUD  B-2",6,{"v":4761,"d":"4,761"},57,59,71,74,78,80,79,86,74,74,70,70,69,69,69,68,80,78,76,73,337,394,403,391,369,337,280,241,188,135,105,66,33,26,2,28,29,96,{"v":2412,"d":"2,412"},175,184,{"v":1155,"d":"1,155"},127,null,null,{"v":4761,"d":"4,761"},873,434,880,{"v":2021,"d":"2,021"},554]
["040120","AREQUIPA","AREQUIPA","AREQUIPA","SANTA ISABEL DE SIGUAS",1336,"SANTA ISABEL DE SIGUAS",74,521,6,3,3,2,9,5,8,9,7,4,8,8,7,8,2,8,8,11,4,7,38,36,39,25,27,34,38,34,34,28,20,17,14,12,0,2,2,7,279,21,19,109,11,null,null,521,72,42,85,199,123]
[{"$nulls":5},1378,"PUESTO DE SALUD SONDOR",13,92,1,0,1,1,2,1,1,1,1,1,1,1,1,2,0,1,1,2,1,1,7,6,7,5,5,6,7,6,6,5,3,3,2,2,0,1,1,1,49,4,3,19,2,null,null,92,12,8,15,35,22]
[{"$nulls":5},1337,"PUESTO DE SALUD PITAY",13,92,1,0,1,1,2,1,1,1,1,1,1,1,1,2,0,1,1,2,1,1,7,6,7,5,5,6,7,6,6,5,3,3,2,2,0,1,1,1,49,4,3,19,2,null,null,92,12,8,15,35,22]
["040118","AREQUIPA","AREQUIPA","AREQUIPA","SAN JUAN DE SIGUAS",1339,"PUESTO DE SALUD SAN JUAN DE SIGUAS - TAMBILLO",100,597,6,5,10,11,9,6,4,7,4,6,9,9,9,3,3,3,11,5,7,6,40,43,47,36,43,33,47,46,36,37,24,14,7,11,1,5,1,17,331,22,18,135,49,null,null,597,86,34,96,252,129]
[]
["040102","AREQUIPA","AREQUIPA","AREQUIPA","ALTO SELVA ALEGRE",null,"MR ALTO SELVA ALEGRE",null,{"$f":"SUM(I109:I114)","v":{"v":96431,"d":"96,431"}},{"$f":"SUM(J109:J114)","v":914},910,894,{"v":1042,"d":"1,042"},{"v":1312,"d":"1,312"},{"v":1329,"d":"1,329"},{"v":1513,"d":"1,513"},{"v":1571,"d":"1,571"},{"v":1551,"d":"1,551"},{"v":1476,"d":"1,476"},{"v":1328,"d":"1,328"},{"v":1371,"d":"1,371"},{"v":1410,"d":"1,410"},{"v":1396,"d":"1,396"},{"v":1289,"d":"1,289"},{"v":1362,"d":"1,362"},{"v":1431,"d":"1,431"},{"v":1397,"d":"1,397"},{"v":1318,"d":"1,318"},{"v":1466,"d":"1,466"},{"v":7375,"d":"7,375"},{"v":8682,"d":"8,682"},{"v":8480,"d":"8,480"},{"v":7119,"d":"7,119"},{"v":6809,"d":"6,809"},{"v":6135,"d":"6,135"},{"v":5669,"d":"5,669"},{"v":5394,"d":"5,394"},{"v":4746,"d":"4,746"},{"v":3404,"d":"3,404"},{"v":2455,"d":"2,455"},{"v":1620,"d":"1,620"},{"v":1075,"d":"1,075"},{"v":1188,"d":"1,188"},31,437,477,{"v":1229,"d":"1,229"},{"v":48865,"d":"48,865"},{"v":3290,"d":"3,290"},{"v":3377,"d":"3,377"},{"v":22546,"d":"22,546"},{"v":2417,"d":"2,417"},0,0,{"v":96431,"d":"96,431"},{"v":15211,"d":"15,211"},{"v":8285,"d":"8,285"},{"v":18841,"d":"18,841"},{"v":39606,"d":"39,606"},{"v":14488,"d":"14,488"}]
["040102","AREQUIPA","AREQUIPA","AREQUIPA","ALTO SELVA ALEGRE",1291,"CENTRO DE SALUD ALTO SELVA ALEGRE",28,{"v":27001,"d":"27,001"},256,255,250,292,367,372,424,440,434,413,372,384,395,391,361,381,401,391,369,410,{"v":2065,"d":"2,065"},{"v":2431,"d":"2,431"},{"v":2374,"d":"2,374"},{"v":1993,"d":"1,993"},{"v":1907,"d":"1,907"},{"v":1718,"d":"1,718"},{"v":1587,"d":"1,587"},{"v":1510,"d":"1,510"},{"v":1329,"d":"1,329"},953,687,454,301,333,9,122,134,344,{"v":13682,"d":"13,682"},921,946,{"v":6313,"d":"6,313"},677,null,null,{"v":27001,"d":"27,001"},{"v":4259,"d":"4,259"},{"v":2320,"d":"2,320"},{"v":5275,"d":"5,275"},{"v":11090,"d":"11,090"},{"v":4057,"d":"4,057"}]
[{"$nulls":5},1300,"APURIMAC",11,{"v":10607,"d":"10,607"},101,100,98,115,144,146,166,173,171,162,146,151,155,154,142,150,157,154,145,161,811,955,933,783,749,675,624,593,522,374,270,178,118,131,3,48,52,135,{"v":5375,"d":"5,375"},362,371,{"v":2480,"d":"2,480"},266,null,null,{"v":10607,"d":"10,607"},{"v":1673,"d":"1,673"},911,{"v":2073,"d":"2,073"},{"v":4357,"d":"4,357"},{"v":1594,"d":"1,594"}]
[{"$nulls":5},1302,"INDEPENDENCIA",33,{"v":31822,"d":"31,822"},301,300,296,343,434,439,499,518,511,488,438,452,465,459,425,450,472,460,435,484,{"v":2434,"d":"2,434"},{"v":2865,"d":"2,865"},{"v":2798,"d":"2,798"},{"v":2350,"d":"2,350"},{"v":2246,"d":"2,246"},{"v":2025,"d":"2,025"},{"v":1871,"d":"1,871"},{"v":1781,"d":"1,781"},{"v":1566,"d":"1,566"},{"v":1125,"d":"1,125"},810,535,355,391,10,145,158,406,{"v":16125,"d":"16,125"},{"v":1086,"d":"1,086"},{"v":1115,"d":"1,115"},{"v":7440,"d":"7,440"},797,null,null,{"v":31822,"d":"31,822"},{"v":5020,"d":"5,020"},{"v":2734,"d":"2,734"},{"v":6217,"d":"6,217"},{"v":13069,"d":"13,069"},{"v":4780,"d":"4,780"}]
[{"$nulls":5},1301,"LEONES DEL MISTI",9,{"v":8679,"d":"8,679"},82,82,80,94,118,120,136,141,140,133,120,123,127,126,116,123,129,126,119,132,664,781,763,641,613,552,510,485,427,306,221,146,97,107,3,39,43,111,{"v":4398,"d":"4,398"},296,304,{"v":2029,"d":"2,029"},218,null,null,{"v":8679,"d":"8,679"},{"v":1369,"d":"1,369"},746,{"v":1696,"d":"1,696"},{"v":3565,"d":"3,565"},{"v":1304,"d":"1,304"}]
[{"$nulls":5},1303,"SAN JUAN BAUTISTA",7,{"v":6750,"d":"6,750"},64,64,63,73,92,93,106,110,109,103,93,96,99,98,90,95,100,98,92,103,516,608,594,498,477,429,397,378,332,238,172,113,75,83,2,31,33,86,{"v":3421,"d":"3,421"},230,236,{"v":1578,"d":"1,578"},169,null,null,{"v":6750,"d":"6,750"},{"v":1065,"d":"1,065"},580,{"v":1319,"d":"1,319"},{"v":2772,"d":"2,772"},{"v":1014,"d":"1,014"}]
[{"$nulls":5},1304,"HEROES DEL CENEPA",12,{"v":11572,"d":"11,572"},110,109,107,125,157,159,182,189,186,177,159,165,169,168,155,163,172,168,158,176,885,{"v":1042,"d":"1,042"},{"v":1018,"d":"1,018"},854,817,736,680,647,570,408,295,194,129,143,4,52,57,147,{"v":5864,"d":"5,864"},395,405,{"v":2706,"d":"2,706"},290,null,null,{"v":11572,"d":"11,572"},{"v":1825,"d":"1,825"},994,{"v":2261,"d":"2,261"},{"v":4753,"d":"4,753"},{"v":1739,"d":"1,739"}]
[]
["040109","AREQUIPA","AREQUIPA","AREQUIPA","MARIANO MELGAR",null,"MR MARIANO MELGAR",null,{"$f":"SUM(I117:I118)","v":{"v":35971,"d":"35,971"}},{"$f":"SUM(J117:J118)","v":364},362,362,379,431,441,547,532,557,541,481,472,518,502,478,537,542,504,514,542,{"v":2589,"d":"2,589"},{"v":2919,"d":"2,919"},{"v":2927,"d":"2,927"},{"v":2521,"d":"2,521"},{"v":2577,"d":"2,577"},{"v":2482,"d":"2,482"},{"v":2256,"d":"2,256"},{"v":2067,"d":"2,067"},{"v":1770,"d":"1,770"},{"v":1385,"d":"1,385"},{"v":1114,"d":"1,114"},744,489,522,18,189,173,526,{"v":18266,"d":"18,266"},{"v":1223,"d":"1,223"},{"v":1315,"d":"1,315"},{"v":8079,"d":"8,079"},867,0,0,{"v":35971,"d":"35,971"},{"v":5468,"d":"5,468"},{"v":3080,"d":"3,080"},{"v":6564,"d":"6,564"},{"v":14832,"d":"14,832"},{"v":6025,"d":"6,025"}]
["040109","AREQUIPA","AREQUIPA","AREQUIPA","MARIANO MELGAR",1294,"CENTRO DE SALUD MARIANO MELGAR",30,{"v":21583,"d":"21,583"},217,218,219,227,256,264,329,319,332,323,290,282,311,302,288,322,325,302,309,326,{"v":1553,"d":"1,553"},{"v":1750,"d":"1,750"},{"v":1756,"d":"1,756"},{"v":1511,"d":"1,511"},{"v":1546,"d":"1,546"},{"v":1488,"d":"1,488"},{"v":1354,"d":"1,354"},{"v":1240,"d":"1,240"},{"v":1062,"d":"1,062"},832,669,445,293,313,12,114,105,317,{"v":10962,"d":"10,962"},734,789,{"v":4849,"d":"4,849"},519,null,null,{"v":21583,"d":"21,583"},{"v":3282,"d":"3,282"},{"v":1847,"d":"1,847"},{"v":3938,"d":"3,938"},{"v":8900,"d":"8,900"},{"v":3615,"d":"3,615"}]
[{"$nulls":5},1308,"PUESTO DE SALUD ATALAYA",20,{"v":14388,"d":"14,388"},147,144,143,152,175,177,218,213,225,218,191,190,207,200,190,215,217,202,205,216,{"v":1036,"d":"1,036"},{"v":1169,"d":"1,169"},{"v":1171,"d":"1,171"},{"v":1010,"d":"1,010"},{"v":1031,"d":"1,031"},994,902,827,708,553,445,299,196,209,6,75,68,209,{"v":7304,"d":"7,304"},489,526,{"v":3230,"d":"3,230"},348,null,null,{"v":14388,"d":"14,388"},{"v":2186,"d":"2,186"},{"v":1233,"d":"1,233"},{"v":2626,"d":"2,626"},{"v":5932,"d":"5,932"},{"v":2410,"d":"2,410"}]
[]
["040109","AREQUIPA","AREQUIPA","AREQUIPA","MARIANO MELGAR",null,"MR GENERALISIMO SAN AMRTIN",null,{"$f":"SUM(I121:I123)","v":{"v":35970,"d":"35,970"}},{"$f":"SUM(J121:J123)","v":363},362,362,380,432,442,545,532,557,540,482,472,518,500,478,535,543,505,515,542,{"v":2590,"d":"2,590"},{"v":2918,"d":"2,918"},{"v":2928,"d":"2,928"},{"v":2522,"d":"2,522"},{"v":2578,"d":"2,578"},{"v":2482,"d":"2,482"},{"v":2257,"d":"2,257"},{"v":2067,"d":"2,067"},{"v":1770,"d":"1,770"},{"v":1385,"d":"1,385"},{"v":1115,"d":"1,115"},745,488,523,18,190,175,527,{"v":18267,"d":"18,267"},{"v":1223,"d":"1,223"},{"v":1315,"d":"1,315"},{"v":8080,"d":"8,080"},865,0,0,{"v":35970,"d":"35,970"},{"v":5470,"d":"5,470"},{"v":3080,"d":"3,080"},{"v":6565,"d":"6,565"},{"v":14832,"d":"14,832"},{"v":6025,"d":"6,025"}]
["040109","AREQUIPA","AREQUIPA","AREQUIPA","MARIANO MELGAR",1295,"CENTRO DE SALUD GENERALISIMO SAN MARTIN",20,{"v":14388,"d":"14,388"},145,145,145,152,173,177,218,213,223,216,193,189,207,200,191,214,217,202,206,217,{"v":1036,"d":"1,036"},{"v":1167,"d":"1,167"},{"v":1171,"d":"1,171"},{"v":1009,"d":"1,009"},{"v":1031,"d":"1,031"},993,903,827,708,554,446,298,195,209,7,76,70,211,{"v":7307,"d":"7,307"},489,526,{"v":3232,"d":"3,232"},346,null,null,{"v":14388,"d":"14,388"},{"v":2188,"d":"2,188"},{"v":1232,"d":"1,232"},{"v":2626,"d":"2,626"},{"v":5933,"d":"5,933"},{"v":2410,"d":"2,410"}]
[{"$nulls":5},1309,"JERUSALEN",20,{"v":14388,"d":"14,388"},145,145,145,152,173,177,218,213,223,216,193,189,207,200,191,214,217,202,206,217,{"v":1036,"d":"1,036"},{"v":1167,"d":"1,167"},{"v":1171,"d":"1,171"},{"v":1009,"d":"1,009"},{"v":1031,"d":"1,031"},993,903,827,708,554,446,298,195,209,7,76,70,211,{"v":7307,"d":"7,307"},489,526,{"v":3232,"d":"3,232"},346,null,null,{"v":14388,"d":"14,388"},{"v":2188,"d":"2,188"},{"v":1232,"d":"1,232"},{"v":2626,"d":"2,626"},{"v":5933,"d":"5,933"},{"v":2410,"d":"2,410"}]
[{"$nulls":5},7722,"EL MIRADOR",10,{"v":7194,"d":"7,194"},73,72,72,76,86,88,109,106,111,108,96,94,104,100,96,107,109,101,103,108,518,584,586,504,516,496,451,413,354,277,223,149,98,105,4,38,35,105,{"v":3653,"d":"3,653"},245,263,{"v":1616,"d":"1,616"},173,null,null,{"v":7194,"d":"7,194"},{"v":1094,"d":"1,094"},616,{"v":1313,"d":"1,313"},{"v":2966,"d":"2,966"},{"v":1205,"d":"1,205"}]
[]
["040110","AREQUIPA","AREQUIPA","AREQUIPA","MIRAFLORES",null,"MR EDIFICADORES MISTI",null,{"$f":"SUM(I126:I130)","v":{"v":70842,"d":"70,842"}},{"$f":"SUM(J126:J130)","v":603},643,727,702,821,922,{"v":1020,"d":"1,020"},{"v":1058,"d":"1,058"},{"v":1122,"d":"1,122"},987,{"v":1020,"d":"1,020"},923,925,905,835,923,992,947,972,{"v":1047,"d":"1,047"},{"v":5196,"d":"5,196"},{"v":5784,"d":"5,784"},{"v":5752,"d":"5,752"},{"v":5057,"d":"5,057"},{"v":5308,"d":"5,308"},{"v":5077,"d":"5,077"},{"v":4591,"d":"4,591"},{"v":4074,"d":"4,074"},{"v":3513,"d":"3,513"},{"v":2675,"d":"2,675"},{"v":2146,"d":"2,146"},{"v":1501,"d":"1,501"},983,{"v":1091,"d":"1,091"},29,295,308,984,{"v":36211,"d":"36,211"},{"v":2353,"d":"2,353"},{"v":2503,"d":"2,503"},{"v":16332,"d":"16,332"},{"v":1739,"d":"1,739"},0,0,{"v":70842,"d":"70,842"},{"v":10548,"d":"10,548"},{"v":5527,"d":"5,527"},{"v":12999,"d":"12,999"},{"v":29859,"d":"29,859"},{"v":11909,"d":"11,909"}]
["040110","AREQUIPA","AREQUIPA","AREQUIPA","MIRAFLORES",1293,"CENTRO DE SALUD MIRAFLORES",34,{"v":24086,"d":"24,086"},205,219,247,239,279,313,347,360,381,336,347,314,315,308,284,314,337,322,330,356,{"v":1767,"d":"1,767"},{"v":1967,"d":"1,967"},{"v":1956,"d":"1,956"},{"v":1719,"d":"1,719"},{"v":1805,"d":"1,805"},{"v":1726,"d":"1,726"},{"v":1561,"d":"1,561"},{"v":1385,"d":"1,385"},{"v":1194,"d":"1,194"},910,730,510,334,371,10,100,105,335,{"v":12312,"d":"12,312"},800,851,{"v":5553,"d":"5,553"},591,null,null,{"v":24086,"d":"24,086"},{"v":3586,"d":"3,586"},{"v":1879,"d":"1,879"},{"v":4420,"d":"4,420"},{"v":10152,"d":"10,152"},{"v":4049,"d":"4,049"}]
[{"$nulls":5},1292,"CENTRO DE SALUD EDIFICADORES MISTI",40,{"v":28338,"d":"28,338"},242,258,291,281,328,369,407,422,449,394,407,369,369,362,333,369,398,378,389,418,{"v":2077,"d":"2,077"},{"v":2313,"d":"2,313"},{"v":2301,"d":"2,301"},{"v":2022,"d":"2,022"},{"v":2122,"d":"2,122"},{"v":2031,"d":"2,031"},{"v":1837,"d":"1,837"},{"v":1630,"d":"1,630"},{"v":1406,"d":"1,406"},{"v":1069,"d":"1,069"},857,601,393,437,12,117,122,393,{"v":14484,"d":"14,484"},942,{"v":1002,"d":"1,002"},{"v":6532,"d":"6,532"},696,null,null,{"v":28338,"d":"28,338"},{"v":4219,"d":"4,219"},{"v":2211,"d":"2,211"},{"v":5199,"d":"5,199"},{"v":11943,"d":"11,943"},{"v":4763,"d":"4,763"}]
[{"$nulls":5},1306,"CENTRO DE SALUD PORVENIR-MIRAFLORES",10,{"v":7084,"d":"7,084"},60,64,73,70,82,92,102,106,112,99,102,92,93,91,84,92,99,95,97,105,520,578,575,506,531,508,459,407,351,268,215,150,98,109,3,30,31,98,{"v":3621,"d":"3,621"},235,250,{"v":1633,"d":"1,633"},174,null,null,{"v":7084,"d":"7,084"},{"v":1055,"d":"1,055"},553,{"v":1300,"d":"1,300"},{"v":2986,"d":"2,986"},{"v":1191,"d":"1,191"}]
[{"$nulls":5},1307,"CENTRO DE SALUD MATEO PUMACAHUA",8,{"v":5667,"d":"5,667"},48,51,58,56,66,74,82,85,90,79,82,74,74,72,67,74,79,76,78,84,416,463,460,405,425,406,367,326,281,214,172,120,79,87,2,24,25,79,{"v":2897,"d":"2,897"},188,200,{"v":1307,"d":"1,307"},139,null,null,{"v":5667,"d":"5,667"},844,442,{"v":1040,"d":"1,040"},{"v":2389,"d":"2,389"},953]
[{"$nulls":5},1305,"PUESTO DE SALUD TOMASA T. COMDEMAYTA",8,{"v":5667,"d":"5,667"},48,51,58,56,66,74,82,85,90,79,82,74,74,72,67,74,79,76,78,84,416,463,460,405,425,406,367,326,281,214,172,120,79,87,2,24,25,79,{"v":2897,"d":"2,897"},188,200,{"v":1307,"d":"1,307"},139,null,null,{"v":5667,"d":"5,667"},844,442,{"v":1040,"d":"1,040"},{"v":2389,"d":"2,389"},953]
[]
["040112","AREQUIPA","AREQUIPA","AREQUIPA","PAUCARPATA",null,"MR 15 DE AGOSTO",null,{"$f":"SUM(I133:I136)","v":{"v":47857,"d":"47,857"}},{"$f":"SUM(J133:J136)","v":505},551,569,538,596,711,767,792,772,735,712,707,710,682,666,749,759,722,720,720,{"v":3479,"d":"3,479"},{"v":3797,"d":"3,797"},{"v":3747,"d":"3,747"},{"v":3424,"d":"3,424"},{"v":3581,"d":"3,581"},{"v":3405,"d":"3,405"},{"v":2986,"d":"2,986"},{"v":2468,"d":"2,468"},{"v":1950,"d":"1,950"},{"v":1623,"d":"1,623"},{"v":1385,"d":"1,385"},{"v":1066,"d":"1,066"},654,602,20,234,272,698,{"v":24526,"d":"24,526"},{"v":1749,"d":"1,749"},{"v":1863,"d":"1,863"},{"v":10896,"d":"10,896"},{"v":1196,"d":"1,196"},0,0,{"v":47857,"d":"47,857"},{"v":7957,"d":"7,957"},{"v":4290,"d":"4,290"},{"v":8715,"d":"8,715"},{"v":19611,"d":"19,611"},{"v":7282,"d":"7,282"}]
["040112","AREQUIPA","AREQUIPA","AREQUIPA","PAUCARPATA",1298,"CENTRO DE SALUD 15 DE AGOSTO",11,{"v":15715,"d":"15,715"},167,182,187,175,196,233,250,258,254,243,233,232,233,226,216,248,250,236,236,236,{"v":1142,"d":"1,142"},{"v":1247,"d":"1,247"},{"v":1230,"d":"1,230"},{"v":1123,"d":"1,123"},{"v":1176,"d":"1,176"},{"v":1119,"d":"1,119"},981,809,639,532,456,349,213,197,5,77,92,229,{"v":8056,"d":"8,056"},573,612,{"v":3578,"d":"3,578"},392,null,null,{"v":15715,"d":"15,715"},{"v":2613,"d":"2,613"},{"v":1410,"d":"1,410"},{"v":2861,"d":"2,861"},{"v":6438,"d":"6,438"},{"v":2391,"d":"2,391"}]
[{"$nulls":5},1316,"PUESTO DE SALUD MIGUEL GRAU  MODULO A",8,{"v":11428,"d":"11,428"},120,131,136,129,142,170,184,190,184,175,170,169,170,162,160,178,181,173,172,172,831,907,895,818,855,813,713,590,466,388,330,255,157,144,5,56,64,167,{"v":5856,"d":"5,856"},418,445,{"v":2602,"d":"2,602"},286,null,null,{"v":11428,"d":"11,428"},{"v":1900,"d":"1,900"},{"v":1024,"d":"1,024"},{"v":2082,"d":"2,082"},{"v":4684,"d":"4,684"},{"v":1739,"d":"1,739"}]
[{"$nulls":5},1317,"CENTRO DE SALUD MIGUEL GRAU  B",7,{"v":10000,"d":"10,000"},105,115,119,113,125,149,161,166,161,153,149,148,148,142,140,156,158,151,151,151,727,793,783,716,748,711,624,516,408,339,289,223,137,126,5,49,56,146,{"v":5124,"d":"5,124"},366,389,{"v":2277,"d":"2,277"},250,null,null,{"v":10000,"d":"10,000"},{"v":1663,"d":"1,663"},896,{"v":1821,"d":"1,821"},{"v":4098,"d":"4,098"},{"v":1522,"d":"1,522"}]
[{"$nulls":5},1318,"PUESTO DE SALUD MIGUEL GRAU  MODULO C-D",7.5,{"v":10714,"d":"10,714"},113,123,127,121,133,159,172,178,173,164,160,158,159,152,150,167,170,162,161,161,779,850,839,767,802,762,668,553,437,364,310,239,147,135,5,52,60,156,{"v":5490,"d":"5,490"},392,417,{"v":2439,"d":"2,439"},268,null,null,{"v":10714,"d":"10,714"},{"v":1781,"d":"1,781"},960,{"v":1951,"d":"1,951"},{"v":4391,"d":"4,391"},{"v":1630,"d":"1,630"}]
[]
["040112","AREQUIPA","AREQUIPA","AREQUIPA","PAUCARPATA",null,"MR AMPLIACION PAUCARPATA",null,{"$f":"SUM(I139:I142)","v":{"v":47142,"d":"47,142"}},{"$f":"SUM(J139:J142)","v":496},541,561,532,587,701,758,783,759,722,702,697,700,669,660,735,746,713,710,710,{"v":3427,"d":"3,427"},{"v":3741,"d":"3,741"},{"v":3691,"d":"3,691"},{"v":3375,"d":"3,375"},{"v":3527,"d":"3,527"},{"v":3353,"d":"3,353"},{"v":2941,"d":"2,941"},{"v":2433,"d":"2,433"},{"v":1922,"d":"1,922"},{"v":1600,"d":"1,600"},{"v":1362,"d":"1,362"},{"v":1051,"d":"1,051"},647,594,22,231,265,688,{"v":24156,"d":"24,156"},{"v":1725,"d":"1,725"},{"v":1835,"d":"1,835"},{"v":10733,"d":"10,733"},{"v":1180,"d":"1,180"},0,0,{"v":47142,"d":"47,142"},{"v":7838,"d":"7,838"},{"v":4224,"d":"4,224"},{"v":8587,"d":"8,587"},{"v":19320,"d":"19,320"},{"v":7174,"d":"7,174"}]
["040112","AREQUIPA","AREQUIPA","AREQUIPA","PAUCARPATA",1296,"CENTRO DE SALUD  AMPLIACIÓN PAUCARPATA",10,{"v":14286,"d":"14,286"},151,164,170,161,178,212,229,237,230,219,213,211,212,203,200,223,226,216,215,215,{"v":1038,"d":"1,038"},{"v":1134,"d":"1,134"},{"v":1118,"d":"1,118"},{"v":1023,"d":"1,023"},{"v":1069,"d":"1,069"},{"v":1016,"d":"1,016"},891,737,582,485,413,318,196,180,7,70,81,208,{"v":7320,"d":"7,320"},523,556,{"v":3252,"d":"3,252"},358,null,null,{"v":14286,"d":"14,286"},{"v":2375,"d":"2,375"},{"v":1280,"d":"1,280"},{"v":2602,"d":"2,602"},{"v":5854,"d":"5,854"},{"v":2174,"d":"2,174"}]
[{"$nulls":5},1310,"CENTRO DE SALUD MANUEL PRADO",8,{"v":11428,"d":"11,428"},120,131,136,129,142,170,184,190,184,175,170,169,170,162,160,178,181,173,172,172,831,907,895,818,855,813,713,590,466,388,330,255,157,144,5,56,64,167,{"v":5856,"d":"5,856"},418,445,{"v":2602,"d":"2,602"},286,null,null,{"v":11428,"d":"11,428"},{"v":1900,"d":"1,900"},{"v":1024,"d":"1,024"},{"v":2082,"d":"2,082"},{"v":4684,"d":"4,684"},{"v":1739,"d":"1,739"}]
[{"$nulls":5},1313,"CENTRO DE SALUD NUEVA ALBORADA",8,{"v":11428,"d":"11,428"},120,131,136,129,142,170,184,190,184,175,170,169,170,162,160,178,181,173,172,172,831,907,895,818,855,813,713,590,466,388,330,255,157,144,5,56,64,167,{"v":5856,"d":"5,856"},418,445,{"v":2602,"d":"2,602"},286,null,null,{"v":11428,"d":"11,428"},{"v":1900,"d":"1,900"},{"v":1024,"d":"1,024"},{"v":2082,"d":"2,082"},{"v":4684,"d":"4,684"},{"v":1739,"d":"1,739"}]
[{"$nulls":5},1315,"CENTRO DE SALUD CAMPO MARTE",7,{"v":10000,"d":"10,000"},105,115,119,113,125,149,161,166,161,153,149,148,148,142,140,156,158,151,151,151,727,793,783,716,748,711,624,516,408,339,289,223,137,126,5,49,56,146,{"v":5124,"d":"5,124"},366,389,{"v":2277,"d":"2,277"},250,null,null,{"v":10000,"d":"10,000"},{"v":1663,"d":"1,663"},896,{"v":1821,"d":"1,821"},{"v":4098,"d":"4,098"},{"v":1522,"d":"1,522"}]
[]
["040112","AREQUIPA","AREQUIPA","AREQUIPA","PAUCARPATA",null,"MR CIUDAD BLANCA",null,{"$f":"SUM(I145:I149)","v":{"v":47856,"d":"47,856"}},{"$f":"SUM(J145:J149)","v":504},550,569,540,596,711,769,794,771,733,713,707,711,680,670,747,759,724,720,720,{"v":3478,"d":"3,478"},{"v":3797,"d":"3,797"},{"v":3746,"d":"3,746"},{"v":3426,"d":"3,426"},{"v":3581,"d":"3,581"},{"v":3405,"d":"3,405"},{"v":2986,"d":"2,986"},{"v":2469,"d":"2,469"},{"v":1950,"d":"1,950"},{"v":1625,"d":"1,625"},{"v":1383,"d":"1,383"},{"v":1066,"d":"1,066"},656,603,23,234,269,698,{"v":24522,"d":"24,522"},{"v":1751,"d":"1,751"},{"v":1863,"d":"1,863"},{"v":10895,"d":"10,895"},{"v":1199,"d":"1,199"},0,0,{"v":47856,"d":"47,856"},{"v":7956,"d":"7,956"},{"v":4288,"d":"4,288"},{"v":8717,"d":"8,717"},{"v":19613,"d":"19,613"},{"v":7283,"d":"7,283"}]
["040112","AREQUIPA","AREQUIPA","AREQUIPA","PAUCARPATA",1297,"CENTRO DE SALUD CIUDAD BLANCA",10,{"v":14286,"d":"14,286"},151,164,170,161,178,212,229,237,230,219,213,211,212,203,200,223,226,216,215,215,{"v":1038,"d":"1,038"},{"v":1134,"d":"1,134"},{"v":1118,"d":"1,118"},{"v":1023,"d":"1,023"},{"v":1069,"d":"1,069"},{"v":1016,"d":"1,016"},891,737,582,485,413,318,196,180,7,70,81,208,{"v":7320,"d":"7,320"},523,556,{"v":3252,"d":"3,252"},358,null,null,{"v":14286,"d":"14,286"},{"v":2375,"d":"2,375"},{"v":1280,"d":"1,280"},{"v":2602,"d":"2,602"},{"v":5854,"d":"5,854"},{"v":2174,"d":"2,174"}]
[{"$nulls":5},1314,"SAN JUAN DE CIUDAD BLANCA",8,{"v":11428,"d":"11,428"},120,131,136,129,142,170,184,190,184,175,170,169,170,162,160,178,181,173,172,172,831,907,895,818,855,813,713,590,466,388,330,255,157,144,5,56,64,167,{"v":5856,"d":"5,856"},418,445,{"v":2602,"d":"2,602"},286,null,null,{"v":11428,"d":"11,428"},{"v":1900,"d":"1,900"},{"v":1024,"d":"1,024"},{"v":2082,"d":"2,082"},{"v":4684,"d":"4,684"},{"v":1739,"d":"1,739"}]
[{"$nulls":5},1311,"ALTO JESUS",4,{"v":5714,"d":"5,714"},60,66,68,64,71,85,92,95,92,88,85,84,85,81,80,89,91,86,86,86,415,453,447,409,428,407,357,295,233,194,165,127,78,72,3,28,32,83,{"v":2928,"d":"2,928"},209,222,{"v":1301,"d":"1,301"},143,null,null,{"v":5714,"d":"5,714"},950,512,{"v":1041,"d":"1,041"},{"v":2342,"d":"2,342"},870]
[{"$nulls":5},1312,"ISRAEL",6,{"v":8571,"d":"8,571"},90,99,102,97,107,127,138,142,138,131,128,127,127,122,120,134,136,130,129,129,623,680,671,614,641,610,535,442,349,291,248,191,117,108,4,42,48,125,{"v":4392,"d":"4,392"},314,334,{"v":1951,"d":"1,951"},215,null,null,{"v":8571,"d":"8,571"},{"v":1425,"d":"1,425"},768,{"v":1561,"d":"1,561"},{"v":3513,"d":"3,513"},{"v":1304,"d":"1,304"}]
[{"$nulls":5},7744,"P.S. VILLA JESUS",5.5,{"v":7857,"d":"7,857"},83,90,93,89,98,117,126,130,127,120,117,116,117,112,110,123,125,119,118,118,571,623,615,562,588,559,490,405,320,267,227,175,108,99,4,38,44,115,{"v":4026,"d":"4,026"},287,306,{"v":1789,"d":"1,789"},197,null,null,{"v":7857,"d":"7,857"},{"v":1306,"d":"1,306"},704,{"v":1431,"d":"1,431"},{"v":3220,"d":"3,220"},{"v":1196,"d":"1,196"}]
[]
["040106","AREQUIPA","AREQUIPA","AREQUIPA","CHIGUATA",null,"MR CHIGUATA",null,{"$f":"SUM(I152:I155)","v":{"v":5010,"d":"5,010"}},{"$f":"SUM(J152:J155)","v":69},58,80,72,97,79,55,67,62,57,49,65,36,51,56,69,37,60,59,56,309,368,404,375,377,335,320,311,246,228,189,123,94,97,4,35,35,115,{"v":2633,"d":"2,633"},128,144,{"v":1191,"d":"1,191"},231,0,0,{"v":5010,"d":"5,010"},810,309,792,{"v":2122,"d":"2,122"}]
["040106","AREQUIPA","AREQUIPA","AREQUIPA","CHIGUATA",1299,"CENTRO DE SALUD CHIGUATA",80,{"v":2906,"d":"2,906"},39,34,42,43,56,45,38,46,42,38,31,47,24,24,40,42,22,36,37,34,192,216,246,214,199,185,178,164,131,131,114,70,50,54,3,18,22,69,{"v":1528,"d":"1,528"},84,88,683,146,null,null,{"v":2906,"d":"2,906"},503,188,479,{"v":1186,"d":"1,186"},550]
[{"$nulls":5},1320,"PUESTO DE SALUD ARENALES",20,727,10,9,11,11,14,11,10,11,11,10,8,12,6,6,10,10,6,9,9,9,48,54,61,53,50,46,45,41,33,33,28,18,13,13,1,4,5,17,382,21,22,171,36,null,null,727,126,47,120,296,138]
["040119","AREQUIPA","AREQUIPA","AREQUIPA","SAN JUAN DE TARUCANI",1319,"PUESTO DE SALUD SAN JUAN DE TARUCANI",80,{"v":1102,"d":"1,102"},16,12,22,14,22,18,6,8,7,7,8,5,5,17,5,14,7,12,10,10,55,78,78,86,102,83,78,85,66,51,38,28,25,24,0,10,6,23,578,18,27,270,39,null,null,{"v":1102,"d":"1,102"},145,59,154,512,231]
[{"$nulls":5},1321,"PUESTO DE SALUD SALINAS HUITO",20,275,4,3,5,4,5,5,1,2,2,2,2,1,1,4,1,3,2,3,3,3,14,20,19,22,26,21,19,21,16,13,9,7,6,6,0,3,2,6,145,5,7,67,10,null,null,275,36,15,39,128,58]
[]
["040105","AREQUIPA","AREQUIPA","AREQUIPA","CHARACATO",null,"MR CHARACATO",null,{"$f":"SUM(I158:I166)","v":{"v":45448,"d":"45,448"}},{"$f":"SUM(J158:J166)","v":422},351,440,425,460,451,705,727,624,600,563,578,635,557,560,635,623,572,662,659,{"v":2928,"d":"2,928"},{"v":3482,"d":"3,482"},{"v":3948,"d":"3,948"},{"v":3832,"d":"3,832"},{"v":3655,"d":"3,655"},{"v":3441,"d":"3,441"},{"v":2794,"d":"2,794"},{"v":2569,"d":"2,569"},{"v":2190,"d":"2,190"},{"v":1709,"d":"1,709"},{"v":1412,"d":"1,412"},{"v":1016,"d":"1,016"},647,576,11,213,209,698,{"v":22941,"d":"22,941"},{"v":1428,"d":"1,428"},{"v":1552,"d":"1,552"},{"v":10957,"d":"10,957"},{"v":1004,"d":"1,004"},0,0,{"v":45448,"d":"45,448"},{"v":6346,"d":"6,346"},{"v":3582,"d":"3,582"},{"v":7731,"d":"7,731"},{"v":20239,"d":"20,239"},{"v":7550,"d":"7,550"}]
["040105","AREQUIPA","AREQUIPA","AREQUIPA","CHARACATO",1261,"CENTRO DE SALUD DE CHARACATO",100,{"v":19480,"d":"19,480"},161,139,194,165,194,214,380,338,279,282,294,270,309,266,283,291,298,265,294,363,{"v":1475,"d":"1,475"},{"v":1502,"d":"1,502"},{"v":1528,"d":"1,528"},{"v":1501,"d":"1,501"},{"v":1574,"d":"1,574"},{"v":1429,"d":"1,429"},{"v":1164,"d":"1,164"},{"v":1044,"d":"1,044"},833,708,557,413,259,214,3,79,82,218,{"v":9806,"d":"9,806"},696,740,{"v":4571,"d":"4,571"},371,null,null,{"v":19480,"d":"19,480"},{"v":2910,"d":"2,910"},{"v":1712,"d":"1,712"},{"v":3634,"d":"3,634"},{"v":8240,"d":"8,240"},{"v":2984,"d":"2,984"}]
["040111","AREQUIPA","AREQUIPA","AREQUIPA","MOLLEBAYA",1285,"PUESTO DE SALUD MOLLEBAYA",30,{"v":2588,"d":"2,588"},20,17,25,19,21,20,35,54,49,41,28,35,33,39,36,41,40,36,41,28,154,216,270,234,215,204,126,131,120,89,74,50,25,25,1,9,11,30,{"v":1302,"d":"1,302"},86,91,672,53,null,null,{"v":2588,"d":"2,588"},362,225,439,{"v":1181,"d":"1,181"},381]
[{"$nulls":5},11677,"PUESTO DE SALUD MACHAHUAYA",70,{"v":6039,"d":"6,039"},47,39,58,43,49,47,81,125,115,94,66,80,78,92,83,94,94,85,97,64,359,503,631,545,503,477,294,307,279,206,171,115,57,58,1,22,25,69,{"v":3037,"d":"3,037"},201,212,{"v":1569,"d":"1,569"},122,null,null,{"v":6039,"d":"6,039"},846,526,{"v":1023,"d":"1,023"},{"v":2756,"d":"2,756"},888]
["040113","AREQUIPA","AREQUIPA","AREQUIPA","POCSI",1288,"PUESTO DE SALUD POCSI",56,294,6,2,3,1,5,5,1,1,1,1,1,1,2,2,2,2,2,2,3,3,14,23,25,18,22,24,22,21,20,15,13,11,12,8,0,2,4,10,153,4,4,66,6,null,null,294,29,11,43,132,79]
[{"$nulls":5},1289,"PUESTO DE SALUD PIACA",44,231,5,2,2,1,4,4,1,1,1,1,1,1,2,2,1,1,1,1,2,2,11,18,20,15,17,18,17,17,15,12,11,8,9,7,0,2,3,7,120,3,3,51,5,null,null,231,23,9,33,104,62]
["040114","AREQUIPA","AREQUIPA","AREQUIPA","POLOBAYA",1262,"PUESTO DE SALUD POLOBAYA",100,878,13,6,12,12,17,8,3,5,6,7,6,8,13,8,7,7,8,5,7,20,54,64,66,55,54,51,54,73,66,56,43,20,22,22,0,5,8,25,452,20,22,179,30,null,null,878,103,48,145,353,229]
["040115","AREQUIPA","AREQUIPA","AREQUIPA","QUEQUEÑA",1286,"PUESTO DE SALUD QUEQUEÑA",100,{"v":8720,"d":"8,720"},39,35,43,53,40,35,113,110,67,96,89,95,111,68,75,104,94,97,121,95,401,586,843,906,727,709,683,593,540,360,289,235,135,133,3,21,18,99,{"v":4313,"d":"4,313"},206,253,{"v":2166,"d":"2,166"},129,null,null,{"v":8720,"d":"8,720"},815,549,{"v":1203,"d":"1,203"},{"v":4461,"d":"4,461"},{"v":1692,"d":"1,692"}]
["040116","AREQUIPA","AREQUIPA","AREQUIPA","SABANDIA",1284,"PUESTO DE SALUD LEOPOLDO RONDON - SABANDIA",100,{"v":5241,"d":"5,241"},81,67,63,100,93,96,76,72,89,64,62,70,74,64,62,75,70,64,69,64,344,403,369,403,388,366,311,266,220,193,191,129,103,80,1,45,36,164,{"v":2665,"d":"2,665"},166,172,{"v":1168,"d":"1,168"},202,null,null,{"v":5241,"d":"5,241"},933,409,880,{"v":2103,"d":"2,103"},916]
["040127","AREQUIPA","AREQUIPA","AREQUIPA","YARABAMBA",1287,"PUESTO DE SALUD YARABAMBA",100,{"v":1977,"d":"1,977"},50,44,40,31,37,22,15,21,17,14,16,18,13,16,11,20,16,17,28,20,116,167,196,155,155,163,123,117,97,70,63,35,25,29,2,28,22,76,{"v":1093,"d":"1,093"},46,55,515,86,null,null,{"v":1977,"d":"1,977"},325,93,331,909,319]
[]
["040107","AREQUIPA","AREQUIPA","AREQUIPA","JACOBO HUNTER",null,"MR JAVIER LLOSA - HUNTER",null,{"$f":"SUM(I169:I175)","v":{"v":57137,"d":"57,137"}},{"$f":"SUM(J169:J175)","v":498},509,582,599,707,756,986,954,935,917,821,835,847,875,667,842,878,885,801,807,{"v":4225,"d":"4,225"},{"v":4698,"d":"4,698"},{"v":4542,"d":"4,542"},{"v":4346,"d":"4,346"},{"v":4338,"d":"4,338"},{"v":4005,"d":"4,005"},{"v":3480,"d":"3,480"},{"v":3103,"d":"3,103"},{"v":2509,"d":"2,509"},{"v":2054,"d":"2,054"},{"v":1599,"d":"1,599"},{"v":1161,"d":"1,161"},687,689,26,260,238,742,{"v":29155,"d":"29,155"},{"v":2021,"d":"2,021"},{"v":2140,"d":"2,140"},{"v":13178,"d":"13,178"},{"v":1416,"d":"1,416"},0,0,{"v":57137,"d":"57,137"},{"v":9099,"d":"9,099"},{"v":4994,"d":"4,994"},{"v":10531,"d":"10,531"},{"v":23814,"d":"23,814"},{"v":8699,"d":"8,699"}]
["040107","AREQUIPA","AREQUIPA","AREQUIPA","JACOBO HUNTER",1259,"CENTRO DE SALUD JAVIER LLOSA GARCIA -  HUNTER",33,{"v":18855,"d":"18,855"},163,168,193,197,232,250,324,315,308,301,271,275,279,288,220,278,290,290,265,265,{"v":1394,"d":"1,394"},{"v":1549,"d":"1,549"},{"v":1499,"d":"1,499"},{"v":1434,"d":"1,434"},{"v":1432,"d":"1,432"},{"v":1322,"d":"1,322"},{"v":1149,"d":"1,149"},{"v":1026,"d":"1,026"},828,678,527,384,226,228,9,86,79,245,{"v":9621,"d":"9,621"},667,706,{"v":4349,"d":"4,349"},468,null,null,{"v":18855,"d":"18,855"},{"v":3002,"d":"3,002"},{"v":1649,"d":"1,649"},{"v":3475,"d":"3,475"},{"v":7860,"d":"7,860"},{"v":2870,"d":"2,870"}]
[{"$nulls":5},1273,"PUESTO DE SALUD DANIEL ALCIDES CARRION",15,{"v":8571,"d":"8,571"},75,76,87,90,106,113,148,143,140,138,123,125,127,131,100,126,132,133,120,121,634,705,681,652,651,601,522,465,376,308,240,174,103,103,4,39,36,111,{"v":4373,"d":"4,373"},303,321,{"v":1977,"d":"1,977"},212,null,null,{"v":8571,"d":"8,571"},{"v":1365,"d":"1,365"},749,{"v":1580,"d":"1,580"},{"v":3572,"d":"3,572"},{"v":1305,"d":"1,305"}]
[{"$nulls":5},1274,"PUESTO DE SALUD PAMPAS DEL CUZCO",16,{"v":9142,"d":"9,142"},80,81,93,96,113,121,158,153,150,147,131,134,136,140,107,135,140,142,128,129,676,752,727,695,694,641,557,496,401,329,256,186,110,110,4,42,38,119,{"v":4665,"d":"4,665"},323,342,{"v":2108,"d":"2,108"},227,null,null,{"v":9142,"d":"9,142"},{"v":1456,"d":"1,456"},799,{"v":1685,"d":"1,685"},{"v":3810,"d":"3,810"},{"v":1392,"d":"1,392"}]
[{"$nulls":5},1275,"PUESTO DE SALUD CHILPINILLA",9,{"v":5142,"d":"5,142"},45,46,52,54,64,68,89,86,84,83,74,75,76,79,60,76,79,80,72,73,380,423,409,391,390,360,313,279,226,185,144,104,62,62,2,23,21,67,{"v":2624,"d":"2,624"},182,193,{"v":1186,"d":"1,186"},127,null,null,{"v":5142,"d":"5,142"},819,449,948,{"v":2143,"d":"2,143"},783]
[{"$nulls":5},1276,"CENTRO DE SALUD CAMINOS DEL INCA",10,{"v":5714,"d":"5,714"},50,51,58,60,71,76,99,95,94,92,82,84,85,88,67,84,88,89,80,81,423,470,454,435,434,401,348,310,251,205,160,116,69,69,3,26,24,74,{"v":2916,"d":"2,916"},202,214,{"v":1318,"d":"1,318"},142,null,null,{"v":5714,"d":"5,714"},910,499,{"v":1053,"d":"1,053"},{"v":2381,"d":"2,381"},870]
[{"$nulls":5},1277,"ALTO ALIANZA",8,{"v":4571,"d":"4,571"},40,41,47,48,57,60,79,76,75,73,66,67,68,70,53,67,70,71,64,65,338,376,363,348,347,320,278,248,201,164,128,93,55,55,2,21,19,59,{"v":2332,"d":"2,332"},162,171,{"v":1054,"d":"1,054"},113,null,null,{"v":4571,"d":"4,571"},728,400,842,{"v":1905,"d":"1,905"},696]
[{"$nulls":5},1279,"PUESTO DE SALUD UPIS PAISAJISTA",9,{"v":5142,"d":"5,142"},45,46,52,54,64,68,89,86,84,83,74,75,76,79,60,76,79,80,72,73,380,423,409,391,390,360,313,279,226,185,144,104,62,62,2,23,21,67,{"v":2624,"d":"2,624"},182,193,{"v":1186,"d":"1,186"},127,null,null,{"v":5142,"d":"5,142"},819,449,948,{"v":2143,"d":"2,143"},783]
[]
["040129","AREQUIPA","AREQUIPA","AREQUIPA","JOSE LUIS BUSTAMANTE Y RIVERO",null,"MR VICTIR RAUL HINOJOSA LLERENA",null,{"$f":"SUM(I178:I181)","v":{"v":90831,"d":"90,831"}},{"$f":"SUM(J178:J181)","v":698},724,770,775,924,{"v":1067,"d":"1,067"},{"v":1238,"d":"1,238"},{"v":1294,"d":"1,294"},{"v":1326,"d":"1,326"},{"v":1232,"d":"1,232"},{"v":1147,"d":"1,147"},{"v":1143,"d":"1,143"},{"v":1260,"d":"1,260"},{"v":1076,"d":"1,076"},{"v":1136,"d":"1,136"},{"v":1250,"d":"1,250"},{"v":1247,"d":"1,247"},{"v":1277,"d":"1,277"},{"v":1255,"d":"1,255"},{"v":1302,"d":"1,302"},{"v":6506,"d":"6,506"},{"v":7118,"d":"7,118"},{"v":7317,"d":"7,317"},{"v":6478,"d":"6,478"},{"v":6738,"d":"6,738"},{"v":6326,"d":"6,326"},{"v":5635,"d":"5,635"},{"v":5117,"d":"5,117"},{"v":4518,"d":"4,518"},{"v":3729,"d":"3,729"},{"v":3441,"d":"3,441"},{"v":2589,"d":"2,589"},{"v":1640,"d":"1,640"},{"v":1538,"d":"1,538"},27,361,337,930,{"v":46096,"d":"46,096"},{"v":2827,"d":"2,827"},{"v":3133,"d":"3,133"},{"v":20175,"d":"20,175"},{"v":1703,"d":"1,703"},0,0,{"v":90831,"d":"90,831"},{"v":12338,"d":"12,338"},{"v":7246,"d":"7,246"},{"v":16181,"d":"16,181"},{"v":37611,"d":"37,611"}]
["040129","AREQUIPA","AREQUIPA","AREQUIPA","JOSE LUIS BUSTAMANTE Y RIVERO",1257,"VICTOR RAUL HINOJOSA",57,{"v":51774,"d":"51,774"},397,413,439,441,527,608,706,738,755,703,653,652,719,613,647,712,710,727,715,743,{"v":3708,"d":"3,708"},{"v":4057,"d":"4,057"},{"v":4171,"d":"4,171"},{"v":3692,"d":"3,692"},{"v":3841,"d":"3,841"},{"v":3605,"d":"3,605"},{"v":3211,"d":"3,211"},{"v":2917,"d":"2,917"},{"v":2575,"d":"2,575"},{"v":2125,"d":"2,125"},{"v":1961,"d":"1,961"},{"v":1476,"d":"1,476"},934,877,15,205,192,530,{"v":26275,"d":"26,275"},{"v":1611,"d":"1,611"},{"v":1786,"d":"1,786"},{"v":11499,"d":"11,499"},971,null,null,{"v":51774,"d":"51,774"},{"v":7033,"d":"7,033"},{"v":4130,"d":"4,130"},{"v":9224,"d":"9,224"},{"v":21438,"d":"21,438"},{"v":9949,"d":"9,949"}]
[{"$nulls":5},1263,"PUESTO DE SALUD 13 DE ENERO",19,{"v":17258,"d":"17,258"},133,138,146,147,176,203,235,246,252,234,218,217,239,204,216,238,237,243,238,247,{"v":1236,"d":"1,236"},{"v":1352,"d":"1,352"},{"v":1390,"d":"1,390"},{"v":1231,"d":"1,231"},{"v":1280,"d":"1,280"},{"v":1202,"d":"1,202"},{"v":1071,"d":"1,071"},972,858,709,654,492,312,292,5,69,64,177,{"v":8758,"d":"8,758"},537,595,{"v":3833,"d":"3,833"},324,null,null,{"v":17258,"d":"17,258"},{"v":2344,"d":"2,344"},{"v":1377,"d":"1,377"},{"v":3074,"d":"3,074"},{"v":7146,"d":"7,146"},{"v":3316,"d":"3,316"}]
[{"$nulls":5},1264,"CENTRO DE SALUD LAS ESMERALDAS",14,{"v":12716,"d":"12,716"},98,101,108,109,129,149,173,181,186,172,161,160,176,151,159,175,175,179,176,182,911,997,{"v":1024,"d":"1,024"},907,943,886,789,716,633,522,482,362,230,215,4,51,47,130,{"v":6453,"d":"6,453"},396,439,{"v":2825,"d":"2,825"},238,null,null,{"v":12716,"d":"12,716"},{"v":1727,"d":"1,727"},{"v":1014,"d":"1,014"},{"v":2265,"d":"2,265"},{"v":5266,"d":"5,266"},{"v":2444,"d":"2,444"}]
[{"$nulls":5},1267,"CERRO JULI",10,{"v":9083,"d":"9,083"},70,72,77,78,92,107,124,129,133,123,115,114,126,108,114,125,125,128,126,130,651,712,732,648,674,633,564,512,452,373,344,259,164,154,3,36,34,93,{"v":4610,"d":"4,610"},283,313,{"v":2018,"d":"2,018"},170,null,null,{"v":9083,"d":"9,083"},{"v":1234,"d":"1,234"},725,{"v":1618,"d":"1,618"},{"v":3761,"d":"3,761"},{"v":1746,"d":"1,746"}]
[]
["040123","AREQUIPA","AREQUIPA","AREQUIPA","TIABAYA",null,"MR TIABAYA",null,{"$f":"SUM(I184:I187)","v":{"v":37949,"d":"37,949"}},{"$f":"SUM(J184:J187)","v":474},475,474,434,545,538,598,651,562,539,482,509,584,487,461,522,517,541,516,541,{"v":2594,"d":"2,594"},{"v":3257,"d":"3,257"},{"v":3280,"d":"3,280"},{"v":3096,"d":"3,096"},{"v":3043,"d":"3,043"},{"v":2621,"d":"2,621"},{"v":2161,"d":"2,161"},{"v":2003,"d":"2,003"},{"v":1642,"d":"1,642"},{"v":1313,"d":"1,313"},987,701,425,376,21,218,256,662,{"v":19781,"d":"19,781"},{"v":1346,"d":"1,346"},{"v":1403,"d":"1,403"},{"v":9081,"d":"9,081"},{"v":1254,"d":"1,254"},0,0,{"v":37949,"d":"37,949"},{"v":6281,"d":"6,281"},{"v":3112,"d":"3,112"},{"v":6908,"d":"6,908"},{"v":16204,"d":"16,204"},{"v":5444,"d":"5,444"}]
["040123","AREQUIPA","AREQUIPA","AREQUIPA","TIABAYA",1260,"CENTRO DE SALUD TIABAYA",100,{"v":19123,"d":"19,123"},262,261,252,232,298,272,293,358,286,282,231,258,298,245,248,264,257,292,245,279,{"v":1382,"d":"1,382"},{"v":1626,"d":"1,626"},{"v":1620,"d":"1,620"},{"v":1469,"d":"1,469"},{"v":1435,"d":"1,435"},{"v":1260,"d":"1,260"},{"v":1056,"d":"1,056"},995,812,643,527,392,242,251,8,121,141,380,{"v":9858,"d":"9,858"},659,705,{"v":4414,"d":"4,414"},720,null,null,{"v":19123,"d":"19,123"},{"v":3285,"d":"3,285"},{"v":1604,"d":"1,604"},{"v":3532,"d":"3,532"},{"v":7835,"d":"7,835"},{"v":2867,"d":"2,867"}]
["040124","AREQUIPA","AREQUIPA","AREQUIPA","UCHUMAYO",1280,"CERRO VERDE",43.5,{"v":8190,"d":"8,190"},92,93,96,88,108,115,132,128,120,112,109,109,125,106,92,112,113,109,118,114,527,710,722,707,700,592,480,439,361,292,200,135,79,55,5,42,50,122,{"v":4316,"d":"4,316"},299,303,{"v":2030,"d":"2,030"},233,null,null,{"v":8190,"d":"8,190"},{"v":1304,"d":"1,304"},656,{"v":1468,"d":"1,468"},{"v":3640,"d":"3,640"},{"v":1121,"d":"1,121"}]
[{"$nulls":5},1281,"CONGATA",43.5,{"v":8189,"d":"8,189"},92,93,97,88,107,116,133,127,120,112,109,109,124,105,93,112,113,108,118,114,527,709,722,708,699,592,481,438,361,291,200,134,80,54,6,42,50,123,{"v":4317,"d":"4,317"},299,304,{"v":2030,"d":"2,030"},232,null,null,{"v":8189,"d":"8,189"},{"v":1303,"d":"1,303"},656,{"v":1469,"d":"1,469"},{"v":3641,"d":"3,641"},{"v":1121,"d":"1,121"}]
[{"$nulls":5},1290,"UCHUMAYO",13,{"v":2447,"d":"2,447"},28,28,29,26,32,35,40,38,36,33,33,33,37,31,28,34,34,32,35,34,158,212,216,212,209,177,144,131,108,87,60,40,24,16,2,13,15,37,{"v":1290,"d":"1,290"},89,91,607,69,null,null,{"v":2447,"d":"2,447"},389,196,439,{"v":1088,"d":"1,088"},335]
[]
["040122","AREQUIPA","AREQUIPA","AREQUIPA","SOCABAYA",null,"MR SOCABAYA",null,{"$f":"SUM(I190:I196)","v":{"v":91530,"d":"91,530"}},{"$f":"SUM(J190:J196)","v":714},717,656,779,935,{"v":1096,"d":"1,096"},{"v":1400,"d":"1,400"},{"v":1467,"d":"1,467"},{"v":1472,"d":"1,472"},{"v":1494,"d":"1,494"},{"v":1262,"d":"1,262"},{"v":1386,"d":"1,386"},{"v":1366,"d":"1,366"},{"v":1404,"d":"1,404"},{"v":1181,"d":"1,181"},{"v":1393,"d":"1,393"},{"v":1500,"d":"1,500"},{"v":1395,"d":"1,395"},{"v":1474,"d":"1,474"},{"v":1482,"d":"1,482"},{"v":7238,"d":"7,238"},{"v":7799,"d":"7,799"},{"v":7445,"d":"7,445"},{"v":6681,"d":"6,681"},{"v":6788,"d":"6,788"},{"v":6350,"d":"6,350"},{"v":5407,"d":"5,407"},{"v":4965,"d":"4,965"},{"v":4274,"d":"4,274"},{"v":3565,"d":"3,565"},{"v":2616,"d":"2,616"},{"v":1802,"d":"1,802"},{"v":1041,"d":"1,041"},986,20,356,358,{"v":1216,"d":"1,216"},{"v":46307,"d":"46,307"},{"v":3357,"d":"3,357"},{"v":3567,"d":"3,567"},{"v":21293,"d":"21,293"},{"v":1445,"d":"1,445"},0,0,{"v":91530,"d":"91,530"},{"v":13378,"d":"13,378"},{"v":8239,"d":"8,239"},{"v":17993,"d":"17,993"},{"v":37636,"d":"37,636"},{"v":14284,"d":"14,284"}]
["040122","AREQUIPA","AREQUIPA","AREQUIPA","SOCABAYA",1258,"CENTRO DE SALUD SAN MARTIN DE SOCABAYA",21,{"v":19220,"d":"19,220"},150,150,138,163,196,230,294,308,309,314,265,291,286,295,248,292,315,293,309,312,{"v":1520,"d":"1,520"},{"v":1637,"d":"1,637"},{"v":1564,"d":"1,564"},{"v":1403,"d":"1,403"},{"v":1425,"d":"1,425"},{"v":1333,"d":"1,333"},{"v":1136,"d":"1,136"},{"v":1043,"d":"1,043"},897,749,549,380,218,207,5,75,76,255,{"v":9725,"d":"9,725"},706,749,{"v":4471,"d":"4,471"},304,null,null,{"v":19220,"d":"19,220"},{"v":2810,"d":"2,810"},{"v":1730,"d":"1,730"},{"v":3778,"d":"3,778"},{"v":7904,"d":"7,904"},{"v":3000,"d":"3,000"}]
[{"$nulls":5},1269,"PUESTO DE SALUD CIUDAD MI TRABAJO",16,{"v":14645,"d":"14,645"},114,115,105,125,150,175,224,235,236,239,202,222,219,225,189,223,240,223,236,237,{"v":1158,"d":"1,158"},{"v":1248,"d":"1,248"},{"v":1191,"d":"1,191"},{"v":1069,"d":"1,069"},{"v":1086,"d":"1,086"},{"v":1016,"d":"1,016"},865,794,684,570,419,288,167,158,3,57,57,195,{"v":7409,"d":"7,409"},537,571,{"v":3407,"d":"3,407"},231,null,null,{"v":14645,"d":"14,645"},{"v":2140,"d":"2,140"},{"v":1318,"d":"1,318"},{"v":2879,"d":"2,879"},{"v":6022,"d":"6,022"},{"v":2285,"d":"2,285"}]
[{"$nulls":5},1270,"PUESTO DE SALUD LARA",16,{"v":14645,"d":"14,645"},114,115,105,125,150,175,224,235,236,239,202,222,219,225,189,223,240,223,236,237,{"v":1158,"d":"1,158"},{"v":1248,"d":"1,248"},{"v":1191,"d":"1,191"},{"v":1069,"d":"1,069"},{"v":1086,"d":"1,086"},{"v":1016,"d":"1,016"},865,794,684,570,419,288,167,158,3,57,57,195,{"v":7409,"d":"7,409"},537,571,{"v":3407,"d":"3,407"},231,null,null,{"v":14645,"d":"14,645"},{"v":2140,"d":"2,140"},{"v":1318,"d":"1,318"},{"v":2879,"d":"2,879"},{"v":6022,"d":"6,022"},{"v":2285,"d":"2,285"}]
[{"$nulls":5},1271,"CENTRO DE SALUD SAN FERNANDO",6,{"v":5492,"d":"5,492"},43,43,39,47,56,66,84,88,88,90,76,83,82,84,71,84,90,84,88,89,434,468,447,401,407,381,324,298,256,214,157,108,62,59,1,21,21,73,{"v":2778,"d":"2,778"},201,214,{"v":1278,"d":"1,278"},87,null,null,{"v":5492,"d":"5,492"},803,494,{"v":1080,"d":"1,080"},{"v":2258,"d":"2,258"},857]
[{"$nulls":5},1272,"PUESTO DE SALUD SALAVERRY",12,{"v":10984,"d":"10,984"},86,86,79,93,112,132,168,176,177,179,151,166,164,168,142,167,180,167,177,178,869,936,893,802,815,762,649,596,513,428,314,216,125,118,2,43,43,146,{"v":5557,"d":"5,557"},403,428,{"v":2555,"d":"2,555"},173,null,null,{"v":10984,"d":"10,984"},{"v":1605,"d":"1,605"},989,{"v":2159,"d":"2,159"},{"v":4516,"d":"4,516"},{"v":1714,"d":"1,714"}]
[{"$nulls":5},1268,"CENTRO DE SALUD 4 DE OCTUBRE",20,{"v":18306,"d":"18,306"},143,143,131,156,187,219,280,293,294,299,252,277,273,281,236,279,300,279,295,296,{"v":1448,"d":"1,448"},{"v":1560,"d":"1,560"},{"v":1489,"d":"1,489"},{"v":1336,"d":"1,336"},{"v":1358,"d":"1,358"},{"v":1270,"d":"1,270"},{"v":1081,"d":"1,081"},993,855,713,523,360,208,197,4,71,72,243,{"v":9261,"d":"9,261"},671,713,{"v":4259,"d":"4,259"},289,null,null,{"v":18306,"d":"18,306"},{"v":2676,"d":"2,676"},{"v":1648,"d":"1,648"},{"v":3599,"d":"3,599"},{"v":7527,"d":"7,527"},{"v":2857,"d":"2,857"}]
[{"$nulls":5},23338,"PUESTO DE SALUD HORACIO ZEBALLOS GÁMEZ",9,{"v":8238,"d":"8,238"},64,65,59,70,84,99,126,132,132,134,114,125,123,126,106,125,135,126,133,133,651,702,670,601,611,572,487,447,385,321,235,162,94,89,2,32,32,109,{"v":4168,"d":"4,168"},302,321,{"v":1916,"d":"1,916"},130,null,null,{"v":8238,"d":"8,238"},{"v":1204,"d":"1,204"},742,{"v":1619,"d":"1,619"},{"v":3387,"d":"3,387"},{"v":1286,"d":"1,286"}]
[]
["040108","AREQUIPA","AREQUIPA","AREQUIPA","LA JOYA",null,"MR LA JOYA",null,{"$f":"SUM(I199:I203)","v":{"v":31383,"d":"31,383"}},{"$f":"SUM(J199:J203)","v":349},367,432,423,460,422,489,444,562,585,498,496,548,478,503,553,575,565,586,572,{"v":2592,"d":"2,592"},{"v":2848,"d":"2,848"},{"v":2553,"d":"2,553"},{"v":2378,"d":"2,378"},{"v":2113,"d":"2,113"},{"v":2024,"d":"2,024"},{"v":1608,"d":"1,608"},{"v":1462,"d":"1,462"},{"v":1189,"d":"1,189"},969,664,491,307,272,17,167,183,571,{"v":16079,"d":"16,079"},{"v":1324,"d":"1,324"},{"v":1462,"d":"1,462"},{"v":7527,"d":"7,527"},802,0,0,{"v":31383,"d":"31,383"},{"v":5530,"d":"5,530"},{"v":3220,"d":"3,220"},{"v":6598,"d":"6,598"},{"v":12142,"d":"12,142"},{"v":3891,"d":"3,891"}]
["040108","AREQUIPA","AREQUIPA","AREQUIPA","LA JOYA",1322,"LA JOYA",20,{"v":8840,"d":"8,840"},98,103,121,119,130,119,138,125,159,165,140,140,154,134,142,156,162,159,165,161,730,802,719,670,595,570,453,412,335,273,187,139,86,77,5,47,51,161,{"v":4529,"d":"4,529"},373,412,{"v":2120,"d":"2,120"},226,null,null,{"v":8840,"d":"8,840"},{"v":1558,"d":"1,558"},907,{"v":1859,"d":"1,859"},{"v":3420,"d":"3,420"},{"v":1096,"d":"1,096"}]
[{"$nulls":5},1327,"PUESTO DE SALUD CERRITO BUENA VISTA",14,{"v":6188,"d":"6,188"},69,72,85,84,91,83,96,88,111,116,98,98,108,94,99,109,113,112,116,113,511,562,504,469,417,399,317,288,234,191,131,97,60,54,3,33,36,112,{"v":3170,"d":"3,170"},261,288,{"v":1484,"d":"1,484"},158,null,null,{"v":6188,"d":"6,188"},{"v":1090,"d":"1,090"},635,{"v":1301,"d":"1,301"},{"v":2394,"d":"2,394"},767]
[{"$nulls":5},1330,"EL CRUCE - TRIUNFO",27,{"v":11935,"d":"11,935"},132,140,166,160,173,160,187,169,212,222,190,188,208,182,192,210,218,214,223,218,985,{"v":1082,"d":"1,082"},970,903,803,769,612,556,452,369,252,185,117,103,7,63,70,218,{"v":6116,"d":"6,116"},504,556,{"v":2863,"d":"2,863"},304,null,null,{"v":11935,"d":"11,935"},{"v":2104,"d":"2,104"},{"v":1224,"d":"1,224"},{"v":2508,"d":"2,508"},{"v":4618,"d":"4,618"},{"v":1480,"d":"1,480"}]
[{"$nulls":5},1328,"LOS MEDANOS",5,{"v":2210,"d":"2,210"},25,26,30,30,33,30,34,31,40,41,35,35,39,34,35,39,41,40,41,40,183,201,180,168,149,143,113,103,84,68,47,35,22,19,1,12,13,40,{"v":1132,"d":"1,132"},93,103,530,57,null,null,{"v":2210,"d":"2,210"},389,227,465,855,274]
[{"$nulls":5},1329,"BENITO LAZO",5,{"v":2210,"d":"2,210"},25,26,30,30,33,30,34,31,40,41,35,35,39,34,35,39,41,40,41,40,183,201,180,168,149,143,113,103,84,68,47,35,22,19,1,12,13,40,{"v":1132,"d":"1,132"},93,103,530,57,null,null,{"v":2210,"d":"2,210"},389,227,465,855,274]
[]
["040108","AREQUIPA","AREQUIPA","AREQUIPA","LA JOYA",null,"MR SAN ISIDRO",null,{"$f":"SUM(I206:I210)","v":{"v":14116,"d":"14,116"}},{"$f":"SUM(J206:J210)","v":156},163,189,188,204,189,214,198,250,254,218,215,235,211,219,243,250,250,257,251,{"v":1142,"d":"1,142"},{"v":1260,"d":"1,260"},{"v":1142,"d":"1,142"},{"v":1071,"d":"1,071"},957,918,748,692,557,457,313,233,146,135,8,74,82,253,{"v":7249,"d":"7,249"},579,645,{"v":3370,"d":"3,370"},369,0,0,{"v":14116,"d":"14,116"},{"v":2434,"d":"2,434"},{"v":1410,"d":"1,410"},{"v":2910,"d":"2,910"},{"v":5523,"d":"5,523"},{"v":1841,"d":"1,841"}]
["040108","AREQUIPA","AREQUIPA","AREQUIPA","LA JOYA",1323,"SAN ISIDRO",13,{"v":5746,"d":"5,746"},64,67,79,78,85,77,90,81,103,107,91,91,100,87,92,101,105,104,107,105,475,521,468,436,387,371,294,268,218,177,121,90,56,50,3,30,33,104,{"v":2944,"d":"2,944"},242,268,{"v":1378,"d":"1,378"},147,null,null,{"v":5746,"d":"5,746"},{"v":1013,"d":"1,013"},590,{"v":1208,"d":"1,208"},{"v":2223,"d":"2,223"},713]
[{"$nulls":5},1333,"SAN JOSE",3,{"v":1326,"d":"1,326"},15,15,18,18,20,18,21,19,24,25,21,21,23,20,21,23,24,24,25,24,110,120,108,101,89,86,68,62,50,41,28,21,13,12,1,7,8,24,679,56,62,318,34,null,null,{"v":1326,"d":"1,326"},234,136,279,513,164]
[{"$nulls":5},1332,"PUESTO DE SALUD SAN CAMILO 6",6,{"v":2652,"d":"2,652"},29,31,36,36,39,36,41,38,48,50,42,42,46,40,42,47,49,48,50,48,219,241,216,201,179,171,136,124,100,82,56,42,26,23,1,14,15,48,{"v":1359,"d":"1,359"},112,124,636,68,null,null,{"v":2652,"d":"2,652"},467,272,558,{"v":1026,"d":"1,026"},329]
[{"$nulls":5},1331,"LA CANO",7,{"v":3094,"d":"3,094"},34,36,42,42,46,42,48,44,56,58,49,49,54,47,50,54,57,56,58,56,256,281,252,235,208,200,159,144,117,95,65,49,30,27,2,16,18,56,{"v":1585,"d":"1,585"},131,144,742,79,null,null,{"v":3094,"d":"3,094"},545,318,651,{"v":1197,"d":"1,197"},384]
["040702","AREQUIPA","AREQUIPA","ISLAY","COCACHACRA",1343,"SAN CAMILO 7",14,{"v":1298,"d":"1,298"},14,14,14,14,14,16,14,16,19,14,15,12,12,17,14,18,15,18,17,18,82,97,98,98,94,90,91,94,72,62,43,31,21,23,1,7,8,21,682,38,47,296,41,null,null,{"v":1298,"d":"1,298"},175,94,214,564,251]
[]
["040125","AREQUIPA","AREQUIPA","AREQUIPA","VITOR",null,"MR VITOR",null,{"$f":"SUM(I213:I215)","v":{"v":14213,"d":"14,213"}},{"$f":"SUM(J213:J215)","v":160},138,137,142,148,132,225,263,210,215,206,205,217,244,194,260,221,233,239,261,{"v":1133,"d":"1,133"},{"v":1351,"d":"1,351"},{"v":1346,"d":"1,346"},{"v":1210,"d":"1,210"},{"v":1066,"d":"1,066"},836,705,714,603,410,324,200,140,125,1,67,93,262,{"v":7342,"d":"7,342"},563,637,{"v":3624,"d":"3,624"},347,0,0,{"v":14213,"d":"14,213"},{"v":2181,"d":"2,181"},{"v":1369,"d":"1,369"},{"v":2984,"d":"2,984"},{"v":5877,"d":"5,877"},{"v":1802,"d":"1,802"}]
["040125","AREQUIPA","AREQUIPA","AREQUIPA","VITOR",1324,"CENTRO DE SALUD VITOR",80,{"v":4375,"d":"4,375"},54,42,30,30,29,27,48,70,56,59,50,54,58,78,57,78,74,82,80,78,336,371,347,335,307,266,246,263,231,187,141,83,66,64,0,22,31,70,{"v":2270,"d":"2,270"},165,210,{"v":1046,"d":"1,046"},78,null,null,{"v":4375,"d":"4,375"},548,426,865,{"v":1765,"d":"1,765"},772]
[{"$nulls":5},1334,"PUESTO DE SALUD YURAMAYO",20,{"v":1094,"d":"1,094"},13,10,7,8,7,7,12,17,14,15,13,13,14,19,14,19,18,21,20,19,84,93,87,84,77,66,62,66,58,47,35,21,16,16,0,6,8,17,567,41,53,261,19,null,null,{"v":1094,"d":"1,094"},137,106,216,441,193]
["040121","AREQUIPA","AREQUIPA","AREQUIPA","SANTA RITA DE SIGUAS",1335,"CENTRO  DE SALUD SANTA RITA DE SIGUAS",100,{"v":8744,"d":"8,744"},93,86,100,104,112,98,165,176,140,141,143,138,145,147,123,163,129,130,139,164,713,887,912,791,682,504,397,385,314,176,148,96,58,45,1,39,54,175,{"v":4505,"d":"4,505"},357,374,{"v":2317,"d":"2,317"},250,null,null,{"v":8744,"d":"8,744"},{"v":1496,"d":"1,496"},837,{"v":1903,"d":"1,903"},{"v":3671,"d":"3,671"},837]

{"sheet":"DATA","index":7,"n_rows":68077,"n_cols":9,"rows_kept":4500,"cut":true,"hidden":true,"bounds":{"rows_first":2000,"rows_last":500,"rows_between":2000,"halvings":0}}
[{"$f":"'Pob x Genero'!A7","v":"UBIGEO"},{"$f":"'Pob x Genero'!B7","v":"DIRESA"},{"$f":"'Pob x Genero'!C7","v":"DEPARTAMENTO"},{"$f":"'Pob x Genero'!D7","v":"PROVINCIA"},{"$f":"'Pob x Genero'!E7","v":"DISTRITO"},"SEXO","GRUPO DE EDAD","POBLACION","id"]
[{"$f":"'Pob x Genero'!#REF!","v":{"$error":"#REF!"}},{"$f":"'Pob x Genero'!#REF!","v":{"$error":"#REF!"}},{"$f":"'Pob x Genero'!#REF!","v":{"$error":"#REF!"}},{"$f":"'Pob x Genero'!#REF!","v":{"$error":"#REF!"}},{"$f":"'Pob x Genero'!#REF!","v":{"$error":"#REF!"}},"Hombre",{"$f":"'Pob x Genero'!CT7","v":"00-04"},{"$f":"'Pob x Genero'!#REF!","v":{"$error":"#REF!"}},1]
[{"$f":"'Pob x Genero'!#REF!","v":{"$error":"#REF!"}},{"$f":"'Pob x Genero'!#REF!","v":{"$error":"#REF!"}},{"$f":"'Pob x Genero'!#REF!","v":{"$error":"#REF!"}},{"$f":"'Pob x Genero'!#REF!","v":{"$error":"#REF!"}},{"$f":"'Pob x Genero'!#REF!","v":{"$error":"#REF!"}},{"$f":"F2","v":"Hombre"},{"$f":"G2","v":"00-04"},{"$f":"'Pob x Genero'!#REF!","v":{"$error":"#REF!"}},2]
[{"$f":"'Pob x Genero'!#REF!","v":{"$error":"#REF!"}},{"$f":"'Pob x Genero'!#REF!","v":{"$error":"#REF!"}},{"$f":"'Pob x Genero'!#REF!","v":{"$error":"#REF!"}},{"$f":"'Pob x Genero'!#REF!","v":{"$error":"#REF!"}},{"$f":"'Pob x Genero'!#REF!","v":{"$error":"#REF!"}},"Hombre","00-04",{"$f":"'Pob x Genero'!#REF!","v":{"$error":"#REF!"}},3]
[{"$f":"'Pob x Genero'!#REF!","v":{"$error":"#REF!"}},{"$f":"'Pob x Genero'!#REF!","v":{"$error":"#REF!"}},{"$f":"'Pob x Genero'!#REF!","v":{"$error":"#REF!"}},{"$f":"'Pob x Genero'!#REF!","v":{"$error":"#REF!"}},{"$f":"'Pob x Genero'!#REF!","v":{"$error":"#REF!"}},"Hombre","00-04",{"$f":"'Pob x Genero'!#REF!","v":{"$error":"#REF!"}},4]
[{"$f":"'Pob x Genero'!#REF!","v":{"$error":"#REF!"}},{"$f":"'Pob x Genero'!#REF!","v":{"$error":"#REF!"}},{"$f":"'Pob x Genero'!#REF!","v":{"$error":"#REF!"}},{"$f":"'Pob x Genero'!#REF!","v":{"$error":"#REF!"}},{"$f":"'Pob x Genero'!#REF!","v":{"$error":"#REF!"}},"Hombre","00-04",{"$f":"'Pob x Genero'!#REF!","v":{"$error":"#REF!"}},5]
[{"$f":"'Pob x Genero'!#REF!","v":{"$error":"#REF!"}},{"$f":"'Pob x Genero'!#REF!","v":{"$error":"#REF!"}},{"$f":"'Pob x Genero'!#REF!","v":{"$error":"#REF!"}},{"$f":"'Pob x Genero'!#REF!","v":{"$error":"#REF!"}},{"$f":"'Pob x Genero'!#REF!","v":{"$error":"#REF!"}},"Hombre","00-04",{"$f":"'Pob x Genero'!#REF!","v":{"$error":"#REF!"}},6]
[{"$f":"'Pob x Genero'!#REF!","v":{"$error":"#REF!"}},{"$f":"'Pob x Genero'!#REF!","v":{"$error":"#REF!"}},{"$f":"'Pob x Genero'!#REF!","v":{"$error":"#REF!"}},{"$f":"'Pob x Genero'!#REF!","v":{"$error":"#REF!"}},{"$f":"'Pob x Genero'!#REF!","v":{"$error":"#REF!"}},"Hombre","00-04",{"$f":"'Pob x Genero'!#REF!","v":{"$error":"#REF!"}},7]
[{"$f":"'Pob x Genero'!#REF!","v":{"$error":"#REF!"}},{"$f":"'Pob x Genero'!#REF!","v":{"$error":"#REF!"}},{"$f":"'Pob x Genero'!#REF!","v":{"$error":"#REF!"}},{"$f":"'Pob x Genero'!#REF!","v":{"$error":"#REF!"}},{"$f":"'Pob x Genero'!#REF!","v":{"$error":"#REF!"}},"Hombre","00-04",{"$f":"'Pob x Genero'!#REF!","v":{"$error":"#REF!"}},8]
[{"$f":"'Pob x Genero'!#REF!","v":{"$error":"#REF!"}},{"$f":"'Pob x Genero'!#REF!","v":{"$error":"#REF!"}},{"$f":"'Pob x Genero'!#REF!","v":{"$error":"#REF!"}},{"$f":"'Pob x Genero'!#REF!","v":{"$error":"#REF!"}},{"$f":"'Pob x Genero'!#REF!","v":{"$error":"#REF!"}},"Hombre","00-04",{"$f":"'Pob x Genero'!#REF!","v":{"$error":"#REF!"}},9]
[{"$f":"'Pob x Genero'!#REF!","v":{"$error":"#REF!"}},{"$f":"'Pob x Genero'!#REF!","v":{"$error":"#REF!"}},{"$f":"'Pob x Genero'!#REF!","v":{"$error":"#REF!"}},{"$f":"'Pob x Genero'!#REF!","v":{"$error":"#REF!"}},{"$f":"'Pob x Genero'!#REF!","v":{"$error":"#REF!"}},"Hombre","00-04",{"$f":"'Pob x Genero'!#REF!","v":{"$error":"#REF!"}},10]
[{"$f":"'Pob x Genero'!#REF!","v":{"$error":"#REF!"}},{"$f":"'Pob x Genero'!#REF!","v":{"$error":"#REF!"}},{"$f":"'Pob x Genero'!#REF!","v":{"$error":"#REF!"}},{"$f":"'Pob x Genero'!#REF!","v":{"$error":"#REF!"}},{"$f":"'Pob x Genero'!#REF!","v":{"$error":"#REF!"}},"Hombre","00-04",{"$f":"'Pob x Genero'!#REF!","v":{"$error":"#REF!"}},11]
[{"$f":"'Pob x Genero'!#REF!","v":{"$error":"#REF!"}},{"$f":"'Pob x Genero'!#REF!","v":{"$error":"#REF!"}},{"$f":"'Pob x Genero'!#REF!","v":{"$error":"#REF!"}},{"$f":"'Pob x Genero'!#REF!","v":{"$error":"#REF!"}},{"$f":"'Pob x Genero'!#REF!","v":{"$error":"#REF!"}},"Hombre","00-04",{"$f":"'Pob x Genero'!#REF!","v":{"$error":"#REF!"}},12]
[{"$f":"'Pob x Genero'!#REF!","v":{"$error":"#REF!"}},{"$f":"'Pob x Genero'!#REF!","v":{"$error":"#REF!"}},{"$f":"'Pob x Genero'!#REF!","v":{"$error":"#REF!"}},{"$f":"'Pob x Genero'!#REF!","v":{"$error":"#REF!"}},{"$f":"'Pob x Genero'!#REF!","v":{"$error":"#REF!"}},"Hombre","00-04",{"$f":"'Pob x Genero'!#REF!","v":{"$error":"#REF!"}},13]
[{"$f":"'Pob x Genero'!#REF!","v":{"$error":"#REF!"}},{"$f":"'Pob x Genero'!#REF!","v":{"$error":"#REF!"}},{"$f":"'Pob x Genero'!#REF!","v":{"$error":"#REF!"}},{"$f":"'Pob x Genero'!#REF!","v":{"$error":"#REF!"}},{"$f":"'Pob x Genero'!#REF!","v":{"$error":"#REF!"}},"Hombre","00-04",{"$f":"'Pob x Genero'!#REF!","v":{"$error":"#REF!"}},14]
[{"$f":"'Pob x Genero'!#REF!","v":{"$error":"#REF!"}},{"$f":"'Pob x Genero'!#REF!","v":{"$error":"#REF!"}},{"$f":"'Pob x Genero'!#REF!","v":{"$error":"#REF!"}},{"$f":"'Pob x Genero'!#REF!","v":{"$error":"#REF!"}},{"$f":"'Pob x Genero'!#REF!","v":{"$error":"#REF!"}},"Hombre","00-04",{"$f":"'Pob x Genero'!#REF!","v":{"$error":"#REF!"}},15]
[{"$f":"'Pob x Genero'!#REF!","v":{"$error":"#REF!"}},{"$f":"'Pob x Genero'!#REF!","v":{"$error":"#REF!"}},{"$f":"'Pob x Genero'!#REF!","v":{"$error":"#REF!"}},{"$f":"'Pob x Genero'!#REF!","v":{"$error":"#REF!"}},{"$f":"'Pob x Genero'!#REF!","v":{"$error":"#REF!"}},"Hombre","00-04",{"$f":"'Pob x Genero'!#REF!","v":{"$error":"#REF!"}},16]
[{"$f":"'Pob x Genero'!#REF!","v":{"$error":"#REF!"}},{"$f":"'Pob x Genero'!#REF!","v":{"$error":"#REF!"}},{"$f":"'Pob x Genero'!#REF!","v":{"$error":"#REF!"}},{"$f":"'Pob x Genero'!#REF!","v":{"$error":"#REF!"}},{"$f":"'Pob x Genero'!#REF!","v":{"$error":"#REF!"}},"Hombre","00-04",{"$f":"'Pob x Genero'!#REF!","v":{"$error":"#REF!"}},17]
[{"$f":"'Pob x Genero'!#REF!","v":{"$error":"#REF!"}},{"$f":"'Pob x Genero'!#REF!","v":{"$error":"#REF!"}},{"$f":"'Pob x Genero'!#REF!","v":{"$error":"#REF!"}},{"$f":"'Pob x Genero'!#REF!","v":{"$error":"#REF!"}},{"$f":"'Pob x Genero'!#REF!","v":{"$error":"#REF!"}},"Hombre","00-04",{"$f":"'Pob x Genero'!#REF!","v":{"$error":"#REF!"}},18]
[{"$f":"'Pob x Genero'!#REF!","v":{"$error":"#REF!"}},{"$f":"'Pob x Genero'!#REF!","v":{"$error":"#REF!"}},{"$f":"'Pob x Genero'!#REF!","v":{"$error":"#REF!"}},{"$f":"'Pob x Genero'!#REF!","v":{"$error":"#REF!"}},{"$f":"'Pob x Genero'!#REF!","v":{"$error":"#REF!"}},"Hombre","00-04",{"$f":"'Pob x Genero'!#REF!","v":{"$error":"#REF!"}},19]
[{"$f":"'Pob x Genero'!#REF!","v":{"$error":"#REF!"}},{"$f":"'Pob x Genero'!#REF!","v":{"$error":"#REF!"}},{"$f":"'Pob x Genero'!#REF!","v":{"$error":"#REF!"}},{"$f":"'Pob x Genero'!#REF!","v":{"$error":"#REF!"}},{"$f":"'Pob x Genero'!#REF!","v":{"$error":"#REF!"}},"Hombre","00-04",{"$f":"'Pob x Genero'!#REF!","v":{"$error":"#REF!"}},20]
[{"$f":"'Pob x Genero'!#REF!","v":{"$error":"#REF!"}},{"$f":"'Pob x Genero'!#REF!","v":{"$error":"#REF!"}},{"$f":"'Pob x Genero'!#REF!","v":{"$error":"#REF!"}},{"$f":"'Pob x Genero'!#REF!","v":{"$error":"#REF!"}},{"$f":"'Pob x Genero'!#REF!","v":{"$error":"#REF!"}},"Hombre","00-04",{"$f":"'Pob x Genero'!#REF!","v":{"$error":"#REF!"}},21]
[{"$f":"'Pob x Genero'!#REF!","v":{"$error":"#REF!"}},{"$f":"'Pob x Genero'!#REF!","v":{"$error":"#REF!"}},{"$f":"'Pob x Genero'!#REF!","v":{"$error":"#REF!"}},{"$f":"'Pob x Genero'!#REF!","v":{"$error":"#REF!"}},{"$f":"'Pob x Genero'!#REF!","v":{"$error":"#REF!"}},"Hombre","00-04",{"$f":"'Pob x Genero'!#REF!","v":{"$error":"#REF!"}},22]
[{"$f":"'Pob x Genero'!#REF!","v":{"$error":"#REF!"}},{"$f":"'Pob x Genero'!#REF!","v":{"$error":"#REF!"}},{"$f":"'Pob x Genero'!#REF!","v":{"$error":"#REF!"}},{"$f":"'Pob x Genero'!#REF!","v":{"$error":"#REF!"}},{"$f":"'Pob x Genero'!#REF!","v":{"$error":"#REF!"}},"Hombre","00-04",{"$f":"'Pob x Genero'!#REF!","v":{"$error":"#REF!"}},23]
[{"$f":"'Pob x Genero'!#REF!","v":{"$error":"#REF!"}},{"$f":"'Pob x Genero'!#REF!","v":{"$error":"#REF!"}},{"$f":"'Pob x Genero'!#REF!","v":{"$error":"#REF!"}},{"$f":"'Pob x Genero'!#REF!","v":{"$error":"#REF!"}},{"$f":"'Pob x Genero'!#REF!","v":{"$error":"#REF!"}},"Hombre","00-04",{"$f":"'Pob x Genero'!#REF!","v":{"$error":"#REF!"}},24]
[{"$f":"'Pob x Genero'!#REF!","v":{"$error":"#REF!"}},{"$f":"'Pob x Genero'!#REF!","v":{"$error":"#REF!"}},{"$f":"'Pob x Genero'!#REF!","v":{"$error":"#REF!"}},{"$f":"'Pob x Genero'!#REF!","v":{"$error":"#REF!"}},{"$f":"'Pob x Genero'!#REF!","v":{"$error":"#REF!"}},"Hombre","00-04",{"$f":"'Pob x Genero'!#REF!","v":{"$error":"#REF!"}},25]
[{"$f":"'Pob x Genero'!#REF!","v":{"$error":"#REF!"}},{"$f":"'Pob x Genero'!#REF!","v":{"$error":"#REF!"}},{"$f":"'Pob x Genero'!#REF!","v":{"$error":"#REF!"}},{"$f":"'Pob x Genero'!#REF!","v":{"$error":"#REF!"}},{"$f":"'Pob x Genero'!#REF!","v":{"$error":"#REF!"}},"Hombre","00-04",{"$f":"'Pob x Genero'!#REF!","v":{"$error":"#REF!"}},26]
[{"$f":"'Pob x Genero'!#REF!","v":{"$error":"#REF!"}},{"$f":"'Pob x Genero'!#REF!","v":{"$error":"#REF!"}},{"$f":"'Pob x Genero'!#REF!","v":{"$error":"#REF!"}},{"$f":"'Pob x Genero'!#REF!","v":{"$error":"#REF!"}},{"$f":"'Pob x Genero'!#REF!","v":{"$error":"#REF!"}},"Hombre","00-04",{"$f":"'Pob x Genero'!#REF!","v":{"$error":"#REF!"}},27]
[{"$f":"'Pob x Genero'!#REF!","v":{"$error":"#REF!"}},{"$f":"'Pob x Genero'!#REF!","v":{"$error":"#REF!"}},{"$f":"'Pob x Genero'!#REF!","v":{"$error":"#REF!"}},{"$f":"'Pob x Genero'!#REF!","v":{"$error":"#REF!"}},{"$f":"'Pob x Genero'!#REF!","v":{"$error":"#REF!"}},"Hombre","00-04",{"$f":"'Pob x Genero'!#REF!","v":{"$error":"#REF!"}},28]
[{"$f":"'Pob x Genero'!#REF!","v":{"$error":"#REF!"}},{"$f":"'Pob x Genero'!#REF!","v":{"$error":"#REF!"}},{"$f":"'Pob x Genero'!#REF!","v":{"$error":"#REF!"}},{"$f":"'Pob x Genero'!#REF!","v":{"$error":"#REF!"}},{"$f":"'Pob x Genero'!#REF!","v":{"$error":"#REF!"}},"Hombre","00-04",{"$f":"'Pob x Genero'!#REF!","v":{"$error":"#REF!"}},29]
[{"$f":"'Pob x Genero'!#REF!","v":{"$error":"#REF!"}},{"$f":"'Pob x Genero'!#REF!","v":{"$error":"#REF!"}},{"$f":"'Pob x Genero'!#REF!","v":{"$error":"#REF!"}},{"$f":"'Pob x Genero'!#REF!","v":{"$error":"#REF!"}},{"$f":"'Pob x Genero'!#REF!","v":{"$error":"#REF!"}},"Hombre","00-04",{"$f":"'Pob x Genero'!#REF!","v":{"$error":"#REF!"}},30]
[{"$f":"'Pob x Genero'!#REF!","v":{"$error":"#REF!"}},{"$f":"'Pob x Genero'!#REF!","v":{"$error":"#REF!"}},{"$f":"'Pob x Genero'!#REF!","v":{"$error":"#REF!"}},{"$f":"'Pob x Genero'!#REF!","v":{"$error":"#REF!"}},{"$f":"'Pob x Genero'!#REF!","v":{"$error":"#REF!"}},"Hombre","00-04",{"$f":"'Pob x Genero'!#REF!","v":{"$error":"#REF!"}},31]
[{"$f":"'Pob x Genero'!#REF!","v":{"$error":"#REF!"}},{"$f":"'Pob x Genero'!#REF!","v":{"$error":"#REF!"}},{"$f":"'Pob x Genero'!#REF!","v":{"$error":"#REF!"}},{"$f":"'Pob x Genero'!#REF!","v":{"$error":"#REF!"}},{"$f":"'Pob x Genero'!#REF!","v":{"$error":"#REF!"}},"Hombre","00-04",{"$f":"'Pob x Genero'!#REF!","v":{"$error":"#REF!"}},32]
[{"$f":"'Pob x Genero'!#REF!","v":{"$error":"#REF!"}},{"$f":"'Pob x Genero'!#REF!","v":{"$error":"#REF!"}},{"$f":"'Pob x Genero'!#REF!","v":{"$error":"#REF!"}},{"$f":"'Pob x Genero'!#REF!","v":{"$error":"#REF!"}},{"$f":"'Pob x Genero'!#REF!","v":{"$error":"#REF!"}},"Hombre","00-04",{"$f":"'Pob x Genero'!#REF!","v":{"$error":"#REF!"}},33]
[{"$f":"'Pob x Genero'!#REF!","v":{"$error":"#REF!"}},{"$f":"'Pob x Genero'!#REF!","v":{"$error":"#REF!"}},{"$f":"'Pob x Genero'!#REF!","v":{"$error":"#REF!"}},{"$f":"'Pob x Genero'!#REF!","v":{"$error":"#REF!"}},{"$f":"'Pob x Genero'!#REF!","v":{"$error":"#REF!"}},"Hombre","00-04",{"$f":"'Pob x Genero'!#REF!","v":{"$error":"#REF!"}},34]
[{"$f":"'Pob x Genero'!#REF!","v":{"$error":"#REF!"}},{"$f":"'Pob x Genero'!#REF!","v":{"$error":"#REF!"}},{"$f":"'Pob x Genero'!#REF!","v":{"$error":"#REF!"}},{"$f":"'Pob x Genero'!#REF!","v":{"$error":"#REF!"}},{"$f":"'Pob x Genero'!#REF!","v":{"$error":"#REF!"}},"Hombre","00-04",{"$f":"'Pob x Genero'!#REF!","v":{"$error":"#REF!"}},35]
[{"$f":"'Pob x Genero'!#REF!","v":{"$error":"#REF!"}},{"$f":"'Pob x Genero'!#REF!","v":{"$error":"#REF!"}},{"$f":"'Pob x Genero'!#REF!","v":{"$error":"#REF!"}},{"$f":"'Pob x Genero'!#REF!","v":{"$error":"#REF!"}},{"$f":"'Pob x Genero'!#REF!","v":{"$error":"#REF!"}},"Hombre","00-04",{"$f":"'Pob x Genero'!#REF!","v":{"$error":"#REF!"}},36]
[{"$f":"'Pob x Genero'!#REF!","v":{"$error":"#REF!"}},{"$f":"'Pob x Genero'!#REF!","v":{"$error":"#REF!"}},{"$f":"'Pob x Genero'!#REF!","v":{"$error":"#REF!"}},{"$f":"'Pob x Genero'!#REF!","v":{"$error":"#REF!"}},{"$f":"'Pob x Genero'!#REF!","v":{"$error":"#REF!"}},"Hombre","00-04",{"$f":"'Pob x Genero'!#REF!","v":{"$error":"#REF!"}},37]
[{"$f":"'Pob x Genero'!#REF!","v":{"$error":"#REF!"}},{"$f":"'Pob x Genero'!#REF!","v":{"$error":"#REF!"}},{"$f":"'Pob x Genero'!#REF!","v":{"$error":"#REF!"}},{"$f":"'Pob x Genero'!#REF!","v":{"$error":"#REF!"}},{"$f":"'Pob x Genero'!#REF!","v":{"$error":"#REF!"}},"Hombre","00-04",{"$f":"'Pob x Genero'!#REF!","v":{"$error":"#REF!"}},38]
[{"$f":"'Pob x Genero'!#REF!","v":{"$error":"#REF!"}},{"$f":"'Pob x Genero'!#REF!","v":{"$error":"#REF!"}},{"$f":"'Pob x Genero'!#REF!","v":{"$error":"#REF!"}},{"$f":"'Pob x Genero'!#REF!","v":{"$error":"#REF!"}},{"$f":"'Pob x Genero'!#REF!","v":{"$error":"#REF!"}},"Hombre","00-04",{"$f":"'Pob x Genero'!#REF!","v":{"$error":"#REF!"}},39]
[{"$f":"'Pob x Genero'!#REF!","v":{"$error":"#REF!"}},{"$f":"'Pob x Genero'!#REF!","v":{"$error":"#REF!"}},{"$f":"'Pob x Genero'!#REF!","v":{"$error":"#REF!"}},{"$f":"'Pob x Genero'!#REF!","v":{"$error":"#REF!"}},{"$f":"'Pob x Genero'!#REF!","v":{"$error":"#REF!"}},"Hombre","00-04",{"$f":"'Pob x Genero'!#REF!","v":{"$error":"#REF!"}},40]
[{"$f":"'Pob x Genero'!#REF!","v":{"$error":"#REF!"}},{"$f":"'Pob x Genero'!#REF!","v":{"$error":"#REF!"}},{"$f":"'Pob x Genero'!#REF!","v":{"$error":"#REF!"}},{"$f":"'Pob x Genero'!#REF!","v":{"$error":"#REF!"}},{"$f":"'Pob x Genero'!#REF!","v":{"$error":"#REF!"}},"Hombre","00-04",{"$f":"'Pob x Genero'!#REF!","v":{"$error":"#REF!"}},41]
[{"$f":"'Pob x Genero'!#REF!","v":{"$error":"#REF!"}},{"$f":"'Pob x Genero'!#REF!","v":{"$error":"#REF!"}},{"$f":"'Pob x Genero'!#REF!","v":{"$error":"#REF!"}},{"$f":"'Pob x Genero'!#REF!","v":{"$error":"#REF!"}},{"$f":"'Pob x Genero'!#REF!","v":{"$error":"#REF!"}},"Hombre","00-04",{"$f":"'Pob x Genero'!#REF!","v":{"$error":"#REF!"}},42]
[{"$f":"'Pob x Genero'!#REF!","v":{"$error":"#REF!"}},{"$f":"'Pob x Genero'!#REF!","v":{"$error":"#REF!"}},{"$f":"'Pob x Genero'!#REF!","v":{"$error":"#REF!"}},{"$f":"'Pob x Genero'!#REF!","v":{"$error":"#REF!"}},{"$f":"'Pob x Genero'!#REF!","v":{"$error":"#REF!"}},"Hombre","00-04",{"$f":"'Pob x Genero'!#REF!","v":{"$error":"#REF!"}},43]
[{"$f":"'Pob x Genero'!#REF!","v":{"$error":"#REF!"}},{"$f":"'Pob x Genero'!#REF!","v":{"$error":"#REF!"}},{"$f":"'Pob x Genero'!#REF!","v":{"$error":"#REF!"}},{"$f":"'Pob x Genero'!#REF!","v":{"$error":"#REF!"}},{"$f":"'Pob x Genero'!#REF!","v":{"$error":"#REF!"}},"Hombre","00-04",{"$f":"'Pob x Genero'!#REF!","v":{"$error":"#REF!"}},44]
[{"$f":"'Pob x Genero'!#REF!","v":{"$error":"#REF!"}},{"$f":"'Pob x Genero'!#REF!","v":{"$error":"#REF!"}},{"$f":"'Pob x Genero'!#REF!","v":{"$error":"#REF!"}},{"$f":"'Pob x Genero'!#REF!","v":{"$error":"#REF!"}},{"$f":"'Pob x Genero'!#REF!","v":{"$error":"#REF!"}},"Hombre","00-04",{"$f":"'Pob x Genero'!#REF!","v":{"$error":"#REF!"}},45]
[{"$f":"'Pob x Genero'!#REF!","v":{"$error":"#REF!"}},{"$f":"'Pob x Genero'!#REF!","v":{"$error":"#REF!"}},{"$f":"'Pob x Genero'!#REF!","v":{"$error":"#REF!"}},{"$f":"'Pob x Genero'!#REF!","v":{"$error":"#REF!"}},{"$f":"'Pob x Genero'!#REF!","v":{"$error":"#REF!"}},"Hombre","00-04",{"$f":"'Pob x Genero'!#REF!","v":{"$error":"#REF!"}},46]
[{"$f":"'Pob x Genero'!#REF!","v":{"$error":"#REF!"}},{"$f":"'Pob x Genero'!#REF!","v":{"$error":"#REF!"}},{"$f":"'Pob x Genero'!#REF!","v":{"$error":"#REF!"}},{"$f":"'Pob x Genero'!#REF!","v":{"$error":"#REF!"}},{"$f":"'Pob x Genero'!#REF!","v":{"$error":"#REF!"}},"Hombre","00-04",{"$f":"'Pob x Genero'!#REF!","v":{"$error":"#REF!"}},47]
[{"$f":"'Pob x Genero'!#REF!","v":{"$error":"#REF!"}},{"$f":"'Pob x Genero'!#REF!","v":{"$error":"#REF!"}},{"$f":"'Pob x Genero'!#REF!","v":{"$error":"#REF!"}},{"$f":"'Pob x Genero'!#REF!","v":{"$error":"#REF!"}},{"$f":"'Pob x Genero'!#REF!","v":{"$error":"#REF!"}},"Hombre","00-04",{"$f":"'Pob x Genero'!#REF!","v":{"$error":"#REF!"}},48]
[{"$f":"'Pob x Genero'!#REF!","v":{"$error":"#REF!"}},{"$f":"'Pob x Genero'!#REF!","v":{"$error":"#REF!"}},{"$f":"'Pob x Genero'!#REF!","v":{"$error":"#REF!"}},{"$f":"'Pob x Genero'!#REF!","v":{"$error":"#REF!"}},{"$f":"'Pob x Genero'!#REF!","v":{"$error":"#REF!"}},"Hombre","00-04",{"$f":"'Pob x Genero'!#REF!","v":{"$error":"#REF!"}},49]
[{"$f":"'Pob x Genero'!#REF!","v":{"$error":"#REF!"}},{"$f":"'Pob x Genero'!#REF!","v":{"$error":"#REF!"}},{"$f":"'Pob x Genero'!#REF!","v":{"$error":"#REF!"}},{"$f":"'Pob x Genero'!#REF!","v":{"$error":"#REF!"}},{"$f":"'Pob x Genero'!#REF!","v":{"$error":"#REF!"}},"Hombre","00-04",{"$f":"'Pob x Genero'!#REF!","v":{"$error":"#REF!"}},50]
[{"$f":"'Pob x Genero'!#REF!","v":{"$error":"#REF!"}},{"$f":"'Pob x Genero'!#REF!","v":{"$error":"#REF!"}},{"$f":"'Pob x Genero'!#REF!","v":{"$error":"#REF!"}},{"$f":"'Pob x Genero'!#REF!","v":{"$error":"#REF!"}},{"$f":"'Pob x Genero'!#REF!","v":{"$error":"#REF!"}},"Hombre","00-04",{"$f":"'Pob x Genero'!#REF!","v":{"$error":"#REF!"}},51]
[{"$f":"'Pob x Genero'!#REF!","v":{"$error":"#REF!"}},{"$f":"'Pob x Genero'!#REF!","v":{"$error":"#REF!"}},{"$f":"'Pob x Genero'!#REF!","v":{"$error":"#REF!"}},{"$f":"'Pob x Genero'!#REF!","v":{"$error":"#REF!"}},{"$f":"'Pob x Genero'!#REF!","v":{"$error":"#REF!"}},"Hombre","00-04",{"$f":"'Pob x Genero'!#REF!","v":{"$error":"#REF!"}},52]
[{"$f":"'Pob x Genero'!#REF!","v":{"$error":"#REF!"}},{"$f":"'Pob x Genero'!#REF!","v":{"$error":"#REF!"}},{"$f":"'Pob x Genero'!#REF!","v":{"$error":"#REF!"}},{"$f":"'Pob x Genero'!#REF!","v":{"$error":"#REF!"}},{"$f":"'Pob x Genero'!#REF!","v":{"$error":"#REF!"}},"Hombre","00-04",{"$f":"'Pob x Genero'!#REF!","v":{"$error":"#REF!"}},53]
[{"$f":"'Pob x Genero'!#REF!","v":{"$error":"#REF!"}},{"$f":"'Pob x Genero'!#REF!","v":{"$error":"#REF!"}},{"$f":"'Pob x Genero'!#REF!","v":{"$error":"#REF!"}},{"$f":"'Pob x Genero'!#REF!","v":{"$error":"#REF!"}},{"$f":"'Pob x Genero'!#REF!","v":{"$error":"#REF!"}},"Hombre","00-04",{"$f":"'Pob x Genero'!#REF!","v":{"$error":"#REF!"}},54]
[{"$f":"'Pob x Genero'!#REF!","v":{"$error":"#REF!"}},{"$f":"'Pob x Genero'!#REF!","v":{"$error":"#REF!"}},{"$f":"'Pob x Genero'!#REF!","v":{"$error":"#REF!"}},{"$f":"'Pob x Genero'!#REF!","v":{"$error":"#REF!"}},{"$f":"'Pob x Genero'!#REF!","v":{"$error":"#REF!"}},"Hombre","00-04",{"$f":"'Pob x Genero'!#REF!","v":{"$error":"#REF!"}},55]
[{"$f":"'Pob x Genero'!#REF!","v":{"$error":"#REF!"}},{"$f":"'Pob x Genero'!#REF!","v":{"$error":"#REF!"}},{"$f":"'Pob x Genero'!#REF!","v":{"$error":"#REF!"}},{"$f":"'Pob x Genero'!#REF!","v":{"$error":"#REF!"}},{"$f":"'Pob x Genero'!#REF!","v":{"$error":"#REF!"}},"Hombre","00-04",{"$f":"'Pob x Genero'!#REF!","v":{"$error":"#REF!"}},56]
[{"$f":"'Pob x Genero'!#REF!","v":{"$error":"#REF!"}},{"$f":"'Pob x Genero'!#REF!","v":{"$error":"#REF!"}},{"$f":"'Pob x Genero'!#REF!","v":{"$error":"#REF!"}},{"$f":"'Pob x Genero'!#REF!","v":{"$error":"#REF!"}},{"$f":"'Pob x Genero'!#REF!","v":{"$error":"#REF!"}},"Hombre","00-04",{"$f":"'Pob x Genero'!#REF!","v":{"$error":"#REF!"}},57]
[{"$f":"'Pob x Genero'!#REF!","v":{"$error":"#REF!"}},{"$f":"'Pob x Genero'!#REF!","v":{"$error":"#REF!"}},{"$f":"'Pob x Genero'!#REF!","v":{"$error":"#REF!"}},{"$f":"'Pob x Genero'!#REF!","v":{"$error":"#REF!"}},{"$f":"'Pob x Genero'!#REF!","v":{"$error":"#REF!"}},"Hombre","00-04",{"$f":"'Pob x Genero'!#REF!","v":{"$error":"#REF!"}},58]
[{"$f":"'Pob x Genero'!#REF!","v":{"$error":"#REF!"}},{"$f":"'Pob x Genero'!#REF!","v":{"$error":"#REF!"}},{"$f":"'Pob x Genero'!#REF!","v":{"$error":"#REF!"}},{"$f":"'Pob x Genero'!#REF!","v":{"$error":"#REF!"}},{"$f":"'Pob x Genero'!#REF!","v":{"$error":"#REF!"}},"Hombre","00-04",{"$f":"'Pob x Genero'!#REF!","v":{"$error":"#REF!"}},59]
[{"$f":"'Pob x Genero'!#REF!","v":{"$error":"#REF!"}},{"$f":"'Pob x Genero'!#REF!","v":{"$error":"#REF!"}},{"$f":"'Pob x Genero'!#REF!","v":{"$error":"#REF!"}},{"$f":"'Pob x Genero'!#REF!","v":{"$error":"#REF!"}},{"$f":"'Pob x Genero'!#REF!","v":{"$error":"#REF!"}},"Hombre","00-04",{"$f":"'Pob x Genero'!#REF!","v":{"$error":"#REF!"}},60]
[{"$f":"'Pob x Genero'!#REF!","v":{"$error":"#REF!"}},{"$f":"'Pob x Genero'!#REF!","v":{"$error":"#REF!"}},{"$f":"'Pob x Genero'!#REF!","v":{"$error":"#REF!"}},{"$f":"'Pob x Genero'!#REF!","v":{"$error":"#REF!"}},{"$f":"'Pob x Genero'!#REF!","v":{"$error":"#REF!"}},"Hombre","00-04",{"$f":"'Pob x Genero'!#REF!","v":{"$error":"#REF!"}},61]
[{"$f":"'Pob x Genero'!#REF!","v":{"$error":"#REF!"}},{"$f":"'Pob x Genero'!#REF!","v":{"$error":"#REF!"}},{"$f":"'Pob x Genero'!#REF!","v":{"$error":"#REF!"}},{"$f":"'Pob x Genero'!#REF!","v":{"$error":"#REF!"}},{"$f":"'Pob x Genero'!#REF!","v":{"$error":"#REF!"}},"Hombre","00-04",{"$f":"'Pob x Genero'!#REF!","v":{"$error":"#REF!"}},62]
[{"$f":"'Pob x Genero'!#REF!","v":{"$error":"#REF!"}},{"$f":"'Pob x Genero'!#REF!","v":{"$error":"#REF!"}},{"$f":"'Pob x Genero'!#REF!","v":{"$error":"#REF!"}},{"$f":"'Pob x Genero'!#REF!","v":{"$error":"#REF!"}},{"$f":"'Pob x Genero'!#REF!","v":{"$error":"#REF!"}},"Hombre","00-04",{"$f":"'Pob x Genero'!#REF!","v":{"$error":"#REF!"}},63]
[{"$f":"'Pob x Genero'!#REF!","v":{"$error":"#REF!"}},{"$f":"'Pob x Genero'!#REF!","v":{"$error":"#REF!"}},{"$f":"'Pob x Genero'!#REF!","v":{"$error":"#REF!"}},{"$f":"'Pob x Genero'!#REF!","v":{"$error":"#REF!"}},{"$f":"'Pob x Genero'!#REF!","v":{"$error":"#REF!"}},"Hombre","00-04",{"$f":"'Pob x Genero'!#REF!","v":{"$error":"#REF!"}},64]
[{"$f":"'Pob x Genero'!#REF!","v":{"$error":"#REF!"}},{"$f":"'Pob x Genero'!#REF!","v":{"$error":"#REF!"}},{"$f":"'Pob x Genero'!#REF!","v":{"$error":"#REF!"}},{"$f":"'Pob x Genero'!#REF!","v":{"$error":"#REF!"}},{"$f":"'Pob x Genero'!#REF!","v":{"$error":"#REF!"}},"Hombre","00-04",{"$f":"'Pob x Genero'!#REF!","v":{"$error":"#REF!"}},65]
[{"$f":"'Pob x Genero'!#REF!","v":{"$error":"#REF!"}},{"$f":"'Pob x Genero'!#REF!","v":{"$error":"#REF!"}},{"$f":"'Pob x Genero'!#REF!","v":{"$error":"#REF!"}},{"$f":"'Pob x Genero'!#REF!","v":{"$error":"#REF!"}},{"$f":"'Pob x Genero'!#REF!","v":{"$error":"#REF!"}},{"$f":"F66","v":"Hombre"},{"$f":"G66","v":"00-04"},{"$f":"'Pob x Genero'!#REF!","v":{"$error":"#REF!"}},66]
[{"$f":"'Pob x Genero'!#REF!","v":{"$error":"#REF!"}},{"$f":"'Pob x Genero'!#REF!","v":{"$error":"#REF!"}},{"$f":"'Pob x Genero'!#REF!","v":{"$error":"#REF!"}},{"$f":"'Pob x Genero'!#REF!","v":{"$error":"#REF!"}},{"$f":"'Pob x Genero'!#REF!","v":{"$error":"#REF!"}},"Hombre","00-04",{"$f":"'Pob x Genero'!#REF!","v":{"$error":"#REF!"}},67]
[{"$f":"'Pob x Genero'!#REF!","v":{"$error":"#REF!"}},{"$f":"'Pob x Genero'!#REF!","v":{"$error":"#REF!"}},{"$f":"'Pob x Genero'!#REF!","v":{"$error":"#REF!"}},{"$f":"'Pob x Genero'!#REF!","v":{"$error":"#REF!"}},{"$f":"'Pob x Genero'!#REF!","v":{"$error":"#REF!"}},"Hombre","00-04",{"$f":"'Pob x Genero'!#REF!","v":{"$error":"#REF!"}},68]
[{"$f":"'Pob x Genero'!#REF!","v":{"$error":"#REF!"}},{"$f":"'Pob x Genero'!#REF!","v":{"$error":"#REF!"}},{"$f":"'Pob x Genero'!#REF!","v":{"$error":"#REF!"}},{"$f":"'Pob x Genero'!#REF!","v":{"$error":"#REF!"}},{"$f":"'Pob x Genero'!#REF!","v":{"$error":"#REF!"}},"Hombre","00-04",{"$f":"'Pob x Genero'!#REF!","v":{"$error":"#REF!"}},69]
[{"$f":"'Pob x Genero'!#REF!","v":{"$error":"#REF!"}},{"$f":"'Pob x Genero'!#REF!","v":{"$error":"#REF!"}},{"$f":"'Pob x Genero'!#REF!","v":{"$error":"#REF!"}},{"$f":"'Pob x Genero'!#REF!","v":{"$error":"#REF!"}},{"$f":"'Pob x Genero'!#REF!","v":{"$error":"#REF!"}},"Hombre","00-04",{"$f":"'Pob x Genero'!#REF!","v":{"$error":"#REF!"}},70]
[{"$f":"'Pob x Genero'!#REF!","v":{"$error":"#REF!"}},{"$f":"'Pob x Genero'!#REF!","v":{"$error":"#REF!"}},{"$f":"'Pob x Genero'!#REF!","v":{"$error":"#REF!"}},{"$f":"'Pob x Genero'!#REF!","v":{"$error":"#REF!"}},{"$f":"'Pob x Genero'!#REF!","v":{"$error":"#REF!"}},"Hombre","00-04",{"$f":"'Pob x Genero'!#REF!","v":{"$error":"#REF!"}},71]
[{"$f":"'Pob x Genero'!#REF!","v":{"$error":"#REF!"}},{"$f":"'Pob x Genero'!#REF!","v":{"$error":"#REF!"}},{"$f":"'Pob x Genero'!#REF!","v":{"$error":"#REF!"}},{"$f":"'Pob x Genero'!#REF!","v":{"$error":"#REF!"}},{"$f":"'Pob x Genero'!#REF!","v":{"$error":"#REF!"}},"Hombre","00-04",{"$f":"'Pob x Genero'!#REF!","v":{"$error":"#REF!"}},72]
[{"$f":"'Pob x Genero'!#REF!","v":{"$error":"#REF!"}},{"$f":"'Pob x Genero'!#REF!","v":{"$error":"#REF!"}},{"$f":"'Pob x Genero'!#REF!","v":{"$error":"#REF!"}},{"$f":"'Pob x Genero'!#REF!","v":{"$error":"#REF!"}},{"$f":"'Pob x Genero'!#REF!","v":{"$error":"#REF!"}},"Hombre","00-04",{"$f":"'Pob x Genero'!#REF!","v":{"$error":"#REF!"}},73]
[{"$f":"'Pob x Genero'!#REF!","v":{"$error":"#REF!"}},{"$f":"'Pob x Genero'!#REF!","v":{"$error":"#REF!"}},{"$f":"'Pob x Genero'!#REF!","v":{"$error":"#REF!"}},{"$f":"'Pob x Genero'!#REF!","v":{"$error":"#REF!"}},{"$f":"'Pob x Genero'!#REF!","v":{"$error":"#REF!"}},"Hombre","00-04",{"$f":"'Pob x Genero'!#REF!","v":{"$error":"#REF!"}},74]
[{"$f":"'Pob x Genero'!#REF!","v":{"$error":"#REF!"}},{"$f":"'Pob x Genero'!#REF!","v":{"$error":"#REF!"}},{"$f":"'Pob x Genero'!#REF!","v":{"$error":"#REF!"}},{"$f":"'Pob x Genero'!#REF!","v":{"$error":"#REF!"}},{"$f":"'Pob x Genero'!#REF!","v":{"$error":"#REF!"}},"Hombre","00-04",{"$f":"'Pob x Genero'!#REF!","v":{"$error":"#REF!"}},75]
[{"$f":"'Pob x Genero'!#REF!","v":{"$error":"#REF!"}},{"$f":"'Pob x Genero'!#REF!","v":{"$error":"#REF!"}},{"$f":"'Pob x Genero'!#REF!","v":{"$error":"#REF!"}},{"$f":"'Pob x Genero'!#REF!","v":{"$error":"#REF!"}},{"$f":"'Pob x Genero'!#REF!","v":{"$error":"#REF!"}},"Hombre","00-04",{"$f":"'Pob x Genero'!#REF!","v":{"$error":"#REF!"}},76]
[{"$f":"'Pob x Genero'!#REF!","v":{"$error":"#REF!"}},{"$f":"'Pob x Genero'!#REF!","v":{"$error":"#REF!"}},{"$f":"'Pob x Genero'!#REF!","v":{"$error":"#REF!"}},{"$f":"'Pob x Genero'!#REF!","v":{"$error":"#REF!"}},{"$f":"'Pob x Genero'!#REF!","v":{"$error":"#REF!"}},"Hombre","00-04",{"$f":"'Pob x Genero'!#REF!","v":{"$error":"#REF!"}},77]
[{"$f":"'Pob x Genero'!#REF!","v":{"$error":"#REF!"}},{"$f":"'Pob x Genero'!#REF!","v":{"$error":"#REF!"}},{"$f":"'Pob x Genero'!#REF!","v":{"$error":"#REF!"}},{"$f":"'Pob x Genero'!#REF!","v":{"$error":"#REF!"}},{"$f":"'Pob x Genero'!#REF!","v":{"$error":"#REF!"}},"Hombre","00-04",{"$f":"'Pob x Genero'!#REF!","v":{"$error":"#REF!"}},78]
[{"$f":"'Pob x Genero'!#REF!","v":{"$error":"#REF!"}},{"$f":"'Pob x Genero'!#REF!","v":{"$error":"#REF!"}},{"$f":"'Pob x Genero'!#REF!","v":{"$error":"#REF!"}},{"$f":"'Pob x Genero'!#REF!","v":{"$error":"#REF!"}},{"$f":"'Pob x Genero'!#REF!","v":{"$error":"#REF!"}},"Hombre","00-04",{"$f":"'Pob x Genero'!#REF!","v":{"$error":"#REF!"}},79]
[{"$f":"'Pob x Genero'!#REF!","v":{"$error":"#REF!"}},{"$f":"'Pob x Genero'!#REF!","v":{"$error":"#REF!"}},{"$f":"'Pob x Genero'!#REF!","v":{"$error":"#REF!"}},{"$f":"'Pob x Genero'!#REF!","v":{"$error":"#REF!"}},{"$f":"'Pob x Genero'!#REF!","v":{"$error":"#REF!"}},"Hombre","00-04",{"$f":"'Pob x Genero'!#REF!","v":{"$error":"#REF!"}},80]
[{"$f":"'Pob x Genero'!#REF!","v":{"$error":"#REF!"}},{"$f":"'Pob x Genero'!#REF!","v":{"$error":"#REF!"}},{"$f":"'Pob x Genero'!#REF!","v":{"$error":"#REF!"}},{"$f":"'Pob x Genero'!#REF!","v":{"$error":"#REF!"}},{"$f":"'Pob x Genero'!#REF!","v":{"$error":"#REF!"}},"Hombre","00-04",{"$f":"'Pob x Genero'!#REF!","v":{"$error":"#REF!"}},81]
[{"$f":"'Pob x Genero'!#REF!","v":{"$error":"#REF!"}},{"$f":"'Pob x Genero'!#REF!","v":{"$error":"#REF!"}},{"$f":"'Pob x Genero'!#REF!","v":{"$error":"#REF!"}},{"$f":"'Pob x Genero'!#REF!","v":{"$error":"#REF!"}},{"$f":"'Pob x Genero'!#REF!","v":{"$error":"#REF!"}},"Hombre","00-04",{"$f":"'Pob x Genero'!#REF!","v":{"$error":"#REF!"}},82]
[{"$f":"'Pob x Genero'!#REF!","v":{"$error":"#REF!"}},{"$f":"'Pob x Genero'!#REF!","v":{"$error":"#REF!"}},{"$f":"'Pob x Genero'!#REF!","v":{"$error":"#REF!"}},{"$f":"'Pob x Genero'!#REF!","v":{"$error":"#REF!"}},{"$f":"'Pob x Genero'!#REF!","v":{"$error":"#REF!"}},"Hombre","00-04",{"$f":"'Pob x Genero'!#REF!","v":{"$error":"#REF!"}},83]
[{"$f":"'Pob x Genero'!#REF!","v":{"$error":"#REF!"}},{"$f":"'Pob x Genero'!#REF!","v":{"$error":"#REF!"}},{"$f":"'Pob x Genero'!#REF!","v":{"$error":"#REF!"}},{"$f":"'Pob x Genero'!#REF!","v":{"$error":"#REF!"}},{"$f":"'Pob x Genero'!#REF!","v":{"$error":"#REF!"}},"Hombre","00-04",{"$f":"'Pob x Genero'!#REF!","v":{"$error":"#REF!"}},84]
[{"$f":"'Pob x Genero'!#REF!","v":{"$error":"#REF!"}},{"$f":"'Pob x Genero'!#REF!","v":{"$error":"#REF!"}},{"$f":"'Pob x Genero'!#REF!","v":{"$error":"#REF!"}},{"$f":"'Pob x Genero'!#REF!","v":{"$error":"#REF!"}},{"$f":"'Pob x Genero'!#REF!","v":{"$error":"#REF!"}},"Hombre","00-04",{"$f":"'Pob x Genero'!#REF!","v":{"$error":"#REF!"}},85]
[{"$f":"'Pob x Genero'!#REF!","v":{"$error":"#REF!"}},{"$f":"'Pob x Genero'!#REF!","v":{"$error":"#REF!"}},{"$f":"'Pob x Genero'!#REF!","v":{"$error":"#REF!"}},{"$f":"'Pob x Genero'!#REF!","v":{"$error":"#REF!"}},{"$f":"'Pob x Genero'!#REF!","v":{"$error":"#REF!"}},"Hombre","00-04",{"$f":"'Pob x Genero'!#REF!","v":{"$error":"#REF!"}},86]
[{"$f":"'Pob x Genero'!#REF!","v":{"$error":"#REF!"}},{"$f":"'Pob x Genero'!#REF!","v":{"$error":"#REF!"}},{"$f":"'Pob x Genero'!#REF!","v":{"$error":"#REF!"}},{"$f":"'Pob x Genero'!#REF!","v":{"$error":"#REF!"}},{"$f":"'Pob x Genero'!#REF!","v":{"$error":"#REF!"}},"Hombre","00-04",{"$f":"'Pob x Genero'!#REF!","v":{"$error":"#REF!"}},87]
[{"$f":"'Pob x Genero'!#REF!","v":{"$error":"#REF!"}},{"$f":"'Pob x Genero'!#REF!","v":{"$error":"#REF!"}},{"$f":"'Pob x Genero'!#REF!","v":{"$error":"#REF!"}},{"$f":"'Pob x Genero'!#REF!","v":{"$error":"#REF!"}},{"$f":"'Pob x Genero'!#REF!","v":{"$error":"#REF!"}},"Hombre","00-04",{"$f":"'Pob x Genero'!#REF!","v":{"$error":"#REF!"}},88]
[{"$f":"'Pob x Genero'!#REF!","v":{"$error":"#REF!"}},{"$f":"'Pob x Genero'!#REF!","v":{"$error":"#REF!"}},{"$f":"'Pob x Genero'!#REF!","v":{"$error":"#REF!"}},{"$f":"'Pob x Genero'!#REF!","v":{"$error":"#REF!"}},{"$f":"'Pob x Genero'!#REF!","v":{"$error":"#REF!"}},"Hombre","00-04",{"$f":"'Pob x Genero'!#REF!","v":{"$error":"#REF!"}},89]
[{"$f":"'Pob x Genero'!#REF!","v":{"$error":"#REF!"}},{"$f":"'Pob x Genero'!#REF!","v":{"$error":"#REF!"}},{"$f":"'Pob x Genero'!#REF!","v":{"$error":"#REF!"}},{"$f":"'Pob x Genero'!#REF!","v":{"$error":"#REF!"}},{"$f":"'Pob x Genero'!#REF!","v":{"$error":"#REF!"}},"Hombre","00-04",{"$f":"'Pob x Genero'!#REF!","v":{"$error":"#REF!"}},90]
[{"$f":"'Pob x Genero'!#REF!","v":{"$error":"#REF!"}},{"$f":"'Pob x Genero'!#REF!","v":{"$error":"#REF!"}},{"$f":"'Pob x Genero'!#REF!","v":{"$error":"#REF!"}},{"$f":"'Pob x Genero'!#REF!","v":{"$error":"#REF!"}},{"$f":"'Pob x Genero'!#REF!","v":{"$error":"#REF!"}},"Hombre","00-04",{"$f":"'Pob x Genero'!#REF!","v":{"$error":"#REF!"}},91]
[{"$f":"'Pob x Genero'!#REF!","v":{"$error":"#REF!"}},{"$f":"'Pob x Genero'!#REF!","v":{"$error":"#REF!"}},{"$f":"'Pob x Genero'!#REF!","v":{"$error":"#REF!"}},{"$f":"'Pob x Genero'!#REF!","v":{"$error":"#REF!"}},{"$f":"'Pob x Genero'!#REF!","v":{"$error":"#REF!"}},"Hombre","00-04",{"$f":"'Pob x Genero'!#REF!","v":{"$error":"#REF!"}},92]
[{"$f":"'Pob x Genero'!#REF!","v":{"$error":"#REF!"}},{"$f":"'Pob x Genero'!#REF!","v":{"$error":"#REF!"}},{"$f":"'Pob x Genero'!#REF!","v":{"$error":"#REF!"}},{"$f":"'Pob x Genero'!#REF!","v":{"$error":"#REF!"}},{"$f":"'Pob x Genero'!#REF!","v":{"$error":"#REF!"}},"Hombre","00-04",{"$f":"'Pob x Genero'!#REF!","v":{"$error":"#REF!"}},93]
[{"$f":"'Pob x Genero'!#REF!","v":{"$error":"#REF!"}},{"$f":"'Pob x Genero'!#REF!","v":{"$error":"#REF!"}},{"$f":"'Pob x Genero'!#REF!","v":{"$error":"#REF!"}},{"$f":"'Pob x Genero'!#REF!","v":{"$error":"#REF!"}},{"$f":"'Pob x Genero'!#REF!","v":{"$error":"#REF!"}},"Hombre","00-04",{"$f":"'Pob x Genero'!#REF!","v":{"$error":"#REF!"}},94]
[{"$f":"'Pob x Genero'!#REF!","v":{"$error":"#REF!"}},{"$f":"'Pob x Genero'!#REF!","v":{"$error":"#REF!"}},{"$f":"'Pob x Genero'!#REF!","v":{"$error":"#REF!"}},{"$f":"'Pob x Genero'!#REF!","v":{"$error":"#REF!"}},{"$f":"'Pob x Genero'!#REF!","v":{"$error":"#REF!"}},"Hombre","00-04",{"$f":"'Pob x Genero'!#REF!","v":{"$error":"#REF!"}},95]
[{"$f":"'Pob x Genero'!#REF!","v":{"$error":"#REF!"}},{"$f":"'Pob x Genero'!#REF!","v":{"$error":"#REF!"}},{"$f":"'Pob x Genero'!#REF!","v":{"$error":"#REF!"}},{"$f":"'Pob x Genero'!#REF!","v":{"$error":"#REF!"}},{"$f":"'Pob x Genero'!#REF!","v":{"$error":"#REF!"}},"Hombre","00-04",{"$f":"'Pob x Genero'!#REF!","v":{"$error":"#REF!"}},96]
[{"$f":"'Pob x Genero'!#REF!","v":{"$error":"#REF!"}},{"$f":"'Pob x Genero'!#REF!","v":{"$error":"#REF!"}},{"$f":"'Pob x Genero'!#REF!","v":{"$error":"#REF!"}},{"$f":"'Pob x Genero'!#REF!","v":{"$error":"#REF!"}},{"$f":"'Pob x Genero'!#REF!","v":{"$error":"#REF!"}},"Hombre","00-04",{"$f":"'Pob x Genero'!#REF!","v":{"$error":"#REF!"}},97]
[{"$f":"'Pob x Genero'!#REF!","v":{"$error":"#REF!"}},{"$f":"'Pob x Genero'!#REF!","v":{"$error":"#REF!"}},{"$f":"'Pob x Genero'!#REF!","v":{"$error":"#REF!"}},{"$f":"'Pob x Genero'!#REF!","v":{"$error":"#REF!"}},{"$f":"'Pob x Genero'!#REF!","v":{"$error":"#REF!"}},"Hombre","00-04",{"$f":"'Pob x Genero'!#REF!","v":{"$error":"#REF!"}},98]
[{"$f":"'Pob x Genero'!#REF!","v":{"$error":"#REF!"}},{"$f":"'Pob x Genero'!#REF!","v":{"$error":"#REF!"}},{"$f":"'Pob x Genero'!#REF!","v":{"$error":"#REF!"}},{"$f":"'Pob x Genero'!#REF!","v":{"$error":"#REF!"}},{"$f":"'Pob x Genero'!#REF!","v":{"$error":"#REF!"}},"Hombre","00-04",{"$f":"'Pob x Genero'!#REF!","v":{"$error":"#REF!"}},99]
[{"$f":"'Pob x Genero'!#REF!","v":{"$error":"#REF!"}},{"$f":"'Pob x Genero'!#REF!","v":{"$error":"#REF!"}},{"$f":"'Pob x Genero'!#REF!","v":{"$error":"#REF!"}},{"$f":"'Pob x Genero'!#REF!","v":{"$error":"#REF!"}},{"$f":"'Pob x Genero'!#REF!","v":{"$error":"#REF!"}},"Hombre","00-04",{"$f":"'Pob x Genero'!#REF!","v":{"$error":"#REF!"}},100]
[{"$f":"'Pob x Genero'!#REF!","v":{"$error":"#REF!"}},{"$f":"'Pob x Genero'!#REF!","v":{"$error":"#REF!"}},{"$f":"'Pob x Genero'!#REF!","v":{"$error":"#REF!"}},{"$f":"'Pob x Genero'!#REF!","v":{"$error":"#REF!"}},{"$f":"'Pob x Genero'!#REF!","v":{"$error":"#REF!"}},"Hombre","00-04",{"$f":"'Pob x Genero'!#REF!","v":{"$error":"#REF!"}},101]
[{"$f":"'Pob x Genero'!#REF!","v":{"$error":"#REF!"}},{"$f":"'Pob x Genero'!#REF!","v":{"$error":"#REF!"}},{"$f":"'Pob x Genero'!#REF!","v":{"$error":"#REF!"}},{"$f":"'Pob x Genero'!#REF!","v":{"$error":"#REF!"}},{"$f":"'Pob x Genero'!#REF!","v":{"$error":"#REF!"}},"Hombre","00-04",{"$f":"'Pob x Genero'!#REF!","v":{"$error":"#REF!"}},102]
[{"$f":"'Pob x Genero'!#REF!","v":{"$error":"#REF!"}},{"$f":"'Pob x Genero'!#REF!","v":{"$error":"#REF!"}},{"$f":"'Pob x Genero'!#REF!","v":{"$error":"#REF!"}},{"$f":"'Pob x Genero'!#REF!","v":{"$error":"#REF!"}},{"$f":"'Pob x Genero'!#REF!","v":{"$error":"#REF!"}},"Hombre","00-04",{"$f":"'Pob x Genero'!#REF!","v":{"$error":"#REF!"}},103]
[{"$f":"'Pob x Genero'!#REF!","v":{"$error":"#REF!"}},{"$f":"'Pob x Genero'!#REF!","v":{"$error":"#REF!"}},{"$f":"'Pob x Genero'!#REF!","v":{"$error":"#REF!"}},{"$f":"'Pob x Genero'!#REF!","v":{"$error":"#REF!"}},{"$f":"'Pob x Genero'!#REF!","v":{"$error":"#REF!"}},"Hombre","00-04",{"$f":"'Pob x Genero'!#REF!","v":{"$error":"#REF!"}},104]
[{"$f":"'Pob x Genero'!#REF!","v":{"$error":"#REF!"}},{"$f":"'Pob x Genero'!#REF!","v":{"$error":"#REF!"}},{"$f":"'Pob x Genero'!#REF!","v":{"$error":"#REF!"}},{"$f":"'Pob x Genero'!#REF!","v":{"$error":"#REF!"}},{"$f":"'Pob x Genero'!#REF!","v":{"$error":"#REF!"}},"Hombre","00-04",{"$f":"'Pob x Genero'!#REF!","v":{"$error":"#REF!"}},105]
[{"$f":"'Pob x Genero'!#REF!","v":{"$error":"#REF!"}},{"$f":"'Pob x Genero'!#REF!","v":{"$error":"#REF!"}},{"$f":"'Pob x Genero'!#REF!","v":{"$error":"#REF!"}},{"$f":"'Pob x Genero'!#REF!","v":{"$error":"#REF!"}},{"$f":"'Pob x Genero'!#REF!","v":{"$error":"#REF!"}},"Hombre","00-04",{"$f":"'Pob x Genero'!#REF!","v":{"$error":"#REF!"}},106]
[{"$f":"'Pob x Genero'!#REF!","v":{"$error":"#REF!"}},{"$f":"'Pob x Genero'!#REF!","v":{"$error":"#REF!"}},{"$f":"'Pob x Genero'!#REF!","v":{"$error":"#REF!"}},{"$f":"'Pob x Genero'!#REF!","v":{"$error":"#REF!"}},{"$f":"'Pob x Genero'!#REF!","v":{"$error":"#REF!"}},"Hombre","00-04",{"$f":"'Pob x Genero'!#REF!","v":{"$error":"#REF!"}},107]
[{"$f":"'Pob x Genero'!#REF!","v":{"$error":"#REF!"}},{"$f":"'Pob x Genero'!#REF!","v":{"$error":"#REF!"}},{"$f":"'Pob x Genero'!#REF!","v":{"$error":"#REF!"}},{"$f":"'Pob x Genero'!#REF!","v":{"$error":"#REF!"}},{"$f":"'Pob x Genero'!#REF!","v":{"$error":"#REF!"}},"Hombre","00-04",{"$f":"'Pob x Genero'!#REF!","v":{"$error":"#REF!"}},108]
[{"$f":"'Pob x Genero'!#REF!","v":{"$error":"#REF!"}},{"$f":"'Pob x Genero'!#REF!","v":{"$error":"#REF!"}},{"$f":"'Pob x Genero'!#REF!","v":{"$error":"#REF!"}},{"$f":"'Pob x Genero'!#REF!","v":{"$error":"#REF!"}},{"$f":"'Pob x Genero'!#REF!","v":{"$error":"#REF!"}},"Hombre","00-04",{"$f":"'Pob x Genero'!#REF!","v":{"$error":"#REF!"}},109]
[{"$f":"'Pob x Genero'!#REF!","v":{"$error":"#REF!"}},{"$f":"'Pob x Genero'!#REF!","v":{"$error":"#REF!"}},{"$f":"'Pob x Genero'!#REF!","v":{"$error":"#REF!"}},{"$f":"'Pob x Genero'!#REF!","v":{"$error":"#REF!"}},{"$f":"'Pob x Genero'!#REF!","v":{"$error":"#REF!"}},"Hombre","00-04",{"$f":"'Pob x Genero'!#REF!","v":{"$error":"#REF!"}},110]
[{"$f":"'Pob x Genero'!#REF!","v":{"$error":"#REF!"}},{"$f":"'Pob x Genero'!#REF!","v":{"$error":"#REF!"}},{"$f":"'Pob x Genero'!#REF!","v":{"$error":"#REF!"}},{"$f":"'Pob x Genero'!#REF!","v":{"$error":"#REF!"}},{"$f":"'Pob x Genero'!#REF!","v":{"$error":"#REF!"}},"Hombre","00-04",{"$f":"'Pob x Genero'!#REF!","v":{"$error":"#REF!"}},111]
[{"$f":"'Pob x Genero'!#REF!","v":{"$error":"#REF!"}},{"$f":"'Pob x Genero'!#REF!","v":{"$error":"#REF!"}},{"$f":"'Pob x Genero'!#REF!","v":{"$error":"#REF!"}},{"$f":"'Pob x Genero'!#REF!","v":{"$error":"#REF!"}},{"$f":"'Pob x Genero'!#REF!","v":{"$error":"#REF!"}},"Hombre","00-04",{"$f":"'Pob x Genero'!#REF!","v":{"$error":"#REF!"}},112]
[{"$f":"'Pob x Genero'!#REF!","v":{"$error":"#REF!"}},{"$f":"'Pob x Genero'!#REF!","v":{"$error":"#REF!"}},{"$f":"'Pob x Genero'!#REF!","v":{"$error":"#REF!"}},{"$f":"'Pob x Genero'!#REF!","v":{"$error":"#REF!"}},{"$f":"'Pob x Genero'!#REF!","v":{"$error":"#REF!"}},"Hombre","00-04",{"$f":"'Pob x Genero'!#REF!","v":{"$error":"#REF!"}},113]
[{"$f":"'Pob x Genero'!#REF!","v":{"$error":"#REF!"}},{"$f":"'Pob x Genero'!#REF!","v":{"$error":"#REF!"}},{"$f":"'Pob x Genero'!#REF!","v":{"$error":"#REF!"}},{"$f":"'Pob x Genero'!#REF!","v":{"$error":"#REF!"}},{"$f":"'Pob x Genero'!#REF!","v":{"$error":"#REF!"}},"Hombre","00-04",{"$f":"'Pob x Genero'!#REF!","v":{"$error":"#REF!"}},114]
[{"$f":"'Pob x Genero'!#REF!","v":{"$error":"#REF!"}},{"$f":"'Pob x Genero'!#REF!","v":{"$error":"#REF!"}},{"$f":"'Pob x Genero'!#REF!","v":{"$error":"#REF!"}},{"$f":"'Pob x Genero'!#REF!","v":{"$error":"#REF!"}},{"$f":"'Pob x Genero'!#REF!","v":{"$error":"#REF!"}},"Hombre","00-04",{"$f":"'Pob x Genero'!#REF!","v":{"$error":"#REF!"}},115]
[{"$f":"'Pob x Genero'!#REF!","v":{"$error":"#REF!"}},{"$f":"'Pob x Genero'!#REF!","v":{"$error":"#REF!"}},{"$f":"'Pob x Genero'!#REF!","v":{"$error":"#REF!"}},{"$f":"'Pob x Genero'!#REF!","v":{"$error":"#REF!"}},{"$f":"'Pob x Genero'!#REF!","v":{"$error":"#REF!"}},"Hombre","00-04",{"$f":"'Pob x Genero'!#REF!","v":{"$error":"#REF!"}},116]
[{"$f":"'Pob x Genero'!#REF!","v":{"$error":"#REF!"}},{"$f":"'Pob x Genero'!#REF!","v":{"$error":"#REF!"}},{"$f":"'Pob x Genero'!#REF!","v":{"$error":"#REF!"}},{"$f":"'Pob x Genero'!#REF!","v":{"$error":"#REF!"}},{"$f":"'Pob x Genero'!#REF!","v":{"$error":"#REF!"}},"Hombre","00-04",{"$f":"'Pob x Genero'!#REF!","v":{"$error":"#REF!"}},117]
[{"$f":"'Pob x Genero'!#REF!","v":{"$error":"#REF!"}},{"$f":"'Pob x Genero'!#REF!","v":{"$error":"#REF!"}},{"$f":"'Pob x Genero'!#REF!","v":{"$error":"#REF!"}},{"$f":"'Pob x Genero'!#REF!","v":{"$error":"#REF!"}},{"$f":"'Pob x Genero'!#REF!","v":{"$error":"#REF!"}},"Hombre","00-04",{"$f":"'Pob x Genero'!#REF!","v":{"$error":"#REF!"}},118]
[{"$f":"'Pob x Genero'!#REF!","v":{"$error":"#REF!"}},{"$f":"'Pob x Genero'!#REF!","v":{"$error":"#REF!"}},{"$f":"'Pob x Genero'!#REF!","v":{"$error":"#REF!"}},{"$f":"'Pob x Genero'!#REF!","v":{"$error":"#REF!"}},{"$f":"'Pob x Genero'!#REF!","v":{"$error":"#REF!"}},"Hombre","00-04",{"$f":"'Pob x Genero'!#REF!","v":{"$error":"#REF!"}},119]
[{"$f":"'Pob x Genero'!#REF!","v":{"$error":"#REF!"}},{"$f":"'Pob x Genero'!#REF!","v":{"$error":"#REF!"}},{"$f":"'Pob x Genero'!#REF!","v":{"$error":"#REF!"}},{"$f":"'Pob x Genero'!#REF!","v":{"$error":"#REF!"}},{"$f":"'Pob x Genero'!#REF!","v":{"$error":"#REF!"}},"Hombre","00-04",{"$f":"'Pob x Genero'!#REF!","v":{"$error":"#REF!"}},120]
[{"$f":"'Pob x Genero'!#REF!","v":{"$error":"#REF!"}},{"$f":"'Pob x Genero'!#REF!","v":{"$error":"#REF!"}},{"$f":"'Pob x Genero'!#REF!","v":{"$error":"#REF!"}},{"$f":"'Pob x Genero'!#REF!","v":{"$error":"#REF!"}},{"$f":"'Pob x Genero'!#REF!","v":{"$error":"#REF!"}},"Hombre","00-04",{"$f":"'Pob x Genero'!#REF!","v":{"$error":"#REF!"}},121]
[{"$f":"'Pob x Genero'!#REF!","v":{"$error":"#REF!"}},{"$f":"'Pob x Genero'!#REF!","v":{"$error":"#REF!"}},{"$f":"'Pob x Genero'!#REF!","v":{"$error":"#REF!"}},{"$f":"'Pob x Genero'!#REF!","v":{"$error":"#REF!"}},{"$f":"'Pob x Genero'!#REF!","v":{"$error":"#REF!"}},"Hombre","00-04",{"$f":"'Pob x Genero'!#REF!","v":{"$error":"#REF!"}},122]
[{"$f":"'Pob x Genero'!#REF!","v":{"$error":"#REF!"}},{"$f":"'Pob x Genero'!#REF!","v":{"$error":"#REF!"}},{"$f":"'Pob x Genero'!#REF!","v":{"$error":"#REF!"}},{"$f":"'Pob x Genero'!#REF!","v":{"$error":"#REF!"}},{"$f":"'Pob x Genero'!#REF!","v":{"$error":"#REF!"}},"Hombre","00-04",{"$f":"'Pob x Genero'!#REF!","v":{"$error":"#REF!"}},123]
[{"$f":"'Pob x Genero'!#REF!","v":{"$error":"#REF!"}},{"$f":"'Pob x Genero'!#REF!","v":{"$error":"#REF!"}},{"$f":"'Pob x Genero'!#REF!","v":{"$error":"#REF!"}},{"$f":"'Pob x Genero'!#REF!","v":{"$error":"#REF!"}},{"$f":"'Pob x Genero'!#REF!","v":{"$error":"#REF!"}},"Hombre","00-04",{"$f":"'Pob x Genero'!#REF!","v":{"$error":"#REF!"}},124]
[{"$f":"'Pob x Genero'!#REF!","v":{"$error":"#REF!"}},{"$f":"'Pob x Genero'!#REF!","v":{"$error":"#REF!"}},{"$f":"'Pob x Genero'!#REF!","v":{"$error":"#REF!"}},{"$f":"'Pob x Genero'!#REF!","v":{"$error":"#REF!"}},{"$f":"'Pob x Genero'!#REF!","v":{"$error":"#REF!"}},"Hombre","00-04",{"$f":"'Pob x Genero'!#REF!","v":{"$error":"#REF!"}},125]
[{"$f":"'Pob x Genero'!#REF!","v":{"$error":"#REF!"}},{"$f":"'Pob x Genero'!#REF!","v":{"$error":"#REF!"}},{"$f":"'Pob x Genero'!#REF!","v":{"$error":"#REF!"}},{"$f":"'Pob x Genero'!#REF!","v":{"$error":"#REF!"}},{"$f":"'Pob x Genero'!#REF!","v":{"$error":"#REF!"}},"Hombre","00-04",{"$f":"'Pob x Genero'!#REF!","v":{"$error":"#REF!"}},126]
[{"$f":"'Pob x Genero'!#REF!","v":{"$error":"#REF!"}},{"$f":"'Pob x Genero'!#REF!","v":{"$error":"#REF!"}},{"$f":"'Pob x Genero'!#REF!","v":{"$error":"#REF!"}},{"$f":"'Pob x Genero'!#REF!","v":{"$error":"#REF!"}},{"$f":"'Pob x Genero'!#REF!","v":{"$error":"#REF!"}},"Hombre","00-04",{"$f":"'Pob x Genero'!#REF!","v":{"$error":"#REF!"}},127]
[{"$f":"'Pob x Genero'!#REF!","v":{"$error":"#REF!"}},{"$f":"'Pob x Genero'!#REF!","v":{"$error":"#REF!"}},{"$f":"'Pob x Genero'!#REF!","v":{"$error":"#REF!"}},{"$f":"'Pob x Genero'!#REF!","v":{"$error":"#REF!"}},{"$f":"'Pob x Genero'!#REF!","v":{"$error":"#REF!"}},"Hombre","00-04",{"$f":"'Pob x Genero'!#REF!","v":{"$error":"#REF!"}},128]
[{"$f":"'Pob x Genero'!#REF!","v":{"$error":"#REF!"}},{"$f":"'Pob x Genero'!#REF!","v":{"$error":"#REF!"}},{"$f":"'Pob x Genero'!#REF!","v":{"$error":"#REF!"}},{"$f":"'Pob x Genero'!#REF!","v":{"$error":"#REF!"}},{"$f":"'Pob x Genero'!#REF!","v":{"$error":"#REF!"}},"Hombre","00-04",{"$f":"'Pob x Genero'!#REF!","v":{"$error":"#REF!"}},129]
[{"$f":"'Pob x Genero'!#REF!","v":{"$error":"#REF!"}},{"$f":"'Pob x Genero'!#REF!","v":{"$error":"#REF!"}},{"$f":"'Pob x Genero'!#REF!","v":{"$error":"#REF!"}},{"$f":"'Pob x Genero'!#REF!","v":{"$error":"#REF!"}},{"$f":"'Pob x Genero'!#REF!","v":{"$error":"#REF!"}},{"$f":"F130","v":"Hombre"},{"$f":"G130","v":"00-04"},{"$f":"'Pob x Genero'!#REF!","v":{"$error":"#REF!"}},130]
[{"$f":"'Pob x Genero'!#REF!","v":{"$error":"#REF!"}},{"$f":"'Pob x Genero'!#REF!","v":{"$error":"#REF!"}},{"$f":"'Pob x Genero'!#REF!","v":{"$error":"#REF!"}},{"$f":"'Pob x Genero'!#REF!","v":{"$error":"#REF!"}},{"$f":"'Pob x Genero'!#REF!","v":{"$error":"#REF!"}},"Hombre","00-04",{"$f":"'Pob x Genero'!#REF!","v":{"$error":"#REF!"}},131]
[{"$f":"'Pob x Genero'!#REF!","v":{"$error":"#REF!"}},{"$f":"'Pob x Genero'!#REF!","v":{"$error":"#REF!"}},{"$f":"'Pob x Genero'!#REF!","v":{"$error":"#REF!"}},{"$f":"'Pob x Genero'!#REF!","v":{"$error":"#REF!"}},{"$f":"'Pob x Genero'!#REF!","v":{"$error":"#REF!"}},"Hombre","00-04",{"$f":"'Pob x Genero'!#REF!","v":{"$error":"#REF!"}},132]
[{"$f":"'Pob x Genero'!#REF!","v":{"$error":"#REF!"}},{"$f":"'Pob x Genero'!#REF!","v":{"$error":"#REF!"}},{"$f":"'Pob x Genero'!#REF!","v":{"$error":"#REF!"}},{"$f":"'Pob x Genero'!#REF!","v":{"$error":"#REF!"}},{"$f":"'Pob x Genero'!#REF!","v":{"$error":"#REF!"}},"Hombre","00-04",{"$f":"'Pob x Genero'!#REF!","v":{"$error":"#REF!"}},133]
[{"$f":"'Pob x Genero'!#REF!","v":{"$error":"#REF!"}},{"$f":"'Pob x Genero'!#REF!","v":{"$error":"#REF!"}},{"$f":"'Pob x Genero'!#REF!","v":{"$error":"#REF!"}},{"$f":"'Pob x Genero'!#REF!","v":{"$error":"#REF!"}},{"$f":"'Pob x Genero'!#REF!","v":{"$error":"#REF!"}},"Hombre","00-04",{"$f":"'Pob x Genero'!#REF!","v":{"$error":"#REF!"}},134]
[{"$f":"'Pob x Genero'!#REF!","v":{"$error":"#REF!"}},{"$f":"'Pob x Genero'!#REF!","v":{"$error":"#REF!"}},{"$f":"'Pob x Genero'!#REF!","v":{"$error":"#REF!"}},{"$f":"'Pob x Genero'!#REF!","v":{"$error":"#REF!"}},{"$f":"'Pob x Genero'!#REF!","v":{"$error":"#REF!"}},"Hombre","00-04",{"$f":"'Pob x Genero'!#REF!","v":{"$error":"#REF!"}},135]
[{"$f":"'Pob x Genero'!#REF!","v":{"$error":"#REF!"}},{"$f":"'Pob x Genero'!#REF!","v":{"$error":"#REF!"}},{"$f":"'Pob x Genero'!#REF!","v":{"$error":"#REF!"}},{"$f":"'Pob x Genero'!#REF!","v":{"$error":"#REF!"}},{"$f":"'Pob x Genero'!#REF!","v":{"$error":"#REF!"}},"Hombre","00-04",{"$f":"'Pob x Genero'!#REF!","v":{"$error":"#REF!"}},136]
[{"$f":"'Pob x Genero'!#REF!","v":{"$error":"#REF!"}},{"$f":"'Pob x Genero'!#REF!","v":{"$error":"#REF!"}},{"$f":"'Pob x Genero'!#REF!","v":{"$error":"#REF!"}},{"$f":"'Pob x Genero'!#REF!","v":{"$error":"#REF!"}},{"$f":"'Pob x Genero'!#REF!","v":{"$error":"#REF!"}},"Hombre","00-04",{"$f":"'Pob x Genero'!#REF!","v":{"$error":"#REF!"}},137]
[{"$f":"'Pob x Genero'!#REF!","v":{"$error":"#REF!"}},{"$f":"'Pob x Genero'!#REF!","v":{"$error":"#REF!"}},{"$f":"'Pob x Genero'!#REF!","v":{"$error":"#REF!"}},{"$f":"'Pob x Genero'!#REF!","v":{"$error":"#REF!"}},{"$f":"'Pob x Genero'!#REF!","v":{"$error":"#REF!"}},"Hombre","00-04",{"$f":"'Pob x Genero'!#REF!","v":{"$error":"#REF!"}},138]
[{"$f":"'Pob x Genero'!#REF!","v":{"$error":"#REF!"}},{"$f":"'Pob x Genero'!#REF!","v":{"$error":"#REF!"}},{"$f":"'Pob x Genero'!#REF!","v":{"$error":"#REF!"}},{"$f":"'Pob x Genero'!#REF!","v":{"$error":"#REF!"}},{"$f":"'Pob x Genero'!#REF!","v":{"$error":"#REF!"}},"Hombre","00-04",{"$f":"'Pob x Genero'!#REF!","v":{"$error":"#REF!"}},139]
[{"$f":"'Pob x Genero'!#REF!","v":{"$error":"#REF!"}},{"$f":"'Pob x Genero'!#REF!","v":{"$error":"#REF!"}},{"$f":"'Pob x Genero'!#REF!","v":{"$error":"#REF!"}},{"$f":"'Pob x Genero'!#REF!","v":{"$error":"#REF!"}},{"$f":"'Pob x Genero'!#REF!","v":{"$error":"#REF!"}},"Hombre","00-04",{"$f":"'Pob x Genero'!#REF!","v":{"$error":"#REF!"}},140]
[{"$f":"'Pob x Genero'!#REF!","v":{"$error":"#REF!"}},{"$f":"'Pob x Genero'!#REF!","v":{"$error":"#REF!"}},{"$f":"'Pob x Genero'!#REF!","v":{"$error":"#REF!"}},{"$f":"'Pob x Genero'!#REF!","v":{"$error":"#REF!"}},{"$f":"'Pob x Genero'!#REF!","v":{"$error":"#REF!"}},"Hombre","00-04",{"$f":"'Pob x Genero'!#REF!","v":{"$error":"#REF!"}},141]
[{"$f":"'Pob x Genero'!#REF!","v":{"$error":"#REF!"}},{"$f":"'Pob x Genero'!#REF!","v":{"$error":"#REF!"}},{"$f":"'Pob x Genero'!#REF!","v":{"$error":"#REF!"}},{"$f":"'Pob x Genero'!#REF!","v":{"$error":"#REF!"}},{"$f":"'Pob x Genero'!#REF!","v":{"$error":"#REF!"}},"Hombre","00-04",{"$f":"'Pob x Genero'!#REF!","v":{"$error":"#REF!"}},142]
[{"$f":"'Pob x Genero'!#REF!","v":{"$error":"#REF!"}},{"$f":"'Pob x Genero'!#REF!","v":{"$error":"#REF!"}},{"$f":"'Pob x Genero'!#REF!","v":{"$error":"#REF!"}},{"$f":"'Pob x Genero'!#REF!","v":{"$error":"#REF!"}},{"$f":"'Pob x Genero'!#REF!","v":{"$error":"#REF!"}},"Hombre","00-04",{"$f":"'Pob x Genero'!#REF!","v":{"$error":"#REF!"}},143]
[{"$f":"'Pob x Genero'!#REF!","v":{"$error":"#REF!"}},{"$f":"'Pob x Genero'!#REF!","v":{"$error":"#REF!"}},{"$f":"'Pob x Genero'!#REF!","v":{"$error":"#REF!"}},{"$f":"'Pob x Genero'!#REF!","v":{"$error":"#REF!"}},{"$f":"'Pob x Genero'!#REF!","v":{"$error":"#REF!"}},"Hombre","00-04",{"$f":"'Pob x Genero'!#REF!","v":{"$error":"#REF!"}},144]
[{"$f":"'Pob x Genero'!#REF!","v":{"$error":"#REF!"}},{"$f":"'Pob x Genero'!#REF!","v":{"$error":"#REF!"}},{"$f":"'Pob x Genero'!#REF!","v":{"$error":"#REF!"}},{"$f":"'Pob x Genero'!#REF!","v":{"$error":"#REF!"}},{"$f":"'Pob x Genero'!#REF!","v":{"$error":"#REF!"}},"Hombre","00-04",{"$f":"'Pob x Genero'!#REF!","v":{"$error":"#REF!"}},145]
[{"$f":"'Pob x Genero'!#REF!","v":{"$error":"#REF!"}},{"$f":"'Pob x Genero'!#REF!","v":{"$error":"#REF!"}},{"$f":"'Pob x Genero'!#REF!","v":{"$error":"#REF!"}},{"$f":"'Pob x Genero'!#REF!","v":{"$error":"#REF!"}},{"$f":"'Pob x Genero'!#REF!","v":{"$error":"#REF!"}},"Hombre","00-04",{"$f":"'Pob x Genero'!#REF!","v":{"$error":"#REF!"}},146]
[{"$f":"'Pob x Genero'!#REF!","v":{"$error":"#REF!"}},{"$f":"'Pob x Genero'!#REF!","v":{"$error":"#REF!"}},{"$f":"'Pob x Genero'!#REF!","v":{"$error":"#REF!"}},{"$f":"'Pob x Genero'!#REF!","v":{"$error":"#REF!"}},{"$f":"'Pob x Genero'!#REF!","v":{"$error":"#REF!"}},"Hombre","00-04",{"$f":"'Pob x Genero'!#REF!","v":{"$error":"#REF!"}},147]
[{"$f":"'Pob x Genero'!#REF!","v":{"$error":"#REF!"}},{"$f":"'Pob x Genero'!#REF!","v":{"$error":"#REF!"}},{"$f":"'Pob x Genero'!#REF!","v":{"$error":"#REF!"}},{"$f":"'Pob x Genero'!#REF!","v":{"$error":"#REF!"}},{"$f":"'Pob x Genero'!#REF!","v":{"$error":"#REF!"}},"Hombre","00-04",{"$f":"'Pob x Genero'!#REF!","v":{"$error":"#REF!"}},148]
[{"$f":"'Pob x Genero'!#REF!","v":{"$error":"#REF!"}},{"$f":"'Pob x Genero'!#REF!","v":{"$error":"#REF!"}},{"$f":"'Pob x Genero'!#REF!","v":{"$error":"#REF!"}},{"$f":"'Pob x Genero'!#REF!","v":{"$error":"#REF!"}},{"$f":"'Pob x Genero'!#REF!","v":{"$error":"#REF!"}},"Hombre","00-04",{"$f":"'Pob x Genero'!#REF!","v":{"$error":"#REF!"}},149]
[{"$f":"'Pob x Genero'!#REF!","v":{"$error":"#REF!"}},{"$f":"'Pob x Genero'!#REF!","v":{"$error":"#REF!"}},{"$f":"'Pob x Genero'!#REF!","v":{"$error":"#REF!"}},{"$f":"'Pob x Genero'!#REF!","v":{"$error":"#REF!"}},{"$f":"'Pob x Genero'!#REF!","v":{"$error":"#REF!"}},"Hombre","00-04",{"$f":"'Pob x Genero'!#REF!","v":{"$error":"#REF!"}},150]
[{"$f":"'Pob x Genero'!#REF!","v":{"$error":"#REF!"}},{"$f":"'Pob x Genero'!#REF!","v":{"$error":"#REF!"}},{"$f":"'Pob x Genero'!#REF!","v":{"$error":"#REF!"}},{"$f":"'Pob x Genero'!#REF!","v":{"$error":"#REF!"}},{"$f":"'Pob x Genero'!#REF!","v":{"$error":"#REF!"}},"Hombre","00-04",{"$f":"'Pob x Genero'!#REF!","v":{"$error":"#REF!"}},151]
[{"$f":"'Pob x Genero'!#REF!","v":{"$error":"#REF!"}},{"$f":"'Pob x Genero'!#REF!","v":{"$error":"#REF!"}},{"$f":"'Pob x Genero'!#REF!","v":{"$error":"#REF!"}},{"$f":"'Pob x Genero'!#REF!","v":{"$error":"#REF!"}},{"$f":"'Pob x Genero'!#REF!","v":{"$error":"#REF!"}},"Hombre","00-04",{"$f":"'Pob x Genero'!#REF!","v":{"$error":"#REF!"}},152]
[{"$f":"'Pob x Genero'!#REF!","v":{"$error":"#REF!"}},{"$f":"'Pob x Genero'!#REF!","v":{"$error":"#REF!"}},{"$f":"'Pob x Genero'!#REF!","v":{"$error":"#REF!"}},{"$f":"'Pob x Genero'!#REF!","v":{"$error":"#REF!"}},{"$f":"'Pob x Genero'!#REF!","v":{"$error":"#REF!"}},"Hombre","00-04",{"$f":"'Pob x Genero'!#REF!","v":{"$error":"#REF!"}},153]
[{"$f":"'Pob x Genero'!#REF!","v":{"$error":"#REF!"}},{"$f":"'Pob x Genero'!#REF!","v":{"$error":"#REF!"}},{"$f":"'Pob x Genero'!#REF!","v":{"$error":"#REF!"}},{"$f":"'Pob x Genero'!#REF!","v":{"$error":"#REF!"}},{"$f":"'Pob x Genero'!#REF!","v":{"$error":"#REF!"}},"Hombre","00-04",{"$f":"'Pob x Genero'!#REF!","v":{"$error":"#REF!"}},154]
[{"$f":"'Pob x Genero'!#REF!","v":{"$error":"#REF!"}},{"$f":"'Pob x Genero'!#REF!","v":{"$error":"#REF!"}},{"$f":"'Pob x Genero'!#REF!","v":{"$error":"#REF!"}},{"$f":"'Pob x Genero'!#REF!","v":{"$error":"#REF!"}},{"$f":"'Pob x Genero'!#REF!","v":{"$error":"#REF!"}},"Hombre","00-04",{"$f":"'Pob x Genero'!#REF!","v":{"$error":"#REF!"}},155]
[{"$f":"'Pob x Genero'!#REF!","v":{"$error":"#REF!"}},{"$f":"'Pob x Genero'!#REF!","v":{"$error":"#REF!"}},{"$f":"'Pob x Genero'!#REF!","v":{"$error":"#REF!"}},{"$f":"'Pob x Genero'!#REF!","v":{"$error":"#REF!"}},{"$f":"'Pob x Genero'!#REF!","v":{"$error":"#REF!"}},"Hombre","00-04",{"$f":"'Pob x Genero'!#REF!","v":{"$error":"#REF!"}},156]
[{"$f":"'Pob x Genero'!#REF!","v":{"$error":"#REF!"}},{"$f":"'Pob x Genero'!#REF!","v":{"$error":"#REF!"}},{"$f":"'Pob x Genero'!#REF!","v":{"$error":"#REF!"}},{"$f":"'Pob x Genero'!#REF!","v":{"$error":"#REF!"}},{"$f":"'Pob x Genero'!#REF!","v":{"$error":"#REF!"}},"Hombre","00-04",{"$f":"'Pob x Genero'!#REF!","v":{"$error":"#REF!"}},157]
[{"$f":"'Pob x Genero'!#REF!","v":{"$error":"#REF!"}},{"$f":"'Pob x Genero'!#REF!","v":{"$error":"#REF!"}},{"$f":"'Pob x Genero'!#REF!","v":{"$error":"#REF!"}},{"$f":"'Pob x Genero'!#REF!","v":{"$error":"#REF!"}},{"$f":"'Pob x Genero'!#REF!","v":{"$error":"#REF!"}},"Hombre","00-04",{"$f":"'Pob x Genero'!#REF!","v":{"$error":"#REF!"}},158]
[{"$f":"'Pob x Genero'!#REF!","v":{"$error":"#REF!"}},{"$f":"'Pob x Genero'!#REF!","v":{"$error":"#REF!"}},{"$f":"'Pob x Genero'!#REF!","v":{"$error":"#REF!"}},{"$f":"'Pob x Genero'!#REF!","v":{"$error":"#REF!"}},{"$f":"'Pob x Genero'!#REF!","v":{"$error":"#REF!"}},"Hombre","00-04",{"$f":"'Pob x Genero'!#REF!","v":{"$error":"#REF!"}},159]
[{"$f":"'Pob x Genero'!#REF!","v":{"$error":"#REF!"}},{"$f":"'Pob x Genero'!#REF!","v":{"$error":"#REF!"}},{"$f":"'Pob x Genero'!#REF!","v":{"$error":"#REF!"}},{"$f":"'Pob x Genero'!#REF!","v":{"$error":"#REF!"}},{"$f":"'Pob x Genero'!#REF!","v":{"$error":"#REF!"}},"Hombre","00-04",{"$f":"'Pob x Genero'!#REF!","v":{"$error":"#REF!"}},160]
[{"$f":"'Pob x Genero'!#REF!","v":{"$error":"#REF!"}},{"$f":"'Pob x Genero'!#REF!","v":{"$error":"#REF!"}},{"$f":"'Pob x Genero'!#REF!","v":{"$error":"#REF!"}},{"$f":"'Pob x Genero'!#REF!","v":{"$error":"#REF!"}},{"$f":"'Pob x Genero'!#REF!","v":{"$error":"#REF!"}},"Hombre","00-04",{"$f":"'Pob x Genero'!#REF!","v":{"$error":"#REF!"}},161]
[{"$f":"'Pob x Genero'!#REF!","v":{"$error":"#REF!"}},{"$f":"'Pob x Genero'!#REF!","v":{"$error":"#REF!"}},{"$f":"'Pob x Genero'!#REF!","v":{"$error":"#REF!"}},{"$f":"'Pob x Genero'!#REF!","v":{"$error":"#REF!"}},{"$f":"'Pob x Genero'!#REF!","v":{"$error":"#REF!"}},"Hombre","00-04",{"$f":"'Pob x Genero'!#REF!","v":{"$error":"#REF!"}},162]
[{"$f":"'Pob x Genero'!#REF!","v":{"$error":"#REF!"}},{"$f":"'Pob x Genero'!#REF!","v":{"$error":"#REF!"}},{"$f":"'Pob x Genero'!#REF!","v":{"$error":"#REF!"}},{"$f":"'Pob x Genero'!#REF!","v":{"$error":"#REF!"}},{"$f":"'Pob x Genero'!#REF!","v":{"$error":"#REF!"}},"Hombre","00-04",{"$f":"'Pob x Genero'!#REF!","v":{"$error":"#REF!"}},163]
[{"$f":"'Pob x Genero'!#REF!","v":{"$error":"#REF!"}},{"$f":"'Pob x Genero'!#REF!","v":{"$error":"#REF!"}},{"$f":"'Pob x Genero'!#REF!","v":{"$error":"#REF!"}},{"$f":"'Pob x Genero'!#REF!","v":{"$error":"#REF!"}},{"$f":"'Pob x Genero'!#REF!","v":{"$error":"#REF!"}},"Hombre","00-04",{"$f":"'Pob x Genero'!#REF!","v":{"$error":"#REF!"}},164]
[{"$f":"'Pob x Genero'!#REF!","v":{"$error":"#REF!"}},{"$f":"'Pob x Genero'!#REF!","v":{"$error":"#REF!"}},{"$f":"'Pob x Genero'!#REF!","v":{"$error":"#REF!"}},{"$f":"'Pob x Genero'!#REF!","v":{"$error":"#REF!"}},{"$f":"'Pob x Genero'!#REF!","v":{"$error":"#REF!"}},"Hombre","00-04",{"$f":"'Pob x Genero'!#REF!","v":{"$error":"#REF!"}},165]
[{"$f":"'Pob x Genero'!#REF!","v":{"$error":"#REF!"}},{"$f":"'Pob x Genero'!#REF!","v":{"$error":"#REF!"}},{"$f":"'Pob x Genero'!#REF!","v":{"$error":"#REF!"}},{"$f":"'Pob x Genero'!#REF!","v":{"$error":"#REF!"}},{"$f":"'Pob x Genero'!#REF!","v":{"$error":"#REF!"}},"Hombre","00-04",{"$f":"'Pob x Genero'!#REF!","v":{"$error":"#REF!"}},166]
[{"$f":"'Pob x Genero'!#REF!","v":{"$error":"#REF!"}},{"$f":"'Pob x Genero'!#REF!","v":{"$error":"#REF!"}},{"$f":"'Pob x Genero'!#REF!","v":{"$error":"#REF!"}},{"$f":"'Pob x Genero'!#REF!","v":{"$error":"#REF!"}},{"$f":"'Pob x Genero'!#REF!","v":{"$error":"#REF!"}},"Hombre","00-04",{"$f":"'Pob x Genero'!#REF!","v":{"$error":"#REF!"}},167]
[{"$f":"'Pob x Genero'!#REF!","v":{"$error":"#REF!"}},{"$f":"'Pob x Genero'!#REF!","v":{"$error":"#REF!"}},{"$f":"'Pob x Genero'!#REF!","v":{"$error":"#REF!"}},{"$f":"'Pob x Genero'!#REF!","v":{"$error":"#REF!"}},{"$f":"'Pob x Genero'!#REF!","v":{"$error":"#REF!"}},"Hombre","00-04",{"$f":"'Pob x Genero'!#REF!","v":{"$error":"#REF!"}},168]
[{"$f":"'Pob x Genero'!#REF!","v":{"$error":"#REF!"}},{"$f":"'Pob x Genero'!#REF!","v":{"$error":"#REF!"}},{"$f":"'Pob x Genero'!#REF!","v":{"$error":"#REF!"}},{"$f":"'Pob x Genero'!#REF!","v":{"$error":"#REF!"}},{"$f":"'Pob x Genero'!#REF!","v":{"$error":"#REF!"}},"Hombre","00-04",{"$f":"'Pob x Genero'!#REF!","v":{"$error":"#REF!"}},169]
[{"$f":"'Pob x Genero'!#REF!","v":{"$error":"#REF!"}},{"$f":"'Pob x Genero'!#REF!","v":{"$error":"#REF!"}},{"$f":"'Pob x Genero'!#REF!","v":{"$error":"#REF!"}},{"$f":"'Pob x Genero'!#REF!","v":{"$error":"#REF!"}},{"$f":"'Pob x Genero'!#REF!","v":{"$error":"#REF!"}},"Hombre","00-04",{"$f":"'Pob x Genero'!#REF!","v":{"$error":"#REF!"}},170]
[{"$f":"'Pob x Genero'!#REF!","v":{"$error":"#REF!"}},{"$f":"'Pob x Genero'!#REF!","v":{"$error":"#REF!"}},{"$f":"'Pob x Genero'!#REF!","v":{"$error":"#REF!"}},{"$f":"'Pob x Genero'!#REF!","v":{"$error":"#REF!"}},{"$f":"'Pob x Genero'!#REF!","v":{"$error":"#REF!"}},"Hombre","00-04",{"$f":"'Pob x Genero'!#REF!","v":{"$error":"#REF!"}},171]
[{"$f":"'Pob x Genero'!#REF!","v":{"$error":"#REF!"}},{"$f":"'Pob x Genero'!#REF!","v":{"$error":"#REF!"}},{"$f":"'Pob x Genero'!#REF!","v":{"$error":"#REF!"}},{"$f":"'Pob x Genero'!#REF!","v":{"$error":"#REF!"}},{"$f":"'Pob x Genero'!#REF!","v":{"$error":"#REF!"}},"Hombre","00-04",{"$f":"'Pob x Genero'!#REF!","v":{"$error":"#REF!"}},172]
[{"$f":"'Pob x Genero'!#REF!","v":{"$error":"#REF!"}},{"$f":"'Pob x Genero'!#REF!","v":{"$error":"#REF!"}},{"$f":"'Pob x Genero'!#REF!","v":{"$error":"#REF!"}},{"$f":"'Pob x Genero'!#REF!","v":{"$error":"#REF!"}},{"$f":"'Pob x Genero'!#REF!","v":{"$error":"#REF!"}},"Hombre","00-04",{"$f":"'Pob x Genero'!#REF!","v":{"$error":"#REF!"}},173]
[{"$f":"'Pob x Genero'!#REF!","v":{"$error":"#REF!"}},{"$f":"'Pob x Genero'!#REF!","v":{"$error":"#REF!"}},{"$f":"'Pob x Genero'!#REF!","v":{"$error":"#REF!"}},{"$f":"'Pob x Genero'!#REF!","v":{"$error":"#REF!"}},{"$f":"'Pob x Genero'!#REF!","v":{"$error":"#REF!"}},"Hombre","00-04",{"$f":"'Pob x Genero'!#REF!","v":{"$error":"#REF!"}},174]
[{"$f":"'Pob x Genero'!#REF!","v":{"$error":"#REF!"}},{"$f":"'Pob x Genero'!#REF!","v":{"$error":"#REF!"}},{"$f":"'Pob x Genero'!#REF!","v":{"$error":"#REF!"}},{"$f":"'Pob x Genero'!#REF!","v":{"$error":"#REF!"}},{"$f":"'Pob x Genero'!#REF!","v":{"$error":"#REF!"}},"Hombre","00-04",{"$f":"'Pob x Genero'!#REF!","v":{"$error":"#REF!"}},175]
[{"$f":"'Pob x Genero'!#REF!","v":{"$error":"#REF!"}},{"$f":"'Pob x Genero'!#REF!","v":{"$error":"#REF!"}},{"$f":"'Pob x Genero'!#REF!","v":{"$error":"#REF!"}},{"$f":"'Pob x Genero'!#REF!","v":{"$error":"#REF!"}},{"$f":"'Pob x Genero'!#REF!","v":{"$error":"#REF!"}},"Hombre","00-04",{"$f":"'Pob x Genero'!#REF!","v":{"$error":"#REF!"}},176]
[{"$f":"'Pob x Genero'!#REF!","v":{"$error":"#REF!"}},{"$f":"'Pob x Genero'!#REF!","v":{"$error":"#REF!"}},{"$f":"'Pob x Genero'!#REF!","v":{"$error":"#REF!"}},{"$f":"'Pob x Genero'!#REF!","v":{"$error":"#REF!"}},{"$f":"'Pob x Genero'!#REF!","v":{"$error":"#REF!"}},"Hombre","00-04",{"$f":"'Pob x Genero'!#REF!","v":{"$error":"#REF!"}},177]
[{"$f":"'Pob x Genero'!#REF!","v":{"$error":"#REF!"}},{"$f":"'Pob x Genero'!#REF!","v":{"$error":"#REF!"}},{"$f":"'Pob x Genero'!#REF!","v":{"$error":"#REF!"}},{"$f":"'Pob x Genero'!#REF!","v":{"$error":"#REF!"}},{"$f":"'Pob x Genero'!#REF!","v":{"$error":"#REF!"}},"Hombre","00-04",{"$f":"'Pob x Genero'!#REF!","v":{"$error":"#REF!"}},178]
[{"$f":"'Pob x Genero'!#REF!","v":{"$error":"#REF!"}},{"$f":"'Pob x Genero'!#REF!","v":{"$error":"#REF!"}},{"$f":"'Pob x Genero'!#REF!","v":{"$error":"#REF!"}},{"$f":"'Pob x Genero'!#REF!","v":{"$error":"#REF!"}},{"$f":"'Pob x Genero'!#REF!","v":{"$error":"#REF!"}},"Hombre","00-04",{"$f":"'Pob x Genero'!#REF!","v":{"$error":"#REF!"}},179]
[{"$f":"'Pob x Genero'!#REF!","v":{"$error":"#REF!"}},{"$f":"'Pob x Genero'!#REF!","v":{"$error":"#REF!"}},{"$f":"'Pob x Genero'!#REF!","v":{"$error":"#REF!"}},{"$f":"'Pob x Genero'!#REF!","v":{"$error":"#REF!"}},{"$f":"'Pob x Genero'!#REF!","v":{"$error":"#REF!"}},"Hombre","00-04",{"$f":"'Pob x Genero'!#REF!","v":{"$error":"#REF!"}},180]
[{"$f":"'Pob x Genero'!#REF!","v":{"$error":"#REF!"}},{"$f":"'Pob x Genero'!#REF!","v":{"$error":"#REF!"}},{"$f":"'Pob x Genero'!#REF!","v":{"$error":"#REF!"}},{"$f":"'Pob x Genero'!#REF!","v":{"$error":"#REF!"}},{"$f":"'Pob x Genero'!#REF!","v":{"$error":"#REF!"}},"Hombre","00-04",{"$f":"'Pob x Genero'!#REF!","v":{"$error":"#REF!"}},181]
[{"$f":"'Pob x Genero'!#REF!","v":{"$error":"#REF!"}},{"$f":"'Pob x Genero'!#REF!","v":{"$error":"#REF!"}},{"$f":"'Pob x Genero'!#REF!","v":{"$error":"#REF!"}},{"$f":"'Pob x Genero'!#REF!","v":{"$error":"#REF!"}},{"$f":"'Pob x Genero'!#REF!","v":{"$error":"#REF!"}},"Hombre","00-04",{"$f":"'Pob x Genero'!#REF!","v":{"$error":"#REF!"}},182]
[{"$f":"'Pob x Genero'!#REF!","v":{"$error":"#REF!"}},{"$f":"'Pob x Genero'!#REF!","v":{"$error":"#REF!"}},{"$f":"'Pob x Genero'!#REF!","v":{"$error":"#REF!"}},{"$f":"'Pob x Genero'!#REF!","v":{"$error":"#REF!"}},{"$f":"'Pob x Genero'!#REF!","v":{"$error":"#REF!"}},"Hombre","00-04",{"$f":"'Pob x Genero'!#REF!","v":{"$error":"#REF!"}},183]
[{"$f":"'Pob x Genero'!#REF!","v":{"$error":"#REF!"}},{"$f":"'Pob x Genero'!#REF!","v":{"$error":"#REF!"}},{"$f":"'Pob x Genero'!#REF!","v":{"$error":"#REF!"}},{"$f":"'Pob x Genero'!#REF!","v":{"$error":"#REF!"}},{"$f":"'Pob x Genero'!#REF!","v":{"$error":"#REF!"}},"Hombre","00-04",{"$f":"'Pob x Genero'!#REF!","v":{"$error":"#REF!"}},184]
[{"$f":"'Pob x Genero'!#REF!","v":{"$error":"#REF!"}},{"$f":"'Pob x Genero'!#REF!","v":{"$error":"#REF!"}},{"$f":"'Pob x Genero'!#REF!","v":{"$error":"#REF!"}},{"$f":"'Pob x Genero'!#REF!","v":{"$error":"#REF!"}},{"$f":"'Pob x Genero'!#REF!","v":{"$error":"#REF!"}},"Hombre","00-04",{"$f":"'Pob x Genero'!#REF!","v":{"$error":"#REF!"}},185]
[{"$f":"'Pob x Genero'!#REF!","v":{"$error":"#REF!"}},{"$f":"'Pob x Genero'!#REF!","v":{"$error":"#REF!"}},{"$f":"'Pob x Genero'!#REF!","v":{"$error":"#REF!"}},{"$f":"'Pob x Genero'!#REF!","v":{"$error":"#REF!"}},{"$f":"'Pob x Genero'!#REF!","v":{"$error":"#REF!"}},"Hombre","00-04",{"$f":"'Pob x Genero'!#REF!","v":{"$error":"#REF!"}},186]
[{"$f":"'Pob x Genero'!#REF!","v":{"$error":"#REF!"}},{"$f":"'Pob x Genero'!#REF!","v":{"$error":"#REF!"}},{"$f":"'Pob x Genero'!#REF!","v":{"$error":"#REF!"}},{"$f":"'Pob x Genero'!#REF!","v":{"$error":"#REF!"}},{"$f":"'Pob x Genero'!#REF!","v":{"$error":"#REF!"}},"Hombre","00-04",{"$f":"'Pob x Genero'!#REF!","v":{"$error":"#REF!"}},187]
[{"$f":"'Pob x Genero'!#REF!","v":{"$error":"#REF!"}},{"$f":"'Pob x Genero'!#REF!","v":{"$error":"#REF!"}},{"$f":"'Pob x Genero'!#REF!","v":{"$error":"#REF!"}},{"$f":"'Pob x Genero'!#REF!","v":{"$error":"#REF!"}},{"$f":"'Pob x Genero'!#REF!","v":{"$error":"#REF!"}},"Hombre","00-04",{"$f":"'Pob x Genero'!#REF!","v":{"$error":"#REF!"}},188]
[{"$f":"'Pob x Genero'!#REF!","v":{"$error":"#REF!"}},{"$f":"'Pob x Genero'!#REF!","v":{"$error":"#REF!"}},{"$f":"'Pob x Genero'!#REF!","v":{"$error":"#REF!"}},{"$f":"'Pob x Genero'!#REF!","v":{"$error":"#REF!"}},{"$f":"'Pob x Genero'!#REF!","v":{"$error":"#REF!"}},"Hombre","00-04",{"$f":"'Pob x Genero'!#REF!","v":{"$error":"#REF!"}},189]
[{"$f":"'Pob x Genero'!#REF!","v":{"$error":"#REF!"}},{"$f":"'Pob x Genero'!#REF!","v":{"$error":"#REF!"}},{"$f":"'Pob x Genero'!#REF!","v":{"$error":"#REF!"}},{"$f":"'Pob x Genero'!#REF!","v":{"$error":"#REF!"}},{"$f":"'Pob x Genero'!#REF!","v":{"$error":"#REF!"}},"Hombre","00-04",{"$f":"'Pob x Genero'!#REF!","v":{"$error":"#REF!"}},190]
[{"$f":"'Pob x Genero'!#REF!","v":{"$error":"#REF!"}},{"$f":"'Pob x Genero'!#REF!","v":{"$error":"#REF!"}},{"$f":"'Pob x Genero'!#REF!","v":{"$error":"#REF!"}},{"$f":"'Pob x Genero'!#REF!","v":{"$error":"#REF!"}},{"$f":"'Pob x Genero'!#REF!","v":{"$error":"#REF!"}},"Hombre","00-04",{"$f":"'Pob x Genero'!#REF!","v":{"$error":"#REF!"}},191]
[{"$f":"'Pob x Genero'!#REF!","v":{"$error":"#REF!"}},{"$f":"'Pob x Genero'!#REF!","v":{"$error":"#REF!"}},{"$f":"'Pob x Genero'!#REF!","v":{"$error":"#REF!"}},{"$f":"'Pob x Genero'!#REF!","v":{"$error":"#REF!"}},{"$f":"'Pob x Genero'!#REF!","v":{"$error":"#REF!"}},"Hombre","00-04",{"$f":"'Pob x Genero'!#REF!","v":{"$error":"#REF!"}},192]
[{"$f":"'Pob x Genero'!#REF!","v":{"$error":"#REF!"}},{"$f":"'Pob x Genero'!#REF!","v":{"$error":"#REF!"}},{"$f":"'Pob x Genero'!#REF!","v":{"$error":"#REF!"}},{"$f":"'Pob x Genero'!#REF!","v":{"$error":"#REF!"}},{"$f":"'Pob x Genero'!#REF!","v":{"$error":"#REF!"}},"Hombre","00-04",{"$f":"'Pob x Genero'!#REF!","v":{"$error":"#REF!"}},193]
[{"$f":"'Pob x Genero'!#REF!","v":{"$error":"#REF!"}},{"$f":"'Pob x Genero'!#REF!","v":{"$error":"#REF!"}},{"$f":"'Pob x Genero'!#REF!","v":{"$error":"#REF!"}},{"$f":"'Pob x Genero'!#REF!","v":{"$error":"#REF!"}},{"$f":"'Pob x Genero'!#REF!","v":{"$error":"#REF!"}},{"$f":"F194","v":"Hombre"},{"$f":"G194","v":"00-04"},{"$f":"'Pob x Genero'!#REF!","v":{"$error":"#REF!"}},194]
[{"$f":"'Pob x Genero'!#REF!","v":{"$error":"#REF!"}},{"$f":"'Pob x Genero'!#REF!","v":{"$error":"#REF!"}},{"$f":"'Pob x Genero'!#REF!","v":{"$error":"#REF!"}},{"$f":"'Pob x Genero'!#REF!","v":{"$error":"#REF!"}},{"$f":"'Pob x Genero'!#REF!","v":{"$error":"#REF!"}},"Hombre","00-04",{"$f":"'Pob x Genero'!#REF!","v":{"$error":"#REF!"}},195]
[{"$f":"'Pob x Genero'!#REF!","v":{"$error":"#REF!"}},{"$f":"'Pob x Genero'!#REF!","v":{"$error":"#REF!"}},{"$f":"'Pob x Genero'!#REF!","v":{"$error":"#REF!"}},{"$f":"'Pob x Genero'!#REF!","v":{"$error":"#REF!"}},{"$f":"'Pob x Genero'!#REF!","v":{"$error":"#REF!"}},"Hombre","00-04",{"$f":"'Pob x Genero'!#REF!","v":{"$error":"#REF!"}},196]
[{"$f":"'Pob x Genero'!#REF!","v":{"$error":"#REF!"}},{"$f":"'Pob x Genero'!#REF!","v":{"$error":"#REF!"}},{"$f":"'Pob x Genero'!#REF!","v":{"$error":"#REF!"}},{"$f":"'Pob x Genero'!#REF!","v":{"$error":"#REF!"}},{"$f":"'Pob x Genero'!#REF!","v":{"$error":"#REF!"}},"Hombre","00-04",{"$f":"'Pob x Genero'!#REF!","v":{"$error":"#REF!"}},197]
[{"$f":"'Pob x Genero'!#REF!","v":{"$error":"#REF!"}},{"$f":"'Pob x Genero'!#REF!","v":{"$error":"#REF!"}},{"$f":"'Pob x Genero'!#REF!","v":{"$error":"#REF!"}},{"$f":"'Pob x Genero'!#REF!","v":{"$error":"#REF!"}},{"$f":"'Pob x Genero'!#REF!","v":{"$error":"#REF!"}},"Hombre","00-04",{"$f":"'Pob x Genero'!#REF!","v":{"$error":"#REF!"}},198]
[{"$f":"'Pob x Genero'!#REF!","v":{"$error":"#REF!"}},{"$f":"'Pob x Genero'!#REF!","v":{"$error":"#REF!"}},{"$f":"'Pob x Genero'!#REF!","v":{"$error":"#REF!"}},{"$f":"'Pob x Genero'!#REF!","v":{"$error":"#REF!"}},{"$f":"'Pob x Genero'!#REF!","v":{"$error":"#REF!"}},"Hombre","00-04",{"$f":"'Pob x Genero'!#REF!","v":{"$error":"#REF!"}},199]
[{"$f":"'Pob x Genero'!#REF!","v":{"$error":"#REF!"}},{"$f":"'Pob x Genero'!#REF!","v":{"$error":"#REF!"}},{"$f":"'Pob x Genero'!#REF!","v":{"$error":"#REF!"}},{"$f":"'Pob x Genero'!#REF!","v":{"$error":"#REF!"}},{"$f":"'Pob x Genero'!#REF!","v":{"$error":"#REF!"}},"Hombre","00-04",{"$f":"'Pob x Genero'!#REF!","v":{"$error":"#REF!"}},200]
[{"$f":"'Pob x Genero'!#REF!","v":{"$error":"#REF!"}},{"$f":"'Pob x Genero'!#REF!","v":{"$error":"#REF!"}},{"$f":"'Pob x Genero'!#REF!","v":{"$error":"#REF!"}},{"$f":"'Pob x Genero'!#REF!","v":{"$error":"#REF!"}},{"$f":"'Pob x Genero'!#REF!","v":{"$error":"#REF!"}},"Hombre","00-04",{"$f":"'Pob x Genero'!#REF!","v":{"$error":"#REF!"}},201]
[{"$f":"'Pob x Genero'!#REF!","v":{"$error":"#REF!"}},{"$f":"'Pob x Genero'!#REF!","v":{"$error":"#REF!"}},{"$f":"'Pob x Genero'!#REF!","v":{"$error":"#REF!"}},{"$f":"'Pob x Genero'!#REF!","v":{"$error":"#REF!"}},{"$f":"'Pob x Genero'!#REF!","v":{"$error":"#REF!"}},"Hombre","00-04",{"$f":"'Pob x Genero'!#REF!","v":{"$error":"#REF!"}},202]
[{"$f":"'Pob x Genero'!#REF!","v":{"$error":"#REF!"}},{"$f":"'Pob x Genero'!#REF!","v":{"$error":"#REF!"}},{"$f":"'Pob x Genero'!#REF!","v":{"$error":"#REF!"}},{"$f":"'Pob x Genero'!#REF!","v":{"$error":"#REF!"}},{"$f":"'Pob x Genero'!#REF!","v":{"$error":"#REF!"}},"Hombre","00-04",{"$f":"'Pob x Genero'!#REF!","v":{"$error":"#REF!"}},203]
[{"$f":"'Pob x Genero'!#REF!","v":{"$error":"#REF!"}},{"$f":"'Pob x Genero'!#REF!","v":{"$error":"#REF!"}},{"$f":"'Pob x Genero'!#REF!","v":{"$error":"#REF!"}},{"$f":"'Pob x Genero'!#REF!","v":{"$error":"#REF!"}},{"$f":"'Pob x Genero'!#REF!","v":{"$error":"#REF!"}},"Hombre","00-04",{"$f":"'Pob x Genero'!#REF!","v":{"$error":"#REF!"}},204]
[{"$f":"'Pob x Genero'!#REF!","v":{"$error":"#REF!"}},{"$f":"'Pob x Genero'!#REF!","v":{"$error":"#REF!"}},{"$f":"'Pob x Genero'!#REF!","v":{"$error":"#REF!"}},{"$f":"'Pob x Genero'!#REF!","v":{"$error":"#REF!"}},{"$f":"'Pob x Genero'!#REF!","v":{"$error":"#REF!"}},"Hombre","00-04",{"$f":"'Pob x Genero'!#REF!","v":{"$error":"#REF!"}},205]
[{"$f":"'Pob x Genero'!#REF!","v":{"$error":"#REF!"}},{"$f":"'Pob x Genero'!#REF!","v":{"$error":"#REF!"}},{"$f":"'Pob x Genero'!#REF!","v":{"$error":"#REF!"}},{"$f":"'Pob x Genero'!#REF!","v":{"$error":"#REF!"}},{"$f":"'Pob x Genero'!#REF!","v":{"$error":"#REF!"}},"Hombre","00-04",{"$f":"'Pob x Genero'!#REF!","v":{"$error":"#REF!"}},206]
[{"$f":"'Pob x Genero'!#REF!","v":{"$error":"#REF!"}},{"$f":"'Pob x Genero'!#REF!","v":{"$error":"#REF!"}},{"$f":"'Pob x Genero'!#REF!","v":{"$error":"#REF!"}},{"$f":"'Pob x Genero'!#REF!","v":{"$error":"#REF!"}},{"$f":"'Pob x Genero'!#REF!","v":{"$error":"#REF!"}},"Hombre","00-04",{"$f":"'Pob x Genero'!#REF!","v":{"$error":"#REF!"}},207]
[{"$f":"'Pob x Genero'!#REF!","v":{"$error":"#REF!"}},{"$f":"'Pob x Genero'!#REF!","v":{"$error":"#REF!"}},{"$f":"'Pob x Genero'!#REF!","v":{"$error":"#REF!"}},{"$f":"'Pob x Genero'!#REF!","v":{"$error":"#REF!"}},{"$f":"'Pob x Genero'!#REF!","v":{"$error":"#REF!"}},"Hombre","00-04",{"$f":"'Pob x Genero'!#REF!","v":{"$error":"#REF!"}},208]
[{"$f":"'Pob x Genero'!#REF!","v":{"$error":"#REF!"}},{"$f":"'Pob x Genero'!#REF!","v":{"$error":"#REF!"}},{"$f":"'Pob x Genero'!#REF!","v":{"$error":"#REF!"}},{"$f":"'Pob x Genero'!#REF!","v":{"$error":"#REF!"}},{"$f":"'Pob x Genero'!#REF!","v":{"$error":"#REF!"}},"Hombre","00-04",{"$f":"'Pob x Genero'!#REF!","v":{"$error":"#REF!"}},209]
[{"$f":"'Pob x Genero'!#REF!","v":{"$error":"#REF!"}},{"$f":"'Pob x Genero'!#REF!","v":{"$error":"#REF!"}},{"$f":"'Pob x Genero'!#REF!","v":{"$error":"#REF!"}},{"$f":"'Pob x Genero'!#REF!","v":{"$error":"#REF!"}},{"$f":"'Pob x Genero'!#REF!","v":{"$error":"#REF!"}},"Hombre","00-04",{"$f":"'Pob x Genero'!#REF!","v":{"$error":"#REF!"}},210]
[{"$f":"'Pob x Genero'!#REF!","v":{"$error":"#REF!"}},{"$f":"'Pob x Genero'!#REF!","v":{"$error":"#REF!"}},{"$f":"'Pob x Genero'!#REF!","v":{"$error":"#REF!"}},{"$f":"'Pob x Genero'!#REF!","v":{"$error":"#REF!"}},{"$f":"'Pob x Genero'!#REF!","v":{"$error":"#REF!"}},"Hombre","00-04",{"$f":"'Pob x Genero'!#REF!","v":{"$error":"#REF!"}},211]
[{"$f":"'Pob x Genero'!#REF!","v":{"$error":"#REF!"}},{"$f":"'Pob x Genero'!#REF!","v":{"$error":"#REF!"}},{"$f":"'Pob x Genero'!#REF!","v":{"$error":"#REF!"}},{"$f":"'Pob x Genero'!#REF!","v":{"$error":"#REF!"}},{"$f":"'Pob x Genero'!#REF!","v":{"$error":"#REF!"}},"Hombre","00-04",{"$f":"'Pob x Genero'!#REF!","v":{"$error":"#REF!"}},212]
[{"$f":"'Pob x Genero'!#REF!","v":{"$error":"#REF!"}},{"$f":"'Pob x Genero'!#REF!","v":{"$error":"#REF!"}},{"$f":"'Pob x Genero'!#REF!","v":{"$error":"#REF!"}},{"$f":"'Pob x Genero'!#REF!","v":{"$error":"#REF!"}},{"$f":"'Pob x Genero'!#REF!","v":{"$error":"#REF!"}},"Hombre","00-04",{"$f":"'Pob x Genero'!#REF!","v":{"$error":"#REF!"}},213]
[{"$f":"'Pob x Genero'!#REF!","v":{"$error":"#REF!"}},{"$f":"'Pob x Genero'!#REF!","v":{"$error":"#REF!"}},{"$f":"'Pob x Genero'!#REF!","v":{"$error":"#REF!"}},{"$f":"'Pob x Genero'!#REF!","v":{"$error":"#REF!"}},{"$f":"'Pob x Genero'!#REF!","v":{"$error":"#REF!"}},"Hombre","00-04",{"$f":"'Pob x Genero'!#REF!","v":{"$error":"#REF!"}},214]
[{"$f":"'Pob x Genero'!#REF!","v":{"$error":"#REF!"}},{"$f":"'Pob x Genero'!#REF!","v":{"$error":"#REF!"}},{"$f":"'Pob x Genero'!#REF!","v":{"$error":"#REF!"}},{"$f":"'Pob x Genero'!#REF!","v":{"$error":"#REF!"}},{"$f":"'Pob x Genero'!#REF!","v":{"$error":"#REF!"}},"Hombre","00-04",{"$f":"'Pob x Genero'!#REF!","v":{"$error":"#REF!"}},215]
[{"$f":"'Pob x Genero'!#REF!","v":{"$error":"#REF!"}},{"$f":"'Pob x Genero'!#REF!","v":{"$error":"#REF!"}},{"$f":"'Pob x Genero'!#REF!","v":{"$error":"#REF!"}},{"$f":"'Pob x Genero'!#REF!","v":{"$error":"#REF!"}},{"$f":"'Pob x Genero'!#REF!","v":{"$error":"#REF!"}},"Hombre","00-04",{"$f":"'Pob x Genero'!#REF!","v":{"$error":"#REF!"}},216]
[{"$f":"'Pob x Genero'!#REF!","v":{"$error":"#REF!"}},{"$f":"'Pob x Genero'!#REF!","v":{"$error":"#REF!"}},{"$f":"'Pob x Genero'!#REF!","v":{"$error":"#REF!"}},{"$f":"'Pob x Genero'!#REF!","v":{"$error":"#REF!"}},{"$f":"'Pob x Genero'!#REF!","v":{"$error":"#REF!"}},"Hombre","00-04",{"$f":"'Pob x Genero'!#REF!","v":{"$error":"#REF!"}},217]
[{"$f":"'Pob x Genero'!#REF!","v":{"$error":"#REF!"}},{"$f":"'Pob x Genero'!#REF!","v":{"$error":"#REF!"}},{"$f":"'Pob x Genero'!#REF!","v":{"$error":"#REF!"}},{"$f":"'Pob x Genero'!#REF!","v":{"$error":"#REF!"}},{"$f":"'Pob x Genero'!#REF!","v":{"$error":"#REF!"}},"Hombre","00-04",{"$f":"'Pob x Genero'!#REF!","v":{"$error":"#REF!"}},218]
[{"$f":"'Pob x Genero'!#REF!","v":{"$error":"#REF!"}},{"$f":"'Pob x Genero'!#REF!","v":{"$error":"#REF!"}},{"$f":"'Pob x Genero'!#REF!","v":{"$error":"#REF!"}},{"$f":"'Pob x Genero'!#REF!","v":{"$error":"#REF!"}},{"$f":"'Pob x Genero'!#REF!","v":{"$error":"#REF!"}},"Hombre","00-04",{"$f":"'Pob x Genero'!#REF!","v":{"$error":"#REF!"}},219]
[{"$f":"'Pob x Genero'!#REF!","v":{"$error":"#REF!"}},{"$f":"'Pob x Genero'!#REF!","v":{"$error":"#REF!"}},{"$f":"'Pob x Genero'!#REF!","v":{"$error":"#REF!"}},{"$f":"'Pob x Genero'!#REF!","v":{"$error":"#REF!"}},{"$f":"'Pob x Genero'!#REF!","v":{"$error":"#REF!"}},"Hombre","00-04",{"$f":"'Pob x Genero'!#REF!","v":{"$error":"#REF!"}},220]
[{"$f":"'Pob x Genero'!#REF!","v":{"$error":"#REF!"}},{"$f":"'Pob x Genero'!#REF!","v":{"$error":"#REF!"}},{"$f":"'Pob x Genero'!#REF!","v":{"$error":"#REF!"}},{"$f":"'Pob x Genero'!#REF!","v":{"$error":"#REF!"}},{"$f":"'Pob x Genero'!#REF!","v":{"$error":"#REF!"}},"Hombre","00-04",{"$f":"'Pob x Genero'!#REF!","v":{"$error":"#REF!"}},221]
[{"$f":"'Pob x Genero'!#REF!","v":{"$error":"#REF!"}},{"$f":"'Pob x Genero'!#REF!","v":{"$error":"#REF!"}},{"$f":"'Pob x Genero'!#REF!","v":{"$error":"#REF!"}},{"$f":"'Pob x Genero'!#REF!","v":{"$error":"#REF!"}},{"$f":"'Pob x Genero'!#REF!","v":{"$error":"#REF!"}},"Hombre","00-04",{"$f":"'Pob x Genero'!#REF!","v":{"$error":"#REF!"}},222]
[{"$f":"'Pob x Genero'!#REF!","v":{"$error":"#REF!"}},{"$f":"'Pob x Genero'!#REF!","v":{"$error":"#REF!"}},{"$f":"'Pob x Genero'!#REF!","v":{"$error":"#REF!"}},{"$f":"'Pob x Genero'!#REF!","v":{"$error":"#REF!"}},{"$f":"'Pob x Genero'!#REF!","v":{"$error":"#REF!"}},"Hombre","00-04",{"$f":"'Pob x Genero'!#REF!","v":{"$error":"#REF!"}},223]
[{"$f":"'Pob x Genero'!#REF!","v":{"$error":"#REF!"}},{"$f":"'Pob x Genero'!#REF!","v":{"$error":"#REF!"}},{"$f":"'Pob x Genero'!#REF!","v":{"$error":"#REF!"}},{"$f":"'Pob x Genero'!#REF!","v":{"$error":"#REF!"}},{"$f":"'Pob x Genero'!#REF!","v":{"$error":"#REF!"}},"Hombre","00-04",{"$f":"'Pob x Genero'!#REF!","v":{"$error":"#REF!"}},224]
[{"$f":"'Pob x Genero'!#REF!","v":{"$error":"#REF!"}},{"$f":"'Pob x Genero'!#REF!","v":{"$error":"#REF!"}},{"$f":"'Pob x Genero'!#REF!","v":{"$error":"#REF!"}},{"$f":"'Pob x Genero'!#REF!","v":{"$error":"#REF!"}},{"$f":"'Pob x Genero'!#REF!","v":{"$error":"#REF!"}},"Hombre","00-04",{"$f":"'Pob x Genero'!#REF!","v":{"$error":"#REF!"}},225]
[{"$f":"'Pob x Genero'!#REF!","v":{"$error":"#REF!"}},{"$f":"'Pob x Genero'!#REF!","v":{"$error":"#REF!"}},{"$f":"'Pob x Genero'!#REF!","v":{"$error":"#REF!"}},{"$f":"'Pob x Genero'!#REF!","v":{"$error":"#REF!"}},{"$f":"'Pob x Genero'!#REF!","v":{"$error":"#REF!"}},"Hombre","00-04",{"$f":"'Pob x Genero'!#REF!","v":{"$error":"#REF!"}},226]
[{"$f":"'Pob x Genero'!#REF!","v":{"$error":"#REF!"}},{"$f":"'Pob x Genero'!#REF!","v":{"$error":"#REF!"}},{"$f":"'Pob x Genero'!#REF!","v":{"$error":"#REF!"}},{"$f":"'Pob x Genero'!#REF!","v":{"$error":"#REF!"}},{"$f":"'Pob x Genero'!#REF!","v":{"$error":"#REF!"}},"Hombre","00-04",{"$f":"'Pob x Genero'!#REF!","v":{"$error":"#REF!"}},227]
[{"$f":"'Pob x Genero'!#REF!","v":{"$error":"#REF!"}},{"$f":"'Pob x Genero'!#REF!","v":{"$error":"#REF!"}},{"$f":"'Pob x Genero'!#REF!","v":{"$error":"#REF!"}},{"$f":"'Pob x Genero'!#REF!","v":{"$error":"#REF!"}},{"$f":"'Pob x Genero'!#REF!","v":{"$error":"#REF!"}},"Hombre","00-04",{"$f":"'Pob x Genero'!#REF!","v":{"$error":"#REF!"}},228]
[{"$f":"'Pob x Genero'!#REF!","v":{"$error":"#REF!"}},{"$f":"'Pob x Genero'!#REF!","v":{"$error":"#REF!"}},{"$f":"'Pob x Genero'!#REF!","v":{"$error":"#REF!"}},{"$f":"'Pob x Genero'!#REF!","v":{"$error":"#REF!"}},{"$f":"'Pob x Genero'!#REF!","v":{"$error":"#REF!"}},"Hombre","00-04",{"$f":"'Pob x Genero'!#REF!","v":{"$error":"#REF!"}},229]
[{"$f":"'Pob x Genero'!#REF!","v":{"$error":"#REF!"}},{"$f":"'Pob x Genero'!#REF!","v":{"$error":"#REF!"}},{"$f":"'Pob x Genero'!#REF!","v":{"$error":"#REF!"}},{"$f":"'Pob x Genero'!#REF!","v":{"$error":"#REF!"}},{"$f":"'Pob x Genero'!#REF!","v":{"$error":"#REF!"}},"Hombre","00-04",{"$f":"'Pob x Genero'!#REF!","v":{"$error":"#REF!"}},230]
[{"$f":"'Pob x Genero'!#REF!","v":{"$error":"#REF!"}},{"$f":"'Pob x Genero'!#REF!","v":{"$error":"#REF!"}},{"$f":"'Pob x Genero'!#REF!","v":{"$error":"#REF!"}},{"$f":"'Pob x Genero'!#REF!","v":{"$error":"#REF!"}},{"$f":"'Pob x Genero'!#REF!","v":{"$error":"#REF!"}},"Hombre","00-04",{"$f":"'Pob x Genero'!#REF!","v":{"$error":"#REF!"}},231]
[{"$f":"'Pob x Genero'!#REF!","v":{"$error":"#REF!"}},{"$f":"'Pob x Genero'!#REF!","v":{"$error":"#REF!"}},{"$f":"'Pob x Genero'!#REF!","v":{"$error":"#REF!"}},{"$f":"'Pob x Genero'!#REF!","v":{"$error":"#REF!"}},{"$f":"'Pob x Genero'!#REF!","v":{"$error":"#REF!"}},"Hombre","00-04",{"$f":"'Pob x Genero'!#REF!","v":{"$error":"#REF!"}},232]
[{"$f":"'Pob x Genero'!#REF!","v":{"$error":"#REF!"}},{"$f":"'Pob x Genero'!#REF!","v":{"$error":"#REF!"}},{"$f":"'Pob x Genero'!#REF!","v":{"$error":"#REF!"}},{"$f":"'Pob x Genero'!#REF!","v":{"$error":"#REF!"}},{"$f":"'Pob x Genero'!#REF!","v":{"$error":"#REF!"}},"Hombre","00-04",{"$f":"'Pob x Genero'!#REF!","v":{"$error":"#REF!"}},233]
[{"$f":"'Pob x Genero'!#REF!","v":{"$error":"#REF!"}},{"$f":"'Pob x Genero'!#REF!","v":{"$error":"#REF!"}},{"$f":"'Pob x Genero'!#REF!","v":{"$error":"#REF!"}},{"$f":"'Pob x Genero'!#REF!","v":{"$error":"#REF!"}},{"$f":"'Pob x Genero'!#REF!","v":{"$error":"#REF!"}},"Hombre","00-04",{"$f":"'Pob x Genero'!#REF!","v":{"$error":"#REF!"}},234]
[{"$f":"'Pob x Genero'!#REF!","v":{"$error":"#REF!"}},{"$f":"'Pob x Genero'!#REF!","v":{"$error":"#REF!"}},{"$f":"'Pob x Genero'!#REF!","v":{"$error":"#REF!"}},{"$f":"'Pob x Genero'!#REF!","v":{"$error":"#REF!"}},{"$f":"'Pob x Genero'!#REF!","v":{"$error":"#REF!"}},"Hombre","00-04",{"$f":"'Pob x Genero'!#REF!","v":{"$error":"#REF!"}},235]
[{"$f":"'Pob x Genero'!#REF!","v":{"$error":"#REF!"}},{"$f":"'Pob x Genero'!#REF!","v":{"$error":"#REF!"}},{"$f":"'Pob x Genero'!#REF!","v":{"$error":"#REF!"}},{"$f":"'Pob x Genero'!#REF!","v":{"$error":"#REF!"}},{"$f":"'Pob x Genero'!#REF!","v":{"$error":"#REF!"}},"Hombre","00-04",{"$f":"'Pob x Genero'!#REF!","v":{"$error":"#REF!"}},236]
[{"$f":"'Pob x Genero'!#REF!","v":{"$error":"#REF!"}},{"$f":"'Pob x Genero'!#REF!","v":{"$error":"#REF!"}},{"$f":"'Pob x Genero'!#REF!","v":{"$error":"#REF!"}},{"$f":"'Pob x Genero'!#REF!","v":{"$error":"#REF!"}},{"$f":"'Pob x Genero'!#REF!","v":{"$error":"#REF!"}},"Hombre","00-04",{"$f":"'Pob x Genero'!#REF!","v":{"$error":"#REF!"}},237]
[{"$f":"'Pob x Genero'!#REF!","v":{"$error":"#REF!"}},{"$f":"'Pob x Genero'!#REF!","v":{"$error":"#REF!"}},{"$f":"'Pob x Genero'!#REF!","v":{"$error":"#REF!"}},{"$f":"'Pob x Genero'!#REF!","v":{"$error":"#REF!"}},{"$f":"'Pob x Genero'!#REF!","v":{"$error":"#REF!"}},"Hombre","00-04",{"$f":"'Pob x Genero'!#REF!","v":{"$error":"#REF!"}},238]
[{"$f":"'Pob x Genero'!#REF!","v":{"$error":"#REF!"}},{"$f":"'Pob x Genero'!#REF!","v":{"$error":"#REF!"}},{"$f":"'Pob x Genero'!#REF!","v":{"$error":"#REF!"}},{"$f":"'Pob x Genero'!#REF!","v":{"$error":"#REF!"}},{"$f":"'Pob x Genero'!#REF!","v":{"$error":"#REF!"}},"Hombre","00-04",{"$f":"'Pob x Genero'!#REF!","v":{"$error":"#REF!"}},239]
[{"$f":"'Pob x Genero'!#REF!","v":{"$error":"#REF!"}},{"$f":"'Pob x Genero'!#REF!","v":{"$error":"#REF!"}},{"$f":"'Pob x Genero'!#REF!","v":{"$error":"#REF!"}},{"$f":"'Pob x Genero'!#REF!","v":{"$error":"#REF!"}},{"$f":"'Pob x Genero'!#REF!","v":{"$error":"#REF!"}},"Hombre","00-04",{"$f":"'Pob x Genero'!#REF!","v":{"$error":"#REF!"}},240]
[{"$f":"'Pob x Genero'!#REF!","v":{"$error":"#REF!"}},{"$f":"'Pob x Genero'!#REF!","v":{"$error":"#REF!"}},{"$f":"'Pob x Genero'!#REF!","v":{"$error":"#REF!"}},{"$f":"'Pob x Genero'!#REF!","v":{"$error":"#REF!"}},{"$f":"'Pob x Genero'!#REF!","v":{"$error":"#REF!"}},"Hombre","00-04",{"$f":"'Pob x Genero'!#REF!","v":{"$error":"#REF!"}},241]
[{"$f":"'Pob x Genero'!#REF!","v":{"$error":"#REF!"}},{"$f":"'Pob x Genero'!#REF!","v":{"$error":"#REF!"}},{"$f":"'Pob x Genero'!#REF!","v":{"$error":"#REF!"}},{"$f":"'Pob x Genero'!#REF!","v":{"$error":"#REF!"}},{"$f":"'Pob x Genero'!#REF!","v":{"$error":"#REF!"}},"Hombre","00-04",{"$f":"'Pob x Genero'!#REF!","v":{"$error":"#REF!"}},242]
[{"$f":"'Pob x Genero'!#REF!","v":{"$error":"#REF!"}},{"$f":"'Pob x Genero'!#REF!","v":{"$error":"#REF!"}},{"$f":"'Pob x Genero'!#REF!","v":{"$error":"#REF!"}},{"$f":"'Pob x Genero'!#REF!","v":{"$error":"#REF!"}},{"$f":"'Pob x Genero'!#REF!","v":{"$error":"#REF!"}},"Hombre","00-04",{"$f":"'Pob x Genero'!#REF!","v":{"$error":"#REF!"}},243]
[{"$f":"'Pob x Genero'!#REF!","v":{"$error":"#REF!"}},{"$f":"'Pob x Genero'!#REF!","v":{"$error":"#REF!"}},{"$f":"'Pob x Genero'!#REF!","v":{"$error":"#REF!"}},{"$f":"'Pob x Genero'!#REF!","v":{"$error":"#REF!"}},{"$f":"'Pob x Genero'!#REF!","v":{"$error":"#REF!"}},"Hombre","00-04",{"$f":"'Pob x Genero'!#REF!","v":{"$error":"#REF!"}},244]
[{"$f":"'Pob x Genero'!#REF!","v":{"$error":"#REF!"}},{"$f":"'Pob x Genero'!#REF!","v":{"$error":"#REF!"}},{"$f":"'Pob x Genero'!#REF!","v":{"$error":"#REF!"}},{"$f":"'Pob x Genero'!#REF!","v":{"$error":"#REF!"}},{"$f":"'Pob x Genero'!#REF!","v":{"$error":"#REF!"}},"Hombre","00-04",{"$f":"'Pob x Genero'!#REF!","v":{"$error":"#REF!"}},245]
[{"$f":"'Pob x Genero'!#REF!","v":{"$error":"#REF!"}},{"$f":"'Pob x Genero'!#REF!","v":{"$error":"#REF!"}},{"$f":"'Pob x Genero'!#REF!","v":{"$error":"#REF!"}},{"$f":"'Pob x Genero'!#REF!","v":{"$error":"#REF!"}},{"$f":"'Pob x Genero'!#REF!","v":{"$error":"#REF!"}},"Hombre","00-04",{"$f":"'Pob x Genero'!#REF!","v":{"$error":"#REF!"}},246]
[{"$f":"'Pob x Genero'!#REF!","v":{"$error":"#REF!"}},{"$f":"'Pob x Genero'!#REF!","v":{"$error":"#REF!"}},{"$f":"'Pob x Genero'!#REF!","v":{"$error":"#REF!"}},{"$f":"'Pob x Genero'!#REF!","v":{"$error":"#REF!"}},{"$f":"'Pob x Genero'!#REF!","v":{"$error":"#REF!"}},"Hombre","00-04",{"$f":"'Pob x Genero'!#REF!","v":{"$error":"#REF!"}},247]
[{"$f":"'Pob x Genero'!#REF!","v":{"$error":"#REF!"}},{"$f":"'Pob x Genero'!#REF!","v":{"$error":"#REF!"}},{"$f":"'Pob x Genero'!#REF!","v":{"$error":"#REF!"}},{"$f":"'Pob x Genero'!#REF!","v":{"$error":"#REF!"}},{"$f":"'Pob x Genero'!#REF!","v":{"$error":"#REF!"}},"Hombre","00-04",{"$f":"'Pob x Genero'!#REF!","v":{"$error":"#REF!"}},248]
[{"$f":"'Pob x Genero'!#REF!","v":{"$error":"#REF!"}},{"$f":"'Pob x Genero'!#REF!","v":{"$error":"#REF!"}},{"$f":"'Pob x Genero'!#REF!","v":{"$error":"#REF!"}},{"$f":"'Pob x Genero'!#REF!","v":{"$error":"#REF!"}},{"$f":"'Pob x Genero'!#REF!","v":{"$error":"#REF!"}},"Hombre","00-04",{"$f":"'Pob x Genero'!#REF!","v":{"$error":"#REF!"}},249]
[{"$f":"'Pob x Genero'!#REF!","v":{"$error":"#REF!"}},{"$f":"'Pob x Genero'!#REF!","v":{"$error":"#REF!"}},{"$f":"'Pob x Genero'!#REF!","v":{"$error":"#REF!"}},{"$f":"'Pob x Genero'!#REF!","v":{"$error":"#REF!"}},{"$f":"'Pob x Genero'!#REF!","v":{"$error":"#REF!"}},"Hombre","00-04",{"$f":"'Pob x Genero'!#REF!","v":{"$error":"#REF!"}},250]
[{"$f":"'Pob x Genero'!#REF!","v":{"$error":"#REF!"}},{"$f":"'Pob x Genero'!#REF!","v":{"$error":"#REF!"}},{"$f":"'Pob x Genero'!#REF!","v":{"$error":"#REF!"}},{"$f":"'Pob x Genero'!#REF!","v":{"$error":"#REF!"}},{"$f":"'Pob x Genero'!#REF!","v":{"$error":"#REF!"}},"Hombre","00-04",{"$f":"'Pob x Genero'!#REF!","v":{"$error":"#REF!"}},251]
[{"$f":"'Pob x Genero'!#REF!","v":{"$error":"#REF!"}},{"$f":"'Pob x Genero'!#REF!","v":{"$error":"#REF!"}},{"$f":"'Pob x Genero'!#REF!","v":{"$error":"#REF!"}},{"$f":"'Pob x Genero'!#REF!","v":{"$error":"#REF!"}},{"$f":"'Pob x Genero'!#REF!","v":{"$error":"#REF!"}},"Hombre","00-04",{"$f":"'Pob x Genero'!#REF!","v":{"$error":"#REF!"}},252]
[{"$f":"'Pob x Genero'!#REF!","v":{"$error":"#REF!"}},{"$f":"'Pob x Genero'!#REF!","v":{"$error":"#REF!"}},{"$f":"'Pob x Genero'!#REF!","v":{"$error":"#REF!"}},{"$f":"'Pob x Genero'!#REF!","v":{"$error":"#REF!"}},{"$f":"'Pob x Genero'!#REF!","v":{"$error":"#REF!"}},"Hombre","00-04",{"$f":"'Pob x Genero'!#REF!","v":{"$error":"#REF!"}},253]
[{"$f":"'Pob x Genero'!#REF!","v":{"$error":"#REF!"}},{"$f":"'Pob x Genero'!#REF!","v":{"$error":"#REF!"}},{"$f":"'Pob x Genero'!#REF!","v":{"$error":"#REF!"}},{"$f":"'Pob x Genero'!#REF!","v":{"$error":"#REF!"}},{"$f":"'Pob x Genero'!#REF!","v":{"$error":"#REF!"}},"Hombre","00-04",{"$f":"'Pob x Genero'!#REF!","v":{"$error":"#REF!"}},254]
[{"$f":"'Pob x Genero'!#REF!","v":{"$error":"#REF!"}},{"$f":"'Pob x Genero'!#REF!","v":{"$error":"#REF!"}},{"$f":"'Pob x Genero'!#REF!","v":{"$error":"#REF!"}},{"$f":"'Pob x Genero'!#REF!","v":{"$error":"#REF!"}},{"$f":"'Pob x Genero'!#REF!","v":{"$error":"#REF!"}},"Hombre","00-04",{"$f":"'Pob x Genero'!#REF!","v":{"$error":"#REF!"}},255]
[{"$f":"'Pob x Genero'!#REF!","v":{"$error":"#REF!"}},{"$f":"'Pob x Genero'!#REF!","v":{"$error":"#REF!"}},{"$f":"'Pob x Genero'!#REF!","v":{"$error":"#REF!"}},{"$f":"'Pob x Genero'!#REF!","v":{"$error":"#REF!"}},{"$f":"'Pob x Genero'!#REF!","v":{"$error":"#REF!"}},"Hombre","00-04",{"$f":"'Pob x Genero'!#REF!","v":{"$error":"#REF!"}},256]
[{"$f":"'Pob x Genero'!#REF!","v":{"$error":"#REF!"}},{"$f":"'Pob x Genero'!#REF!","v":{"$error":"#REF!"}},{"$f":"'Pob x Genero'!#REF!","v":{"$error":"#REF!"}},{"$f":"'Pob x Genero'!#REF!","v":{"$error":"#REF!"}},{"$f":"'Pob x Genero'!#REF!","v":{"$error":"#REF!"}},"Hombre","00-04",{"$f":"'Pob x Genero'!#REF!","v":{"$error":"#REF!"}},257]
[{"$f":"'Pob x Genero'!#REF!","v":{"$error":"#REF!"}},{"$f":"'Pob x Genero'!#REF!","v":{"$error":"#REF!"}},{"$f":"'Pob x Genero'!#REF!","v":{"$error":"#REF!"}},{"$f":"'Pob x Genero'!#REF!","v":{"$error":"#REF!"}},{"$f":"'Pob x Genero'!#REF!","v":{"$error":"#REF!"}},{"$f":"F258","v":"Hombre"},{"$f":"G258","v":"00-04"},{"$f":"'Pob x Genero'!#REF!","v":{"$error":"#REF!"}},258]
[{"$f":"'Pob x Genero'!#REF!","v":{"$error":"#REF!"}},{"$f":"'Pob x Genero'!#REF!","v":{"$error":"#REF!"}},{"$f":"'Pob x Genero'!#REF!","v":{"$error":"#REF!"}},{"$f":"'Pob x Genero'!#REF!","v":{"$error":"#REF!"}},{"$f":"'Pob x Genero'!#REF!","v":{"$error":"#REF!"}},"Hombre","00-04",{"$f":"'Pob x Genero'!#REF!","v":{"$error":"#REF!"}},259]
[{"$f":"'Pob x Genero'!#REF!","v":{"$error":"#REF!"}},{"$f":"'Pob x Genero'!#REF!","v":{"$error":"#REF!"}},{"$f":"'Pob x Genero'!#REF!","v":{"$error":"#REF!"}},{"$f":"'Pob x Genero'!#REF!","v":{"$error":"#REF!"}},{"$f":"'Pob x Genero'!#REF!","v":{"$error":"#REF!"}},"Hombre","00-04",{"$f":"'Pob x Genero'!#REF!","v":{"$error":"#REF!"}},260]
[{"$f":"'Pob x Genero'!#REF!","v":{"$error":"#REF!"}},{"$f":"'Pob x Genero'!#REF!","v":{"$error":"#REF!"}},{"$f":"'Pob x Genero'!#REF!","v":{"$error":"#REF!"}},{"$f":"'Pob x Genero'!#REF!","v":{"$error":"#REF!"}},{"$f":"'Pob x Genero'!#REF!","v":{"$error":"#REF!"}},"Hombre","00-04",{"$f":"'Pob x Genero'!#REF!","v":{"$error":"#REF!"}},261]
[{"$f":"'Pob x Genero'!#REF!","v":{"$error":"#REF!"}},{"$f":"'Pob x Genero'!#REF!","v":{"$error":"#REF!"}},{"$f":"'Pob x Genero'!#REF!","v":{"$error":"#REF!"}},{"$f":"'Pob x Genero'!#REF!","v":{"$error":"#REF!"}},{"$f":"'Pob x Genero'!#REF!","v":{"$error":"#REF!"}},"Hombre","00-04",{"$f":"'Pob x Genero'!#REF!","v":{"$error":"#REF!"}},262]
[{"$f":"'Pob x Genero'!#REF!","v":{"$error":"#REF!"}},{"$f":"'Pob x Genero'!#REF!","v":{"$error":"#REF!"}},{"$f":"'Pob x Genero'!#REF!","v":{"$error":"#REF!"}},{"$f":"'Pob x Genero'!#REF!","v":{"$error":"#REF!"}},{"$f":"'Pob x Genero'!#REF!","v":{"$error":"#REF!"}},"Hombre","00-04",{"$f":"'Pob x Genero'!#REF!","v":{"$error":"#REF!"}},263]
[{"$f":"'Pob x Genero'!#REF!","v":{"$error":"#REF!"}},{"$f":"'Pob x Genero'!#REF!","v":{"$error":"#REF!"}},{"$f":"'Pob x Genero'!#REF!","v":{"$error":"#REF!"}},{"$f":"'Pob x Genero'!#REF!","v":{"$error":"#REF!"}},{"$f":"'Pob x Genero'!#REF!","v":{"$error":"#REF!"}},"Hombre","00-04",{"$f":"'Pob x Genero'!#REF!","v":{"$error":"#REF!"}},264]
[{"$f":"'Pob x Genero'!#REF!","v":{"$error":"#REF!"}},{"$f":"'Pob x Genero'!#REF!","v":{"$error":"#REF!"}},{"$f":"'Pob x Genero'!#REF!","v":{"$error":"#REF!"}},{"$f":"'Pob x Genero'!#REF!","v":{"$error":"#REF!"}},{"$f":"'Pob x Genero'!#REF!","v":{"$error":"#REF!"}},"Hombre","00-04",{"$f":"'Pob x Genero'!#REF!","v":{"$error":"#REF!"}},265]
[{"$f":"'Pob x Genero'!#REF!","v":{"$error":"#REF!"}},{"$f":"'Pob x Genero'!#REF!","v":{"$error":"#REF!"}},{"$f":"'Pob x Genero'!#REF!","v":{"$error":"#REF!"}},{"$f":"'Pob x Genero'!#REF!","v":{"$error":"#REF!"}},{"$f":"'Pob x Genero'!#REF!","v":{"$error":"#REF!"}},"Hombre","00-04",{"$f":"'Pob x Genero'!#REF!","v":{"$error":"#REF!"}},266]
[{"$f":"'Pob x Genero'!#REF!","v":{"$error":"#REF!"}},{"$f":"'Pob x Genero'!#REF!","v":{"$error":"#REF!"}},{"$f":"'Pob x Genero'!#REF!","v":{"$error":"#REF!"}},{"$f":"'Pob x Genero'!#REF!","v":{"$error":"#REF!"}},{"$f":"'Pob x Genero'!#REF!","v":{"$error":"#REF!"}},"Hombre","00-04",{"$f":"'Pob x Genero'!#REF!","v":{"$error":"#REF!"}},267]
[{"$f":"'Pob x Genero'!#REF!","v":{"$error":"#REF!"}},{"$f":"'Pob x Genero'!#REF!","v":{"$error":"#REF!"}},{"$f":"'Pob x Genero'!#REF!","v":{"$error":"#REF!"}},{"$f":"'Pob x Genero'!#REF!","v":{"$error":"#REF!"}},{"$f":"'Pob x Genero'!#REF!","v":{"$error":"#REF!"}},"Hombre","00-04",{"$f":"'Pob x Genero'!#REF!","v":{"$error":"#REF!"}},268]
[{"$f":"'Pob x Genero'!#REF!","v":{"$error":"#REF!"}},{"$f":"'Pob x Genero'!#REF!","v":{"$error":"#REF!"}},{"$f":"'Pob x Genero'!#REF!","v":{"$error":"#REF!"}},{"$f":"'Pob x Genero'!#REF!","v":{"$error":"#REF!"}},{"$f":"'Pob x Genero'!#REF!","v":{"$error":"#REF!"}},"Hombre","00-04",{"$f":"'Pob x Genero'!#REF!","v":{"$error":"#REF!"}},269]
[{"$f":"'Pob x Genero'!#REF!","v":{"$error":"#REF!"}},{"$f":"'Pob x Genero'!#REF!","v":{"$error":"#REF!"}},{"$f":"'Pob x Genero'!#REF!","v":{"$error":"#REF!"}},{"$f":"'Pob x Genero'!#REF!","v":{"$error":"#REF!"}},{"$f":"'Pob x Genero'!#REF!","v":{"$error":"#REF!"}},"Hombre","00-04",{"$f":"'Pob x Genero'!#REF!","v":{"$error":"#REF!"}},270]
[{"$f":"'Pob x Genero'!#REF!","v":{"$error":"#REF!"}},{"$f":"'Pob x Genero'!#REF!","v":{"$error":"#REF!"}},{"$f":"'Pob x Genero'!#REF!","v":{"$error":"#REF!"}},{"$f":"'Pob x Genero'!#REF!","v":{"$error":"#REF!"}},{"$f":"'Pob x Genero'!#REF!","v":{"$error":"#REF!"}},"Hombre","00-04",{"$f":"'Pob x Genero'!#REF!","v":{"$error":"#REF!"}},271]
[{"$f":"'Pob x Genero'!#REF!","v":{"$error":"#REF!"}},{"$f":"'Pob x Genero'!#REF!","v":{"$error":"#REF!"}},{"$f":"'Pob x Genero'!#REF!","v":{"$error":"#REF!"}},{"$f":"'Pob x Genero'!#REF!","v":{"$error":"#REF!"}},{"$f":"'Pob x Genero'!#REF!","v":{"$error":"#REF!"}},"Hombre","00-04",{"$f":"'Pob x Genero'!#REF!","v":{"$error":"#REF!"}},272]
[{"$f":"'Pob x Genero'!#REF!","v":{"$error":"#REF!"}},{"$f":"'Pob x Genero'!#REF!","v":{"$error":"#REF!"}},{"$f":"'Pob x Genero'!#REF!","v":{"$error":"#REF!"}},{"$f":"'Pob x Genero'!#REF!","v":{"$error":"#REF!"}},{"$f":"'Pob x Genero'!#REF!","v":{"$error":"#REF!"}},"Hombre","00-04",{"$f":"'Pob x Genero'!#REF!","v":{"$error":"#REF!"}},273]
[{"$f":"'Pob x Genero'!#REF!","v":{"$error":"#REF!"}},{"$f":"'Pob x Genero'!#REF!","v":{"$error":"#REF!"}},{"$f":"'Pob x Genero'!#REF!","v":{"$error":"#REF!"}},{"$f":"'Pob x Genero'!#REF!","v":{"$error":"#REF!"}},{"$f":"'Pob x Genero'!#REF!","v":{"$error":"#REF!"}},"Hombre","00-04",{"$f":"'Pob x Genero'!#REF!","v":{"$error":"#REF!"}},274]
[{"$f":"'Pob x Genero'!#REF!","v":{"$error":"#REF!"}},{"$f":"'Pob x Genero'!#REF!","v":{"$error":"#REF!"}},{"$f":"'Pob x Genero'!#REF!","v":{"$error":"#REF!"}},{"$f":"'Pob x Genero'!#REF!","v":{"$error":"#REF!"}},{"$f":"'Pob x Genero'!#REF!","v":{"$error":"#REF!"}},"Hombre","00-04",{"$f":"'Pob x Genero'!#REF!","v":{"$error":"#REF!"}},275]
[{"$f":"'Pob x Genero'!#REF!","v":{"$error":"#REF!"}},{"$f":"'Pob x Genero'!#REF!","v":{"$error":"#REF!"}},{"$f":"'Pob x Genero'!#REF!","v":{"$error":"#REF!"}},{"$f":"'Pob x Genero'!#REF!","v":{"$error":"#REF!"}},{"$f":"'Pob x Genero'!#REF!","v":{"$error":"#REF!"}},"Hombre","00-04",{"$f":"'Pob x Genero'!#REF!","v":{"$error":"#REF!"}},276]
[{"$f":"'Pob x Genero'!#REF!","v":{"$error":"#REF!"}},{"$f":"'Pob x Genero'!#REF!","v":{"$error":"#REF!"}},{"$f":"'Pob x Genero'!#REF!","v":{"$error":"#REF!"}},{"$f":"'Pob x Genero'!#REF!","v":{"$error":"#REF!"}},{"$f":"'Pob x Genero'!#REF!","v":{"$error":"#REF!"}},"Hombre","00-04",{"$f":"'Pob x Genero'!#REF!","v":{"$error":"#REF!"}},277]
[{"$f":"'Pob x Genero'!#REF!","v":{"$error":"#REF!"}},{"$f":"'Pob x Genero'!#REF!","v":{"$error":"#REF!"}},{"$f":"'Pob x Genero'!#REF!","v":{"$error":"#REF!"}},{"$f":"'Pob x Genero'!#REF!","v":{"$error":"#REF!"}},{"$f":"'Pob x Genero'!#REF!","v":{"$error":"#REF!"}},"Hombre","00-04",{"$f":"'Pob x Genero'!#REF!","v":{"$error":"#REF!"}},278]
[{"$f":"'Pob x Genero'!#REF!","v":{"$error":"#REF!"}},{"$f":"'Pob x Genero'!#REF!","v":{"$error":"#REF!"}},{"$f":"'Pob x Genero'!#REF!","v":{"$error":"#REF!"}},{"$f":"'Pob x Genero'!#REF!","v":{"$error":"#REF!"}},{"$f":"'Pob x Genero'!#REF!","v":{"$error":"#REF!"}},"Hombre","00-04",{"$f":"'Pob x Genero'!#REF!","v":{"$error":"#REF!"}},279]
[{"$f":"'Pob x Genero'!#REF!","v":{"$error":"#REF!"}},{"$f":"'Pob x Genero'!#REF!","v":{"$error":"#REF!"}},{"$f":"'Pob x Genero'!#REF!","v":{"$error":"#REF!"}},{"$f":"'Pob x Genero'!#REF!","v":{"$error":"#REF!"}},{"$f":"'Pob x Genero'!#REF!","v":{"$error":"#REF!"}},"Hombre","00-04",{"$f":"'Pob x Genero'!#REF!","v":{"$error":"#REF!"}},280]
[{"$f":"'Pob x Genero'!#REF!","v":{"$error":"#REF!"}},{"$f":"'Pob x Genero'!#REF!","v":{"$error":"#REF!"}},{"$f":"'Pob x Genero'!#REF!","v":{"$error":"#REF!"}},{"$f":"'Pob x Genero'!#REF!","v":{"$error":"#REF!"}},{"$f":"'Pob x Genero'!#REF!","v":{"$error":"#REF!"}},"Hombre","00-04",{"$f":"'Pob x Genero'!#REF!","v":{"$error":"#REF!"}},281]
[{"$f":"'Pob x Genero'!#REF!","v":{"$error":"#REF!"}},{"$f":"'Pob x Genero'!#REF!","v":{"$error":"#REF!"}},{"$f":"'Pob x Genero'!#REF!","v":{"$error":"#REF!"}},{"$f":"'Pob x Genero'!#REF!","v":{"$error":"#REF!"}},{"$f":"'Pob x Genero'!#REF!","v":{"$error":"#REF!"}},"Hombre","00-04",{"$f":"'Pob x Genero'!#REF!","v":{"$error":"#REF!"}},282]
[{"$f":"'Pob x Genero'!#REF!","v":{"$error":"#REF!"}},{"$f":"'Pob x Genero'!#REF!","v":{"$error":"#REF!"}},{"$f":"'Pob x Genero'!#REF!","v":{"$error":"#REF!"}},{"$f":"'Pob x Genero'!#REF!","v":{"$error":"#REF!"}},{"$f":"'Pob x Genero'!#REF!","v":{"$error":"#REF!"}},"Hombre","00-04",{"$f":"'Pob x Genero'!#REF!","v":{"$error":"#REF!"}},283]
[{"$f":"'Pob x Genero'!#REF!","v":{"$error":"#REF!"}},{"$f":"'Pob x Genero'!#REF!","v":{"$error":"#REF!"}},{"$f":"'Pob x Genero'!#REF!","v":{"$error":"#REF!"}},{"$f":"'Pob x Genero'!#REF!","v":{"$error":"#REF!"}},{"$f":"'Pob x Genero'!#REF!","v":{"$error":"#REF!"}},"Hombre","00-04",{"$f":"'Pob x Genero'!#REF!","v":{"$error":"#REF!"}},284]
[{"$f":"'Pob x Genero'!#REF!","v":{"$error":"#REF!"}},{"$f":"'Pob x Genero'!#REF!","v":{"$error":"#REF!"}},{"$f":"'Pob x Genero'!#REF!","v":{"$error":"#REF!"}},{"$f":"'Pob x Genero'!#REF!","v":{"$error":"#REF!"}},{"$f":"'Pob x Genero'!#REF!","v":{"$error":"#REF!"}},"Hombre","00-04",{"$f":"'Pob x Genero'!#REF!","v":{"$error":"#REF!"}},285]
[{"$f":"'Pob x Genero'!#REF!","v":{"$error":"#REF!"}},{"$f":"'Pob x Genero'!#REF!","v":{"$error":"#REF!"}},{"$f":"'Pob x Genero'!#REF!","v":{"$error":"#REF!"}},{"$f":"'Pob x Genero'!#REF!","v":{"$error":"#REF!"}},{"$f":"'Pob x Genero'!#REF!","v":{"$error":"#REF!"}},"Hombre","00-04",{"$f":"'Pob x Genero'!#REF!","v":{"$error":"#REF!"}},286]
[{"$f":"'Pob x Genero'!#REF!","v":{"$error":"#REF!"}},{"$f":"'Pob x Genero'!#REF!","v":{"$error":"#REF!"}},{"$f":"'Pob x Genero'!#REF!","v":{"$error":"#REF!"}},{"$f":"'Pob x Genero'!#REF!","v":{"$error":"#REF!"}},{"$f":"'Pob x Genero'!#REF!","v":{"$error":"#REF!"}},"Hombre","00-04",{"$f":"'Pob x Genero'!#REF!","v":{"$error":"#REF!"}},287]
[{"$f":"'Pob x Genero'!#REF!","v":{"$error":"#REF!"}},{"$f":"'Pob x Genero'!#REF!","v":{"$error":"#REF!"}},{"$f":"'Pob x Genero'!#REF!","v":{"$error":"#REF!"}},{"$f":"'Pob x Genero'!#REF!","v":{"$error":"#REF!"}},{"$f":"'Pob x Genero'!#REF!","v":{"$error":"#REF!"}},"Hombre","00-04",{"$f":"'Pob x Genero'!#REF!","v":{"$error":"#REF!"}},288]
[{"$f":"'Pob x Genero'!#REF!","v":{"$error":"#REF!"}},{"$f":"'Pob x Genero'!#REF!","v":{"$error":"#REF!"}},{"$f":"'Pob x Genero'!#REF!","v":{"$error":"#REF!"}},{"$f":"'Pob x Genero'!#REF!","v":{"$error":"#REF!"}},{"$f":"'Pob x Genero'!#REF!","v":{"$error":"#REF!"}},"Hombre","00-04",{"$f":"'Pob x Genero'!#REF!","v":{"$error":"#REF!"}},289]
[{"$f":"'Pob x Genero'!#REF!","v":{"$error":"#REF!"}},{"$f":"'Pob x Genero'!#REF!","v":{"$error":"#REF!"}},{"$f":"'Pob x Genero'!#REF!","v":{"$error":"#REF!"}},{"$f":"'Pob x Genero'!#REF!","v":{"$error":"#REF!"}},{"$f":"'Pob x Genero'!#REF!","v":{"$error":"#REF!"}},"Hombre","00-04",{"$f":"'Pob x Genero'!#REF!","v":{"$error":"#REF!"}},290]
[{"$f":"'Pob x Genero'!#REF!","v":{"$error":"#REF!"}},{"$f":"'Pob x Genero'!#REF!","v":{"$error":"#REF!"}},{"$f":"'Pob x Genero'!#REF!","v":{"$error":"#REF!"}},{"$f":"'Pob x Genero'!#REF!","v":{"$error":"#REF!"}},{"$f":"'Pob x Genero'!#REF!","v":{"$error":"#REF!"}},"Hombre","00-04",{"$f":"'Pob x Genero'!#REF!","v":{"$error":"#REF!"}},291]
[{"$f":"'Pob x Genero'!#REF!","v":{"$error":"#REF!"}},{"$f":"'Pob x Genero'!#REF!","v":{"$error":"#REF!"}},{"$f":"'Pob x Genero'!#REF!","v":{"$error":"#REF!"}},{"$f":"'Pob x Genero'!#REF!","v":{"$error":"#REF!"}},{"$f":"'Pob x Genero'!#REF!","v":{"$error":"#REF!"}},"Hombre","00-04",{"$f":"'Pob x Genero'!#REF!","v":{"$error":"#REF!"}},292]
[{"$f":"'Pob x Genero'!#REF!","v":{"$error":"#REF!"}},{"$f":"'Pob x Genero'!#REF!","v":{"$error":"#REF!"}},{"$f":"'Pob x Genero'!#REF!","v":{"$error":"#REF!"}},{"$f":"'Pob x Genero'!#REF!","v":{"$error":"#REF!"}},{"$f":"'Pob x Genero'!#REF!","v":{"$error":"#REF!"}},"Hombre","00-04",{"$f":"'Pob x Genero'!#REF!","v":{"$error":"#REF!"}},293]
[{"$f":"'Pob x Genero'!#REF!","v":{"$error":"#REF!"}},{"$f":"'Pob x Genero'!#REF!","v":{"$error":"#REF!"}},{"$f":"'Pob x Genero'!#REF!","v":{"$error":"#REF!"}},{"$f":"'Pob x Genero'!#REF!","v":{"$error":"#REF!"}},{"$f":"'Pob x Genero'!#REF!","v":{"$error":"#REF!"}},"Hombre","00-04",{"$f":"'Pob x Genero'!#REF!","v":{"$error":"#REF!"}},294]
[{"$f":"'Pob x Genero'!#REF!","v":{"$error":"#REF!"}},{"$f":"'Pob x Genero'!#REF!","v":{"$error":"#REF!"}},{"$f":"'Pob x Genero'!#REF!","v":{"$error":"#REF!"}},{"$f":"'Pob x Genero'!#REF!","v":{"$error":"#REF!"}},{"$f":"'Pob x Genero'!#REF!","v":{"$error":"#REF!"}},"Hombre","00-04",{"$f":"'Pob x Genero'!#REF!","v":{"$error":"#REF!"}},295]
[{"$f":"'Pob x Genero'!#REF!","v":{"$error":"#REF!"}},{"$f":"'Pob x Genero'!#REF!","v":{"$error":"#REF!"}},{"$f":"'Pob x Genero'!#REF!","v":{"$error":"#REF!"}},{"$f":"'Pob x Genero'!#REF!","v":{"$error":"#REF!"}},{"$f":"'Pob x Genero'!#REF!","v":{"$error":"#REF!"}},"Hombre","00-04",{"$f":"'Pob x Genero'!#REF!","v":{"$error":"#REF!"}},296]
[{"$f":"'Pob x Genero'!#REF!","v":{"$error":"#REF!"}},{"$f":"'Pob x Genero'!#REF!","v":{"$error":"#REF!"}},{"$f":"'Pob x Genero'!#REF!","v":{"$error":"#REF!"}},{"$f":"'Pob x Genero'!#REF!","v":{"$error":"#REF!"}},{"$f":"'Pob x Genero'!#REF!","v":{"$error":"#REF!"}},"Hombre","00-04",{"$f":"'Pob x Genero'!#REF!","v":{"$error":"#REF!"}},297]
[{"$f":"'Pob x Genero'!#REF!","v":{"$error":"#REF!"}},{"$f":"'Pob x Genero'!#REF!","v":{"$error":"#REF!"}},{"$f":"'Pob x Genero'!#REF!","v":{"$error":"#REF!"}},{"$f":"'Pob x Genero'!#REF!","v":{"$error":"#REF!"}},{"$f":"'Pob x Genero'!#REF!","v":{"$error":"#REF!"}},"Hombre","00-04",{"$f":"'Pob x Genero'!#REF!","v":{"$error":"#REF!"}},298]
[{"$f":"'Pob x Genero'!#REF!","v":{"$error":"#REF!"}},{"$f":"'Pob x Genero'!#REF!","v":{"$error":"#REF!"}},{"$f":"'Pob x Genero'!#REF!","v":{"$error":"#REF!"}},{"$f":"'Pob x Genero'!#REF!","v":{"$error":"#REF!"}},{"$f":"'Pob x Genero'!#REF!","v":{"$error":"#REF!"}},"Hombre","00-04",{"$f":"'Pob x Genero'!#REF!","v":{"$error":"#REF!"}},299]
[{"$f":"'Pob x Genero'!#REF!","v":{"$error":"#REF!"}},{"$f":"'Pob x Genero'!#REF!","v":{"$error":"#REF!"}},{"$f":"'Pob x Genero'!#REF!","v":{"$error":"#REF!"}},{"$f":"'Pob x Genero'!#REF!","v":{"$error":"#REF!"}},{"$f":"'Pob x Genero'!#REF!","v":{"$error":"#REF!"}},"Hombre","00-04",{"$f":"'Pob x Genero'!#REF!","v":{"$error":"#REF!"}},300]
[{"$f":"'Pob x Genero'!#REF!","v":{"$error":"#REF!"}},{"$f":"'Pob x Genero'!#REF!","v":{"$error":"#REF!"}},{"$f":"'Pob x Genero'!#REF!","v":{"$error":"#REF!"}},{"$f":"'Pob x Genero'!#REF!","v":{"$error":"#REF!"}},{"$f":"'Pob x Genero'!#REF!","v":{"$error":"#REF!"}},"Hombre","00-04",{"$f":"'Pob x Genero'!#REF!","v":{"$error":"#REF!"}},301]
[{"$f":"'Pob x Genero'!#REF!","v":{"$error":"#REF!"}},{"$f":"'Pob x Genero'!#REF!","v":{"$error":"#REF!"}},{"$f":"'Pob x Genero'!#REF!","v":{"$error":"#REF!"}},{"$f":"'Pob x Genero'!#REF!","v":{"$error":"#REF!"}},{"$f":"'Pob x Genero'!#REF!","v":{"$error":"#REF!"}},"Hombre","00-04",{"$f":"'Pob x Genero'!#REF!","v":{"$error":"#REF!"}},302]
[{"$f":"'Pob x Genero'!#REF!","v":{"$error":"#REF!"}},{"$f":"'Pob x Genero'!#REF!","v":{"$error":"#REF!"}},{"$f":"'Pob x Genero'!#REF!","v":{"$error":"#REF!"}},{"$f":"'Pob x Genero'!#REF!","v":{"$error":"#REF!"}},{"$f":"'Pob x Genero'!#REF!","v":{"$error":"#REF!"}},"Hombre","00-04",{"$f":"'Pob x Genero'!#REF!","v":{"$error":"#REF!"}},303]
[{"$f":"'Pob x Genero'!#REF!","v":{"$error":"#REF!"}},{"$f":"'Pob x Genero'!#REF!","v":{"$error":"#REF!"}},{"$f":"'Pob x Genero'!#REF!","v":{"$error":"#REF!"}},{"$f":"'Pob x Genero'!#REF!","v":{"$error":"#REF!"}},{"$f":"'Pob x Genero'!#REF!","v":{"$error":"#REF!"}},"Hombre","00-04",{"$f":"'Pob x Genero'!#REF!","v":{"$error":"#REF!"}},304]
[{"$f":"'Pob x Genero'!#REF!","v":{"$error":"#REF!"}},{"$f":"'Pob x Genero'!#REF!","v":{"$error":"#REF!"}},{"$f":"'Pob x Genero'!#REF!","v":{"$error":"#REF!"}},{"$f":"'Pob x Genero'!#REF!","v":{"$error":"#REF!"}},{"$f":"'Pob x Genero'!#REF!","v":{"$error":"#REF!"}},"Hombre","00-04",{"$f":"'Pob x Genero'!#REF!","v":{"$error":"#REF!"}},305]
[{"$f":"'Pob x Genero'!#REF!","v":{"$error":"#REF!"}},{"$f":"'Pob x Genero'!#REF!","v":{"$error":"#REF!"}},{"$f":"'Pob x Genero'!#REF!","v":{"$error":"#REF!"}},{"$f":"'Pob x Genero'!#REF!","v":{"$error":"#REF!"}},{"$f":"'Pob x Genero'!#REF!","v":{"$error":"#REF!"}},"Hombre","00-04",{"$f":"'Pob x Genero'!#REF!","v":{"$error":"#REF!"}},306]
[{"$f":"'Pob x Genero'!#REF!","v":{"$error":"#REF!"}},{"$f":"'Pob x Genero'!#REF!","v":{"$error":"#REF!"}},{"$f":"'Pob x Genero'!#REF!","v":{"$error":"#REF!"}},{"$f":"'Pob x Genero'!#REF!","v":{"$error":"#REF!"}},{"$f":"'Pob x Genero'!#REF!","v":{"$error":"#REF!"}},"Hombre","00-04",{"$f":"'Pob x Genero'!#REF!","v":{"$error":"#REF!"}},307]
[{"$f":"'Pob x Genero'!#REF!","v":{"$error":"#REF!"}},{"$f":"'Pob x Genero'!#REF!","v":{"$error":"#REF!"}},{"$f":"'Pob x Genero'!#REF!","v":{"$error":"#REF!"}},{"$f":"'Pob x Genero'!#REF!","v":{"$error":"#REF!"}},{"$f":"'Pob x Genero'!#REF!","v":{"$error":"#REF!"}},"Hombre","00-04",{"$f":"'Pob x Genero'!#REF!","v":{"$error":"#REF!"}},308]
[{"$f":"'Pob x Genero'!#REF!","v":{"$error":"#REF!"}},{"$f":"'Pob x Genero'!#REF!","v":{"$error":"#REF!"}},{"$f":"'Pob x Genero'!#REF!","v":{"$error":"#REF!"}},{"$f":"'Pob x Genero'!#REF!","v":{"$error":"#REF!"}},{"$f":"'Pob x Genero'!#REF!","v":{"$error":"#REF!"}},"Hombre","00-04",{"$f":"'Pob x Genero'!#REF!","v":{"$error":"#REF!"}},309]
[{"$f":"'Pob x Genero'!#REF!","v":{"$error":"#REF!"}},{"$f":"'Pob x Genero'!#REF!","v":{"$error":"#REF!"}},{"$f":"'Pob x Genero'!#REF!","v":{"$error":"#REF!"}},{"$f":"'Pob x Genero'!#REF!","v":{"$error":"#REF!"}},{"$f":"'Pob x Genero'!#REF!","v":{"$error":"#REF!"}},"Hombre","00-04",{"$f":"'Pob x Genero'!#REF!","v":{"$error":"#REF!"}},310]
[{"$f":"'Pob x Genero'!#REF!","v":{"$error":"#REF!"}},{"$f":"'Pob x Genero'!#REF!","v":{"$error":"#REF!"}},{"$f":"'Pob x Genero'!#REF!","v":{"$error":"#REF!"}},{"$f":"'Pob x Genero'!#REF!","v":{"$error":"#REF!"}},{"$f":"'Pob x Genero'!#REF!","v":{"$error":"#REF!"}},"Hombre","00-04",{"$f":"'Pob x Genero'!#REF!","v":{"$error":"#REF!"}},311]
[{"$f":"'Pob x Genero'!#REF!","v":{"$error":"#REF!"}},{"$f":"'Pob x Genero'!#REF!","v":{"$error":"#REF!"}},{"$f":"'Pob x Genero'!#REF!","v":{"$error":"#REF!"}},{"$f":"'Pob x Genero'!#REF!","v":{"$error":"#REF!"}},{"$f":"'Pob x Genero'!#REF!","v":{"$error":"#REF!"}},"Hombre","00-04",{"$f":"'Pob x Genero'!#REF!","v":{"$error":"#REF!"}},312]
[{"$f":"'Pob x Genero'!#REF!","v":{"$error":"#REF!"}},{"$f":"'Pob x Genero'!#REF!","v":{"$error":"#REF!"}},{"$f":"'Pob x Genero'!#REF!","v":{"$error":"#REF!"}},{"$f":"'Pob x Genero'!#REF!","v":{"$error":"#REF!"}},{"$f":"'Pob x Genero'!#REF!","v":{"$error":"#REF!"}},"Hombre","00-04",{"$f":"'Pob x Genero'!#REF!","v":{"$error":"#REF!"}},313]
[{"$f":"'Pob x Genero'!#REF!","v":{"$error":"#REF!"}},{"$f":"'Pob x Genero'!#REF!","v":{"$error":"#REF!"}},{"$f":"'Pob x Genero'!#REF!","v":{"$error":"#REF!"}},{"$f":"'Pob x Genero'!#REF!","v":{"$error":"#REF!"}},{"$f":"'Pob x Genero'!#REF!","v":{"$error":"#REF!"}},"Hombre","00-04",{"$f":"'Pob x Genero'!#REF!","v":{"$error":"#REF!"}},314]
[{"$f":"'Pob x Genero'!#REF!","v":{"$error":"#REF!"}},{"$f":"'Pob x Genero'!#REF!","v":{"$error":"#REF!"}},{"$f":"'Pob x Genero'!#REF!","v":{"$error":"#REF!"}},{"$f":"'Pob x Genero'!#REF!","v":{"$error":"#REF!"}},{"$f":"'Pob x Genero'!#REF!","v":{"$error":"#REF!"}},"Hombre","00-04",{"$f":"'Pob x Genero'!#REF!","v":{"$error":"#REF!"}},315]
[{"$f":"'Pob x Genero'!#REF!","v":{"$error":"#REF!"}},{"$f":"'Pob x Genero'!#REF!","v":{"$error":"#REF!"}},{"$f":"'Pob x Genero'!#REF!","v":{"$error":"#REF!"}},{"$f":"'Pob x Genero'!#REF!","v":{"$error":"#REF!"}},{"$f":"'Pob x Genero'!#REF!","v":{"$error":"#REF!"}},"Hombre","00-04",{"$f":"'Pob x Genero'!#REF!","v":{"$error":"#REF!"}},316]
[{"$f":"'Pob x Genero'!#REF!","v":{"$error":"#REF!"}},{"$f":"'Pob x Genero'!#REF!","v":{"$error":"#REF!"}},{"$f":"'Pob x Genero'!#REF!","v":{"$error":"#REF!"}},{"$f":"'Pob x Genero'!#REF!","v":{"$error":"#REF!"}},{"$f":"'Pob x Genero'!#REF!","v":{"$error":"#REF!"}},"Hombre","00-04",{"$f":"'Pob x Genero'!#REF!","v":{"$error":"#REF!"}},317]
[{"$f":"'Pob x Genero'!#REF!","v":{"$error":"#REF!"}},{"$f":"'Pob x Genero'!#REF!","v":{"$error":"#REF!"}},{"$f":"'Pob x Genero'!#REF!","v":{"$error":"#REF!"}},{"$f":"'Pob x Genero'!#REF!","v":{"$error":"#REF!"}},{"$f":"'Pob x Genero'!#REF!","v":{"$error":"#REF!"}},"Hombre","00-04",{"$f":"'Pob x Genero'!#REF!","v":{"$error":"#REF!"}},318]
[{"$f":"'Pob x Genero'!#REF!","v":{"$error":"#REF!"}},{"$f":"'Pob x Genero'!#REF!","v":{"$error":"#REF!"}},{"$f":"'Pob x Genero'!#REF!","v":{"$error":"#REF!"}},{"$f":"'Pob x Genero'!#REF!","v":{"$error":"#REF!"}},{"$f":"'Pob x Genero'!#REF!","v":{"$error":"#REF!"}},"Hombre","00-04",{"$f":"'Pob x Genero'!#REF!","v":{"$error":"#REF!"}},319]
[{"$f":"'Pob x Genero'!#REF!","v":{"$error":"#REF!"}},{"$f":"'Pob x Genero'!#REF!","v":{"$error":"#REF!"}},{"$f":"'Pob x Genero'!#REF!","v":{"$error":"#REF!"}},{"$f":"'Pob x Genero'!#REF!","v":{"$error":"#REF!"}},{"$f":"'Pob x Genero'!#REF!","v":{"$error":"#REF!"}},"Hombre","00-04",{"$f":"'Pob x Genero'!#REF!","v":{"$error":"#REF!"}},320]
[{"$f":"'Pob x Genero'!#REF!","v":{"$error":"#REF!"}},{"$f":"'Pob x Genero'!#REF!","v":{"$error":"#REF!"}},{"$f":"'Pob x Genero'!#REF!","v":{"$error":"#REF!"}},{"$f":"'Pob x Genero'!#REF!","v":{"$error":"#REF!"}},{"$f":"'Pob x Genero'!#REF!","v":{"$error":"#REF!"}},"Hombre","00-04",{"$f":"'Pob x Genero'!#REF!","v":{"$error":"#REF!"}},321]
[{"$f":"'Pob x Genero'!#REF!","v":{"$error":"#REF!"}},{"$f":"'Pob x Genero'!#REF!","v":{"$error":"#REF!"}},{"$f":"'Pob x Genero'!#REF!","v":{"$error":"#REF!"}},{"$f":"'Pob x Genero'!#REF!","v":{"$error":"#REF!"}},{"$f":"'Pob x Genero'!#REF!","v":{"$error":"#REF!"}},{"$f":"F322","v":"Hombre"},{"$f":"G322","v":"00-04"},{"$f":"'Pob x Genero'!#REF!","v":{"$error":"#REF!"}},322]
[{"$f":"'Pob x Genero'!#REF!","v":{"$error":"#REF!"}},{"$f":"'Pob x Genero'!#REF!","v":{"$error":"#REF!"}},{"$f":"'Pob x Genero'!#REF!","v":{"$error":"#REF!"}},{"$f":"'Pob x Genero'!#REF!","v":{"$error":"#REF!"}},{"$f":"'Pob x Genero'!#REF!","v":{"$error":"#REF!"}},"Hombre","00-04",{"$f":"'Pob x Genero'!#REF!","v":{"$error":"#REF!"}},323]
[{"$f":"'Pob x Genero'!#REF!","v":{"$error":"#REF!"}},{"$f":"'Pob x Genero'!#REF!","v":{"$error":"#REF!"}},{"$f":"'Pob x Genero'!#REF!","v":{"$error":"#REF!"}},{"$f":"'Pob x Genero'!#REF!","v":{"$error":"#REF!"}},{"$f":"'Pob x Genero'!#REF!","v":{"$error":"#REF!"}},"Hombre","00-04",{"$f":"'Pob x Genero'!#REF!","v":{"$error":"#REF!"}},324]
[{"$f":"'Pob x Genero'!#REF!","v":{"$error":"#REF!"}},{"$f":"'Pob x Genero'!#REF!","v":{"$error":"#REF!"}},{"$f":"'Pob x Genero'!#REF!","v":{"$error":"#REF!"}},{"$f":"'Pob x Genero'!#REF!","v":{"$error":"#REF!"}},{"$f":"'Pob x Genero'!#REF!","v":{"$error":"#REF!"}},"Hombre","00-04",{"$f":"'Pob x Genero'!#REF!","v":{"$error":"#REF!"}},325]
[{"$f":"'Pob x Genero'!#REF!","v":{"$error":"#REF!"}},{"$f":"'Pob x Genero'!#REF!","v":{"$error":"#REF!"}},{"$f":"'Pob x Genero'!#REF!","v":{"$error":"#REF!"}},{"$f":"'Pob x Genero'!#REF!","v":{"$error":"#REF!"}},{"$f":"'Pob x Genero'!#REF!","v":{"$error":"#REF!"}},"Hombre","00-04",{"$f":"'Pob x Genero'!#REF!","v":{"$error":"#REF!"}},326]
[{"$f":"'Pob x Genero'!#REF!","v":{"$error":"#REF!"}},{"$f":"'Pob x Genero'!#REF!","v":{"$error":"#REF!"}},{"$f":"'Pob x Genero'!#REF!","v":{"$error":"#REF!"}},{"$f":"'Pob x Genero'!#REF!","v":{"$error":"#REF!"}},{"$f":"'Pob x Genero'!#REF!","v":{"$error":"#REF!"}},"Hombre","00-04",{"$f":"'Pob x Genero'!#REF!","v":{"$error":"#REF!"}},327]
[{"$f":"'Pob x Genero'!#REF!","v":{"$error":"#REF!"}},{"$f":"'Pob x Genero'!#REF!","v":{"$error":"#REF!"}},{"$f":"'Pob x Genero'!#REF!","v":{"$error":"#REF!"}},{"$f":"'Pob x Genero'!#REF!","v":{"$error":"#REF!"}},{"$f":"'Pob x Genero'!#REF!","v":{"$error":"#REF!"}},"Hombre","00-04",{"$f":"'Pob x Genero'!#REF!","v":{"$error":"#REF!"}},328]
[{"$f":"'Pob x Genero'!#REF!","v":{"$error":"#REF!"}},{"$f":"'Pob x Genero'!#REF!","v":{"$error":"#REF!"}},{"$f":"'Pob x Genero'!#REF!","v":{"$error":"#REF!"}},{"$f":"'Pob x Genero'!#REF!","v":{"$error":"#REF!"}},{"$f":"'Pob x Genero'!#REF!","v":{"$error":"#REF!"}},"Hombre","00-04",{"$f":"'Pob x Genero'!#REF!","v":{"$error":"#REF!"}},329]
[{"$f":"'Pob x Genero'!#REF!","v":{"$error":"#REF!"}},{"$f":"'Pob x Genero'!#REF!","v":{"$error":"#REF!"}},{"$f":"'Pob x Genero'!#REF!","v":{"$error":"#REF!"}},{"$f":"'Pob x Genero'!#REF!","v":{"$error":"#REF!"}},{"$f":"'Pob x Genero'!#REF!","v":{"$error":"#REF!"}},"Hombre","00-04",{"$f":"'Pob x Genero'!#REF!","v":{"$error":"#REF!"}},330]
[{"$f":"'Pob x Genero'!#REF!","v":{"$error":"#REF!"}},{"$f":"'Pob x Genero'!#REF!","v":{"$error":"#REF!"}},{"$f":"'Pob x Genero'!#REF!","v":{"$error":"#REF!"}},{"$f":"'Pob x Genero'!#REF!","v":{"$error":"#REF!"}},{"$f":"'Pob x Genero'!#REF!","v":{"$error":"#REF!"}},"Hombre","00-04",{"$f":"'Pob x Genero'!#REF!","v":{"$error":"#REF!"}},331]
[{"$f":"'Pob x Genero'!#REF!","v":{"$error":"#REF!"}},{"$f":"'Pob x Genero'!#REF!","v":{"$error":"#REF!"}},{"$f":"'Pob x Genero'!#REF!","v":{"$error":"#REF!"}},{"$f":"'Pob x Genero'!#REF!","v":{"$error":"#REF!"}},{"$f":"'Pob x Genero'!#REF!","v":{"$error":"#REF!"}},"Hombre","00-04",{"$f":"'Pob x Genero'!#REF!","v":{"$error":"#REF!"}},332]
[{"$f":"'Pob x Genero'!#REF!","v":{"$error":"#REF!"}},{"$f":"'Pob x Genero'!#REF!","v":{"$error":"#REF!"}},{"$f":"'Pob x Genero'!#REF!","v":{"$error":"#REF!"}},{"$f":"'Pob x Genero'!#REF!","v":{"$error":"#REF!"}},{"$f":"'Pob x Genero'!#REF!","v":{"$error":"#REF!"}},"Hombre","00-04",{"$f":"'Pob x Genero'!#REF!","v":{"$error":"#REF!"}},333]
[{"$f":"'Pob x Genero'!#REF!","v":{"$error":"#REF!"}},{"$f":"'Pob x Genero'!#REF!","v":{"$error":"#REF!"}},{"$f":"'Pob x Genero'!#REF!","v":{"$error":"#REF!"}},{"$f":"'Pob x Genero'!#REF!","v":{"$error":"#REF!"}},{"$f":"'Pob x Genero'!#REF!","v":{"$error":"#REF!"}},"Hombre","00-04",{"$f":"'Pob x Genero'!#REF!","v":{"$error":"#REF!"}},334]
[{"$f":"'Pob x Genero'!#REF!","v":{"$error":"#REF!"}},{"$f":"'Pob x Genero'!#REF!","v":{"$error":"#REF!"}},{"$f":"'Pob x Genero'!#REF!","v":{"$error":"#REF!"}},{"$f":"'Pob x Genero'!#REF!","v":{"$error":"#REF!"}},{"$f":"'Pob x Genero'!#REF!","v":{"$error":"#REF!"}},"Hombre","00-04",{"$f":"'Pob x Genero'!#REF!","v":{"$error":"#REF!"}},335]
[{"$f":"'Pob x Genero'!A9","v":"040101"},{"$f":"'Pob x Genero'!B9","v":"AREQUIPA"},{"$f":"'Pob x Genero'!C9","v":"AREQUIPA"},{"$f":"'Pob x Genero'!D9","v":"AREQUIPA"},{"$f":"'Pob x Genero'!E9","v":"AREQUIPA"},"Hombre","00-04",{"$f":"'Pob x Genero'!CT9","v":1415},336]
[{"$f":"'Pob x Genero'!A10","v":"040102"},{"$f":"'Pob x Genero'!B10","v":"AREQUIPA"},{"$f":"'Pob x Genero'!C10","v":"AREQUIPA"},{"$f":"'Pob x Genero'!D10","v":"AREQUIPA"},{"$f":"'Pob x Genero'!E10","v":"ALTO SELVA ALEGRE"},"Hombre","00-04",{"$f":"'Pob x Genero'!CT10","v":2574},337]
[{"$f":"'Pob x Genero'!A11","v":"040103"},{"$f":"'Pob x Genero'!B11","v":"AREQUIPA"},{"$f":"'Pob x Genero'!C11","v":"AREQUIPA"},{"$f":"'Pob x Genero'!D11","v":"AREQUIPA"},{"$f":"'Pob x Genero'!E11","v":"CAYMA"},"Hombre","00-04",{"$f":"'Pob x Genero'!CT11","v":3188},338]
[{"$f":"'Pob x Genero'!A12","v":"040104"},{"$f":"'Pob x Genero'!B12","v":"AREQUIPA"},{"$f":"'Pob x Genero'!C12","v":"AREQUIPA"},{"$f":"'Pob x Genero'!D12","v":"AREQUIPA"},{"$f":"'Pob x Genero'!E12","v":"CERRO COLORADO"},"Hombre","00-04",{"$f":"'Pob x Genero'!CT12","v":6655},339]
[{"$f":"'Pob x Genero'!A13","v":"040105"},{"$f":"'Pob x Genero'!B13","v":"AREQUIPA"},{"$f":"'Pob x Genero'!C13","v":"AREQUIPA"},{"$f":"'Pob x Genero'!D13","v":"AREQUIPA"},{"$f":"'Pob x Genero'!E13","v":"CHARACATO"},"Hombre","00-04",{"$f":"'Pob x Genero'!CT13","v":441},340]
[{"$f":"'Pob x Genero'!A14","v":"040106"},{"$f":"'Pob x Genero'!B14","v":"AREQUIPA"},{"$f":"'Pob x Genero'!C14","v":"AREQUIPA"},{"$f":"'Pob x Genero'!D14","v":"AREQUIPA"},{"$f":"'Pob x Genero'!E14","v":"CHIGUATA"},"Hombre","00-04",{"$f":"'Pob x Genero'!CT14","v":142},341]
[{"$f":"'Pob x Genero'!A15","v":"040107"},{"$f":"'Pob x Genero'!B15","v":"AREQUIPA"},{"$f":"'Pob x Genero'!C15","v":"AREQUIPA"},{"$f":"'Pob x Genero'!D15","v":"AREQUIPA"},{"$f":"'Pob x Genero'!E15","v":"JACOBO HUNTER"},"Hombre","00-04",{"$f":"'Pob x Genero'!CT15","v":1483},342]
[{"$f":"'Pob x Genero'!A16","v":"040108"},{"$f":"'Pob x Genero'!B16","v":"AREQUIPA"},{"$f":"'Pob x Genero'!C16","v":"AREQUIPA"},{"$f":"'Pob x Genero'!D16","v":"AREQUIPA"},{"$f":"'Pob x Genero'!E16","v":"LA JOYA"},"Hombre","00-04",{"$f":"'Pob x Genero'!CT16","v":1482},343]
[{"$f":"'Pob x Genero'!A17","v":"040109"},{"$f":"'Pob x Genero'!B17","v":"AREQUIPA"},{"$f":"'Pob x Genero'!C17","v":"AREQUIPA"},{"$f":"'Pob x Genero'!D17","v":"AREQUIPA"},{"$f":"'Pob x Genero'!E17","v":"MARIANO MELGAR"},"Hombre","00-04",{"$f":"'Pob x Genero'!CT17","v":1915},344]
[{"$f":"'Pob x Genero'!A18","v":"040110"},{"$f":"'Pob x Genero'!B18","v":"AREQUIPA"},{"$f":"'Pob x Genero'!C18","v":"AREQUIPA"},{"$f":"'Pob x Genero'!D18","v":"AREQUIPA"},{"$f":"'Pob x Genero'!E18","v":"MIRAFLORES"},"Hombre","00-04",{"$f":"'Pob x Genero'!CT18","v":1810},345]
[{"$f":"'Pob x Genero'!A19","v":"040111"},{"$f":"'Pob x Genero'!B19","v":"AREQUIPA"},{"$f":"'Pob x Genero'!C19","v":"AREQUIPA"},{"$f":"'Pob x Genero'!D19","v":"AREQUIPA"},{"$f":"'Pob x Genero'!E19","v":"MOLLEBAYA"},"Hombre","00-04",{"$f":"'Pob x Genero'!CT19","v":175},346]
[{"$f":"'Pob x Genero'!A20","v":"040112"},{"$f":"'Pob x Genero'!B20","v":"AREQUIPA"},{"$f":"'Pob x Genero'!C20","v":"AREQUIPA"},{"$f":"'Pob x Genero'!D20","v":"AREQUIPA"},{"$f":"'Pob x Genero'!E20","v":"PAUCARPATA"},"Hombre","00-04",{"$f":"'Pob x Genero'!CT20","v":4180},347]
[{"$f":"'Pob x Genero'!A21","v":"040113"},{"$f":"'Pob x Genero'!B21","v":"AREQUIPA"},{"$f":"'Pob x Genero'!C21","v":"AREQUIPA"},{"$f":"'Pob x Genero'!D21","v":"AREQUIPA"},{"$f":"'Pob x Genero'!E21","v":"POCSI"},"Hombre","00-04",{"$f":"'Pob x Genero'!CT21","v":19},348]
[{"$f":"'Pob x Genero'!A22","v":"040114"},{"$f":"'Pob x Genero'!B22","v":"AREQUIPA"},{"$f":"'Pob x Genero'!C22","v":"AREQUIPA"},{"$f":"'Pob x Genero'!D22","v":"AREQUIPA"},{"$f":"'Pob x Genero'!E22","v":"POLOBAYA"},"Hombre","00-04",{"$f":"'Pob x Genero'!CT22","v":25},349]
[{"$f":"'Pob x Genero'!A23","v":"040115"},{"$f":"'Pob x Genero'!B23","v":"AREQUIPA"},{"$f":"'Pob x Genero'!C23","v":"AREQUIPA"},{"$f":"'Pob x Genero'!D23","v":"AREQUIPA"},{"$f":"'Pob x Genero'!E23","v":"QUEQUEÑA"},"Hombre","00-04",{"$f":"'Pob x Genero'!CT23","v":107},350]
[{"$f":"'Pob x Genero'!A24","v":"040116"},{"$f":"'Pob x Genero'!B24","v":"AREQUIPA"},{"$f":"'Pob x Genero'!C24","v":"AREQUIPA"},{"$f":"'Pob x Genero'!D24","v":"AREQUIPA"},{"$f":"'Pob x Genero'!E24","v":"SABANDIA"},"Hombre","00-04",{"$f":"'Pob x Genero'!CT24","v":200},351]
[{"$f":"'Pob x Genero'!A25","v":"040117"},{"$f":"'Pob x Genero'!B25","v":"AREQUIPA"},{"$f":"'Pob x Genero'!C25","v":"AREQUIPA"},{"$f":"'Pob x Genero'!D25","v":"AREQUIPA"},{"$f":"'Pob x Genero'!E25","v":"SACHACA"},"Hombre","00-04",{"$f":"'Pob x Genero'!CT25","v":904},352]
[{"$f":"'Pob x Genero'!A26","v":"040118"},{"$f":"'Pob x Genero'!B26","v":"AREQUIPA"},{"$f":"'Pob x Genero'!C26","v":"AREQUIPA"},{"$f":"'Pob x Genero'!D26","v":"AREQUIPA"},{"$f":"'Pob x Genero'!E26","v":"SAN JUAN DE SIGUAS"},"Hombre","00-04",{"$f":"'Pob x Genero'!CT26","v":24},353]
[{"$f":"'Pob x Genero'!A27","v":"040119"},{"$f":"'Pob x Genero'!B27","v":"AREQUIPA"},{"$f":"'Pob x Genero'!C27","v":"AREQUIPA"},{"$f":"'Pob x Genero'!D27","v":"AREQUIPA"},{"$f":"'Pob x Genero'!E27","v":"SAN JUAN DE TARUCANI"},"Hombre","00-04",{"$f":"'Pob x Genero'!CT27","v":61},354]
[{"$f":"'Pob x Genero'!A28","v":"040120"},{"$f":"'Pob x Genero'!B28","v":"AREQUIPA"},{"$f":"'Pob x Genero'!C28","v":"AREQUIPA"},{"$f":"'Pob x Genero'!D28","v":"AREQUIPA"},{"$f":"'Pob x Genero'!E28","v":"SANTA ISABEL DE SIGUAS"},"Hombre","00-04",{"$f":"'Pob x Genero'!CT28","v":16},355]
[{"$f":"'Pob x Genero'!A29","v":"040121"},{"$f":"'Pob x Genero'!B29","v":"AREQUIPA"},{"$f":"'Pob x Genero'!C29","v":"AREQUIPA"},{"$f":"'Pob x Genero'!D29","v":"AREQUIPA"},{"$f":"'Pob x Genero'!E29","v":"SANTA RITA DE SIGUAS"},"Hombre","00-04",{"$f":"'Pob x Genero'!CT29","v":237},356]
[{"$f":"'Pob x Genero'!A30","v":"040122"},{"$f":"'Pob x Genero'!B30","v":"AREQUIPA"},{"$f":"'Pob x Genero'!C30","v":"AREQUIPA"},{"$f":"'Pob x Genero'!D30","v":"AREQUIPA"},{"$f":"'Pob x Genero'!E30","v":"SOCABAYA"},"Hombre","00-04",{"$f":"'Pob x Genero'!CT30","v":1960},357]
[{"$f":"'Pob x Genero'!A31","v":"040123"},{"$f":"'Pob x Genero'!B31","v":"AREQUIPA"},{"$f":"'Pob x Genero'!C31","v":"AREQUIPA"},{"$f":"'Pob x Genero'!D31","v":"AREQUIPA"},{"$f":"'Pob x Genero'!E31","v":"TIABAYA"},"Hombre","00-04",{"$f":"'Pob x Genero'!CT31","v":663},358]
[{"$f":"'Pob x Genero'!A32","v":"040124"},{"$f":"'Pob x Genero'!B32","v":"AREQUIPA"},{"$f":"'Pob x Genero'!C32","v":"AREQUIPA"},{"$f":"'Pob x Genero'!D32","v":"AREQUIPA"},{"$f":"'Pob x Genero'!E32","v":"UCHUMAYO"},"Hombre","00-04",{"$f":"'Pob x Genero'!CT32","v":573},359]
[{"$f":"'Pob x Genero'!A33","v":"040125"},{"$f":"'Pob x Genero'!B33","v":"AREQUIPA"},{"$f":"'Pob x Genero'!C33","v":"AREQUIPA"},{"$f":"'Pob x Genero'!D33","v":"AREQUIPA"},{"$f":"'Pob x Genero'!E33","v":"VITOR"},"Hombre","00-04",{"$f":"'Pob x Genero'!CT33","v":126},360]
[{"$f":"'Pob x Genero'!A34","v":"040126"},{"$f":"'Pob x Genero'!B34","v":"AREQUIPA"},{"$f":"'Pob x Genero'!C34","v":"AREQUIPA"},{"$f":"'Pob x Genero'!D34","v":"AREQUIPA"},{"$f":"'Pob x Genero'!E34","v":"YANAHUARA"},"Hombre","00-04",{"$f":"'Pob x Genero'!CT34","v":738},361]
[{"$f":"'Pob x Genero'!A35","v":"040127"},{"$f":"'Pob x Genero'!B35","v":"AREQUIPA"},{"$f":"'Pob x Genero'!C35","v":"AREQUIPA"},{"$f":"'Pob x Genero'!D35","v":"AREQUIPA"},{"$f":"'Pob x Genero'!E35","v":"YARABAMBA"},"Hombre","00-04",{"$f":"'Pob x Genero'!CT35","v":104},362]
[{"$f":"'Pob x Genero'!A36","v":"040128"},{"$f":"'Pob x Genero'!B36","v":"AREQUIPA"},{"$f":"'Pob x Genero'!C36","v":"AREQUIPA"},{"$f":"'Pob x Genero'!D36","v":"AREQUIPA"},{"$f":"'Pob x Genero'!E36","v":"YURA"},"Hombre","00-04",{"$f":"'Pob x Genero'!CT36","v":1616},363]
[{"$f":"'Pob x Genero'!A37","v":"040129"},{"$f":"'Pob x Genero'!B37","v":"AREQUIPA"},{"$f":"'Pob x Genero'!C37","v":"AREQUIPA"},{"$f":"'Pob x Genero'!D37","v":"AREQUIPA"},{"$f":"'Pob x Genero'!E37","v":"JOSE LUIS BUSTAMANTE Y RIVERO"},"Hombre","00-04",{"$f":"'Pob x Genero'!CT37","v":1980},364]
[{"$f":"'Pob x Genero'!A38","v":"040201"},{"$f":"'Pob x Genero'!B38","v":"AREQUIPA"},{"$f":"'Pob x Genero'!C38","v":"AREQUIPA"},{"$f":"'Pob x Genero'!D38","v":"CAMANA"},{"$f":"'Pob x Genero'!E38","v":"CAMANA"},"Hombre","00-04",{"$f":"'Pob x Genero'!CT38","v":202},365]
[{"$f":"'Pob x Genero'!A39","v":"040202"},{"$f":"'Pob x Genero'!B39","v":"AREQUIPA"},{"$f":"'Pob x Genero'!C39","v":"AREQUIPA"},{"$f":"'Pob x Genero'!D39","v":"CAMANA"},{"$f":"'Pob x Genero'!E39","v":"JOSE MARIA QUIMPER"},"Hombre","00-04",{"$f":"'Pob x Genero'!CT39","v":183},366]
[{"$f":"'Pob x Genero'!A40","v":"040203"},{"$f":"'Pob x Genero'!B40","v":"AREQUIPA"},{"$f":"'Pob x Genero'!C40","v":"AREQUIPA"},{"$f":"'Pob x Genero'!D40","v":"CAMANA"},{"$f":"'Pob x Genero'!E40","v":"MARIANO NICOLAS VALCARCEL"},"Hombre","00-04",{"$f":"'Pob x Genero'!CT40","v":389},367]
[{"$f":"'Pob x Genero'!A41","v":"040204"},{"$f":"'Pob x Genero'!B41","v":"AREQUIPA"},{"$f":"'Pob x Genero'!C41","v":"AREQUIPA"},{"$f":"'Pob x Genero'!D41","v":"CAMANA"},{"$f":"'Pob x Genero'!E41","v":"MARISCAL CACERES"},"Hombre","00-04",{"$f":"'Pob x Genero'!CT41","v":255},368]
[{"$f":"'Pob x Genero'!A42","v":"040205"},{"$f":"'Pob x Genero'!B42","v":"AREQUIPA"},{"$f":"'Pob x Genero'!C42","v":"AREQUIPA"},{"$f":"'Pob x Genero'!D42","v":"CAMANA"},{"$f":"'Pob x Genero'!E42","v":"NICOLAS DE PIEROLA"},"Hombre","00-04",{"$f":"'Pob x Genero'!CT42","v":231},369]
[{"$f":"'Pob x Genero'!A43","v":"040206"},{"$f":"'Pob x Genero'!B43","v":"AREQUIPA"},{"$f":"'Pob x Genero'!C43","v":"AREQUIPA"},{"$f":"'Pob x Genero'!D43","v":"CAMANA"},{"$f":"'Pob x Genero'!E43","v":"OCOÑA"},"Hombre","00-04",{"$f":"'Pob x Genero'!CT43","v":140},370]
[{"$f":"'Pob x Genero'!A44","v":"040207"},{"$f":"'Pob x Genero'!B44","v":"AREQUIPA"},{"$f":"'Pob x Genero'!C44","v":"AREQUIPA"},{"$f":"'Pob x Genero'!D44","v":"CAMANA"},{"$f":"'Pob x Genero'!E44","v":"QUILCA"},"Hombre","00-04",{"$f":"'Pob x Genero'!CT44","v":40},371]
[{"$f":"'Pob x Genero'!A45","v":"040208"},{"$f":"'Pob x Genero'!B45","v":"AREQUIPA"},{"$f":"'Pob x Genero'!C45","v":"AREQUIPA"},{"$f":"'Pob x Genero'!D45","v":"CAMANA"},{"$f":"'Pob x Genero'!E45","v":"SAMUEL PASTOR"},"Hombre","00-04",{"$f":"'Pob x Genero'!CT45","v":601},372]
[{"$f":"'Pob x Genero'!A46","v":"040301"},{"$f":"'Pob x Genero'!B46","v":"AREQUIPA"},{"$f":"'Pob x Genero'!C46","v":"AREQUIPA"},{"$f":"'Pob x Genero'!D46","v":"CARAVELI"},{"$f":"'Pob x Genero'!E46","v":"CARAVELI"},"Hombre","00-04",{"$f":"'Pob x Genero'!CT46","v":220},373]
[{"$f":"'Pob x Genero'!A47","v":"040302"},{"$f":"'Pob x Genero'!B47","v":"AREQUIPA"},{"$f":"'Pob x Genero'!C47","v":"AREQUIPA"},{"$f":"'Pob x Genero'!D47","v":"CARAVELI"},{"$f":"'Pob x Genero'!E47","v":"ACARI"},"Hombre","00-04",{"$f":"'Pob x Genero'!CT47","v":123},374]
[{"$f":"'Pob x Genero'!A48","v":"040303"},{"$f":"'Pob x Genero'!B48","v":"AREQUIPA"},{"$f":"'Pob x Genero'!C48","v":"AREQUIPA"},{"$f":"'Pob x Genero'!D48","v":"CARAVELI"},{"$f":"'Pob x Genero'!E48","v":"ATICO"},"Hombre","00-04",{"$f":"'Pob x Genero'!CT48","v":184},375]
[{"$f":"'Pob x Genero'!A49","v":"040304"},{"$f":"'Pob x Genero'!B49","v":"AREQUIPA"},{"$f":"'Pob x Genero'!C49","v":"AREQUIPA"},{"$f":"'Pob x Genero'!D49","v":"CARAVELI"},{"$f":"'Pob x Genero'!E49","v":"ATIQUIPA"},"Hombre","00-04",{"$f":"'Pob x Genero'!CT49","v":26},376]
[{"$f":"'Pob x Genero'!A50","v":"040305"},{"$f":"'Pob x Genero'!B50","v":"AREQUIPA"},{"$f":"'Pob x Genero'!C50","v":"AREQUIPA"},{"$f":"'Pob x Genero'!D50","v":"CARAVELI"},{"$f":"'Pob x Genero'!E50","v":"BELLA UNION"},"Hombre","00-04",{"$f":"'Pob x Genero'!CT50","v":118},377]
[{"$f":"'Pob x Genero'!A51","v":"040306"},{"$f":"'Pob x Genero'!B51","v":"AREQUIPA"},{"$f":"'Pob x Genero'!C51","v":"AREQUIPA"},{"$f":"'Pob x Genero'!D51","v":"CARAVELI"},{"$f":"'Pob x Genero'!E51","v":"CAHUACHO"},"Hombre","00-04",{"$f":"'Pob x Genero'!CT51","v":32},378]
[{"$f":"'Pob x Genero'!A52","v":"040307"},{"$f":"'Pob x Genero'!B52","v":"AREQUIPA"},{"$f":"'Pob x Genero'!C52","v":"AREQUIPA"},{"$f":"'Pob x Genero'!D52","v":"CARAVELI"},{"$f":"'Pob x Genero'!E52","v":"CHALA"},"Hombre","00-04",{"$f":"'Pob x Genero'!CT52","v":435},379]
[{"$f":"'Pob x Genero'!A53","v":"040308"},{"$f":"'Pob x Genero'!B53","v":"AREQUIPA"},{"$f":"'Pob x Genero'!C53","v":"AREQUIPA"},{"$f":"'Pob x Genero'!D53","v":"CARAVELI"},{"$f":"'Pob x Genero'!E53","v":"CHAPARRA"},"Hombre","00-04",{"$f":"'Pob x Genero'!CT53","v":106},380]
[{"$f":"'Pob x Genero'!A54","v":"040309"},{"$f":"'Pob x Genero'!B54","v":"AREQUIPA"},{"$f":"'Pob x Genero'!C54","v":"AREQUIPA"},{"$f":"'Pob x Genero'!D54","v":"CARAVELI"},{"$f":"'Pob x Genero'!E54","v":"HUANUHUANU"},"Hombre","00-04",{"$f":"'Pob x Genero'!CT54","v":120},381]
[{"$f":"'Pob x Genero'!A55","v":"040310"},{"$f":"'Pob x Genero'!B55","v":"AREQUIPA"},{"$f":"'Pob x Genero'!C55","v":"AREQUIPA"},{"$f":"'Pob x Genero'!D55","v":"CARAVELI"},{"$f":"'Pob x Genero'!E55","v":"JAQUI"},"Hombre","00-04",{"$f":"'Pob x Genero'!CT55","v":48},382]
[{"$f":"'Pob x Genero'!A56","v":"040311"},{"$f":"'Pob x Genero'!B56","v":"AREQUIPA"},{"$f":"'Pob x Genero'!C56","v":"AREQUIPA"},{"$f":"'Pob x Genero'!D56","v":"CARAVELI"},{"$f":"'Pob x Genero'!E56","v":"LOMAS"},"Hombre","00-04",{"$f":"'Pob x Genero'!CT56","v":54},383]
[{"$f":"'Pob x Genero'!A57","v":"040312"},{"$f":"'Pob x Genero'!B57","v":"AREQUIPA"},{"$f":"'Pob x Genero'!C57","v":"AREQUIPA"},{"$f":"'Pob x Genero'!D57","v":"CARAVELI"},{"$f":"'Pob x Genero'!E57","v":"QUICACHA"},"Hombre","00-04",{"$f":"'Pob x Genero'!CT57","v":70},384]
[{"$f":"'Pob x Genero'!A58","v":"040313"},{"$f":"'Pob x Genero'!B58","v":"AREQUIPA"},{"$f":"'Pob x Genero'!C58","v":"AREQUIPA"},{"$f":"'Pob x Genero'!D58","v":"CARAVELI"},{"$f":"'Pob x Genero'!E58","v":"YAUCA"},"Hombre","00-04",{"$f":"'Pob x Genero'!CT58","v":75},385]
[{"$f":"'Pob x Genero'!A59","v":"040401"},{"$f":"'Pob x Genero'!B59","v":"AREQUIPA"},{"$f":"'Pob x Genero'!C59","v":"AREQUIPA"},{"$f":"'Pob x Genero'!D59","v":"CASTILLA"},{"$f":"'Pob x Genero'!E59","v":"APLAO"},{"$f":"F386","v":"Hombre"},{"$f":"G386","v":"00-04"},{"$f":"'Pob x Genero'!CT59","v":303},386]
[{"$f":"'Pob x Genero'!A60","v":"040402"},{"$f":"'Pob x Genero'!B60","v":"AREQUIPA"},{"$f":"'Pob x Genero'!C60","v":"AREQUIPA"},{"$f":"'Pob x Genero'!D60","v":"CASTILLA"},{"$f":"'Pob x Genero'!E60","v":"ANDAGUA"},"Hombre","00-04",{"$f":"'Pob x Genero'!CT60","v":26},387]
[{"$f":"'Pob x Genero'!A61","v":"040403"},{"$f":"'Pob x Genero'!B61","v":"AREQUIPA"},{"$f":"'Pob x Genero'!C61","v":"AREQUIPA"},{"$f":"'Pob x Genero'!D61","v":"CASTILLA"},{"$f":"'Pob x Genero'!E61","v":"AYO"},"Hombre","00-04",{"$f":"'Pob x Genero'!CT61","v":10},388]
[{"$f":"'Pob x Genero'!A62","v":"040404"},{"$f":"'Pob x Genero'!B62","v":"AREQUIPA"},{"$f":"'Pob x Genero'!C62","v":"AREQUIPA"},{"$f":"'Pob x Genero'!D62","v":"CASTILLA"},{"$f":"'Pob x Genero'!E62","v":"CHACHAS"},"Hombre","00-04",{"$f":"'Pob x Genero'!CT62","v":69},389]
[{"$f":"'Pob x Genero'!A63","v":"040405"},{"$f":"'Pob x Genero'!B63","v":"AREQUIPA"},{"$f":"'Pob x Genero'!C63","v":"AREQUIPA"},{"$f":"'Pob x Genero'!D63","v":"CASTILLA"},{"$f":"'Pob x Genero'!E63","v":"CHILCAYMARCA"},"Hombre","00-04",{"$f":"'Pob x Genero'!CT63","v":24},390]
[{"$f":"'Pob x Genero'!A64","v":"040406"},{"$f":"'Pob x Genero'!B64","v":"AREQUIPA"},{"$f":"'Pob x Genero'!C64","v":"AREQUIPA"},{"$f":"'Pob x Genero'!D64","v":"CASTILLA"},{"$f":"'Pob x Genero'!E64","v":"CHOCO"},"Hombre","00-04",{"$f":"'Pob x Genero'!CT64","v":18},391]
[{"$f":"'Pob x Genero'!A65","v":"040407"},{"$f":"'Pob x Genero'!B65","v":"AREQUIPA"},{"$f":"'Pob x Genero'!C65","v":"AREQUIPA"},{"$f":"'Pob x Genero'!D65","v":"CASTILLA"},{"$f":"'Pob x Genero'!E65","v":"HUANCARQUI"},"Hombre","00-04",{"$f":"'Pob x Genero'!CT65","v":44},392]
[{"$f":"'Pob x Genero'!A66","v":"040408"},{"$f":"'Pob x Genero'!B66","v":"AREQUIPA"},{"$f":"'Pob x Genero'!C66","v":"AREQUIPA"},{"$f":"'Pob x Genero'!D66","v":"CASTILLA"},{"$f":"'Pob x Genero'!E66","v":"MACHAGUAY"},"Hombre","00-04",{"$f":"'Pob x Genero'!CT66","v":20},393]
[{"$f":"'Pob x Genero'!A67","v":"040409"},{"$f":"'Pob x Genero'!B67","v":"AREQUIPA"},{"$f":"'Pob x Genero'!C67","v":"AREQUIPA"},{"$f":"'Pob x Genero'!D67","v":"CASTILLA"},{"$f":"'Pob x Genero'!E67","v":"ORCOPAMPA"},"Hombre","00-04",{"$f":"'Pob x Genero'!CT67","v":188},394]
[{"$f":"'Pob x Genero'!A68","v":"040410"},{"$f":"'Pob x Genero'!B68","v":"AREQUIPA"},{"$f":"'Pob x Genero'!C68","v":"AREQUIPA"},{"$f":"'Pob x Genero'!D68","v":"CASTILLA"},{"$f":"'Pob x Genero'!E68","v":"PAMPACOLCA"},"Hombre","00-04",{"$f":"'Pob x Genero'!CT68","v":64},395]
[{"$f":"'Pob x Genero'!A69","v":"040411"},{"$f":"'Pob x Genero'!B69","v":"AREQUIPA"},{"$f":"'Pob x Genero'!C69","v":"AREQUIPA"},{"$f":"'Pob x Genero'!D69","v":"CASTILLA"},{"$f":"'Pob x Genero'!E69","v":"TIPAN"},"Hombre","00-04",{"$f":"'Pob x Genero'!CT69","v":7},396]
[{"$f":"'Pob x Genero'!A70","v":"040412"},{"$f":"'Pob x Genero'!B70","v":"AREQUIPA"},{"$f":"'Pob x Genero'!C70","v":"AREQUIPA"},{"$f":"'Pob x Genero'!D70","v":"CASTILLA"},{"$f":"'Pob x Genero'!E70","v":"UÑON"},"Hombre","00-04",{"$f":"'Pob x Genero'!CT70","v":7},397]
[{"$f":"'Pob x Genero'!A71","v":"040413"},{"$f":"'Pob x Genero'!B71","v":"AREQUIPA"},{"$f":"'Pob x Genero'!C71","v":"AREQUIPA"},{"$f":"'Pob x Genero'!D71","v":"CASTILLA"},{"$f":"'Pob x Genero'!E71","v":"URACA"},"Hombre","00-04",{"$f":"'Pob x Genero'!CT71","v":167},398]
[{"$f":"'Pob x Genero'!A72","v":"040414"},{"$f":"'Pob x Genero'!B72","v":"AREQUIPA"},{"$f":"'Pob x Genero'!C72","v":"AREQUIPA"},{"$f":"'Pob x Genero'!D72","v":"CASTILLA"},{"$f":"'Pob x Genero'!E72","v":"VIRACO"},"Hombre","00-04",{"$f":"'Pob x Genero'!CT72","v":39},399]
[{"$f":"'Pob x Genero'!A73","v":"040501"},{"$f":"'Pob x Genero'!B73","v":"AREQUIPA"},{"$f":"'Pob x Genero'!C73","v":"AREQUIPA"},{"$f":"'Pob x Genero'!D73","v":"CAYLLOMA"},{"$f":"'Pob x Genero'!E73","v":"CHIVAY"},"Hombre","00-04",{"$f":"'Pob x Genero'!CT73","v":166},400]
[{"$f":"'Pob x Genero'!A74","v":"040502"},{"$f":"'Pob x Genero'!B74","v":"AREQUIPA"},{"$f":"'Pob x Genero'!C74","v":"AREQUIPA"},{"$f":"'Pob x Genero'!D74","v":"CAYLLOMA"},{"$f":"'Pob x Genero'!E74","v":"ACHOMA"},"Hombre","00-04",{"$f":"'Pob x Genero'!CT74","v":27},401]
[{"$f":"'Pob x Genero'!A75","v":"040503"},{"$f":"'Pob x Genero'!B75","v":"AREQUIPA"},{"$f":"'Pob x Genero'!C75","v":"AREQUIPA"},{"$f":"'Pob x Genero'!D75","v":"CAYLLOMA"},{"$f":"'Pob x Genero'!E75","v":"CABANACONDE"},"Hombre","00-04",{"$f":"'Pob x Genero'!CT75","v":37},402]
[{"$f":"'Pob x Genero'!A76","v":"040504"},{"$f":"'Pob x Genero'!B76","v":"AREQUIPA"},{"$f":"'Pob x Genero'!C76","v":"AREQUIPA"},{"$f":"'Pob x Genero'!D76","v":"CAYLLOMA"},{"$f":"'Pob x Genero'!E76","v":"CALLALLI"},"Hombre","00-04",{"$f":"'Pob x Genero'!CT76","v":56},403]
[{"$f":"'Pob x Genero'!A77","v":"040505"},{"$f":"'Pob x Genero'!B77","v":"AREQUIPA"},{"$f":"'Pob x Genero'!C77","v":"AREQUIPA"},{"$f":"'Pob x Genero'!D77","v":"CAYLLOMA"},{"$f":"'Pob x Genero'!E77","v":"CAYLLOMA"},"Hombre","00-04",{"$f":"'Pob x Genero'!CT77","v":130},404]
[{"$f":"'Pob x Genero'!A78","v":"040506"},{"$f":"'Pob x Genero'!B78","v":"AREQUIPA"},{"$f":"'Pob x Genero'!C78","v":"AREQUIPA"},{"$f":"'Pob x Genero'!D78","v":"CAYLLOMA"},{"$f":"'Pob x Genero'!E78","v":"COPORAQUE"},"Hombre","00-04",{"$f":"'Pob x Genero'!CT78","v":42},405]
[{"$f":"'Pob x Genero'!A79","v":"040507"},{"$f":"'Pob x Genero'!B79","v":"AREQUIPA"},{"$f":"'Pob x Genero'!C79","v":"AREQUIPA"},{"$f":"'Pob x Genero'!D79","v":"CAYLLOMA"},{"$f":"'Pob x Genero'!E79","v":"HUAMBO"},"Hombre","00-04",{"$f":"'Pob x Genero'!CT79","v":23},406]
[{"$f":"'Pob x Genero'!A80","v":"040508"},{"$f":"'Pob x Genero'!B80","v":"AREQUIPA"},{"$f":"'Pob x Genero'!C80","v":"AREQUIPA"},{"$f":"'Pob x Genero'!D80","v":"CAYLLOMA"},{"$f":"'Pob x Genero'!E80","v":"HUANCA"},"Hombre","00-04",{"$f":"'Pob x Genero'!CT80","v":33},407]
[{"$f":"'Pob x Genero'!A81","v":"040509"},{"$f":"'Pob x Genero'!B81","v":"AREQUIPA"},{"$f":"'Pob x Genero'!C81","v":"AREQUIPA"},{"$f":"'Pob x Genero'!D81","v":"CAYLLOMA"},{"$f":"'Pob x Genero'!E81","v":"ICHUPAMPA"},"Hombre","00-04",{"$f":"'Pob x Genero'!CT81","v":26},408]
[{"$f":"'Pob x Genero'!A82","v":"040510"},{"$f":"'Pob x Genero'!B82","v":"AREQUIPA"},{"$f":"'Pob x Genero'!C82","v":"AREQUIPA"},{"$f":"'Pob x Genero'!D82","v":"CAYLLOMA"},{"$f":"'Pob x Genero'!E82","v":"LARI"},"Hombre","00-04",{"$f":"'Pob x Genero'!CT82","v":35},409]
[{"$f":"'Pob x Genero'!A83","v":"040511"},{"$f":"'Pob x Genero'!B83","v":"AREQUIPA"},{"$f":"'Pob x Genero'!C83","v":"AREQUIPA"},{"$f":"'Pob x Genero'!D83","v":"CAYLLOMA"},{"$f":"'Pob x Genero'!E83","v":"LLUTA"},"Hombre","00-04",{"$f":"'Pob x Genero'!CT83","v":34},410]
[{"$f":"'Pob x Genero'!A84","v":"040512"},{"$f":"'Pob x Genero'!B84","v":"AREQUIPA"},{"$f":"'Pob x Genero'!C84","v":"AREQUIPA"},{"$f":"'Pob x Genero'!D84","v":"CAYLLOMA"},{"$f":"'Pob x Genero'!E84","v":"MACA"},"Hombre","00-04",{"$f":"'Pob x Genero'!CT84","v":10},411]
[{"$f":"'Pob x Genero'!A85","v":"040513"},{"$f":"'Pob x Genero'!B85","v":"AREQUIPA"},{"$f":"'Pob x Genero'!C85","v":"AREQUIPA"},{"$f":"'Pob x Genero'!D85","v":"CAYLLOMA"},{"$f":"'Pob x Genero'!E85","v":"MADRIGAL"},"Hombre","00-04",{"$f":"'Pob x Genero'!CT85","v":9},412]
[{"$f":"'Pob x Genero'!A86","v":"040514"},{"$f":"'Pob x Genero'!B86","v":"AREQUIPA"},{"$f":"'Pob x Genero'!C86","v":"AREQUIPA"},{"$f":"'Pob x Genero'!D86","v":"CAYLLOMA"},{"$f":"'Pob x Genero'!E86","v":"SAN ANTONIO DE CHUCA"},"Hombre","00-04",{"$f":"'Pob x Genero'!CT86","v":38},413]
[{"$f":"'Pob x Genero'!A87","v":"040515"},{"$f":"'Pob x Genero'!B87","v":"AREQUIPA"},{"$f":"'Pob x Genero'!C87","v":"AREQUIPA"},{"$f":"'Pob x Genero'!D87","v":"CAYLLOMA"},{"$f":"'Pob x Genero'!E87","v":"SIBAYO"},"Hombre","00-04",{"$f":"'Pob x Genero'!CT87","v":16},414]
[{"$f":"'Pob x Genero'!A88","v":"040516"},{"$f":"'Pob x Genero'!B88","v":"AREQUIPA"},{"$f":"'Pob x Genero'!C88","v":"AREQUIPA"},{"$f":"'Pob x Genero'!D88","v":"CAYLLOMA"},{"$f":"'Pob x Genero'!E88","v":"TAPAY"},"Hombre","00-04",{"$f":"'Pob x Genero'!CT88","v":21},415]
[{"$f":"'Pob x Genero'!A89","v":"040517"},{"$f":"'Pob x Genero'!B89","v":"AREQUIPA"},{"$f":"'Pob x Genero'!C89","v":"AREQUIPA"},{"$f":"'Pob x Genero'!D89","v":"CAYLLOMA"},{"$f":"'Pob x Genero'!E89","v":"TISCO"},"Hombre","00-04",{"$f":"'Pob x Genero'!CT89","v":32},416]
[{"$f":"'Pob x Genero'!A90","v":"040518"},{"$f":"'Pob x Genero'!B90","v":"AREQUIPA"},{"$f":"'Pob x Genero'!C90","v":"AREQUIPA"},{"$f":"'Pob x Genero'!D90","v":"CAYLLOMA"},{"$f":"'Pob x Genero'!E90","v":"TUTI"},"Hombre","00-04",{"$f":"'Pob x Genero'!CT90","v":17},417]
[{"$f":"'Pob x Genero'!A91","v":"040519"},{"$f":"'Pob x Genero'!B91","v":"AREQUIPA"},{"$f":"'Pob x Genero'!C91","v":"AREQUIPA"},{"$f":"'Pob x Genero'!D91","v":"CAYLLOMA"},{"$f":"'Pob x Genero'!E91","v":"YANQUE"},"Hombre","00-04",{"$f":"'Pob x Genero'!CT91","v":62},418]
[{"$f":"'Pob x Genero'!A92","v":"040520"},{"$f":"'Pob x Genero'!B92","v":"AREQUIPA"},{"$f":"'Pob x Genero'!C92","v":"AREQUIPA"},{"$f":"'Pob x Genero'!D92","v":"CAYLLOMA"},{"$f":"'Pob x Genero'!E92","v":"MAJES"},"Hombre","00-04",{"$f":"'Pob x Genero'!CT92","v":2860},419]
[{"$f":"'Pob x Genero'!A93","v":"040601"},{"$f":"'Pob x Genero'!B93","v":"AREQUIPA"},{"$f":"'Pob x Genero'!C93","v":"AREQUIPA"},{"$f":"'Pob x Genero'!D93","v":"CONDESUYOS"},{"$f":"'Pob x Genero'!E93","v":"CHUQUIBAMBA"},"Hombre","00-04",{"$f":"'Pob x Genero'!CT93","v":88},420]
[{"$f":"'Pob x Genero'!A94","v":"040602"},{"$f":"'Pob x Genero'!B94","v":"AREQUIPA"},{"$f":"'Pob x Genero'!C94","v":"AREQUIPA"},{"$f":"'Pob x Genero'!D94","v":"CONDESUYOS"},{"$f":"'Pob x Genero'!E94","v":"ANDARAY"},"Hombre","00-04",{"$f":"'Pob x Genero'!CT94","v":17},421]
[{"$f":"'Pob x Genero'!A95","v":"040603"},{"$f":"'Pob x Genero'!B95","v":"AREQUIPA"},{"$f":"'Pob x Genero'!C95","v":"AREQUIPA"},{"$f":"'Pob x Genero'!D95","v":"CONDESUYOS"},{"$f":"'Pob x Genero'!E95","v":"CAYARANI"},"Hombre","00-04",{"$f":"'Pob x Genero'!CT95","v":98},422]
[{"$f":"'Pob x Genero'!A96","v":"040604"},{"$f":"'Pob x Genero'!B96","v":"AREQUIPA"},{"$f":"'Pob x Genero'!C96","v":"AREQUIPA"},{"$f":"'Pob x Genero'!D96","v":"CONDESUYOS"},{"$f":"'Pob x Genero'!E96","v":"CHICHAS"},"Hombre","00-04",{"$f":"'Pob x Genero'!CT96","v":16},423]
[{"$f":"'Pob x Genero'!A97","v":"040605"},{"$f":"'Pob x Genero'!B97","v":"AREQUIPA"},{"$f":"'Pob x Genero'!C97","v":"AREQUIPA"},{"$f":"'Pob x Genero'!D97","v":"CONDESUYOS"},{"$f":"'Pob x Genero'!E97","v":"IRAY"},"Hombre","00-04",{"$f":"'Pob x Genero'!CT97","v":25},424]
[{"$f":"'Pob x Genero'!A98","v":"040606"},{"$f":"'Pob x Genero'!B98","v":"AREQUIPA"},{"$f":"'Pob x Genero'!C98","v":"AREQUIPA"},{"$f":"'Pob x Genero'!D98","v":"CONDESUYOS"},{"$f":"'Pob x Genero'!E98","v":"RIO GRANDE"},"Hombre","00-04",{"$f":"'Pob x Genero'!CT98","v":142},425]
[{"$f":"'Pob x Genero'!A99","v":"040607"},{"$f":"'Pob x Genero'!B99","v":"AREQUIPA"},{"$f":"'Pob x Genero'!C99","v":"AREQUIPA"},{"$f":"'Pob x Genero'!D99","v":"CONDESUYOS"},{"$f":"'Pob x Genero'!E99","v":"SALAMANCA"},"Hombre","00-04",{"$f":"'Pob x Genero'!CT99","v":14},426]
[{"$f":"'Pob x Genero'!A100","v":"040608"},{"$f":"'Pob x Genero'!B100","v":"AREQUIPA"},{"$f":"'Pob x Genero'!C100","v":"AREQUIPA"},{"$f":"'Pob x Genero'!D100","v":"CONDESUYOS"},{"$f":"'Pob x Genero'!E100","v":"YANAQUIHUA"},"Hombre","00-04",{"$f":"'Pob x Genero'!CT100","v":145},427]
[{"$f":"'Pob x Genero'!A101","v":"040701"},{"$f":"'Pob x Genero'!B101","v":"AREQUIPA"},{"$f":"'Pob x Genero'!C101","v":"AREQUIPA"},{"$f":"'Pob x Genero'!D101","v":"ISLAY"},{"$f":"'Pob x Genero'!E101","v":"MOLLENDO"},"Hombre","00-04",{"$f":"'Pob x Genero'!CT101","v":732},428]
[{"$f":"'Pob x Genero'!A102","v":"040702"},{"$f":"'Pob x Genero'!B102","v":"AREQUIPA"},{"$f":"'Pob x Genero'!C102","v":"AREQUIPA"},{"$f":"'Pob x Genero'!D102","v":"ISLAY"},{"$f":"'Pob x Genero'!E102","v":"COCACHACRA"},"Hombre","00-04",{"$f":"'Pob x Genero'!CT102","v":246},429]
[{"$f":"'Pob x Genero'!A103","v":"040703"},{"$f":"'Pob x Genero'!B103","v":"AREQUIPA"},{"$f":"'Pob x Genero'!C103","v":"AREQUIPA"},{"$f":"'Pob x Genero'!D103","v":"ISLAY"},{"$f":"'Pob x Genero'!E103","v":"DEAN VALDIVIA"},"Hombre","00-04",{"$f":"'Pob x Genero'!CT103","v":215},430]
[{"$f":"'Pob x Genero'!A104","v":"040704"},{"$f":"'Pob x Genero'!B104","v":"AREQUIPA"},{"$f":"'Pob x Genero'!C104","v":"AREQUIPA"},{"$f":"'Pob x Genero'!D104","v":"ISLAY"},{"$f":"'Pob x Genero'!E104","v":"ISLAY"},"Hombre","00-04",{"$f":"'Pob x Genero'!CT104","v":240},431]
[{"$f":"'Pob x Genero'!A105","v":"040705"},{"$f":"'Pob x Genero'!B105","v":"AREQUIPA"},{"$f":"'Pob x Genero'!C105","v":"AREQUIPA"},{"$f":"'Pob x Genero'!D105","v":"ISLAY"},{"$f":"'Pob x Genero'!E105","v":"MEJIA"},"Hombre","00-04",{"$f":"'Pob x Genero'!CT105","v":29},432]
[{"$f":"'Pob x Genero'!A106","v":"040706"},{"$f":"'Pob x Genero'!B106","v":"AREQUIPA"},{"$f":"'Pob x Genero'!C106","v":"AREQUIPA"},{"$f":"'Pob x Genero'!D106","v":"ISLAY"},{"$f":"'Pob x Genero'!E106","v":"PUNTA DE BOMBON"},"Hombre","00-04",{"$f":"'Pob x Genero'!CT106","v":200},433]
[{"$f":"'Pob x Genero'!A107","v":"040801"},{"$f":"'Pob x Genero'!B107","v":"AREQUIPA"},{"$f":"'Pob x Genero'!C107","v":"AREQUIPA"},{"$f":"'Pob x Genero'!D107","v":"LA UNION"},{"$f":"'Pob x Genero'!E107","v":"COTAHUASI"},"Hombre","00-04",{"$f":"'Pob x Genero'!CT107","v":117},434]
[{"$f":"'Pob x Genero'!A108","v":"040802"},{"$f":"'Pob x Genero'!B108","v":"AREQUIPA"},{"$f":"'Pob x Genero'!C108","v":"AREQUIPA"},{"$f":"'Pob x Genero'!D108","v":"LA UNION"},{"$f":"'Pob x Genero'!E108","v":"ALCA"},"Hombre","00-04",{"$f":"'Pob x Genero'!CT108","v":78},435]
[{"$f":"'Pob x Genero'!A109","v":"040803"},{"$f":"'Pob x Genero'!B109","v":"AREQUIPA"},{"$f":"'Pob x Genero'!C109","v":"AREQUIPA"},{"$f":"'Pob x Genero'!D109","v":"LA UNION"},{"$f":"'Pob x Genero'!E109","v":"CHARCANA"},"Hombre","00-04",{"$f":"'Pob x Genero'!CT109","v":22},436]
[{"$f":"'Pob x Genero'!A110","v":"040804"},{"$f":"'Pob x Genero'!B110","v":"AREQUIPA"},{"$f":"'Pob x Genero'!C110","v":"AREQUIPA"},{"$f":"'Pob x Genero'!D110","v":"LA UNION"},{"$f":"'Pob x Genero'!E110","v":"HUAYNACOTAS"},"Hombre","00-04",{"$f":"'Pob x Genero'!CT110","v":87},437]
[{"$f":"'Pob x Genero'!A111","v":"040805"},{"$f":"'Pob x Genero'!B111","v":"AREQUIPA"},{"$f":"'Pob x Genero'!C111","v":"AREQUIPA"},{"$f":"'Pob x Genero'!D111","v":"LA UNION"},{"$f":"'Pob x Genero'!E111","v":"PAMPAMARCA"},"Hombre","00-04",{"$f":"'Pob x Genero'!CT111","v":279},438]
[{"$f":"'Pob x Genero'!A112","v":"040806"},{"$f":"'Pob x Genero'!B112","v":"AREQUIPA"},{"$f":"'Pob x Genero'!C112","v":"AREQUIPA"},{"$f":"'Pob x Genero'!D112","v":"LA UNION"},{"$f":"'Pob x Genero'!E112","v":"PUYCA"},"Hombre","00-04",{"$f":"'Pob x Genero'!CT112","v":72},439]
[{"$f":"'Pob x Genero'!A113","v":"040807"},{"$f":"'Pob x Genero'!B113","v":"AREQUIPA"},{"$f":"'Pob x Genero'!C113","v":"AREQUIPA"},{"$f":"'Pob x Genero'!D113","v":"LA UNION"},{"$f":"'Pob x Genero'!E113","v":"QUECHUALLA"},"Hombre","00-04",{"$f":"'Pob x Genero'!CT113","v":3},440]
[{"$f":"'Pob x Genero'!A114","v":"040808"},{"$f":"'Pob x Genero'!B114","v":"AREQUIPA"},{"$f":"'Pob x Genero'!C114","v":"AREQUIPA"},{"$f":"'Pob x Genero'!D114","v":"LA UNION"},{"$f":"'Pob x Genero'!E114","v":"SAYLA"},"Hombre","00-04",{"$f":"'Pob x Genero'!CT114","v":11},441]
[{"$f":"'Pob x Genero'!A115","v":"040809"},{"$f":"'Pob x Genero'!B115","v":"AREQUIPA"},{"$f":"'Pob x Genero'!C115","v":"AREQUIPA"},{"$f":"'Pob x Genero'!D115","v":"LA UNION"},{"$f":"'Pob x Genero'!E115","v":"TAURIA"},"Hombre","00-04",{"$f":"'Pob x Genero'!CT115","v":21},442]
[{"$f":"'Pob x Genero'!A116","v":"040810"},{"$f":"'Pob x Genero'!B116","v":"AREQUIPA"},{"$f":"'Pob x Genero'!C116","v":"AREQUIPA"},{"$f":"'Pob x Genero'!D116","v":"LA UNION"},{"$f":"'Pob x Genero'!E116","v":"TOMEPAMPA"},"Hombre","00-04",{"$f":"'Pob x Genero'!CT116","v":12},443]
[{"$f":"'Pob x Genero'!A117","v":"040811"},{"$f":"'Pob x Genero'!B117","v":"AREQUIPA"},{"$f":"'Pob x Genero'!C117","v":"AREQUIPA"},{"$f":"'Pob x Genero'!D117","v":"LA UNION"},{"$f":"'Pob x Genero'!E117","v":"TORO"},"Hombre","00-04",{"$f":"'Pob x Genero'!CT117","v":13},444]
[{"$f":"'Pob x Genero'!#REF!","v":{"$error":"#REF!"}},{"$f":"'Pob x Genero'!#REF!","v":{"$error":"#REF!"}},{"$f":"'Pob x Genero'!#REF!","v":{"$error":"#REF!"}},{"$f":"'Pob x Genero'!#REF!","v":{"$error":"#REF!"}},{"$f":"'Pob x Genero'!#REF!","v":{"$error":"#REF!"}},"Hombre","00-04",{"$f":"'Pob x Genero'!#REF!","v":{"$error":"#REF!"}},445]
[{"$f":"'Pob x Genero'!#REF!","v":{"$error":"#REF!"}},{"$f":"'Pob x Genero'!#REF!","v":{"$error":"#REF!"}},{"$f":"'Pob x Genero'!#REF!","v":{"$error":"#REF!"}},{"$f":"'Pob x Genero'!#REF!","v":{"$error":"#REF!"}},{"$f":"'Pob x Genero'!#REF!","v":{"$error":"#REF!"}},"Hombre","00-04",{"$f":"'Pob x Genero'!#REF!","v":{"$error":"#REF!"}},446]
[{"$f":"'Pob x Genero'!#REF!","v":{"$error":"#REF!"}},{"$f":"'Pob x Genero'!#REF!","v":{"$error":"#REF!"}},{"$f":"'Pob x Genero'!#REF!","v":{"$error":"#REF!"}},{"$f":"'Pob x Genero'!#REF!","v":{"$error":"#REF!"}},{"$f":"'Pob x Genero'!#REF!","v":{"$error":"#REF!"}},"Hombre","00-04",{"$f":"'Pob x Genero'!#REF!","v":{"$error":"#REF!"}},447]
[{"$f":"'Pob x Genero'!#REF!","v":{"$error":"#REF!"}},{"$f":"'Pob x Genero'!#REF!","v":{"$error":"#REF!"}},{"$f":"'Pob x Genero'!#REF!","v":{"$error":"#REF!"}},{"$f":"'Pob x Genero'!#REF!","v":{"$error":"#REF!"}},{"$f":"'Pob x Genero'!#REF!","v":{"$error":"#REF!"}},"Hombre","00-04",{"$f":"'Pob x Genero'!#REF!","v":{"$error":"#REF!"}},448]
[{"$f":"'Pob x Genero'!#REF!","v":{"$error":"#REF!"}},{"$f":"'Pob x Genero'!#REF!","v":{"$error":"#REF!"}},{"$f":"'Pob x Genero'!#REF!","v":{"$error":"#REF!"}},{"$f":"'Pob x Genero'!#REF!","v":{"$error":"#REF!"}},{"$f":"'Pob x Genero'!#REF!","v":{"$error":"#REF!"}},"Hombre","00-04",{"$f":"'Pob x Genero'!#REF!","v":{"$error":"#REF!"}},449]
[{"$f":"'Pob x Genero'!#REF!","v":{"$error":"#REF!"}},{"$f":"'Pob x Genero'!#REF!","v":{"$error":"#REF!"}},{"$f":"'Pob x Genero'!#REF!","v":{"$error":"#REF!"}},{"$f":"'Pob x Genero'!#REF!","v":{"$error":"#REF!"}},{"$f":"'Pob x Genero'!#REF!","v":{"$error":"#REF!"}},{"$f":"F450","v":"Hombre"},{"$f":"G450","v":"00-04"},{"$f":"'Pob x Genero'!#REF!","v":{"$error":"#REF!"}},450]
[{"$f":"'Pob x Genero'!#REF!","v":{"$error":"#REF!"}},{"$f":"'Pob x Genero'!#REF!","v":{"$error":"#REF!"}},{"$f":"'Pob x Genero'!#REF!","v":{"$error":"#REF!"}},{"$f":"'Pob x Genero'!#REF!","v":{"$error":"#REF!"}},{"$f":"'Pob x Genero'!#REF!","v":{"$error":"#REF!"}},"Hombre","00-04",{"$f":"'Pob x Genero'!#REF!","v":{"$error":"#REF!"}},451]
[{"$f":"'Pob x Genero'!#REF!","v":{"$error":"#REF!"}},{"$f":"'Pob x Genero'!#REF!","v":{"$error":"#REF!"}},{"$f":"'Pob x Genero'!#REF!","v":{"$error":"#REF!"}},{"$f":"'Pob x Genero'!#REF!","v":{"$error":"#REF!"}},{"$f":"'Pob x Genero'!#REF!","v":{"$error":"#REF!"}},"Hombre","00-04",{"$f":"'Pob x Genero'!#REF!","v":{"$error":"#REF!"}},452]
[{"$f":"'Pob x Genero'!#REF!","v":{"$error":"#REF!"}},{"$f":"'Pob x Genero'!#REF!","v":{"$error":"#REF!"}},{"$f":"'Pob x Genero'!#REF!","v":{"$error":"#REF!"}},{"$f":"'Pob x Genero'!#REF!","v":{"$error":"#REF!"}},{"$f":"'Pob x Genero'!#REF!","v":{"$error":"#REF!"}},"Hombre","00-04",{"$f":"'Pob x Genero'!#REF!","v":{"$error":"#REF!"}},453]
[{"$f":"'Pob x Genero'!#REF!","v":{"$error":"#REF!"}},{"$f":"'Pob x Genero'!#REF!","v":{"$error":"#REF!"}},{"$f":"'Pob x Genero'!#REF!","v":{"$error":"#REF!"}},{"$f":"'Pob x Genero'!#REF!","v":{"$error":"#REF!"}},{"$f":"'Pob x Genero'!#REF!","v":{"$error":"#REF!"}},"Hombre","00-04",{"$f":"'Pob x Genero'!#REF!","v":{"$error":"#REF!"}},454]
[{"$f":"'Pob x Genero'!#REF!","v":{"$error":"#REF!"}},{"$f":"'Pob x Genero'!#REF!","v":{"$error":"#REF!"}},{"$f":"'Pob x Genero'!#REF!","v":{"$error":"#REF!"}},{"$f":"'Pob x Genero'!#REF!","v":{"$error":"#REF!"}},{"$f":"'Pob x Genero'!#REF!","v":{"$error":"#REF!"}},"Hombre","00-04",{"$f":"'Pob x Genero'!#REF!","v":{"$error":"#REF!"}},455]
[{"$f":"'Pob x Genero'!#REF!","v":{"$error":"#REF!"}},{"$f":"'Pob x Genero'!#REF!","v":{"$error":"#REF!"}},{"$f":"'Pob x Genero'!#REF!","v":{"$error":"#REF!"}},{"$f":"'Pob x Genero'!#REF!","v":{"$error":"#REF!"}},{"$f":"'Pob x Genero'!#REF!","v":{"$error":"#REF!"}},"Hombre","00-04",{"$f":"'Pob x Genero'!#REF!","v":{"$error":"#REF!"}},456]
[{"$f":"'Pob x Genero'!#REF!","v":{"$error":"#REF!"}},{"$f":"'Pob x Genero'!#REF!","v":{"$error":"#REF!"}},{"$f":"'Pob x Genero'!#REF!","v":{"$error":"#REF!"}},{"$f":"'Pob x Genero'!#REF!","v":{"$error":"#REF!"}},{"$f":"'Pob x Genero'!#REF!","v":{"$error":"#REF!"}},"Hombre","00-04",{"$f":"'Pob x Genero'!#REF!","v":{"$error":"#REF!"}},457]
[{"$f":"'Pob x Genero'!#REF!","v":{"$error":"#REF!"}},{"$f":"'Pob x Genero'!#REF!","v":{"$error":"#REF!"}},{"$f":"'Pob x Genero'!#REF!","v":{"$error":"#REF!"}},{"$f":"'Pob x Genero'!#REF!","v":{"$error":"#REF!"}},{"$f":"'Pob x Genero'!#REF!","v":{"$error":"#REF!"}},"Hombre","00-04",{"$f":"'Pob x Genero'!#REF!","v":{"$error":"#REF!"}},458]
[{"$f":"'Pob x Genero'!#REF!","v":{"$error":"#REF!"}},{"$f":"'Pob x Genero'!#REF!","v":{"$error":"#REF!"}},{"$f":"'Pob x Genero'!#REF!","v":{"$error":"#REF!"}},{"$f":"'Pob x Genero'!#REF!","v":{"$error":"#REF!"}},{"$f":"'Pob x Genero'!#REF!","v":{"$error":"#REF!"}},"Hombre","00-04",{"$f":"'Pob x Genero'!#REF!","v":{"$error":"#REF!"}},459]
[{"$f":"'Pob x Genero'!#REF!","v":{"$error":"#REF!"}},{"$f":"'Pob x Genero'!#REF!","v":{"$error":"#REF!"}},{"$f":"'Pob x Genero'!#REF!","v":{"$error":"#REF!"}},{"$f":"'Pob x Genero'!#REF!","v":{"$error":"#REF!"}},{"$f":"'Pob x Genero'!#REF!","v":{"$error":"#REF!"}},"Hombre","00-04",{"$f":"'Pob x Genero'!#REF!","v":{"$error":"#REF!"}},460]
[{"$f":"'Pob x Genero'!#REF!","v":{"$error":"#REF!"}},{"$f":"'Pob x Genero'!#REF!","v":{"$error":"#REF!"}},{"$f":"'Pob x Genero'!#REF!","v":{"$error":"#REF!"}},{"$f":"'Pob x Genero'!#REF!","v":{"$error":"#REF!"}},{"$f":"'Pob x Genero'!#REF!","v":{"$error":"#REF!"}},"Hombre","00-04",{"$f":"'Pob x Genero'!#REF!","v":{"$error":"#REF!"}},461]
[{"$f":"'Pob x Genero'!#REF!","v":{"$error":"#REF!"}},{"$f":"'Pob x Genero'!#REF!","v":{"$error":"#REF!"}},{"$f":"'Pob x Genero'!#REF!","v":{"$error":"#REF!"}},{"$f":"'Pob x Genero'!#REF!","v":{"$error":"#REF!"}},{"$f":"'Pob x Genero'!#REF!","v":{"$error":"#REF!"}},"Hombre","00-04",{"$f":"'Pob x Genero'!#REF!","v":{"$error":"#REF!"}},462]
[{"$f":"'Pob x Genero'!#REF!","v":{"$error":"#REF!"}},{"$f":"'Pob x Genero'!#REF!","v":{"$error":"#REF!"}},{"$f":"'Pob x Genero'!#REF!","v":{"$error":"#REF!"}},{"$f":"'Pob x Genero'!#REF!","v":{"$error":"#REF!"}},{"$f":"'Pob x Genero'!#REF!","v":{"$error":"#REF!"}},"Hombre","00-04",{"$f":"'Pob x Genero'!#REF!","v":{"$error":"#REF!"}},463]
[{"$f":"'Pob x Genero'!#REF!","v":{"$error":"#REF!"}},{"$f":"'Pob x Genero'!#REF!","v":{"$error":"#REF!"}},{"$f":"'Pob x Genero'!#REF!","v":{"$error":"#REF!"}},{"$f":"'Pob x Genero'!#REF!","v":{"$error":"#REF!"}},{"$f":"'Pob x Genero'!#REF!","v":{"$error":"#REF!"}},"Hombre","00-04",{"$f":"'Pob x Genero'!#REF!","v":{"$error":"#REF!"}},464]
[{"$f":"'Pob x Genero'!#REF!","v":{"$error":"#REF!"}},{"$f":"'Pob x Genero'!#REF!","v":{"$error":"#REF!"}},{"$f":"'Pob x Genero'!#REF!","v":{"$error":"#REF!"}},{"$f":"'Pob x Genero'!#REF!","v":{"$error":"#REF!"}},{"$f":"'Pob x Genero'!#REF!","v":{"$error":"#REF!"}},"Hombre","00-04",{"$f":"'Pob x Genero'!#REF!","v":{"$error":"#REF!"}},465]
[{"$f":"'Pob x Genero'!#REF!","v":{"$error":"#REF!"}},{"$f":"'Pob x Genero'!#REF!","v":{"$error":"#REF!"}},{"$f":"'Pob x Genero'!#REF!","v":{"$error":"#REF!"}},{"$f":"'Pob x Genero'!#REF!","v":{"$error":"#REF!"}},{"$f":"'Pob x Genero'!#REF!","v":{"$error":"#REF!"}},"Hombre","00-04",{"$f":"'Pob x Genero'!#REF!","v":{"$error":"#REF!"}},466]
[{"$f":"'Pob x Genero'!#REF!","v":{"$error":"#REF!"}},{"$f":"'Pob x Genero'!#REF!","v":{"$error":"#REF!"}},{"$f":"'Pob x Genero'!#REF!","v":{"$error":"#REF!"}},{"$f":"'Pob x Genero'!#REF!","v":{"$error":"#REF!"}},{"$f":"'Pob x Genero'!#REF!","v":{"$error":"#REF!"}},"Hombre","00-04",{"$f":"'Pob x Genero'!#REF!","v":{"$error":"#REF!"}},467]
[{"$f":"'Pob x Genero'!#REF!","v":{"$error":"#REF!"}},{"$f":"'Pob x Genero'!#REF!","v":{"$error":"#REF!"}},{"$f":"'Pob x Genero'!#REF!","v":{"$error":"#REF!"}},{"$f":"'Pob x Genero'!#REF!","v":{"$error":"#REF!"}},{"$f":"'Pob x Genero'!#REF!","v":{"$error":"#REF!"}},"Hombre","00-04",{"$f":"'Pob x Genero'!#REF!","v":{"$error":"#REF!"}},468]
[{"$f":"'Pob x Genero'!#REF!","v":{"$error":"#REF!"}},{"$f":"'Pob x Genero'!#REF!","v":{"$error":"#REF!"}},{"$f":"'Pob x Genero'!#REF!","v":{"$error":"#REF!"}},{"$f":"'Pob x Genero'!#REF!","v":{"$error":"#REF!"}},{"$f":"'Pob x Genero'!#REF!","v":{"$error":"#REF!"}},"Hombre","00-04",{"$f":"'Pob x Genero'!#REF!","v":{"$error":"#REF!"}},469]
[{"$f":"'Pob x Genero'!#REF!","v":{"$error":"#REF!"}},{"$f":"'Pob x Genero'!#REF!","v":{"$error":"#REF!"}},{"$f":"'Pob x Genero'!#REF!","v":{"$error":"#REF!"}},{"$f":"'Pob x Genero'!#REF!","v":{"$error":"#REF!"}},{"$f":"'Pob x Genero'!#REF!","v":{"$error":"#REF!"}},"Hombre","00-04",{"$f":"'Pob x Genero'!#REF!","v":{"$error":"#REF!"}},470]
[{"$f":"'Pob x Genero'!#REF!","v":{"$error":"#REF!"}},{"$f":"'Pob x Genero'!#REF!","v":{"$error":"#REF!"}},{"$f":"'Pob x Genero'!#REF!","v":{"$error":"#REF!"}},{"$f":"'Pob x Genero'!#REF!","v":{"$error":"#REF!"}},{"$f":"'Pob x Genero'!#REF!","v":{"$error":"#REF!"}},"Hombre","00-04",{"$f":"'Pob x Genero'!#REF!","v":{"$error":"#REF!"}},471]
[{"$f":"'Pob x Genero'!#REF!","v":{"$error":"#REF!"}},{"$f":"'Pob x Genero'!#REF!","v":{"$error":"#REF!"}},{"$f":"'Pob x Genero'!#REF!","v":{"$error":"#REF!"}},{"$f":"'Pob x Genero'!#REF!","v":{"$error":"#REF!"}},{"$f":"'Pob x Genero'!#REF!","v":{"$error":"#REF!"}},"Hombre","00-04",{"$f":"'Pob x Genero'!#REF!","v":{"$error":"#REF!"}},472]
[{"$f":"'Pob x Genero'!#REF!","v":{"$error":"#REF!"}},{"$f":"'Pob x Genero'!#REF!","v":{"$error":"#REF!"}},{"$f":"'Pob x Genero'!#REF!","v":{"$error":"#REF!"}},{"$f":"'Pob x Genero'!#REF!","v":{"$error":"#REF!"}},{"$f":"'Pob x Genero'!#REF!","v":{"$error":"#REF!"}},"Hombre","00-04",{"$f":"'Pob x Genero'!#REF!","v":{"$error":"#REF!"}},473]
[{"$f":"'Pob x Genero'!#REF!","v":{"$error":"#REF!"}},{"$f":"'Pob x Genero'!#REF!","v":{"$error":"#REF!"}},{"$f":"'Pob x Genero'!#REF!","v":{"$error":"#REF!"}},{"$f":"'Pob x Genero'!#REF!","v":{"$error":"#REF!"}},{"$f":"'Pob x Genero'!#REF!","v":{"$error":"#REF!"}},"Hombre","00-04",{"$f":"'Pob x Genero'!#REF!","v":{"$error":"#REF!"}},474]
[{"$f":"'Pob x Genero'!#REF!","v":{"$error":"#REF!"}},{"$f":"'Pob x Genero'!#REF!","v":{"$error":"#REF!"}},{"$f":"'Pob x Genero'!#REF!","v":{"$error":"#REF!"}},{"$f":"'Pob x Genero'!#REF!","v":{"$error":"#REF!"}},{"$f":"'Pob x Genero'!#REF!","v":{"$error":"#REF!"}},"Hombre","00-04",{"$f":"'Pob x Genero'!#REF!","v":{"$error":"#REF!"}},475]
[{"$f":"'Pob x Genero'!#REF!","v":{"$error":"#REF!"}},{"$f":"'Pob x Genero'!#REF!","v":{"$error":"#REF!"}},{"$f":"'Pob x Genero'!#REF!","v":{"$error":"#REF!"}},{"$f":"'Pob x Genero'!#REF!","v":{"$error":"#REF!"}},{"$f":"'Pob x Genero'!#REF!","v":{"$error":"#REF!"}},"Hombre","00-04",{"$f":"'Pob x Genero'!#REF!","v":{"$error":"#REF!"}},476]
[{"$f":"'Pob x Genero'!#REF!","v":{"$error":"#REF!"}},{"$f":"'Pob x Genero'!#REF!","v":{"$error":"#REF!"}},{"$f":"'Pob x Genero'!#REF!","v":{"$error":"#REF!"}},{"$f":"'Pob x Genero'!#REF!","v":{"$error":"#REF!"}},{"$f":"'Pob x Genero'!#REF!","v":{"$error":"#REF!"}},"Hombre","00-04",{"$f":"'Pob x Genero'!#REF!","v":{"$error":"#REF!"}},477]
[{"$f":"'Pob x Genero'!#REF!","v":{"$error":"#REF!"}},{"$f":"'Pob x Genero'!#REF!","v":{"$error":"#REF!"}},{"$f":"'Pob x Genero'!#REF!","v":{"$error":"#REF!"}},{"$f":"'Pob x Genero'!#REF!","v":{"$error":"#REF!"}},{"$f":"'Pob x Genero'!#REF!","v":{"$error":"#REF!"}},"Hombre","00-04",{"$f":"'Pob x Genero'!#REF!","v":{"$error":"#REF!"}},478]
[{"$f":"'Pob x Genero'!#REF!","v":{"$error":"#REF!"}},{"$f":"'Pob x Genero'!#REF!","v":{"$error":"#REF!"}},{"$f":"'Pob x Genero'!#REF!","v":{"$error":"#REF!"}},{"$f":"'Pob x Genero'!#REF!","v":{"$error":"#REF!"}},{"$f":"'Pob x Genero'!#REF!","v":{"$error":"#REF!"}},"Hombre","00-04",{"$f":"'Pob x Genero'!#REF!","v":{"$error":"#REF!"}},479]
[{"$f":"'Pob x Genero'!#REF!","v":{"$error":"#REF!"}},{"$f":"'Pob x Genero'!#REF!","v":{"$error":"#REF!"}},{"$f":"'Pob x Genero'!#REF!","v":{"$error":"#REF!"}},{"$f":"'Pob x Genero'!#REF!","v":{"$error":"#REF!"}},{"$f":"'Pob x Genero'!#REF!","v":{"$error":"#REF!"}},"Hombre","00-04",{"$f":"'Pob x Genero'!#REF!","v":{"$error":"#REF!"}},480]
[{"$f":"'Pob x Genero'!#REF!","v":{"$error":"#REF!"}},{"$f":"'Pob x Genero'!#REF!","v":{"$error":"#REF!"}},{"$f":"'Pob x Genero'!#REF!","v":{"$error":"#REF!"}},{"$f":"'Pob x Genero'!#REF!","v":{"$error":"#REF!"}},{"$f":"'Pob x Genero'!#REF!","v":{"$error":"#REF!"}},"Hombre","00-04",{"$f":"'Pob x Genero'!#REF!","v":{"$error":"#REF!"}},481]
[{"$f":"'Pob x Genero'!#REF!","v":{"$error":"#REF!"}},{"$f":"'Pob x Genero'!#REF!","v":{"$error":"#REF!"}},{"$f":"'Pob x Genero'!#REF!","v":{"$error":"#REF!"}},{"$f":"'Pob x Genero'!#REF!","v":{"$error":"#REF!"}},{"$f":"'Pob x Genero'!#REF!","v":{"$error":"#REF!"}},"Hombre","00-04",{"$f":"'Pob x Genero'!#REF!","v":{"$error":"#REF!"}},482]
[{"$f":"'Pob x Genero'!#REF!","v":{"$error":"#REF!"}},{"$f":"'Pob x Genero'!#REF!","v":{"$error":"#REF!"}},{"$f":"'Pob x Genero'!#REF!","v":{"$error":"#REF!"}},{"$f":"'Pob x Genero'!#REF!","v":{"$error":"#REF!"}},{"$f":"'Pob x Genero'!#REF!","v":{"$error":"#REF!"}},"Hombre","00-04",{"$f":"'Pob x Genero'!#REF!","v":{"$error":"#REF!"}},483]
[{"$f":"'Pob x Genero'!#REF!","v":{"$error":"#REF!"}},{"$f":"'Pob x Genero'!#REF!","v":{"$error":"#REF!"}},{"$f":"'Pob x Genero'!#REF!","v":{"$error":"#REF!"}},{"$f":"'Pob x Genero'!#REF!","v":{"$error":"#REF!"}},{"$f":"'Pob x Genero'!#REF!","v":{"$error":"#REF!"}},"Hombre","00-04",{"$f":"'Pob x Genero'!#REF!","v":{"$error":"#REF!"}},484]
[{"$f":"'Pob x Genero'!#REF!","v":{"$error":"#REF!"}},{"$f":"'Pob x Genero'!#REF!","v":{"$error":"#REF!"}},{"$f":"'Pob x Genero'!#REF!","v":{"$error":"#REF!"}},{"$f":"'Pob x Genero'!#REF!","v":{"$error":"#REF!"}},{"$f":"'Pob x Genero'!#REF!","v":{"$error":"#REF!"}},"Hombre","00-04",{"$f":"'Pob x Genero'!#REF!","v":{"$error":"#REF!"}},485]
[{"$f":"'Pob x Genero'!#REF!","v":{"$error":"#REF!"}},{"$f":"'Pob x Genero'!#REF!","v":{"$error":"#REF!"}},{"$f":"'Pob x Genero'!#REF!","v":{"$error":"#REF!"}},{"$f":"'Pob x Genero'!#REF!","v":{"$error":"#REF!"}},{"$f":"'Pob x Genero'!#REF!","v":{"$error":"#REF!"}},"Hombre","00-04",{"$f":"'Pob x Genero'!#REF!","v":{"$error":"#REF!"}},486]
[{"$f":"'Pob x Genero'!#REF!","v":{"$error":"#REF!"}},{"$f":"'Pob x Genero'!#REF!","v":{"$error":"#REF!"}},{"$f":"'Pob x Genero'!#REF!","v":{"$error":"#REF!"}},{"$f":"'Pob x Genero'!#REF!","v":{"$error":"#REF!"}},{"$f":"'Pob x Genero'!#REF!","v":{"$error":"#REF!"}},"Hombre","00-04",{"$f":"'Pob x Genero'!#REF!","v":{"$error":"#REF!"}},487]
[{"$f":"'Pob x Genero'!#REF!","v":{"$error":"#REF!"}},{"$f":"'Pob x Genero'!#REF!","v":{"$error":"#REF!"}},{"$f":"'Pob x Genero'!#REF!","v":{"$error":"#REF!"}},{"$f":"'Pob x Genero'!#REF!","v":{"$error":"#REF!"}},{"$f":"'Pob x Genero'!#REF!","v":{"$error":"#REF!"}},"Hombre","00-04",{"$f":"'Pob x Genero'!#REF!","v":{"$error":"#REF!"}},488]
[{"$f":"'Pob x Genero'!#REF!","v":{"$error":"#REF!"}},{"$f":"'Pob x Genero'!#REF!","v":{"$error":"#REF!"}},{"$f":"'Pob x Genero'!#REF!","v":{"$error":"#REF!"}},{"$f":"'Pob x Genero'!#REF!","v":{"$error":"#REF!"}},{"$f":"'Pob x Genero'!#REF!","v":{"$error":"#REF!"}},"Hombre","00-04",{"$f":"'Pob x Genero'!#REF!","v":{"$error":"#REF!"}},489]
[{"$f":"'Pob x Genero'!#REF!","v":{"$error":"#REF!"}},{"$f":"'Pob x Genero'!#REF!","v":{"$error":"#REF!"}},{"$f":"'Pob x Genero'!#REF!","v":{"$error":"#REF!"}},{"$f":"'Pob x Genero'!#REF!","v":{"$error":"#REF!"}},{"$f":"'Pob x Genero'!#REF!","v":{"$error":"#REF!"}},"Hombre","00-04",{"$f":"'Pob x Genero'!#REF!","v":{"$error":"#REF!"}},490]
[{"$f":"'Pob x Genero'!#REF!","v":{"$error":"#REF!"}},{"$f":"'Pob x Genero'!#REF!","v":{"$error":"#REF!"}},{"$f":"'Pob x Genero'!#REF!","v":{"$error":"#REF!"}},{"$f":"'Pob x Genero'!#REF!","v":{"$error":"#REF!"}},{"$f":"'Pob x Genero'!#REF!","v":{"$error":"#REF!"}},"Hombre","00-04",{"$f":"'Pob x Genero'!#REF!","v":{"$error":"#REF!"}},491]
[{"$f":"'Pob x Genero'!#REF!","v":{"$error":"#REF!"}},{"$f":"'Pob x Genero'!#REF!","v":{"$error":"#REF!"}},{"$f":"'Pob x Genero'!#REF!","v":{"$error":"#REF!"}},{"$f":"'Pob x Genero'!#REF!","v":{"$error":"#REF!"}},{"$f":"'Pob x Genero'!#REF!","v":{"$error":"#REF!"}},"Hombre","00-04",{"$f":"'Pob x Genero'!#REF!","v":{"$error":"#REF!"}},492]
[{"$f":"'Pob x Genero'!#REF!","v":{"$error":"#REF!"}},{"$f":"'Pob x Genero'!#REF!","v":{"$error":"#REF!"}},{"$f":"'Pob x Genero'!#REF!","v":{"$error":"#REF!"}},{"$f":"'Pob x Genero'!#REF!","v":{"$error":"#REF!"}},{"$f":"'Pob x Genero'!#REF!","v":{"$error":"#REF!"}},"Hombre","00-04",{"$f":"'Pob x Genero'!#REF!","v":{"$error":"#REF!"}},493]
[{"$f":"'Pob x Genero'!#REF!","v":{"$error":"#REF!"}},{"$f":"'Pob x Genero'!#REF!","v":{"$error":"#REF!"}},{"$f":"'Pob x Genero'!#REF!","v":{"$error":"#REF!"}},{"$f":"'Pob x Genero'!#REF!","v":{"$error":"#REF!"}},{"$f":"'Pob x Genero'!#REF!","v":{"$error":"#REF!"}},"Hombre","00-04",{"$f":"'Pob x Genero'!#REF!","v":{"$error":"#REF!"}},494]
[{"$f":"'Pob x Genero'!#REF!","v":{"$error":"#REF!"}},{"$f":"'Pob x Genero'!#REF!","v":{"$error":"#REF!"}},{"$f":"'Pob x Genero'!#REF!","v":{"$error":"#REF!"}},{"$f":"'Pob x Genero'!#REF!","v":{"$error":"#REF!"}},{"$f":"'Pob x Genero'!#REF!","v":{"$error":"#REF!"}},"Hombre","00-04",{"$f":"'Pob x Genero'!#REF!","v":{"$error":"#REF!"}},495]
[{"$f":"'Pob x Genero'!#REF!","v":{"$error":"#REF!"}},{"$f":"'Pob x Genero'!#REF!","v":{"$error":"#REF!"}},{"$f":"'Pob x Genero'!#REF!","v":{"$error":"#REF!"}},{"$f":"'Pob x Genero'!#REF!","v":{"$error":"#REF!"}},{"$f":"'Pob x Genero'!#REF!","v":{"$error":"#REF!"}},"Hombre","00-04",{"$f":"'Pob x Genero'!#REF!","v":{"$error":"#REF!"}},496]
[{"$f":"'Pob x Genero'!#REF!","v":{"$error":"#REF!"}},{"$f":"'Pob x Genero'!#REF!","v":{"$error":"#REF!"}},{"$f":"'Pob x Genero'!#REF!","v":{"$error":"#REF!"}},{"$f":"'Pob x Genero'!#REF!","v":{"$error":"#REF!"}},{"$f":"'Pob x Genero'!#REF!","v":{"$error":"#REF!"}},"Hombre","00-04",{"$f":"'Pob x Genero'!#REF!","v":{"$error":"#REF!"}},497]
[{"$f":"'Pob x Genero'!#REF!","v":{"$error":"#REF!"}},{"$f":"'Pob x Genero'!#REF!","v":{"$error":"#REF!"}},{"$f":"'Pob x Genero'!#REF!","v":{"$error":"#REF!"}},{"$f":"'Pob x Genero'!#REF!","v":{"$error":"#REF!"}},{"$f":"'Pob x Genero'!#REF!","v":{"$error":"#REF!"}},"Hombre","00-04",{"$f":"'Pob x Genero'!#REF!","v":{"$error":"#REF!"}},498]
[{"$f":"'Pob x Genero'!#REF!","v":{"$error":"#REF!"}},{"$f":"'Pob x Genero'!#REF!","v":{"$error":"#REF!"}},{"$f":"'Pob x Genero'!#REF!","v":{"$error":"#REF!"}},{"$f":"'Pob x Genero'!#REF!","v":{"$error":"#REF!"}},{"$f":"'Pob x Genero'!#REF!","v":{"$error":"#REF!"}},"Hombre","00-04",{"$f":"'Pob x Genero'!#REF!","v":{"$error":"#REF!"}},499]
[{"$f":"'Pob x Genero'!#REF!","v":{"$error":"#REF!"}},{"$f":"'Pob x Genero'!#REF!","v":{"$error":"#REF!"}},{"$f":"'Pob x Genero'!#REF!","v":{"$error":"#REF!"}},{"$f":"'Pob x Genero'!#REF!","v":{"$error":"#REF!"}},{"$f":"'Pob x Genero'!#REF!","v":{"$error":"#REF!"}},"Hombre","00-04",{"$f":"'Pob x Genero'!#REF!","v":{"$error":"#REF!"}},500]
[{"$f":"'Pob x Genero'!#REF!","v":{"$error":"#REF!"}},{"$f":"'Pob x Genero'!#REF!","v":{"$error":"#REF!"}},{"$f":"'Pob x Genero'!#REF!","v":{"$error":"#REF!"}},{"$f":"'Pob x Genero'!#REF!","v":{"$error":"#REF!"}},{"$f":"'Pob x Genero'!#REF!","v":{"$error":"#REF!"}},"Hombre","00-04",{"$f":"'Pob x Genero'!#REF!","v":{"$error":"#REF!"}},501]
[{"$f":"'Pob x Genero'!#REF!","v":{"$error":"#REF!"}},{"$f":"'Pob x Genero'!#REF!","v":{"$error":"#REF!"}},{"$f":"'Pob x Genero'!#REF!","v":{"$error":"#REF!"}},{"$f":"'Pob x Genero'!#REF!","v":{"$error":"#REF!"}},{"$f":"'Pob x Genero'!#REF!","v":{"$error":"#REF!"}},"Hombre","00-04",{"$f":"'Pob x Genero'!#REF!","v":{"$error":"#REF!"}},502]
[{"$f":"'Pob x Genero'!#REF!","v":{"$error":"#REF!"}},{"$f":"'Pob x Genero'!#REF!","v":{"$error":"#REF!"}},{"$f":"'Pob x Genero'!#REF!","v":{"$error":"#REF!"}},{"$f":"'Pob x Genero'!#REF!","v":{"$error":"#REF!"}},{"$f":"'Pob x Genero'!#REF!","v":{"$error":"#REF!"}},"Hombre","00-04",{"$f":"'Pob x Genero'!#REF!","v":{"$error":"#REF!"}},503]
[{"$f":"'Pob x Genero'!#REF!","v":{"$error":"#REF!"}},{"$f":"'Pob x Genero'!#REF!","v":{"$error":"#REF!"}},{"$f":"'Pob x Genero'!#REF!","v":{"$error":"#REF!"}},{"$f":"'Pob x Genero'!#REF!","v":{"$error":"#REF!"}},{"$f":"'Pob x Genero'!#REF!","v":{"$error":"#REF!"}},"Hombre","00-04",{"$f":"'Pob x Genero'!#REF!","v":{"$error":"#REF!"}},504]
[{"$f":"'Pob x Genero'!#REF!","v":{"$error":"#REF!"}},{"$f":"'Pob x Genero'!#REF!","v":{"$error":"#REF!"}},{"$f":"'Pob x Genero'!#REF!","v":{"$error":"#REF!"}},{"$f":"'Pob x Genero'!#REF!","v":{"$error":"#REF!"}},{"$f":"'Pob x Genero'!#REF!","v":{"$error":"#REF!"}},"Hombre","00-04",{"$f":"'Pob x Genero'!#REF!","v":{"$error":"#REF!"}},505]
[{"$f":"'Pob x Genero'!#REF!","v":{"$error":"#REF!"}},{"$f":"'Pob x Genero'!#REF!","v":{"$error":"#REF!"}},{"$f":"'Pob x Genero'!#REF!","v":{"$error":"#REF!"}},{"$f":"'Pob x Genero'!#REF!","v":{"$error":"#REF!"}},{"$f":"'Pob x Genero'!#REF!","v":{"$error":"#REF!"}},"Hombre","00-04",{"$f":"'Pob x Genero'!#REF!","v":{"$error":"#REF!"}},506]
[{"$f":"'Pob x Genero'!#REF!","v":{"$error":"#REF!"}},{"$f":"'Pob x Genero'!#REF!","v":{"$error":"#REF!"}},{"$f":"'Pob x Genero'!#REF!","v":{"$error":"#REF!"}},{"$f":"'Pob x Genero'!#REF!","v":{"$error":"#REF!"}},{"$f":"'Pob x Genero'!#REF!","v":{"$error":"#REF!"}},"Hombre","00-04",{"$f":"'Pob x Genero'!#REF!","v":{"$error":"#REF!"}},507]
[{"$f":"'Pob x Genero'!#REF!","v":{"$error":"#REF!"}},{"$f":"'Pob x Genero'!#REF!","v":{"$error":"#REF!"}},{"$f":"'Pob x Genero'!#REF!","v":{"$error":"#REF!"}},{"$f":"'Pob x Genero'!#REF!","v":{"$error":"#REF!"}},{"$f":"'Pob x Genero'!#REF!","v":{"$error":"#REF!"}},"Hombre","00-04",{"$f":"'Pob x Genero'!#REF!","v":{"$error":"#REF!"}},508]
[{"$f":"'Pob x Genero'!#REF!","v":{"$error":"#REF!"}},{"$f":"'Pob x Genero'!#REF!","v":{"$error":"#REF!"}},{"$f":"'Pob x Genero'!#REF!","v":{"$error":"#REF!"}},{"$f":"'Pob x Genero'!#REF!","v":{"$error":"#REF!"}},{"$f":"'Pob x Genero'!#REF!","v":{"$error":"#REF!"}},"Hombre","00-04",{"$f":"'Pob x Genero'!#REF!","v":{"$error":"#REF!"}},509]
[{"$f":"'Pob x Genero'!#REF!","v":{"$error":"#REF!"}},{"$f":"'Pob x Genero'!#REF!","v":{"$error":"#REF!"}},{"$f":"'Pob x Genero'!#REF!","v":{"$error":"#REF!"}},{"$f":"'Pob x Genero'!#REF!","v":{"$error":"#REF!"}},{"$f":"'Pob x Genero'!#REF!","v":{"$error":"#REF!"}},"Hombre","00-04",{"$f":"'Pob x Genero'!#REF!","v":{"$error":"#REF!"}},510]
[{"$f":"'Pob x Genero'!#REF!","v":{"$error":"#REF!"}},{"$f":"'Pob x Genero'!#REF!","v":{"$error":"#REF!"}},{"$f":"'Pob x Genero'!#REF!","v":{"$error":"#REF!"}},{"$f":"'Pob x Genero'!#REF!","v":{"$error":"#REF!"}},{"$f":"'Pob x Genero'!#REF!","v":{"$error":"#REF!"}},"Hombre","00-04",{"$f":"'Pob x Genero'!#REF!","v":{"$error":"#REF!"}},511]
[{"$f":"'Pob x Genero'!#REF!","v":{"$error":"#REF!"}},{"$f":"'Pob x Genero'!#REF!","v":{"$error":"#REF!"}},{"$f":"'Pob x Genero'!#REF!","v":{"$error":"#REF!"}},{"$f":"'Pob x Genero'!#REF!","v":{"$error":"#REF!"}},{"$f":"'Pob x Genero'!#REF!","v":{"$error":"#REF!"}},"Hombre","00-04",{"$f":"'Pob x Genero'!#REF!","v":{"$error":"#REF!"}},512]
[{"$f":"'Pob x Genero'!#REF!","v":{"$error":"#REF!"}},{"$f":"'Pob x Genero'!#REF!","v":{"$error":"#REF!"}},{"$f":"'Pob x Genero'!#REF!","v":{"$error":"#REF!"}},{"$f":"'Pob x Genero'!#REF!","v":{"$error":"#REF!"}},{"$f":"'Pob x Genero'!#REF!","v":{"$error":"#REF!"}},"Hombre","00-04",{"$f":"'Pob x Genero'!#REF!","v":{"$error":"#REF!"}},513]
[{"$f":"'Pob x Genero'!#REF!","v":{"$error":"#REF!"}},{"$f":"'Pob x Genero'!#REF!","v":{"$error":"#REF!"}},{"$f":"'Pob x Genero'!#REF!","v":{"$error":"#REF!"}},{"$f":"'Pob x Genero'!#REF!","v":{"$error":"#REF!"}},{"$f":"'Pob x Genero'!#REF!","v":{"$error":"#REF!"}},{"$f":"F514","v":"Hombre"},{"$f":"G514","v":"00-04"},{"$f":"'Pob x Genero'!#REF!","v":{"$error":"#REF!"}},514]
[{"$f":"'Pob x Genero'!#REF!","v":{"$error":"#REF!"}},{"$f":"'Pob x Genero'!#REF!","v":{"$error":"#REF!"}},{"$f":"'Pob x Genero'!#REF!","v":{"$error":"#REF!"}},{"$f":"'Pob x Genero'!#REF!","v":{"$error":"#REF!"}},{"$f":"'Pob x Genero'!#REF!","v":{"$error":"#REF!"}},"Hombre","00-04",{"$f":"'Pob x Genero'!#REF!","v":{"$error":"#REF!"}},515]
[{"$f":"'Pob x Genero'!#REF!","v":{"$error":"#REF!"}},{"$f":"'Pob x Genero'!#REF!","v":{"$error":"#REF!"}},{"$f":"'Pob x Genero'!#REF!","v":{"$error":"#REF!"}},{"$f":"'Pob x Genero'!#REF!","v":{"$error":"#REF!"}},{"$f":"'Pob x Genero'!#REF!","v":{"$error":"#REF!"}},"Hombre","00-04",{"$f":"'Pob x Genero'!#REF!","v":{"$error":"#REF!"}},516]
[{"$f":"'Pob x Genero'!#REF!","v":{"$error":"#REF!"}},{"$f":"'Pob x Genero'!#REF!","v":{"$error":"#REF!"}},{"$f":"'Pob x Genero'!#REF!","v":{"$error":"#REF!"}},{"$f":"'Pob x Genero'!#REF!","v":{"$error":"#REF!"}},{"$f":"'Pob x Genero'!#REF!","v":{"$error":"#REF!"}},"Hombre","00-04",{"$f":"'Pob x Genero'!#REF!","v":{"$error":"#REF!"}},517]
[{"$f":"'Pob x Genero'!#REF!","v":{"$error":"#REF!"}},{"$f":"'Pob x Genero'!#REF!","v":{"$error":"#REF!"}},{"$f":"'Pob x Genero'!#REF!","v":{"$error":"#REF!"}},{"$f":"'Pob x Genero'!#REF!","v":{"$error":"#REF!"}},{"$f":"'Pob x Genero'!#REF!","v":{"$error":"#REF!"}},"Hombre","00-04",{"$f":"'Pob x Genero'!#REF!","v":{"$error":"#REF!"}},518]
[{"$f":"'Pob x Genero'!#REF!","v":{"$error":"#REF!"}},{"$f":"'Pob x Genero'!#REF!","v":{"$error":"#REF!"}},{"$f":"'Pob x Genero'!#REF!","v":{"$error":"#REF!"}},{"$f":"'Pob x Genero'!#REF!","v":{"$error":"#REF!"}},{"$f":"'Pob x Genero'!#REF!","v":{"$error":"#REF!"}},"Hombre","00-04",{"$f":"'Pob x Genero'!#REF!","v":{"$error":"#REF!"}},519]
[{"$f":"'Pob x Genero'!#REF!","v":{"$error":"#REF!"}},{"$f":"'Pob x Genero'!#REF!","v":{"$error":"#REF!"}},{"$f":"'Pob x Genero'!#REF!","v":{"$error":"#REF!"}},{"$f":"'Pob x Genero'!#REF!","v":{"$error":"#REF!"}},{"$f":"'Pob x Genero'!#REF!","v":{"$error":"#REF!"}},"Hombre","00-04",{"$f":"'Pob x Genero'!#REF!","v":{"$error":"#REF!"}},520]
[{"$f":"'Pob x Genero'!#REF!","v":{"$error":"#REF!"}},{"$f":"'Pob x Genero'!#REF!","v":{"$error":"#REF!"}},{"$f":"'Pob x Genero'!#REF!","v":{"$error":"#REF!"}},{"$f":"'Pob x Genero'!#REF!","v":{"$error":"#REF!"}},{"$f":"'Pob x Genero'!#REF!","v":{"$error":"#REF!"}},"Hombre","00-04",{"$f":"'Pob x Genero'!#REF!","v":{"$error":"#REF!"}},521]
[{"$f":"'Pob x Genero'!#REF!","v":{"$error":"#REF!"}},{"$f":"'Pob x Genero'!#REF!","v":{"$error":"#REF!"}},{"$f":"'Pob x Genero'!#REF!","v":{"$error":"#REF!"}},{"$f":"'Pob x Genero'!#REF!","v":{"$error":"#REF!"}},{"$f":"'Pob x Genero'!#REF!","v":{"$error":"#REF!"}},"Hombre","00-04",{"$f":"'Pob x Genero'!#REF!","v":{"$error":"#REF!"}},522]
[{"$f":"'Pob x Genero'!#REF!","v":{"$error":"#REF!"}},{"$f":"'Pob x Genero'!#REF!","v":{"$error":"#REF!"}},{"$f":"'Pob x Genero'!#REF!","v":{"$error":"#REF!"}},{"$f":"'Pob x Genero'!#REF!","v":{"$error":"#REF!"}},{"$f":"'Pob x Genero'!#REF!","v":{"$error":"#REF!"}},"Hombre","00-04",{"$f":"'Pob x Genero'!#REF!","v":{"$error":"#REF!"}},523]
[{"$f":"'Pob x Genero'!#REF!","v":{"$error":"#REF!"}},{"$f":"'Pob x Genero'!#REF!","v":{"$error":"#REF!"}},{"$f":"'Pob x Genero'!#REF!","v":{"$error":"#REF!"}},{"$f":"'Pob x Genero'!#REF!","v":{"$error":"#REF!"}},{"$f":"'Pob x Genero'!#REF!","v":{"$error":"#REF!"}},"Hombre","00-04",{"$f":"'Pob x Genero'!#REF!","v":{"$error":"#REF!"}},524]
[{"$f":"'Pob x Genero'!#REF!","v":{"$error":"#REF!"}},{"$f":"'Pob x Genero'!#REF!","v":{"$error":"#REF!"}},{"$f":"'Pob x Genero'!#REF!","v":{"$error":"#REF!"}},{"$f":"'Pob x Genero'!#REF!","v":{"$error":"#REF!"}},{"$f":"'Pob x Genero'!#REF!","v":{"$error":"#REF!"}},"Hombre","00-04",{"$f":"'Pob x Genero'!#REF!","v":{"$error":"#REF!"}},525]
[{"$f":"'Pob x Genero'!#REF!","v":{"$error":"#REF!"}},{"$f":"'Pob x Genero'!#REF!","v":{"$error":"#REF!"}},{"$f":"'Pob x Genero'!#REF!","v":{"$error":"#REF!"}},{"$f":"'Pob x Genero'!#REF!","v":{"$error":"#REF!"}},{"$f":"'Pob x Genero'!#REF!","v":{"$error":"#REF!"}},"Hombre","00-04",{"$f":"'Pob x Genero'!#REF!","v":{"$error":"#REF!"}},526]
[{"$f":"'Pob x Genero'!#REF!","v":{"$error":"#REF!"}},{"$f":"'Pob x Genero'!#REF!","v":{"$error":"#REF!"}},{"$f":"'Pob x Genero'!#REF!","v":{"$error":"#REF!"}},{"$f":"'Pob x Genero'!#REF!","v":{"$error":"#REF!"}},{"$f":"'Pob x Genero'!#REF!","v":{"$error":"#REF!"}},"Hombre","00-04",{"$f":"'Pob x Genero'!#REF!","v":{"$error":"#REF!"}},527]
[{"$f":"'Pob x Genero'!#REF!","v":{"$error":"#REF!"}},{"$f":"'Pob x Genero'!#REF!","v":{"$error":"#REF!"}},{"$f":"'Pob x Genero'!#REF!","v":{"$error":"#REF!"}},{"$f":"'Pob x Genero'!#REF!","v":{"$error":"#REF!"}},{"$f":"'Pob x Genero'!#REF!","v":{"$error":"#REF!"}},"Hombre","00-04",{"$f":"'Pob x Genero'!#REF!","v":{"$error":"#REF!"}},528]
[{"$f":"'Pob x Genero'!#REF!","v":{"$error":"#REF!"}},{"$f":"'Pob x Genero'!#REF!","v":{"$error":"#REF!"}},{"$f":"'Pob x Genero'!#REF!","v":{"$error":"#REF!"}},{"$f":"'Pob x Genero'!#REF!","v":{"$error":"#REF!"}},{"$f":"'Pob x Genero'!#REF!","v":{"$error":"#REF!"}},"Hombre","00-04",{"$f":"'Pob x Genero'!#REF!","v":{"$error":"#REF!"}},529]
[{"$f":"'Pob x Genero'!#REF!","v":{"$error":"#REF!"}},{"$f":"'Pob x Genero'!#REF!","v":{"$error":"#REF!"}},{"$f":"'Pob x Genero'!#REF!","v":{"$error":"#REF!"}},{"$f":"'Pob x Genero'!#REF!","v":{"$error":"#REF!"}},{"$f":"'Pob x Genero'!#REF!","v":{"$error":"#REF!"}},"Hombre","00-04",{"$f":"'Pob x Genero'!#REF!","v":{"$error":"#REF!"}},530]
[{"$f":"'Pob x Genero'!#REF!","v":{"$error":"#REF!"}},{"$f":"'Pob x Genero'!#REF!","v":{"$error":"#REF!"}},{"$f":"'Pob x Genero'!#REF!","v":{"$error":"#REF!"}},{"$f":"'Pob x Genero'!#REF!","v":{"$error":"#REF!"}},{"$f":"'Pob x Genero'!#REF!","v":{"$error":"#REF!"}},"Hombre","00-04",{"$f":"'Pob x Genero'!#REF!","v":{"$error":"#REF!"}},531]
[{"$f":"'Pob x Genero'!#REF!","v":{"$error":"#REF!"}},{"$f":"'Pob x Genero'!#REF!","v":{"$error":"#REF!"}},{"$f":"'Pob x Genero'!#REF!","v":{"$error":"#REF!"}},{"$f":"'Pob x Genero'!#REF!","v":{"$error":"#REF!"}},{"$f":"'Pob x Genero'!#REF!","v":{"$error":"#REF!"}},"Hombre","00-04",{"$f":"'Pob x Genero'!#REF!","v":{"$error":"#REF!"}},532]
[{"$f":"'Pob x Genero'!#REF!","v":{"$error":"#REF!"}},{"$f":"'Pob x Genero'!#REF!","v":{"$error":"#REF!"}},{"$f":"'Pob x Genero'!#REF!","v":{"$error":"#REF!"}},{"$f":"'Pob x Genero'!#REF!","v":{"$error":"#REF!"}},{"$f":"'Pob x Genero'!#REF!","v":{"$error":"#REF!"}},"Hombre","00-04",{"$f":"'Pob x Genero'!#REF!","v":{"$error":"#REF!"}},533]
[{"$f":"'Pob x Genero'!#REF!","v":{"$error":"#REF!"}},{"$f":"'Pob x Genero'!#REF!","v":{"$error":"#REF!"}},{"$f":"'Pob x Genero'!#REF!","v":{"$error":"#REF!"}},{"$f":"'Pob x Genero'!#REF!","v":{"$error":"#REF!"}},{"$f":"'Pob x Genero'!#REF!","v":{"$error":"#REF!"}},"Hombre","00-04",{"$f":"'Pob x Genero'!#REF!","v":{"$error":"#REF!"}},534]
[{"$f":"'Pob x Genero'!#REF!","v":{"$error":"#REF!"}},{"$f":"'Pob x Genero'!#REF!","v":{"$error":"#REF!"}},{"$f":"'Pob x Genero'!#REF!","v":{"$error":"#REF!"}},{"$f":"'Pob x Genero'!#REF!","v":{"$error":"#REF!"}},{"$f":"'Pob x Genero'!#REF!","v":{"$error":"#REF!"}},"Hombre","00-04",{"$f":"'Pob x Genero'!#REF!","v":{"$error":"#REF!"}},535]
[{"$f":"'Pob x Genero'!#REF!","v":{"$error":"#REF!"}},{"$f":"'Pob x Genero'!#REF!","v":{"$error":"#REF!"}},{"$f":"'Pob x Genero'!#REF!","v":{"$error":"#REF!"}},{"$f":"'Pob x Genero'!#REF!","v":{"$error":"#REF!"}},{"$f":"'Pob x Genero'!#REF!","v":{"$error":"#REF!"}},"Hombre","00-04",{"$f":"'Pob x Genero'!#REF!","v":{"$error":"#REF!"}},536]
[{"$f":"'Pob x Genero'!#REF!","v":{"$error":"#REF!"}},{"$f":"'Pob x Genero'!#REF!","v":{"$error":"#REF!"}},{"$f":"'Pob x Genero'!#REF!","v":{"$error":"#REF!"}},{"$f":"'Pob x Genero'!#REF!","v":{"$error":"#REF!"}},{"$f":"'Pob x Genero'!#REF!","v":{"$error":"#REF!"}},"Hombre","00-04",{"$f":"'Pob x Genero'!#REF!","v":{"$error":"#REF!"}},537]
[{"$f":"'Pob x Genero'!#REF!","v":{"$error":"#REF!"}},{"$f":"'Pob x Genero'!#REF!","v":{"$error":"#REF!"}},{"$f":"'Pob x Genero'!#REF!","v":{"$error":"#REF!"}},{"$f":"'Pob x Genero'!#REF!","v":{"$error":"#REF!"}},{"$f":"'Pob x Genero'!#REF!","v":{"$error":"#REF!"}},"Hombre","00-04",{"$f":"'Pob x Genero'!#REF!","v":{"$error":"#REF!"}},538]
[{"$f":"'Pob x Genero'!#REF!","v":{"$error":"#REF!"}},{"$f":"'Pob x Genero'!#REF!","v":{"$error":"#REF!"}},{"$f":"'Pob x Genero'!#REF!","v":{"$error":"#REF!"}},{"$f":"'Pob x Genero'!#REF!","v":{"$error":"#REF!"}},{"$f":"'Pob x Genero'!#REF!","v":{"$error":"#REF!"}},"Hombre","00-04",{"$f":"'Pob x Genero'!#REF!","v":{"$error":"#REF!"}},539]
[{"$f":"'Pob x Genero'!#REF!","v":{"$error":"#REF!"}},{"$f":"'Pob x Genero'!#REF!","v":{"$error":"#REF!"}},{"$f":"'Pob x Genero'!#REF!","v":{"$error":"#REF!"}},{"$f":"'Pob x Genero'!#REF!","v":{"$error":"#REF!"}},{"$f":"'Pob x Genero'!#REF!","v":{"$error":"#REF!"}},"Hombre","00-04",{"$f":"'Pob x Genero'!#REF!","v":{"$error":"#REF!"}},540]
[{"$f":"'Pob x Genero'!#REF!","v":{"$error":"#REF!"}},{"$f":"'Pob x Genero'!#REF!","v":{"$error":"#REF!"}},{"$f":"'Pob x Genero'!#REF!","v":{"$error":"#REF!"}},{"$f":"'Pob x Genero'!#REF!","v":{"$error":"#REF!"}},{"$f":"'Pob x Genero'!#REF!","v":{"$error":"#REF!"}},"Hombre","00-04",{"$f":"'Pob x Genero'!#REF!","v":{"$error":"#REF!"}},541]
[{"$f":"'Pob x Genero'!#REF!","v":{"$error":"#REF!"}},{"$f":"'Pob x Genero'!#REF!","v":{"$error":"#REF!"}},{"$f":"'Pob x Genero'!#REF!","v":{"$error":"#REF!"}},{"$f":"'Pob x Genero'!#REF!","v":{"$error":"#REF!"}},{"$f":"'Pob x Genero'!#REF!","v":{"$error":"#REF!"}},"Hombre","00-04",{"$f":"'Pob x Genero'!#REF!","v":{"$error":"#REF!"}},542]
[{"$f":"'Pob x Genero'!#REF!","v":{"$error":"#REF!"}},{"$f":"'Pob x Genero'!#REF!","v":{"$error":"#REF!"}},{"$f":"'Pob x Genero'!#REF!","v":{"$error":"#REF!"}},{"$f":"'Pob x Genero'!#REF!","v":{"$error":"#REF!"}},{"$f":"'Pob x Genero'!#REF!","v":{"$error":"#REF!"}},"Hombre","00-04",{"$f":"'Pob x Genero'!#REF!","v":{"$error":"#REF!"}},543]
[{"$f":"'Pob x Genero'!#REF!","v":{"$error":"#REF!"}},{"$f":"'Pob x Genero'!#REF!","v":{"$error":"#REF!"}},{"$f":"'Pob x Genero'!#REF!","v":{"$error":"#REF!"}},{"$f":"'Pob x Genero'!#REF!","v":{"$error":"#REF!"}},{"$f":"'Pob x Genero'!#REF!","v":{"$error":"#REF!"}},"Hombre","00-04",{"$f":"'Pob x Genero'!#REF!","v":{"$error":"#REF!"}},544]
[{"$f":"'Pob x Genero'!#REF!","v":{"$error":"#REF!"}},{"$f":"'Pob x Genero'!#REF!","v":{"$error":"#REF!"}},{"$f":"'Pob x Genero'!#REF!","v":{"$error":"#REF!"}},{"$f":"'Pob x Genero'!#REF!","v":{"$error":"#REF!"}},{"$f":"'Pob x Genero'!#REF!","v":{"$error":"#REF!"}},"Hombre","00-04",{"$f":"'Pob x Genero'!#REF!","v":{"$error":"#REF!"}},545]
[{"$f":"'Pob x Genero'!#REF!","v":{"$error":"#REF!"}},{"$f":"'Pob x Genero'!#REF!","v":{"$error":"#REF!"}},{"$f":"'Pob x Genero'!#REF!","v":{"$error":"#REF!"}},{"$f":"'Pob x Genero'!#REF!","v":{"$error":"#REF!"}},{"$f":"'Pob x Genero'!#REF!","v":{"$error":"#REF!"}},"Hombre","00-04",{"$f":"'Pob x Genero'!#REF!","v":{"$error":"#REF!"}},546]
[{"$f":"'Pob x Genero'!#REF!","v":{"$error":"#REF!"}},{"$f":"'Pob x Genero'!#REF!","v":{"$error":"#REF!"}},{"$f":"'Pob x Genero'!#REF!","v":{"$error":"#REF!"}},{"$f":"'Pob x Genero'!#REF!","v":{"$error":"#REF!"}},{"$f":"'Pob x Genero'!#REF!","v":{"$error":"#REF!"}},"Hombre","00-04",{"$f":"'Pob x Genero'!#REF!","v":{"$error":"#REF!"}},547]
[{"$f":"'Pob x Genero'!#REF!","v":{"$error":"#REF!"}},{"$f":"'Pob x Genero'!#REF!","v":{"$error":"#REF!"}},{"$f":"'Pob x Genero'!#REF!","v":{"$error":"#REF!"}},{"$f":"'Pob x Genero'!#REF!","v":{"$error":"#REF!"}},{"$f":"'Pob x Genero'!#REF!","v":{"$error":"#REF!"}},"Hombre","00-04",{"$f":"'Pob x Genero'!#REF!","v":{"$error":"#REF!"}},548]
[{"$f":"'Pob x Genero'!#REF!","v":{"$error":"#REF!"}},{"$f":"'Pob x Genero'!#REF!","v":{"$error":"#REF!"}},{"$f":"'Pob x Genero'!#REF!","v":{"$error":"#REF!"}},{"$f":"'Pob x Genero'!#REF!","v":{"$error":"#REF!"}},{"$f":"'Pob x Genero'!#REF!","v":{"$error":"#REF!"}},"Hombre","00-04",{"$f":"'Pob x Genero'!#REF!","v":{"$error":"#REF!"}},549]
[{"$f":"'Pob x Genero'!#REF!","v":{"$error":"#REF!"}},{"$f":"'Pob x Genero'!#REF!","v":{"$error":"#REF!"}},{"$f":"'Pob x Genero'!#REF!","v":{"$error":"#REF!"}},{"$f":"'Pob x Genero'!#REF!","v":{"$error":"#REF!"}},{"$f":"'Pob x Genero'!#REF!","v":{"$error":"#REF!"}},"Hombre","00-04",{"$f":"'Pob x Genero'!#REF!","v":{"$error":"#REF!"}},550]
[{"$f":"'Pob x Genero'!#REF!","v":{"$error":"#REF!"}},{"$f":"'Pob x Genero'!#REF!","v":{"$error":"#REF!"}},{"$f":"'Pob x Genero'!#REF!","v":{"$error":"#REF!"}},{"$f":"'Pob x Genero'!#REF!","v":{"$error":"#REF!"}},{"$f":"'Pob x Genero'!#REF!","v":{"$error":"#REF!"}},"Hombre","00-04",{"$f":"'Pob x Genero'!#REF!","v":{"$error":"#REF!"}},551]
[{"$f":"'Pob x Genero'!#REF!","v":{"$error":"#REF!"}},{"$f":"'Pob x Genero'!#REF!","v":{"$error":"#REF!"}},{"$f":"'Pob x Genero'!#REF!","v":{"$error":"#REF!"}},{"$f":"'Pob x Genero'!#REF!","v":{"$error":"#REF!"}},{"$f":"'Pob x Genero'!#REF!","v":{"$error":"#REF!"}},"Hombre","00-04",{"$f":"'Pob x Genero'!#REF!","v":{"$error":"#REF!"}},552]
[{"$f":"'Pob x Genero'!#REF!","v":{"$error":"#REF!"}},{"$f":"'Pob x Genero'!#REF!","v":{"$error":"#REF!"}},{"$f":"'Pob x Genero'!#REF!","v":{"$error":"#REF!"}},{"$f":"'Pob x Genero'!#REF!","v":{"$error":"#REF!"}},{"$f":"'Pob x Genero'!#REF!","v":{"$error":"#REF!"}},"Hombre","00-04",{"$f":"'Pob x Genero'!#REF!","v":{"$error":"#REF!"}},553]
[{"$f":"'Pob x Genero'!#REF!","v":{"$error":"#REF!"}},{"$f":"'Pob x Genero'!#REF!","v":{"$error":"#REF!"}},{"$f":"'Pob x Genero'!#REF!","v":{"$error":"#REF!"}},{"$f":"'Pob x Genero'!#REF!","v":{"$error":"#REF!"}},{"$f":"'Pob x Genero'!#REF!","v":{"$error":"#REF!"}},"Hombre","00-04",{"$f":"'Pob x Genero'!#REF!","v":{"$error":"#REF!"}},554]
[{"$f":"'Pob x Genero'!#REF!","v":{"$error":"#REF!"}},{"$f":"'Pob x Genero'!#REF!","v":{"$error":"#REF!"}},{"$f":"'Pob x Genero'!#REF!","v":{"$error":"#REF!"}},{"$f":"'Pob x Genero'!#REF!","v":{"$error":"#REF!"}},{"$f":"'Pob x Genero'!#REF!","v":{"$error":"#REF!"}},"Hombre","00-04",{"$f":"'Pob x Genero'!#REF!","v":{"$error":"#REF!"}},555]
[{"$f":"'Pob x Genero'!#REF!","v":{"$error":"#REF!"}},{"$f":"'Pob x Genero'!#REF!","v":{"$error":"#REF!"}},{"$f":"'Pob x Genero'!#REF!","v":{"$error":"#REF!"}},{"$f":"'Pob x Genero'!#REF!","v":{"$error":"#REF!"}},{"$f":"'Pob x Genero'!#REF!","v":{"$error":"#REF!"}},"Hombre","00-04",{"$f":"'Pob x Genero'!#REF!","v":{"$error":"#REF!"}},556]
[{"$f":"'Pob x Genero'!#REF!","v":{"$error":"#REF!"}},{"$f":"'Pob x Genero'!#REF!","v":{"$error":"#REF!"}},{"$f":"'Pob x Genero'!#REF!","v":{"$error":"#REF!"}},{"$f":"'Pob x Genero'!#REF!","v":{"$error":"#REF!"}},{"$f":"'Pob x Genero'!#REF!","v":{"$error":"#REF!"}},"Hombre","00-04",{"$f":"'Pob x Genero'!#REF!","v":{"$error":"#REF!"}},557]
[{"$f":"'Pob x Genero'!#REF!","v":{"$error":"#REF!"}},{"$f":"'Pob x Genero'!#REF!","v":{"$error":"#REF!"}},{"$f":"'Pob x Genero'!#REF!","v":{"$error":"#REF!"}},{"$f":"'Pob x Genero'!#REF!","v":{"$error":"#REF!"}},{"$f":"'Pob x Genero'!#REF!","v":{"$error":"#REF!"}},"Hombre","00-04",{"$f":"'Pob x Genero'!#REF!","v":{"$error":"#REF!"}},558]
[{"$f":"'Pob x Genero'!#REF!","v":{"$error":"#REF!"}},{"$f":"'Pob x Genero'!#REF!","v":{"$error":"#REF!"}},{"$f":"'Pob x Genero'!#REF!","v":{"$error":"#REF!"}},{"$f":"'Pob x Genero'!#REF!","v":{"$error":"#REF!"}},{"$f":"'Pob x Genero'!#REF!","v":{"$error":"#REF!"}},"Hombre","00-04",{"$f":"'Pob x Genero'!#REF!","v":{"$error":"#REF!"}},559]
[{"$f":"'Pob x Genero'!#REF!","v":{"$error":"#REF!"}},{"$f":"'Pob x Genero'!#REF!","v":{"$error":"#REF!"}},{"$f":"'Pob x Genero'!#REF!","v":{"$error":"#REF!"}},{"$f":"'Pob x Genero'!#REF!","v":{"$error":"#REF!"}},{"$f":"'Pob x Genero'!#REF!","v":{"$error":"#REF!"}},"Hombre","00-04",{"$f":"'Pob x Genero'!#REF!","v":{"$error":"#REF!"}},560]
[{"$f":"'Pob x Genero'!#REF!","v":{"$error":"#REF!"}},{"$f":"'Pob x Genero'!#REF!","v":{"$error":"#REF!"}},{"$f":"'Pob x Genero'!#REF!","v":{"$error":"#REF!"}},{"$f":"'Pob x Genero'!#REF!","v":{"$error":"#REF!"}},{"$f":"'Pob x Genero'!#REF!","v":{"$error":"#REF!"}},"Hombre","00-04",{"$f":"'Pob x Genero'!#REF!","v":{"$error":"#REF!"}},561]
[{"$f":"'Pob x Genero'!#REF!","v":{"$error":"#REF!"}},{"$f":"'Pob x Genero'!#REF!","v":{"$error":"#REF!"}},{"$f":"'Pob x Genero'!#REF!","v":{"$error":"#REF!"}},{"$f":"'Pob x Genero'!#REF!","v":{"$error":"#REF!"}},{"$f":"'Pob x Genero'!#REF!","v":{"$error":"#REF!"}},"Hombre","00-04",{"$f":"'Pob x Genero'!#REF!","v":{"$error":"#REF!"}},562]
[{"$f":"'Pob x Genero'!#REF!","v":{"$error":"#REF!"}},{"$f":"'Pob x Genero'!#REF!","v":{"$error":"#REF!"}},{"$f":"'Pob x Genero'!#REF!","v":{"$error":"#REF!"}},{"$f":"'Pob x Genero'!#REF!","v":{"$error":"#REF!"}},{"$f":"'Pob x Genero'!#REF!","v":{"$error":"#REF!"}},"Hombre","00-04",{"$f":"'Pob x Genero'!#REF!","v":{"$error":"#REF!"}},563]
[{"$f":"'Pob x Genero'!#REF!","v":{"$error":"#REF!"}},{"$f":"'Pob x Genero'!#REF!","v":{"$error":"#REF!"}},{"$f":"'Pob x Genero'!#REF!","v":{"$error":"#REF!"}},{"$f":"'Pob x Genero'!#REF!","v":{"$error":"#REF!"}},{"$f":"'Pob x Genero'!#REF!","v":{"$error":"#REF!"}},"Hombre","00-04",{"$f":"'Pob x Genero'!#REF!","v":{"$error":"#REF!"}},564]
[{"$f":"'Pob x Genero'!#REF!","v":{"$error":"#REF!"}},{"$f":"'Pob x Genero'!#REF!","v":{"$error":"#REF!"}},{"$f":"'Pob x Genero'!#REF!","v":{"$error":"#REF!"}},{"$f":"'Pob x Genero'!#REF!","v":{"$error":"#REF!"}},{"$f":"'Pob x Genero'!#REF!","v":{"$error":"#REF!"}},"Hombre","00-04",{"$f":"'Pob x Genero'!#REF!","v":{"$error":"#REF!"}},565]
[{"$f":"'Pob x Genero'!#REF!","v":{"$error":"#REF!"}},{"$f":"'Pob x Genero'!#REF!","v":{"$error":"#REF!"}},{"$f":"'Pob x Genero'!#REF!","v":{"$error":"#REF!"}},{"$f":"'Pob x Genero'!#REF!","v":{"$error":"#REF!"}},{"$f":"'Pob x Genero'!#REF!","v":{"$error":"#REF!"}},"Hombre","00-04",{"$f":"'Pob x Genero'!#REF!","v":{"$error":"#REF!"}},566]
[{"$f":"'Pob x Genero'!#REF!","v":{"$error":"#REF!"}},{"$f":"'Pob x Genero'!#REF!","v":{"$error":"#REF!"}},{"$f":"'Pob x Genero'!#REF!","v":{"$error":"#REF!"}},{"$f":"'Pob x Genero'!#REF!","v":{"$error":"#REF!"}},{"$f":"'Pob x Genero'!#REF!","v":{"$error":"#REF!"}},"Hombre","00-04",{"$f":"'Pob x Genero'!#REF!","v":{"$error":"#REF!"}},567]
[{"$f":"'Pob x Genero'!#REF!","v":{"$error":"#REF!"}},{"$f":"'Pob x Genero'!#REF!","v":{"$error":"#REF!"}},{"$f":"'Pob x Genero'!#REF!","v":{"$error":"#REF!"}},{"$f":"'Pob x Genero'!#REF!","v":{"$error":"#REF!"}},{"$f":"'Pob x Genero'!#REF!","v":{"$error":"#REF!"}},"Hombre","00-04",{"$f":"'Pob x Genero'!#REF!","v":{"$error":"#REF!"}},568]
[{"$f":"'Pob x Genero'!#REF!","v":{"$error":"#REF!"}},{"$f":"'Pob x Genero'!#REF!","v":{"$error":"#REF!"}},{"$f":"'Pob x Genero'!#REF!","v":{"$error":"#REF!"}},{"$f":"'Pob x Genero'!#REF!","v":{"$error":"#REF!"}},{"$f":"'Pob x Genero'!#REF!","v":{"$error":"#REF!"}},"Hombre","00-04",{"$f":"'Pob x Genero'!#REF!","v":{"$error":"#REF!"}},569]
[{"$f":"'Pob x Genero'!#REF!","v":{"$error":"#REF!"}},{"$f":"'Pob x Genero'!#REF!","v":{"$error":"#REF!"}},{"$f":"'Pob x Genero'!#REF!","v":{"$error":"#REF!"}},{"$f":"'Pob x Genero'!#REF!","v":{"$error":"#REF!"}},{"$f":"'Pob x Genero'!#REF!","v":{"$error":"#REF!"}},"Hombre","00-04",{"$f":"'Pob x Genero'!#REF!","v":{"$error":"#REF!"}},570]
[{"$f":"'Pob x Genero'!#REF!","v":{"$error":"#REF!"}},{"$f":"'Pob x Genero'!#REF!","v":{"$error":"#REF!"}},{"$f":"'Pob x Genero'!#REF!","v":{"$error":"#REF!"}},{"$f":"'Pob x Genero'!#REF!","v":{"$error":"#REF!"}},{"$f":"'Pob x Genero'!#REF!","v":{"$error":"#REF!"}},"Hombre","00-04",{"$f":"'Pob x Genero'!#REF!","v":{"$error":"#REF!"}},571]
[{"$f":"'Pob x Genero'!#REF!","v":{"$error":"#REF!"}},{"$f":"'Pob x Genero'!#REF!","v":{"$error":"#REF!"}},{"$f":"'Pob x Genero'!#REF!","v":{"$error":"#REF!"}},{"$f":"'Pob x Genero'!#REF!","v":{"$error":"#REF!"}},{"$f":"'Pob x Genero'!#REF!","v":{"$error":"#REF!"}},"Hombre","00-04",{"$f":"'Pob x Genero'!#REF!","v":{"$error":"#REF!"}},572]
[{"$f":"'Pob x Genero'!#REF!","v":{"$error":"#REF!"}},{"$f":"'Pob x Genero'!#REF!","v":{"$error":"#REF!"}},{"$f":"'Pob x Genero'!#REF!","v":{"$error":"#REF!"}},{"$f":"'Pob x Genero'!#REF!","v":{"$error":"#REF!"}},{"$f":"'Pob x Genero'!#REF!","v":{"$error":"#REF!"}},"Hombre","00-04",{"$f":"'Pob x Genero'!#REF!","v":{"$error":"#REF!"}},573]
[{"$f":"'Pob x Genero'!#REF!","v":{"$error":"#REF!"}},{"$f":"'Pob x Genero'!#REF!","v":{"$error":"#REF!"}},{"$f":"'Pob x Genero'!#REF!","v":{"$error":"#REF!"}},{"$f":"'Pob x Genero'!#REF!","v":{"$error":"#REF!"}},{"$f":"'Pob x Genero'!#REF!","v":{"$error":"#REF!"}},"Hombre","00-04",{"$f":"'Pob x Genero'!#REF!","v":{"$error":"#REF!"}},574]
[{"$f":"'Pob x Genero'!#REF!","v":{"$error":"#REF!"}},{"$f":"'Pob x Genero'!#REF!","v":{"$error":"#REF!"}},{"$f":"'Pob x Genero'!#REF!","v":{"$error":"#REF!"}},{"$f":"'Pob x Genero'!#REF!","v":{"$error":"#REF!"}},{"$f":"'Pob x Genero'!#REF!","v":{"$error":"#REF!"}},"Hombre","00-04",{"$f":"'Pob x Genero'!#REF!","v":{"$error":"#REF!"}},575]
[{"$f":"'Pob x Genero'!#REF!","v":{"$error":"#REF!"}},{"$f":"'Pob x Genero'!#REF!","v":{"$error":"#REF!"}},{"$f":"'Pob x Genero'!#REF!","v":{"$error":"#REF!"}},{"$f":"'Pob x Genero'!#REF!","v":{"$error":"#REF!"}},{"$f":"'Pob x Genero'!#REF!","v":{"$error":"#REF!"}},"Hombre","00-04",{"$f":"'Pob x Genero'!#REF!","v":{"$error":"#REF!"}},576]
[{"$f":"'Pob x Genero'!#REF!","v":{"$error":"#REF!"}},{"$f":"'Pob x Genero'!#REF!","v":{"$error":"#REF!"}},{"$f":"'Pob x Genero'!#REF!","v":{"$error":"#REF!"}},{"$f":"'Pob x Genero'!#REF!","v":{"$error":"#REF!"}},{"$f":"'Pob x Genero'!#REF!","v":{"$error":"#REF!"}},"Hombre","00-04",{"$f":"'Pob x Genero'!#REF!","v":{"$error":"#REF!"}},577]
[{"$f":"'Pob x Genero'!#REF!","v":{"$error":"#REF!"}},{"$f":"'Pob x Genero'!#REF!","v":{"$error":"#REF!"}},{"$f":"'Pob x Genero'!#REF!","v":{"$error":"#REF!"}},{"$f":"'Pob x Genero'!#REF!","v":{"$error":"#REF!"}},{"$f":"'Pob x Genero'!#REF!","v":{"$error":"#REF!"}},{"$f":"F578","v":"Hombre"},{"$f":"G578","v":"00-04"},{"$f":"'Pob x Genero'!#REF!","v":{"$error":"#REF!"}},578]
[{"$f":"'Pob x Genero'!#REF!","v":{"$error":"#REF!"}},{"$f":"'Pob x Genero'!#REF!","v":{"$error":"#REF!"}},{"$f":"'Pob x Genero'!#REF!","v":{"$error":"#REF!"}},{"$f":"'Pob x Genero'!#REF!","v":{"$error":"#REF!"}},{"$f":"'Pob x Genero'!#REF!","v":{"$error":"#REF!"}},"Hombre","00-04",{"$f":"'Pob x Genero'!#REF!","v":{"$error":"#REF!"}},579]
[{"$f":"'Pob x Genero'!#REF!","v":{"$error":"#REF!"}},{"$f":"'Pob x Genero'!#REF!","v":{"$error":"#REF!"}},{"$f":"'Pob x Genero'!#REF!","v":{"$error":"#REF!"}},{"$f":"'Pob x Genero'!#REF!","v":{"$error":"#REF!"}},{"$f":"'Pob x Genero'!#REF!","v":{"$error":"#REF!"}},"Hombre","00-04",{"$f":"'Pob x Genero'!#REF!","v":{"$error":"#REF!"}},580]
[{"$f":"'Pob x Genero'!#REF!","v":{"$error":"#REF!"}},{"$f":"'Pob x Genero'!#REF!","v":{"$error":"#REF!"}},{"$f":"'Pob x Genero'!#REF!","v":{"$error":"#REF!"}},{"$f":"'Pob x Genero'!#REF!","v":{"$error":"#REF!"}},{"$f":"'Pob x Genero'!#REF!","v":{"$error":"#REF!"}},"Hombre","00-04",{"$f":"'Pob x Genero'!#REF!","v":{"$error":"#REF!"}},581]
[{"$f":"'Pob x Genero'!#REF!","v":{"$error":"#REF!"}},{"$f":"'Pob x Genero'!#REF!","v":{"$error":"#REF!"}},{"$f":"'Pob x Genero'!#REF!","v":{"$error":"#REF!"}},{"$f":"'Pob x Genero'!#REF!","v":{"$error":"#REF!"}},{"$f":"'Pob x Genero'!#REF!","v":{"$error":"#REF!"}},"Hombre","00-04",{"$f":"'Pob x Genero'!#REF!","v":{"$error":"#REF!"}},582]
[{"$f":"'Pob x Genero'!#REF!","v":{"$error":"#REF!"}},{"$f":"'Pob x Genero'!#REF!","v":{"$error":"#REF!"}},{"$f":"'Pob x Genero'!#REF!","v":{"$error":"#REF!"}},{"$f":"'Pob x Genero'!#REF!","v":{"$error":"#REF!"}},{"$f":"'Pob x Genero'!#REF!","v":{"$error":"#REF!"}},"Hombre","00-04",{"$f":"'Pob x Genero'!#REF!","v":{"$error":"#REF!"}},583]
[{"$f":"'Pob x Genero'!#REF!","v":{"$error":"#REF!"}},{"$f":"'Pob x Genero'!#REF!","v":{"$error":"#REF!"}},{"$f":"'Pob x Genero'!#REF!","v":{"$error":"#REF!"}},{"$f":"'Pob x Genero'!#REF!","v":{"$error":"#REF!"}},{"$f":"'Pob x Genero'!#REF!","v":{"$error":"#REF!"}},"Hombre","00-04",{"$f":"'Pob x Genero'!#REF!","v":{"$error":"#REF!"}},584]
[{"$f":"'Pob x Genero'!#REF!","v":{"$error":"#REF!"}},{"$f":"'Pob x Genero'!#REF!","v":{"$error":"#REF!"}},{"$f":"'Pob x Genero'!#REF!","v":{"$error":"#REF!"}},{"$f":"'Pob x Genero'!#REF!","v":{"$error":"#REF!"}},{"$f":"'Pob x Genero'!#REF!","v":{"$error":"#REF!"}},"Hombre","00-04",{"$f":"'Pob x Genero'!#REF!","v":{"$error":"#REF!"}},585]
[{"$f":"'Pob x Genero'!#REF!","v":{"$error":"#REF!"}},{"$f":"'Pob x Genero'!#REF!","v":{"$error":"#REF!"}},{"$f":"'Pob x Genero'!#REF!","v":{"$error":"#REF!"}},{"$f":"'Pob x Genero'!#REF!","v":{"$error":"#REF!"}},{"$f":"'Pob x Genero'!#REF!","v":{"$error":"#REF!"}},"Hombre","00-04",{"$f":"'Pob x Genero'!#REF!","v":{"$error":"#REF!"}},586]
[{"$f":"'Pob x Genero'!#REF!","v":{"$error":"#REF!"}},{"$f":"'Pob x Genero'!#REF!","v":{"$error":"#REF!"}},{"$f":"'Pob x Genero'!#REF!","v":{"$error":"#REF!"}},{"$f":"'Pob x Genero'!#REF!","v":{"$error":"#REF!"}},{"$f":"'Pob x Genero'!#REF!","v":{"$error":"#REF!"}},"Hombre","00-04",{"$f":"'Pob x Genero'!#REF!","v":{"$error":"#REF!"}},587]
[{"$f":"'Pob x Genero'!#REF!","v":{"$error":"#REF!"}},{"$f":"'Pob x Genero'!#REF!","v":{"$error":"#REF!"}},{"$f":"'Pob x Genero'!#REF!","v":{"$error":"#REF!"}},{"$f":"'Pob x Genero'!#REF!","v":{"$error":"#REF!"}},{"$f":"'Pob x Genero'!#REF!","v":{"$error":"#REF!"}},"Hombre","00-04",{"$f":"'Pob x Genero'!#REF!","v":{"$error":"#REF!"}},588]
[{"$f":"'Pob x Genero'!#REF!","v":{"$error":"#REF!"}},{"$f":"'Pob x Genero'!#REF!","v":{"$error":"#REF!"}},{"$f":"'Pob x Genero'!#REF!","v":{"$error":"#REF!"}},{"$f":"'Pob x Genero'!#REF!","v":{"$error":"#REF!"}},{"$f":"'Pob x Genero'!#REF!","v":{"$error":"#REF!"}},"Hombre","00-04",{"$f":"'Pob x Genero'!#REF!","v":{"$error":"#REF!"}},589]
[{"$f":"'Pob x Genero'!#REF!","v":{"$error":"#REF!"}},{"$f":"'Pob x Genero'!#REF!","v":{"$error":"#REF!"}},{"$f":"'Pob x Genero'!#REF!","v":{"$error":"#REF!"}},{"$f":"'Pob x Genero'!#REF!","v":{"$error":"#REF!"}},{"$f":"'Pob x Genero'!#REF!","v":{"$error":"#REF!"}},"Hombre","00-04",{"$f":"'Pob x Genero'!#REF!","v":{"$error":"#REF!"}},590]
[{"$f":"'Pob x Genero'!#REF!","v":{"$error":"#REF!"}},{"$f":"'Pob x Genero'!#REF!","v":{"$error":"#REF!"}},{"$f":"'Pob x Genero'!#REF!","v":{"$error":"#REF!"}},{"$f":"'Pob x Genero'!#REF!","v":{"$error":"#REF!"}},{"$f":"'Pob x Genero'!#REF!","v":{"$error":"#REF!"}},"Hombre","00-04",{"$f":"'Pob x Genero'!#REF!","v":{"$error":"#REF!"}},591]
[{"$f":"'Pob x Genero'!#REF!","v":{"$error":"#REF!"}},{"$f":"'Pob x Genero'!#REF!","v":{"$error":"#REF!"}},{"$f":"'Pob x Genero'!#REF!","v":{"$error":"#REF!"}},{"$f":"'Pob x Genero'!#REF!","v":{"$error":"#REF!"}},{"$f":"'Pob x Genero'!#REF!","v":{"$error":"#REF!"}},"Hombre","00-04",{"$f":"'Pob x Genero'!#REF!","v":{"$error":"#REF!"}},592]
[{"$f":"'Pob x Genero'!#REF!","v":{"$error":"#REF!"}},{"$f":"'Pob x Genero'!#REF!","v":{"$error":"#REF!"}},{"$f":"'Pob x Genero'!#REF!","v":{"$error":"#REF!"}},{"$f":"'Pob x Genero'!#REF!","v":{"$error":"#REF!"}},{"$f":"'Pob x Genero'!#REF!","v":{"$error":"#REF!"}},"Hombre","00-04",{"$f":"'Pob x Genero'!#REF!","v":{"$error":"#REF!"}},593]
[{"$f":"'Pob x Genero'!#REF!","v":{"$error":"#REF!"}},{"$f":"'Pob x Genero'!#REF!","v":{"$error":"#REF!"}},{"$f":"'Pob x Genero'!#REF!","v":{"$error":"#REF!"}},{"$f":"'Pob x Genero'!#REF!","v":{"$error":"#REF!"}},{"$f":"'Pob x Genero'!#REF!","v":{"$error":"#REF!"}},"Hombre","00-04",{"$f":"'Pob x Genero'!#REF!","v":{"$error":"#REF!"}},594]
[{"$f":"'Pob x Genero'!#REF!","v":{"$error":"#REF!"}},{"$f":"'Pob x Genero'!#REF!","v":{"$error":"#REF!"}},{"$f":"'Pob x Genero'!#REF!","v":{"$error":"#REF!"}},{"$f":"'Pob x Genero'!#REF!","v":{"$error":"#REF!"}},{"$f":"'Pob x Genero'!#REF!","v":{"$error":"#REF!"}},"Hombre","00-04",{"$f":"'Pob x Genero'!#REF!","v":{"$error":"#REF!"}},595]
[{"$f":"'Pob x Genero'!#REF!","v":{"$error":"#REF!"}},{"$f":"'Pob x Genero'!#REF!","v":{"$error":"#REF!"}},{"$f":"'Pob x Genero'!#REF!","v":{"$error":"#REF!"}},{"$f":"'Pob x Genero'!#REF!","v":{"$error":"#REF!"}},{"$f":"'Pob x Genero'!#REF!","v":{"$error":"#REF!"}},"Hombre","00-04",{"$f":"'Pob x Genero'!#REF!","v":{"$error":"#REF!"}},596]
[{"$f":"'Pob x Genero'!#REF!","v":{"$error":"#REF!"}},{"$f":"'Pob x Genero'!#REF!","v":{"$error":"#REF!"}},{"$f":"'Pob x Genero'!#REF!","v":{"$error":"#REF!"}},{"$f":"'Pob x Genero'!#REF!","v":{"$error":"#REF!"}},{"$f":"'Pob x Genero'!#REF!","v":{"$error":"#REF!"}},"Hombre","00-04",{"$f":"'Pob x Genero'!#REF!","v":{"$error":"#REF!"}},597]
[{"$f":"'Pob x Genero'!#REF!","v":{"$error":"#REF!"}},{"$f":"'Pob x Genero'!#REF!","v":{"$error":"#REF!"}},{"$f":"'Pob x Genero'!#REF!","v":{"$error":"#REF!"}},{"$f":"'Pob x Genero'!#REF!","v":{"$error":"#REF!"}},{"$f":"'Pob x Genero'!#REF!","v":{"$error":"#REF!"}},"Hombre","00-04",{"$f":"'Pob x Genero'!#REF!","v":{"$error":"#REF!"}},598]
[{"$f":"'Pob x Genero'!#REF!","v":{"$error":"#REF!"}},{"$f":"'Pob x Genero'!#REF!","v":{"$error":"#REF!"}},{"$f":"'Pob x Genero'!#REF!","v":{"$error":"#REF!"}},{"$f":"'Pob x Genero'!#REF!","v":{"$error":"#REF!"}},{"$f":"'Pob x Genero'!#REF!","v":{"$error":"#REF!"}},"Hombre","00-04",{"$f":"'Pob x Genero'!#REF!","v":{"$error":"#REF!"}},599]
[{"$f":"'Pob x Genero'!#REF!","v":{"$error":"#REF!"}},{"$f":"'Pob x Genero'!#REF!","v":{"$error":"#REF!"}},{"$f":"'Pob x Genero'!#REF!","v":{"$error":"#REF!"}},{"$f":"'Pob x Genero'!#REF!","v":{"$error":"#REF!"}},{"$f":"'Pob x Genero'!#REF!","v":{"$error":"#REF!"}},"Hombre","00-04",{"$f":"'Pob x Genero'!#REF!","v":{"$error":"#REF!"}},600]
[{"$f":"'Pob x Genero'!#REF!","v":{"$error":"#REF!"}},{"$f":"'Pob x Genero'!#REF!","v":{"$error":"#REF!"}},{"$f":"'Pob x Genero'!#REF!","v":{"$error":"#REF!"}},{"$f":"'Pob x Genero'!#REF!","v":{"$error":"#REF!"}},{"$f":"'Pob x Genero'!#REF!","v":{"$error":"#REF!"}},"Hombre","00-04",{"$f":"'Pob x Genero'!#REF!","v":{"$error":"#REF!"}},601]
[{"$f":"'Pob x Genero'!#REF!","v":{"$error":"#REF!"}},{"$f":"'Pob x Genero'!#REF!","v":{"$error":"#REF!"}},{"$f":"'Pob x Genero'!#REF!","v":{"$error":"#REF!"}},{"$f":"'Pob x Genero'!#REF!","v":{"$error":"#REF!"}},{"$f":"'Pob x Genero'!#REF!","v":{"$error":"#REF!"}},"Hombre","00-04",{"$f":"'Pob x Genero'!#REF!","v":{"$error":"#REF!"}},602]
[{"$f":"'Pob x Genero'!#REF!","v":{"$error":"#REF!"}},{"$f":"'Pob x Genero'!#REF!","v":{"$error":"#REF!"}},{"$f":"'Pob x Genero'!#REF!","v":{"$error":"#REF!"}},{"$f":"'Pob x Genero'!#REF!","v":{"$error":"#REF!"}},{"$f":"'Pob x Genero'!#REF!","v":{"$error":"#REF!"}},"Hombre","00-04",{"$f":"'Pob x Genero'!#REF!","v":{"$error":"#REF!"}},603]
[{"$f":"'Pob x Genero'!#REF!","v":{"$error":"#REF!"}},{"$f":"'Pob x Genero'!#REF!","v":{"$error":"#REF!"}},{"$f":"'Pob x Genero'!#REF!","v":{"$error":"#REF!"}},{"$f":"'Pob x Genero'!#REF!","v":{"$error":"#REF!"}},{"$f":"'Pob x Genero'!#REF!","v":{"$error":"#REF!"}},"Hombre","00-04",{"$f":"'Pob x Genero'!#REF!","v":{"$error":"#REF!"}},604]
[{"$f":"'Pob x Genero'!#REF!","v":{"$error":"#REF!"}},{"$f":"'Pob x Genero'!#REF!","v":{"$error":"#REF!"}},{"$f":"'Pob x Genero'!#REF!","v":{"$error":"#REF!"}},{"$f":"'Pob x Genero'!#REF!","v":{"$error":"#REF!"}},{"$f":"'Pob x Genero'!#REF!","v":{"$error":"#REF!"}},"Hombre","00-04",{"$f":"'Pob x Genero'!#REF!","v":{"$error":"#REF!"}},605]
[{"$f":"'Pob x Genero'!#REF!","v":{"$error":"#REF!"}},{"$f":"'Pob x Genero'!#REF!","v":{"$error":"#REF!"}},{"$f":"'Pob x Genero'!#REF!","v":{"$error":"#REF!"}},{"$f":"'Pob x Genero'!#REF!","v":{"$error":"#REF!"}},{"$f":"'Pob x Genero'!#REF!","v":{"$error":"#REF!"}},"Hombre","00-04",{"$f":"'Pob x Genero'!#REF!","v":{"$error":"#REF!"}},606]
[{"$f":"'Pob x Genero'!#REF!","v":{"$error":"#REF!"}},{"$f":"'Pob x Genero'!#REF!","v":{"$error":"#REF!"}},{"$f":"'Pob x Genero'!#REF!","v":{"$error":"#REF!"}},{"$f":"'Pob x Genero'!#REF!","v":{"$error":"#REF!"}},{"$f":"'Pob x Genero'!#REF!","v":{"$error":"#REF!"}},"Hombre","00-04",{"$f":"'Pob x Genero'!#REF!","v":{"$error":"#REF!"}},607]
[{"$f":"'Pob x Genero'!#REF!","v":{"$error":"#REF!"}},{"$f":"'Pob x Genero'!#REF!","v":{"$error":"#REF!"}},{"$f":"'Pob x Genero'!#REF!","v":{"$error":"#REF!"}},{"$f":"'Pob x Genero'!#REF!","v":{"$error":"#REF!"}},{"$f":"'Pob x Genero'!#REF!","v":{"$error":"#REF!"}},"Hombre","00-04",{"$f":"'Pob x Genero'!#REF!","v":{"$error":"#REF!"}},608]
[{"$f":"'Pob x Genero'!#REF!","v":{"$error":"#REF!"}},{"$f":"'Pob x Genero'!#REF!","v":{"$error":"#REF!"}},{"$f":"'Pob x Genero'!#REF!","v":{"$error":"#REF!"}},{"$f":"'Pob x Genero'!#REF!","v":{"$error":"#REF!"}},{"$f":"'Pob x Genero'!#REF!","v":{"$error":"#REF!"}},"Hombre","00-04",{"$f":"'Pob x Genero'!#REF!","v":{"$error":"#REF!"}},609]
[{"$f":"'Pob x Genero'!#REF!","v":{"$error":"#REF!"}},{"$f":"'Pob x Genero'!#REF!","v":{"$error":"#REF!"}},{"$f":"'Pob x Genero'!#REF!","v":{"$error":"#REF!"}},{"$f":"'Pob x Genero'!#REF!","v":{"$error":"#REF!"}},{"$f":"'Pob x Genero'!#REF!","v":{"$error":"#REF!"}},"Hombre","00-04",{"$f":"'Pob x Genero'!#REF!","v":{"$error":"#REF!"}},610]
[{"$f":"'Pob x Genero'!#REF!","v":{"$error":"#REF!"}},{"$f":"'Pob x Genero'!#REF!","v":{"$error":"#REF!"}},{"$f":"'Pob x Genero'!#REF!","v":{"$error":"#REF!"}},{"$f":"'Pob x Genero'!#REF!","v":{"$error":"#REF!"}},{"$f":"'Pob x Genero'!#REF!","v":{"$error":"#REF!"}},"Hombre","00-04",{"$f":"'Pob x Genero'!#REF!","v":{"$error":"#REF!"}},611]
[{"$f":"'Pob x Genero'!#REF!","v":{"$error":"#REF!"}},{"$f":"'Pob x Genero'!#REF!","v":{"$error":"#REF!"}},{"$f":"'Pob x Genero'!#REF!","v":{"$error":"#REF!"}},{"$f":"'Pob x Genero'!#REF!","v":{"$error":"#REF!"}},{"$f":"'Pob x Genero'!#REF!","v":{"$error":"#REF!"}},"Hombre","00-04",{"$f":"'Pob x Genero'!#REF!","v":{"$error":"#REF!"}},612]
[{"$f":"'Pob x Genero'!#REF!","v":{"$error":"#REF!"}},{"$f":"'Pob x Genero'!#REF!","v":{"$error":"#REF!"}},{"$f":"'Pob x Genero'!#REF!","v":{"$error":"#REF!"}},{"$f":"'Pob x Genero'!#REF!","v":{"$error":"#REF!"}},{"$f":"'Pob x Genero'!#REF!","v":{"$error":"#REF!"}},"Hombre","00-04",{"$f":"'Pob x Genero'!#REF!","v":{"$error":"#REF!"}},613]
[{"$f":"'Pob x Genero'!#REF!","v":{"$error":"#REF!"}},{"$f":"'Pob x Genero'!#REF!","v":{"$error":"#REF!"}},{"$f":"'Pob x Genero'!#REF!","v":{"$error":"#REF!"}},{"$f":"'Pob x Genero'!#REF!","v":{"$error":"#REF!"}},{"$f":"'Pob x Genero'!#REF!","v":{"$error":"#REF!"}},"Hombre","00-04",{"$f":"'Pob x Genero'!#REF!","v":{"$error":"#REF!"}},614]
[{"$f":"'Pob x Genero'!#REF!","v":{"$error":"#REF!"}},{"$f":"'Pob x Genero'!#REF!","v":{"$error":"#REF!"}},{"$f":"'Pob x Genero'!#REF!","v":{"$error":"#REF!"}},{"$f":"'Pob x Genero'!#REF!","v":{"$error":"#REF!"}},{"$f":"'Pob x Genero'!#REF!","v":{"$error":"#REF!"}},"Hombre","00-04",{"$f":"'Pob x Genero'!#REF!","v":{"$error":"#REF!"}},615]
[{"$f":"'Pob x Genero'!#REF!","v":{"$error":"#REF!"}},{"$f":"'Pob x Genero'!#REF!","v":{"$error":"#REF!"}},{"$f":"'Pob x Genero'!#REF!","v":{"$error":"#REF!"}},{"$f":"'Pob x Genero'!#REF!","v":{"$error":"#REF!"}},{"$f":"'Pob x Genero'!#REF!","v":{"$error":"#REF!"}},"Hombre","00-04",{"$f":"'Pob x Genero'!#REF!","v":{"$error":"#REF!"}},616]
[{"$f":"'Pob x Genero'!#REF!","v":{"$error":"#REF!"}},{"$f":"'Pob x Genero'!#REF!","v":{"$error":"#REF!"}},{"$f":"'Pob x Genero'!#REF!","v":{"$error":"#REF!"}},{"$f":"'Pob x Genero'!#REF!","v":{"$error":"#REF!"}},{"$f":"'Pob x Genero'!#REF!","v":{"$error":"#REF!"}},"Hombre","00-04",{"$f":"'Pob x Genero'!#REF!","v":{"$error":"#REF!"}},617]
[{"$f":"'Pob x Genero'!#REF!","v":{"$error":"#REF!"}},{"$f":"'Pob x Genero'!#REF!","v":{"$error":"#REF!"}},{"$f":"'Pob x Genero'!#REF!","v":{"$error":"#REF!"}},{"$f":"'Pob x Genero'!#REF!","v":{"$error":"#REF!"}},{"$f":"'Pob x Genero'!#REF!","v":{"$error":"#REF!"}},"Hombre","00-04",{"$f":"'Pob x Genero'!#REF!","v":{"$error":"#REF!"}},618]
[{"$f":"'Pob x Genero'!#REF!","v":{"$error":"#REF!"}},{"$f":"'Pob x Genero'!#REF!","v":{"$error":"#REF!"}},{"$f":"'Pob x Genero'!#REF!","v":{"$error":"#REF!"}},{"$f":"'Pob x Genero'!#REF!","v":{"$error":"#REF!"}},{"$f":"'Pob x Genero'!#REF!","v":{"$error":"#REF!"}},"Hombre","00-04",{"$f":"'Pob x Genero'!#REF!","v":{"$error":"#REF!"}},619]
[{"$f":"'Pob x Genero'!#REF!","v":{"$error":"#REF!"}},{"$f":"'Pob x Genero'!#REF!","v":{"$error":"#REF!"}},{"$f":"'Pob x Genero'!#REF!","v":{"$error":"#REF!"}},{"$f":"'Pob x Genero'!#REF!","v":{"$error":"#REF!"}},{"$f":"'Pob x Genero'!#REF!","v":{"$error":"#REF!"}},"Hombre","00-04",{"$f":"'Pob x Genero'!#REF!","v":{"$error":"#REF!"}},620]
[{"$f":"'Pob x Genero'!#REF!","v":{"$error":"#REF!"}},{"$f":"'Pob x Genero'!#REF!","v":{"$error":"#REF!"}},{"$f":"'Pob x Genero'!#REF!","v":{"$error":"#REF!"}},{"$f":"'Pob x Genero'!#REF!","v":{"$error":"#REF!"}},{"$f":"'Pob x Genero'!#REF!","v":{"$error":"#REF!"}},"Hombre","00-04",{"$f":"'Pob x Genero'!#REF!","v":{"$error":"#REF!"}},621]
[{"$f":"'Pob x Genero'!#REF!","v":{"$error":"#REF!"}},{"$f":"'Pob x Genero'!#REF!","v":{"$error":"#REF!"}},{"$f":"'Pob x Genero'!#REF!","v":{"$error":"#REF!"}},{"$f":"'Pob x Genero'!#REF!","v":{"$error":"#REF!"}},{"$f":"'Pob x Genero'!#REF!","v":{"$error":"#REF!"}},"Hombre","00-04",{"$f":"'Pob x Genero'!#REF!","v":{"$error":"#REF!"}},622]
[{"$f":"'Pob x Genero'!#REF!","v":{"$error":"#REF!"}},{"$f":"'Pob x Genero'!#REF!","v":{"$error":"#REF!"}},{"$f":"'Pob x Genero'!#REF!","v":{"$error":"#REF!"}},{"$f":"'Pob x Genero'!#REF!","v":{"$error":"#REF!"}},{"$f":"'Pob x Genero'!#REF!","v":{"$error":"#REF!"}},"Hombre","00-04",{"$f":"'Pob x Genero'!#REF!","v":{"$error":"#REF!"}},623]
[{"$f":"'Pob x Genero'!#REF!","v":{"$error":"#REF!"}},{"$f":"'Pob x Genero'!#REF!","v":{"$error":"#REF!"}},{"$f":"'Pob x Genero'!#REF!","v":{"$error":"#REF!"}},{"$f":"'Pob x Genero'!#REF!","v":{"$error":"#REF!"}},{"$f":"'Pob x Genero'!#REF!","v":{"$error":"#REF!"}},"Hombre","00-04",{"$f":"'Pob x Genero'!#REF!","v":{"$error":"#REF!"}},624]
[{"$f":"'Pob x Genero'!#REF!","v":{"$error":"#REF!"}},{"$f":"'Pob x Genero'!#REF!","v":{"$error":"#REF!"}},{"$f":"'Pob x Genero'!#REF!","v":{"$error":"#REF!"}},{"$f":"'Pob x Genero'!#REF!","v":{"$error":"#REF!"}},{"$f":"'Pob x Genero'!#REF!","v":{"$error":"#REF!"}},"Hombre","00-04",{"$f":"'Pob x Genero'!#REF!","v":{"$error":"#REF!"}},625]
[{"$f":"'Pob x Genero'!#REF!","v":{"$error":"#REF!"}},{"$f":"'Pob x Genero'!#REF!","v":{"$error":"#REF!"}},{"$f":"'Pob x Genero'!#REF!","v":{"$error":"#REF!"}},{"$f":"'Pob x Genero'!#REF!","v":{"$error":"#REF!"}},{"$f":"'Pob x Genero'!#REF!","v":{"$error":"#REF!"}},"Hombre","00-04",{"$f":"'Pob x Genero'!#REF!","v":{"$error":"#REF!"}},626]
[{"$f":"'Pob x Genero'!#REF!","v":{"$error":"#REF!"}},{"$f":"'Pob x Genero'!#REF!","v":{"$error":"#REF!"}},{"$f":"'Pob x Genero'!#REF!","v":{"$error":"#REF!"}},{"$f":"'Pob x Genero'!#REF!","v":{"$error":"#REF!"}},{"$f":"'Pob x Genero'!#REF!","v":{"$error":"#REF!"}},"Hombre","00-04",{"$f":"'Pob x Genero'!#REF!","v":{"$error":"#REF!"}},627]
[{"$f":"'Pob x Genero'!#REF!","v":{"$error":"#REF!"}},{"$f":"'Pob x Genero'!#REF!","v":{"$error":"#REF!"}},{"$f":"'Pob x Genero'!#REF!","v":{"$error":"#REF!"}},{"$f":"'Pob x Genero'!#REF!","v":{"$error":"#REF!"}},{"$f":"'Pob x Genero'!#REF!","v":{"$error":"#REF!"}},"Hombre","00-04",{"$f":"'Pob x Genero'!#REF!","v":{"$error":"#REF!"}},628]
[{"$f":"'Pob x Genero'!#REF!","v":{"$error":"#REF!"}},{"$f":"'Pob x Genero'!#REF!","v":{"$error":"#REF!"}},{"$f":"'Pob x Genero'!#REF!","v":{"$error":"#REF!"}},{"$f":"'Pob x Genero'!#REF!","v":{"$error":"#REF!"}},{"$f":"'Pob x Genero'!#REF!","v":{"$error":"#REF!"}},"Hombre","00-04",{"$f":"'Pob x Genero'!#REF!","v":{"$error":"#REF!"}},629]
[{"$f":"'Pob x Genero'!#REF!","v":{"$error":"#REF!"}},{"$f":"'Pob x Genero'!#REF!","v":{"$error":"#REF!"}},{"$f":"'Pob x Genero'!#REF!","v":{"$error":"#REF!"}},{"$f":"'Pob x Genero'!#REF!","v":{"$error":"#REF!"}},{"$f":"'Pob x Genero'!#REF!","v":{"$error":"#REF!"}},"Hombre","00-04",{"$f":"'Pob x Genero'!#REF!","v":{"$error":"#REF!"}},630]
[{"$f":"'Pob x Genero'!#REF!","v":{"$error":"#REF!"}},{"$f":"'Pob x Genero'!#REF!","v":{"$error":"#REF!"}},{"$f":"'Pob x Genero'!#REF!","v":{"$error":"#REF!"}},{"$f":"'Pob x Genero'!#REF!","v":{"$error":"#REF!"}},{"$f":"'Pob x Genero'!#REF!","v":{"$error":"#REF!"}},"Hombre","00-04",{"$f":"'Pob x Genero'!#REF!","v":{"$error":"#REF!"}},631]
[{"$f":"'Pob x Genero'!#REF!","v":{"$error":"#REF!"}},{"$f":"'Pob x Genero'!#REF!","v":{"$error":"#REF!"}},{"$f":"'Pob x Genero'!#REF!","v":{"$error":"#REF!"}},{"$f":"'Pob x Genero'!#REF!","v":{"$error":"#REF!"}},{"$f":"'Pob x Genero'!#REF!","v":{"$error":"#REF!"}},"Hombre","00-04",{"$f":"'Pob x Genero'!#REF!","v":{"$error":"#REF!"}},632]
[{"$f":"'Pob x Genero'!#REF!","v":{"$error":"#REF!"}},{"$f":"'Pob x Genero'!#REF!","v":{"$error":"#REF!"}},{"$f":"'Pob x Genero'!#REF!","v":{"$error":"#REF!"}},{"$f":"'Pob x Genero'!#REF!","v":{"$error":"#REF!"}},{"$f":"'Pob x Genero'!#REF!","v":{"$error":"#REF!"}},"Hombre","00-04",{"$f":"'Pob x Genero'!#REF!","v":{"$error":"#REF!"}},633]
[{"$f":"'Pob x Genero'!#REF!","v":{"$error":"#REF!"}},{"$f":"'Pob x Genero'!#REF!","v":{"$error":"#REF!"}},{"$f":"'Pob x Genero'!#REF!","v":{"$error":"#REF!"}},{"$f":"'Pob x Genero'!#REF!","v":{"$error":"#REF!"}},{"$f":"'Pob x Genero'!#REF!","v":{"$error":"#REF!"}},"Hombre","00-04",{"$f":"'Pob x Genero'!#REF!","v":{"$error":"#REF!"}},634]
[{"$f":"'Pob x Genero'!#REF!","v":{"$error":"#REF!"}},{"$f":"'Pob x Genero'!#REF!","v":{"$error":"#REF!"}},{"$f":"'Pob x Genero'!#REF!","v":{"$error":"#REF!"}},{"$f":"'Pob x Genero'!#REF!","v":{"$error":"#REF!"}},{"$f":"'Pob x Genero'!#REF!","v":{"$error":"#REF!"}},"Hombre","00-04",{"$f":"'Pob x Genero'!#REF!","v":{"$error":"#REF!"}},635]
[{"$f":"'Pob x Genero'!#REF!","v":{"$error":"#REF!"}},{"$f":"'Pob x Genero'!#REF!","v":{"$error":"#REF!"}},{"$f":"'Pob x Genero'!#REF!","v":{"$error":"#REF!"}},{"$f":"'Pob x Genero'!#REF!","v":{"$error":"#REF!"}},{"$f":"'Pob x Genero'!#REF!","v":{"$error":"#REF!"}},"Hombre","00-04",{"$f":"'Pob x Genero'!#REF!","v":{"$error":"#REF!"}},636]
[{"$f":"'Pob x Genero'!#REF!","v":{"$error":"#REF!"}},{"$f":"'Pob x Genero'!#REF!","v":{"$error":"#REF!"}},{"$f":"'Pob x Genero'!#REF!","v":{"$error":"#REF!"}},{"$f":"'Pob x Genero'!#REF!","v":{"$error":"#REF!"}},{"$f":"'Pob x Genero'!#REF!","v":{"$error":"#REF!"}},"Hombre","00-04",{"$f":"'Pob x Genero'!#REF!","v":{"$error":"#REF!"}},637]
[{"$f":"'Pob x Genero'!#REF!","v":{"$error":"#REF!"}},{"$f":"'Pob x Genero'!#REF!","v":{"$error":"#REF!"}},{"$f":"'Pob x Genero'!#REF!","v":{"$error":"#REF!"}},{"$f":"'Pob x Genero'!#REF!","v":{"$error":"#REF!"}},{"$f":"'Pob x Genero'!#REF!","v":{"$error":"#REF!"}},"Hombre","00-04",{"$f":"'Pob x Genero'!#REF!","v":{"$error":"#REF!"}},638]
[{"$f":"'Pob x Genero'!#REF!","v":{"$error":"#REF!"}},{"$f":"'Pob x Genero'!#REF!","v":{"$error":"#REF!"}},{"$f":"'Pob x Genero'!#REF!","v":{"$error":"#REF!"}},{"$f":"'Pob x Genero'!#REF!","v":{"$error":"#REF!"}},{"$f":"'Pob x Genero'!#REF!","v":{"$error":"#REF!"}},"Hombre","00-04",{"$f":"'Pob x Genero'!#REF!","v":{"$error":"#REF!"}},639]
[{"$f":"'Pob x Genero'!#REF!","v":{"$error":"#REF!"}},{"$f":"'Pob x Genero'!#REF!","v":{"$error":"#REF!"}},{"$f":"'Pob x Genero'!#REF!","v":{"$error":"#REF!"}},{"$f":"'Pob x Genero'!#REF!","v":{"$error":"#REF!"}},{"$f":"'Pob x Genero'!#REF!","v":{"$error":"#REF!"}},"Hombre","00-04",{"$f":"'Pob x Genero'!#REF!","v":{"$error":"#REF!"}},640]
[{"$f":"'Pob x Genero'!#REF!","v":{"$error":"#REF!"}},{"$f":"'Pob x Genero'!#REF!","v":{"$error":"#REF!"}},{"$f":"'Pob x Genero'!#REF!","v":{"$error":"#REF!"}},{"$f":"'Pob x Genero'!#REF!","v":{"$error":"#REF!"}},{"$f":"'Pob x Genero'!#REF!","v":{"$error":"#REF!"}},"Hombre","00-04",{"$f":"'Pob x Genero'!#REF!","v":{"$error":"#REF!"}},641]
[{"$f":"'Pob x Genero'!#REF!","v":{"$error":"#REF!"}},{"$f":"'Pob x Genero'!#REF!","v":{"$error":"#REF!"}},{"$f":"'Pob x Genero'!#REF!","v":{"$error":"#REF!"}},{"$f":"'Pob x Genero'!#REF!","v":{"$error":"#REF!"}},{"$f":"'Pob x Genero'!#REF!","v":{"$error":"#REF!"}},{"$f":"F642","v":"Hombre"},{"$f":"G642","v":"00-04"},{"$f":"'Pob x Genero'!#REF!","v":{"$error":"#REF!"}},642]
[{"$f":"'Pob x Genero'!#REF!","v":{"$error":"#REF!"}},{"$f":"'Pob x Genero'!#REF!","v":{"$error":"#REF!"}},{"$f":"'Pob x Genero'!#REF!","v":{"$error":"#REF!"}},{"$f":"'Pob x Genero'!#REF!","v":{"$error":"#REF!"}},{"$f":"'Pob x Genero'!#REF!","v":{"$error":"#REF!"}},"Hombre","00-04",{"$f":"'Pob x Genero'!#REF!","v":{"$error":"#REF!"}},643]
[{"$f":"'Pob x Genero'!#REF!","v":{"$error":"#REF!"}},{"$f":"'Pob x Genero'!#REF!","v":{"$error":"#REF!"}},{"$f":"'Pob x Genero'!#REF!","v":{"$error":"#REF!"}},{"$f":"'Pob x Genero'!#REF!","v":{"$error":"#REF!"}},{"$f":"'Pob x Genero'!#REF!","v":{"$error":"#REF!"}},"Hombre","00-04",{"$f":"'Pob x Genero'!#REF!","v":{"$error":"#REF!"}},644]
[{"$f":"'Pob x Genero'!#REF!","v":{"$error":"#REF!"}},{"$f":"'Pob x Genero'!#REF!","v":{"$error":"#REF!"}},{"$f":"'Pob x Genero'!#REF!","v":{"$error":"#REF!"}},{"$f":"'Pob x Genero'!#REF!","v":{"$error":"#REF!"}},{"$f":"'Pob x Genero'!#REF!","v":{"$error":"#REF!"}},"Hombre","00-04",{"$f":"'Pob x Genero'!#REF!","v":{"$error":"#REF!"}},645]
[{"$f":"'Pob x Genero'!#REF!","v":{"$error":"#REF!"}},{"$f":"'Pob x Genero'!#REF!","v":{"$error":"#REF!"}},{"$f":"'Pob x Genero'!#REF!","v":{"$error":"#REF!"}},{"$f":"'Pob x Genero'!#REF!","v":{"$error":"#REF!"}},{"$f":"'Pob x Genero'!#REF!","v":{"$error":"#REF!"}},"Hombre","00-04",{"$f":"'Pob x Genero'!#REF!","v":{"$error":"#REF!"}},646]
[{"$f":"'Pob x Genero'!#REF!","v":{"$error":"#REF!"}},{"$f":"'Pob x Genero'!#REF!","v":{"$error":"#REF!"}},{"$f":"'Pob x Genero'!#REF!","v":{"$error":"#REF!"}},{"$f":"'Pob x Genero'!#REF!","v":{"$error":"#REF!"}},{"$f":"'Pob x Genero'!#REF!","v":{"$error":"#REF!"}},"Hombre","00-04",{"$f":"'Pob x Genero'!#REF!","v":{"$error":"#REF!"}},647]
[{"$f":"'Pob x Genero'!#REF!","v":{"$error":"#REF!"}},{"$f":"'Pob x Genero'!#REF!","v":{"$error":"#REF!"}},{"$f":"'Pob x Genero'!#REF!","v":{"$error":"#REF!"}},{"$f":"'Pob x Genero'!#REF!","v":{"$error":"#REF!"}},{"$f":"'Pob x Genero'!#REF!","v":{"$error":"#REF!"}},"Hombre","00-04",{"$f":"'Pob x Genero'!#REF!","v":{"$error":"#REF!"}},648]
[{"$f":"'Pob x Genero'!#REF!","v":{"$error":"#REF!"}},{"$f":"'Pob x Genero'!#REF!","v":{"$error":"#REF!"}},{"$f":"'Pob x Genero'!#REF!","v":{"$error":"#REF!"}},{"$f":"'Pob x Genero'!#REF!","v":{"$error":"#REF!"}},{"$f":"'Pob x Genero'!#REF!","v":{"$error":"#REF!"}},"Hombre","00-04",{"$f":"'Pob x Genero'!#REF!","v":{"$error":"#REF!"}},649]
[{"$f":"'Pob x Genero'!#REF!","v":{"$error":"#REF!"}},{"$f":"'Pob x Genero'!#REF!","v":{"$error":"#REF!"}},{"$f":"'Pob x Genero'!#REF!","v":{"$error":"#REF!"}},{"$f":"'Pob x Genero'!#REF!","v":{"$error":"#REF!"}},{"$f":"'Pob x Genero'!#REF!","v":{"$error":"#REF!"}},"Hombre","00-04",{"$f":"'Pob x Genero'!#REF!","v":{"$error":"#REF!"}},650]
[{"$f":"'Pob x Genero'!#REF!","v":{"$error":"#REF!"}},{"$f":"'Pob x Genero'!#REF!","v":{"$error":"#REF!"}},{"$f":"'Pob x Genero'!#REF!","v":{"$error":"#REF!"}},{"$f":"'Pob x Genero'!#REF!","v":{"$error":"#REF!"}},{"$f":"'Pob x Genero'!#REF!","v":{"$error":"#REF!"}},"Hombre","00-04",{"$f":"'Pob x Genero'!#REF!","v":{"$error":"#REF!"}},651]
[{"$f":"'Pob x Genero'!#REF!","v":{"$error":"#REF!"}},{"$f":"'Pob x Genero'!#REF!","v":{"$error":"#REF!"}},{"$f":"'Pob x Genero'!#REF!","v":{"$error":"#REF!"}},{"$f":"'Pob x Genero'!#REF!","v":{"$error":"#REF!"}},{"$f":"'Pob x Genero'!#REF!","v":{"$error":"#REF!"}},"Hombre","00-04",{"$f":"'Pob x Genero'!#REF!","v":{"$error":"#REF!"}},652]
[{"$f":"'Pob x Genero'!#REF!","v":{"$error":"#REF!"}},{"$f":"'Pob x Genero'!#REF!","v":{"$error":"#REF!"}},{"$f":"'Pob x Genero'!#REF!","v":{"$error":"#REF!"}},{"$f":"'Pob x Genero'!#REF!","v":{"$error":"#REF!"}},{"$f":"'Pob x Genero'!#REF!","v":{"$error":"#REF!"}},"Hombre","00-04",{"$f":"'Pob x Genero'!#REF!","v":{"$error":"#REF!"}},653]
[{"$f":"'Pob x Genero'!#REF!","v":{"$error":"#REF!"}},{"$f":"'Pob x Genero'!#REF!","v":{"$error":"#REF!"}},{"$f":"'Pob x Genero'!#REF!","v":{"$error":"#REF!"}},{"$f":"'Pob x Genero'!#REF!","v":{"$error":"#REF!"}},{"$f":"'Pob x Genero'!#REF!","v":{"$error":"#REF!"}},"Hombre","00-04",{"$f":"'Pob x Genero'!#REF!","v":{"$error":"#REF!"}},654]
[{"$f":"'Pob x Genero'!#REF!","v":{"$error":"#REF!"}},{"$f":"'Pob x Genero'!#REF!","v":{"$error":"#REF!"}},{"$f":"'Pob x Genero'!#REF!","v":{"$error":"#REF!"}},{"$f":"'Pob x Genero'!#REF!","v":{"$error":"#REF!"}},{"$f":"'Pob x Genero'!#REF!","v":{"$error":"#REF!"}},"Hombre","00-04",{"$f":"'Pob x Genero'!#REF!","v":{"$error":"#REF!"}},655]
[{"$f":"'Pob x Genero'!#REF!","v":{"$error":"#REF!"}},{"$f":"'Pob x Genero'!#REF!","v":{"$error":"#REF!"}},{"$f":"'Pob x Genero'!#REF!","v":{"$error":"#REF!"}},{"$f":"'Pob x Genero'!#REF!","v":{"$error":"#REF!"}},{"$f":"'Pob x Genero'!#REF!","v":{"$error":"#REF!"}},"Hombre","00-04",{"$f":"'Pob x Genero'!#REF!","v":{"$error":"#REF!"}},656]
[{"$f":"'Pob x Genero'!#REF!","v":{"$error":"#REF!"}},{"$f":"'Pob x Genero'!#REF!","v":{"$error":"#REF!"}},{"$f":"'Pob x Genero'!#REF!","v":{"$error":"#REF!"}},{"$f":"'Pob x Genero'!#REF!","v":{"$error":"#REF!"}},{"$f":"'Pob x Genero'!#REF!","v":{"$error":"#REF!"}},"Hombre","00-04",{"$f":"'Pob x Genero'!#REF!","v":{"$error":"#REF!"}},657]
[{"$f":"'Pob x Genero'!#REF!","v":{"$error":"#REF!"}},{"$f":"'Pob x Genero'!#REF!","v":{"$error":"#REF!"}},{"$f":"'Pob x Genero'!#REF!","v":{"$error":"#REF!"}},{"$f":"'Pob x Genero'!#REF!","v":{"$error":"#REF!"}},{"$f":"'Pob x Genero'!#REF!","v":{"$error":"#REF!"}},"Hombre","00-04",{"$f":"'Pob x Genero'!#REF!","v":{"$error":"#REF!"}},658]
[{"$f":"'Pob x Genero'!#REF!","v":{"$error":"#REF!"}},{"$f":"'Pob x Genero'!#REF!","v":{"$error":"#REF!"}},{"$f":"'Pob x Genero'!#REF!","v":{"$error":"#REF!"}},{"$f":"'Pob x Genero'!#REF!","v":{"$error":"#REF!"}},{"$f":"'Pob x Genero'!#REF!","v":{"$error":"#REF!"}},"Hombre","00-04",{"$f":"'Pob x Genero'!#REF!","v":{"$error":"#REF!"}},659]
[{"$f":"'Pob x Genero'!#REF!","v":{"$error":"#REF!"}},{"$f":"'Pob x Genero'!#REF!","v":{"$error":"#REF!"}},{"$f":"'Pob x Genero'!#REF!","v":{"$error":"#REF!"}},{"$f":"'Pob x Genero'!#REF!","v":{"$error":"#REF!"}},{"$f":"'Pob x Genero'!#REF!","v":{"$error":"#REF!"}},"Hombre","00-04",{"$f":"'Pob x Genero'!#REF!","v":{"$error":"#REF!"}},660]
[{"$f":"'Pob x Genero'!#REF!","v":{"$error":"#REF!"}},{"$f":"'Pob x Genero'!#REF!","v":{"$error":"#REF!"}},{"$f":"'Pob x Genero'!#REF!","v":{"$error":"#REF!"}},{"$f":"'Pob x Genero'!#REF!","v":{"$error":"#REF!"}},{"$f":"'Pob x Genero'!#REF!","v":{"$error":"#REF!"}},"Hombre","00-04",{"$f":"'Pob x Genero'!#REF!","v":{"$error":"#REF!"}},661]
[{"$f":"'Pob x Genero'!#REF!","v":{"$error":"#REF!"}},{"$f":"'Pob x Genero'!#REF!","v":{"$error":"#REF!"}},{"$f":"'Pob x Genero'!#REF!","v":{"$error":"#REF!"}},{"$f":"'Pob x Genero'!#REF!","v":{"$error":"#REF!"}},{"$f":"'Pob x Genero'!#REF!","v":{"$error":"#REF!"}},"Hombre","00-04",{"$f":"'Pob x Genero'!#REF!","v":{"$error":"#REF!"}},662]
[{"$f":"'Pob x Genero'!#REF!","v":{"$error":"#REF!"}},{"$f":"'Pob x Genero'!#REF!","v":{"$error":"#REF!"}},{"$f":"'Pob x Genero'!#REF!","v":{"$error":"#REF!"}},{"$f":"'Pob x Genero'!#REF!","v":{"$error":"#REF!"}},{"$f":"'Pob x Genero'!#REF!","v":{"$error":"#REF!"}},"Hombre","00-04",{"$f":"'Pob x Genero'!#REF!","v":{"$error":"#REF!"}},663]
[{"$f":"'Pob x Genero'!#REF!","v":{"$error":"#REF!"}},{"$f":"'Pob x Genero'!#REF!","v":{"$error":"#REF!"}},{"$f":"'Pob x Genero'!#REF!","v":{"$error":"#REF!"}},{"$f":"'Pob x Genero'!#REF!","v":{"$error":"#REF!"}},{"$f":"'Pob x Genero'!#REF!","v":{"$error":"#REF!"}},"Hombre","00-04",{"$f":"'Pob x Genero'!#REF!","v":{"$error":"#REF!"}},664]
[{"$f":"'Pob x Genero'!#REF!","v":{"$error":"#REF!"}},{"$f":"'Pob x Genero'!#REF!","v":{"$error":"#REF!"}},{"$f":"'Pob x Genero'!#REF!","v":{"$error":"#REF!"}},{"$f":"'Pob x Genero'!#REF!","v":{"$error":"#REF!"}},{"$f":"'Pob x Genero'!#REF!","v":{"$error":"#REF!"}},"Hombre","00-04",{"$f":"'Pob x Genero'!#REF!","v":{"$error":"#REF!"}},665]
[{"$f":"'Pob x Genero'!#REF!","v":{"$error":"#REF!"}},{"$f":"'Pob x Genero'!#REF!","v":{"$error":"#REF!"}},{"$f":"'Pob x Genero'!#REF!","v":{"$error":"#REF!"}},{"$f":"'Pob x Genero'!#REF!","v":{"$error":"#REF!"}},{"$f":"'Pob x Genero'!#REF!","v":{"$error":"#REF!"}},"Hombre","00-04",{"$f":"'Pob x Genero'!#REF!","v":{"$error":"#REF!"}},666]
[{"$f":"'Pob x Genero'!#REF!","v":{"$error":"#REF!"}},{"$f":"'Pob x Genero'!#REF!","v":{"$error":"#REF!"}},{"$f":"'Pob x Genero'!#REF!","v":{"$error":"#REF!"}},{"$f":"'Pob x Genero'!#REF!","v":{"$error":"#REF!"}},{"$f":"'Pob x Genero'!#REF!","v":{"$error":"#REF!"}},"Hombre","00-04",{"$f":"'Pob x Genero'!#REF!","v":{"$error":"#REF!"}},667]
[{"$f":"'Pob x Genero'!#REF!","v":{"$error":"#REF!"}},{"$f":"'Pob x Genero'!#REF!","v":{"$error":"#REF!"}},{"$f":"'Pob x Genero'!#REF!","v":{"$error":"#REF!"}},{"$f":"'Pob x Genero'!#REF!","v":{"$error":"#REF!"}},{"$f":"'Pob x Genero'!#REF!","v":{"$error":"#REF!"}},"Hombre","00-04",{"$f":"'Pob x Genero'!#REF!","v":{"$error":"#REF!"}},668]
[{"$f":"'Pob x Genero'!#REF!","v":{"$error":"#REF!"}},{"$f":"'Pob x Genero'!#REF!","v":{"$error":"#REF!"}},{"$f":"'Pob x Genero'!#REF!","v":{"$error":"#REF!"}},{"$f":"'Pob x Genero'!#REF!","v":{"$error":"#REF!"}},{"$f":"'Pob x Genero'!#REF!","v":{"$error":"#REF!"}},"Hombre","00-04",{"$f":"'Pob x Genero'!#REF!","v":{"$error":"#REF!"}},669]
[{"$f":"'Pob x Genero'!#REF!","v":{"$error":"#REF!"}},{"$f":"'Pob x Genero'!#REF!","v":{"$error":"#REF!"}},{"$f":"'Pob x Genero'!#REF!","v":{"$error":"#REF!"}},{"$f":"'Pob x Genero'!#REF!","v":{"$error":"#REF!"}},{"$f":"'Pob x Genero'!#REF!","v":{"$error":"#REF!"}},"Hombre","00-04",{"$f":"'Pob x Genero'!#REF!","v":{"$error":"#REF!"}},670]
[{"$f":"'Pob x Genero'!#REF!","v":{"$error":"#REF!"}},{"$f":"'Pob x Genero'!#REF!","v":{"$error":"#REF!"}},{"$f":"'Pob x Genero'!#REF!","v":{"$error":"#REF!"}},{"$f":"'Pob x Genero'!#REF!","v":{"$error":"#REF!"}},{"$f":"'Pob x Genero'!#REF!","v":{"$error":"#REF!"}},"Hombre","00-04",{"$f":"'Pob x Genero'!#REF!","v":{"$error":"#REF!"}},671]
[{"$f":"'Pob x Genero'!#REF!","v":{"$error":"#REF!"}},{"$f":"'Pob x Genero'!#REF!","v":{"$error":"#REF!"}},{"$f":"'Pob x Genero'!#REF!","v":{"$error":"#REF!"}},{"$f":"'Pob x Genero'!#REF!","v":{"$error":"#REF!"}},{"$f":"'Pob x Genero'!#REF!","v":{"$error":"#REF!"}},"Hombre","00-04",{"$f":"'Pob x Genero'!#REF!","v":{"$error":"#REF!"}},672]
[{"$f":"'Pob x Genero'!#REF!","v":{"$error":"#REF!"}},{"$f":"'Pob x Genero'!#REF!","v":{"$error":"#REF!"}},{"$f":"'Pob x Genero'!#REF!","v":{"$error":"#REF!"}},{"$f":"'Pob x Genero'!#REF!","v":{"$error":"#REF!"}},{"$f":"'Pob x Genero'!#REF!","v":{"$error":"#REF!"}},"Hombre","00-04",{"$f":"'Pob x Genero'!#REF!","v":{"$error":"#REF!"}},673]
[{"$f":"'Pob x Genero'!#REF!","v":{"$error":"#REF!"}},{"$f":"'Pob x Genero'!#REF!","v":{"$error":"#REF!"}},{"$f":"'Pob x Genero'!#REF!","v":{"$error":"#REF!"}},{"$f":"'Pob x Genero'!#REF!","v":{"$error":"#REF!"}},{"$f":"'Pob x Genero'!#REF!","v":{"$error":"#REF!"}},"Hombre","00-04",{"$f":"'Pob x Genero'!#REF!","v":{"$error":"#REF!"}},674]
[{"$f":"'Pob x Genero'!#REF!","v":{"$error":"#REF!"}},{"$f":"'Pob x Genero'!#REF!","v":{"$error":"#REF!"}},{"$f":"'Pob x Genero'!#REF!","v":{"$error":"#REF!"}},{"$f":"'Pob x Genero'!#REF!","v":{"$error":"#REF!"}},{"$f":"'Pob x Genero'!#REF!","v":{"$error":"#REF!"}},"Hombre","00-04",{"$f":"'Pob x Genero'!#REF!","v":{"$error":"#REF!"}},675]
[{"$f":"'Pob x Genero'!#REF!","v":{"$error":"#REF!"}},{"$f":"'Pob x Genero'!#REF!","v":{"$error":"#REF!"}},{"$f":"'Pob x Genero'!#REF!","v":{"$error":"#REF!"}},{"$f":"'Pob x Genero'!#REF!","v":{"$error":"#REF!"}},{"$f":"'Pob x Genero'!#REF!","v":{"$error":"#REF!"}},"Hombre","00-04",{"$f":"'Pob x Genero'!#REF!","v":{"$error":"#REF!"}},676]
[{"$f":"'Pob x Genero'!#REF!","v":{"$error":"#REF!"}},{"$f":"'Pob x Genero'!#REF!","v":{"$error":"#REF!"}},{"$f":"'Pob x Genero'!#REF!","v":{"$error":"#REF!"}},{"$f":"'Pob x Genero'!#REF!","v":{"$error":"#REF!"}},{"$f":"'Pob x Genero'!#REF!","v":{"$error":"#REF!"}},"Hombre","00-04",{"$f":"'Pob x Genero'!#REF!","v":{"$error":"#REF!"}},677]
[{"$f":"'Pob x Genero'!#REF!","v":{"$error":"#REF!"}},{"$f":"'Pob x Genero'!#REF!","v":{"$error":"#REF!"}},{"$f":"'Pob x Genero'!#REF!","v":{"$error":"#REF!"}},{"$f":"'Pob x Genero'!#REF!","v":{"$error":"#REF!"}},{"$f":"'Pob x Genero'!#REF!","v":{"$error":"#REF!"}},"Hombre","00-04",{"$f":"'Pob x Genero'!#REF!","v":{"$error":"#REF!"}},678]
[{"$f":"'Pob x Genero'!#REF!","v":{"$error":"#REF!"}},{"$f":"'Pob x Genero'!#REF!","v":{"$error":"#REF!"}},{"$f":"'Pob x Genero'!#REF!","v":{"$error":"#REF!"}},{"$f":"'Pob x Genero'!#REF!","v":{"$error":"#REF!"}},{"$f":"'Pob x Genero'!#REF!","v":{"$error":"#REF!"}},"Hombre","00-04",{"$f":"'Pob x Genero'!#REF!","v":{"$error":"#REF!"}},679]
[{"$f":"'Pob x Genero'!#REF!","v":{"$error":"#REF!"}},{"$f":"'Pob x Genero'!#REF!","v":{"$error":"#REF!"}},{"$f":"'Pob x Genero'!#REF!","v":{"$error":"#REF!"}},{"$f":"'Pob x Genero'!#REF!","v":{"$error":"#REF!"}},{"$f":"'Pob x Genero'!#REF!","v":{"$error":"#REF!"}},"Hombre","00-04",{"$f":"'Pob x Genero'!#REF!","v":{"$error":"#REF!"}},680]
[{"$f":"'Pob x Genero'!#REF!","v":{"$error":"#REF!"}},{"$f":"'Pob x Genero'!#REF!","v":{"$error":"#REF!"}},{"$f":"'Pob x Genero'!#REF!","v":{"$error":"#REF!"}},{"$f":"'Pob x Genero'!#REF!","v":{"$error":"#REF!"}},{"$f":"'Pob x Genero'!#REF!","v":{"$error":"#REF!"}},"Hombre","00-04",{"$f":"'Pob x Genero'!#REF!","v":{"$error":"#REF!"}},681]
[{"$f":"'Pob x Genero'!#REF!","v":{"$error":"#REF!"}},{"$f":"'Pob x Genero'!#REF!","v":{"$error":"#REF!"}},{"$f":"'Pob x Genero'!#REF!","v":{"$error":"#REF!"}},{"$f":"'Pob x Genero'!#REF!","v":{"$error":"#REF!"}},{"$f":"'Pob x Genero'!#REF!","v":{"$error":"#REF!"}},"Hombre","00-04",{"$f":"'Pob x Genero'!#REF!","v":{"$error":"#REF!"}},682]
[{"$f":"'Pob x Genero'!#REF!","v":{"$error":"#REF!"}},{"$f":"'Pob x Genero'!#REF!","v":{"$error":"#REF!"}},{"$f":"'Pob x Genero'!#REF!","v":{"$error":"#REF!"}},{"$f":"'Pob x Genero'!#REF!","v":{"$error":"#REF!"}},{"$f":"'Pob x Genero'!#REF!","v":{"$error":"#REF!"}},"Hombre","00-04",{"$f":"'Pob x Genero'!#REF!","v":{"$error":"#REF!"}},683]
[{"$f":"'Pob x Genero'!#REF!","v":{"$error":"#REF!"}},{"$f":"'Pob x Genero'!#REF!","v":{"$error":"#REF!"}},{"$f":"'Pob x Genero'!#REF!","v":{"$error":"#REF!"}},{"$f":"'Pob x Genero'!#REF!","v":{"$error":"#REF!"}},{"$f":"'Pob x Genero'!#REF!","v":{"$error":"#REF!"}},"Hombre","00-04",{"$f":"'Pob x Genero'!#REF!","v":{"$error":"#REF!"}},684]
[{"$f":"'Pob x Genero'!#REF!","v":{"$error":"#REF!"}},{"$f":"'Pob x Genero'!#REF!","v":{"$error":"#REF!"}},{"$f":"'Pob x Genero'!#REF!","v":{"$error":"#REF!"}},{"$f":"'Pob x Genero'!#REF!","v":{"$error":"#REF!"}},{"$f":"'Pob x Genero'!#REF!","v":{"$error":"#REF!"}},"Hombre","00-04",{"$f":"'Pob x Genero'!#REF!","v":{"$error":"#REF!"}},685]
[{"$f":"'Pob x Genero'!#REF!","v":{"$error":"#REF!"}},{"$f":"'Pob x Genero'!#REF!","v":{"$error":"#REF!"}},{"$f":"'Pob x Genero'!#REF!","v":{"$error":"#REF!"}},{"$f":"'Pob x Genero'!#REF!","v":{"$error":"#REF!"}},{"$f":"'Pob x Genero'!#REF!","v":{"$error":"#REF!"}},"Hombre","00-04",{"$f":"'Pob x Genero'!#REF!","v":{"$error":"#REF!"}},686]
[{"$f":"'Pob x Genero'!#REF!","v":{"$error":"#REF!"}},{"$f":"'Pob x Genero'!#REF!","v":{"$error":"#REF!"}},{"$f":"'Pob x Genero'!#REF!","v":{"$error":"#REF!"}},{"$f":"'Pob x Genero'!#REF!","v":{"$error":"#REF!"}},{"$f":"'Pob x Genero'!#REF!","v":{"$error":"#REF!"}},"Hombre","00-04",{"$f":"'Pob x Genero'!#REF!","v":{"$error":"#REF!"}},687]
[{"$f":"'Pob x Genero'!#REF!","v":{"$error":"#REF!"}},{"$f":"'Pob x Genero'!#REF!","v":{"$error":"#REF!"}},{"$f":"'Pob x Genero'!#REF!","v":{"$error":"#REF!"}},{"$f":"'Pob x Genero'!#REF!","v":{"$error":"#REF!"}},{"$f":"'Pob x Genero'!#REF!","v":{"$error":"#REF!"}},"Hombre","00-04",{"$f":"'Pob x Genero'!#REF!","v":{"$error":"#REF!"}},688]
[{"$f":"'Pob x Genero'!#REF!","v":{"$error":"#REF!"}},{"$f":"'Pob x Genero'!#REF!","v":{"$error":"#REF!"}},{"$f":"'Pob x Genero'!#REF!","v":{"$error":"#REF!"}},{"$f":"'Pob x Genero'!#REF!","v":{"$error":"#REF!"}},{"$f":"'Pob x Genero'!#REF!","v":{"$error":"#REF!"}},"Hombre","00-04",{"$f":"'Pob x Genero'!#REF!","v":{"$error":"#REF!"}},689]
[{"$f":"'Pob x Genero'!#REF!","v":{"$error":"#REF!"}},{"$f":"'Pob x Genero'!#REF!","v":{"$error":"#REF!"}},{"$f":"'Pob x Genero'!#REF!","v":{"$error":"#REF!"}},{"$f":"'Pob x Genero'!#REF!","v":{"$error":"#REF!"}},{"$f":"'Pob x Genero'!#REF!","v":{"$error":"#REF!"}},"Hombre","00-04",{"$f":"'Pob x Genero'!#REF!","v":{"$error":"#REF!"}},690]
[{"$f":"'Pob x Genero'!#REF!","v":{"$error":"#REF!"}},{"$f":"'Pob x Genero'!#REF!","v":{"$error":"#REF!"}},{"$f":"'Pob x Genero'!#REF!","v":{"$error":"#REF!"}},{"$f":"'Pob x Genero'!#REF!","v":{"$error":"#REF!"}},{"$f":"'Pob x Genero'!#REF!","v":{"$error":"#REF!"}},"Hombre","00-04",{"$f":"'Pob x Genero'!#REF!","v":{"$error":"#REF!"}},691]
[{"$f":"'Pob x Genero'!#REF!","v":{"$error":"#REF!"}},{"$f":"'Pob x Genero'!#REF!","v":{"$error":"#REF!"}},{"$f":"'Pob x Genero'!#REF!","v":{"$error":"#REF!"}},{"$f":"'Pob x Genero'!#REF!","v":{"$error":"#REF!"}},{"$f":"'Pob x Genero'!#REF!","v":{"$error":"#REF!"}},"Hombre","00-04",{"$f":"'Pob x Genero'!#REF!","v":{"$error":"#REF!"}},692]
[{"$f":"'Pob x Genero'!#REF!","v":{"$error":"#REF!"}},{"$f":"'Pob x Genero'!#REF!","v":{"$error":"#REF!"}},{"$f":"'Pob x Genero'!#REF!","v":{"$error":"#REF!"}},{"$f":"'Pob x Genero'!#REF!","v":{"$error":"#REF!"}},{"$f":"'Pob x Genero'!#REF!","v":{"$error":"#REF!"}},"Hombre","00-04",{"$f":"'Pob x Genero'!#REF!","v":{"$error":"#REF!"}},693]
[{"$f":"'Pob x Genero'!#REF!","v":{"$error":"#REF!"}},{"$f":"'Pob x Genero'!#REF!","v":{"$error":"#REF!"}},{"$f":"'Pob x Genero'!#REF!","v":{"$error":"#REF!"}},{"$f":"'Pob x Genero'!#REF!","v":{"$error":"#REF!"}},{"$f":"'Pob x Genero'!#REF!","v":{"$error":"#REF!"}},"Hombre","00-04",{"$f":"'Pob x Genero'!#REF!","v":{"$error":"#REF!"}},694]
[{"$f":"'Pob x Genero'!#REF!","v":{"$error":"#REF!"}},{"$f":"'Pob x Genero'!#REF!","v":{"$error":"#REF!"}},{"$f":"'Pob x Genero'!#REF!","v":{"$error":"#REF!"}},{"$f":"'Pob x Genero'!#REF!","v":{"$error":"#REF!"}},{"$f":"'Pob x Genero'!#REF!","v":{"$error":"#REF!"}},"Hombre","00-04",{"$f":"'Pob x Genero'!#REF!","v":{"$error":"#REF!"}},695]
[{"$f":"'Pob x Genero'!#REF!","v":{"$error":"#REF!"}},{"$f":"'Pob x Genero'!#REF!","v":{"$error":"#REF!"}},{"$f":"'Pob x Genero'!#REF!","v":{"$error":"#REF!"}},{"$f":"'Pob x Genero'!#REF!","v":{"$error":"#REF!"}},{"$f":"'Pob x Genero'!#REF!","v":{"$error":"#REF!"}},"Hombre","00-04",{"$f":"'Pob x Genero'!#REF!","v":{"$error":"#REF!"}},696]
[{"$f":"'Pob x Genero'!#REF!","v":{"$error":"#REF!"}},{"$f":"'Pob x Genero'!#REF!","v":{"$error":"#REF!"}},{"$f":"'Pob x Genero'!#REF!","v":{"$error":"#REF!"}},{"$f":"'Pob x Genero'!#REF!","v":{"$error":"#REF!"}},{"$f":"'Pob x Genero'!#REF!","v":{"$error":"#REF!"}},"Hombre","00-04",{"$f":"'Pob x Genero'!#REF!","v":{"$error":"#REF!"}},697]
[{"$f":"'Pob x Genero'!#REF!","v":{"$error":"#REF!"}},{"$f":"'Pob x Genero'!#REF!","v":{"$error":"#REF!"}},{"$f":"'Pob x Genero'!#REF!","v":{"$error":"#REF!"}},{"$f":"'Pob x Genero'!#REF!","v":{"$error":"#REF!"}},{"$f":"'Pob x Genero'!#REF!","v":{"$error":"#REF!"}},"Hombre","00-04",{"$f":"'Pob x Genero'!#REF!","v":{"$error":"#REF!"}},698]
[{"$f":"'Pob x Genero'!#REF!","v":{"$error":"#REF!"}},{"$f":"'Pob x Genero'!#REF!","v":{"$error":"#REF!"}},{"$f":"'Pob x Genero'!#REF!","v":{"$error":"#REF!"}},{"$f":"'Pob x Genero'!#REF!","v":{"$error":"#REF!"}},{"$f":"'Pob x Genero'!#REF!","v":{"$error":"#REF!"}},"Hombre","00-04",{"$f":"'Pob x Genero'!#REF!","v":{"$error":"#REF!"}},699]
[{"$f":"'Pob x Genero'!#REF!","v":{"$error":"#REF!"}},{"$f":"'Pob x Genero'!#REF!","v":{"$error":"#REF!"}},{"$f":"'Pob x Genero'!#REF!","v":{"$error":"#REF!"}},{"$f":"'Pob x Genero'!#REF!","v":{"$error":"#REF!"}},{"$f":"'Pob x Genero'!#REF!","v":{"$error":"#REF!"}},"Hombre","00-04",{"$f":"'Pob x Genero'!#REF!","v":{"$error":"#REF!"}},700]
[{"$f":"'Pob x Genero'!#REF!","v":{"$error":"#REF!"}},{"$f":"'Pob x Genero'!#REF!","v":{"$error":"#REF!"}},{"$f":"'Pob x Genero'!#REF!","v":{"$error":"#REF!"}},{"$f":"'Pob x Genero'!#REF!","v":{"$error":"#REF!"}},{"$f":"'Pob x Genero'!#REF!","v":{"$error":"#REF!"}},"Hombre","00-04",{"$f":"'Pob x Genero'!#REF!","v":{"$error":"#REF!"}},701]
[{"$f":"'Pob x Genero'!#REF!","v":{"$error":"#REF!"}},{"$f":"'Pob x Genero'!#REF!","v":{"$error":"#REF!"}},{"$f":"'Pob x Genero'!#REF!","v":{"$error":"#REF!"}},{"$f":"'Pob x Genero'!#REF!","v":{"$error":"#REF!"}},{"$f":"'Pob x Genero'!#REF!","v":{"$error":"#REF!"}},"Hombre","00-04",{"$f":"'Pob x Genero'!#REF!","v":{"$error":"#REF!"}},702]
[{"$f":"'Pob x Genero'!#REF!","v":{"$error":"#REF!"}},{"$f":"'Pob x Genero'!#REF!","v":{"$error":"#REF!"}},{"$f":"'Pob x Genero'!#REF!","v":{"$error":"#REF!"}},{"$f":"'Pob x Genero'!#REF!","v":{"$error":"#REF!"}},{"$f":"'Pob x Genero'!#REF!","v":{"$error":"#REF!"}},"Hombre","00-04",{"$f":"'Pob x Genero'!#REF!","v":{"$error":"#REF!"}},703]
[{"$f":"'Pob x Genero'!#REF!","v":{"$error":"#REF!"}},{"$f":"'Pob x Genero'!#REF!","v":{"$error":"#REF!"}},{"$f":"'Pob x Genero'!#REF!","v":{"$error":"#REF!"}},{"$f":"'Pob x Genero'!#REF!","v":{"$error":"#REF!"}},{"$f":"'Pob x Genero'!#REF!","v":{"$error":"#REF!"}},"Hombre","00-04",{"$f":"'Pob x Genero'!#REF!","v":{"$error":"#REF!"}},704]
[{"$f":"'Pob x Genero'!#REF!","v":{"$error":"#REF!"}},{"$f":"'Pob x Genero'!#REF!","v":{"$error":"#REF!"}},{"$f":"'Pob x Genero'!#REF!","v":{"$error":"#REF!"}},{"$f":"'Pob x Genero'!#REF!","v":{"$error":"#REF!"}},{"$f":"'Pob x Genero'!#REF!","v":{"$error":"#REF!"}},"Hombre","00-04",{"$f":"'Pob x Genero'!#REF!","v":{"$error":"#REF!"}},705]
[{"$f":"'Pob x Genero'!#REF!","v":{"$error":"#REF!"}},{"$f":"'Pob x Genero'!#REF!","v":{"$error":"#REF!"}},{"$f":"'Pob x Genero'!#REF!","v":{"$error":"#REF!"}},{"$f":"'Pob x Genero'!#REF!","v":{"$error":"#REF!"}},{"$f":"'Pob x Genero'!#REF!","v":{"$error":"#REF!"}},{"$f":"F706","v":"Hombre"},{"$f":"G706","v":"00-04"},{"$f":"'Pob x Genero'!#REF!","v":{"$error":"#REF!"}},706]
[{"$f":"'Pob x Genero'!#REF!","v":{"$error":"#REF!"}},{"$f":"'Pob x Genero'!#REF!","v":{"$error":"#REF!"}},{"$f":"'Pob x Genero'!#REF!","v":{"$error":"#REF!"}},{"$f":"'Pob x Genero'!#REF!","v":{"$error":"#REF!"}},{"$f":"'Pob x Genero'!#REF!","v":{"$error":"#REF!"}},"Hombre","00-04",{"$f":"'Pob x Genero'!#REF!","v":{"$error":"#REF!"}},707]
[{"$f":"'Pob x Genero'!#REF!","v":{"$error":"#REF!"}},{"$f":"'Pob x Genero'!#REF!","v":{"$error":"#REF!"}},{"$f":"'Pob x Genero'!#REF!","v":{"$error":"#REF!"}},{"$f":"'Pob x Genero'!#REF!","v":{"$error":"#REF!"}},{"$f":"'Pob x Genero'!#REF!","v":{"$error":"#REF!"}},"Hombre","00-04",{"$f":"'Pob x Genero'!#REF!","v":{"$error":"#REF!"}},708]
[{"$f":"'Pob x Genero'!#REF!","v":{"$error":"#REF!"}},{"$f":"'Pob x Genero'!#REF!","v":{"$error":"#REF!"}},{"$f":"'Pob x Genero'!#REF!","v":{"$error":"#REF!"}},{"$f":"'Pob x Genero'!#REF!","v":{"$error":"#REF!"}},{"$f":"'Pob x Genero'!#REF!","v":{"$error":"#REF!"}},"Hombre","00-04",{"$f":"'Pob x Genero'!#REF!","v":{"$error":"#REF!"}},709]
[{"$f":"'Pob x Genero'!#REF!","v":{"$error":"#REF!"}},{"$f":"'Pob x Genero'!#REF!","v":{"$error":"#REF!"}},{"$f":"'Pob x Genero'!#REF!","v":{"$error":"#REF!"}},{"$f":"'Pob x Genero'!#REF!","v":{"$error":"#REF!"}},{"$f":"'Pob x Genero'!#REF!","v":{"$error":"#REF!"}},"Hombre","00-04",{"$f":"'Pob x Genero'!#REF!","v":{"$error":"#REF!"}},710]
[{"$f":"'Pob x Genero'!#REF!","v":{"$error":"#REF!"}},{"$f":"'Pob x Genero'!#REF!","v":{"$error":"#REF!"}},{"$f":"'Pob x Genero'!#REF!","v":{"$error":"#REF!"}},{"$f":"'Pob x Genero'!#REF!","v":{"$error":"#REF!"}},{"$f":"'Pob x Genero'!#REF!","v":{"$error":"#REF!"}},"Hombre","00-04",{"$f":"'Pob x Genero'!#REF!","v":{"$error":"#REF!"}},711]
[{"$f":"'Pob x Genero'!#REF!","v":{"$error":"#REF!"}},{"$f":"'Pob x Genero'!#REF!","v":{"$error":"#REF!"}},{"$f":"'Pob x Genero'!#REF!","v":{"$error":"#REF!"}},{"$f":"'Pob x Genero'!#REF!","v":{"$error":"#REF!"}},{"$f":"'Pob x Genero'!#REF!","v":{"$error":"#REF!"}},"Hombre","00-04",{"$f":"'Pob x Genero'!#REF!","v":{"$error":"#REF!"}},712]
[{"$f":"'Pob x Genero'!#REF!","v":{"$error":"#REF!"}},{"$f":"'Pob x Genero'!#REF!","v":{"$error":"#REF!"}},{"$f":"'Pob x Genero'!#REF!","v":{"$error":"#REF!"}},{"$f":"'Pob x Genero'!#REF!","v":{"$error":"#REF!"}},{"$f":"'Pob x Genero'!#REF!","v":{"$error":"#REF!"}},"Hombre","00-04",{"$f":"'Pob x Genero'!#REF!","v":{"$error":"#REF!"}},713]
[{"$f":"'Pob x Genero'!#REF!","v":{"$error":"#REF!"}},{"$f":"'Pob x Genero'!#REF!","v":{"$error":"#REF!"}},{"$f":"'Pob x Genero'!#REF!","v":{"$error":"#REF!"}},{"$f":"'Pob x Genero'!#REF!","v":{"$error":"#REF!"}},{"$f":"'Pob x Genero'!#REF!","v":{"$error":"#REF!"}},"Hombre","00-04",{"$f":"'Pob x Genero'!#REF!","v":{"$error":"#REF!"}},714]
[{"$f":"'Pob x Genero'!#REF!","v":{"$error":"#REF!"}},{"$f":"'Pob x Genero'!#REF!","v":{"$error":"#REF!"}},{"$f":"'Pob x Genero'!#REF!","v":{"$error":"#REF!"}},{"$f":"'Pob x Genero'!#REF!","v":{"$error":"#REF!"}},{"$f":"'Pob x Genero'!#REF!","v":{"$error":"#REF!"}},"Hombre","00-04",{"$f":"'Pob x Genero'!#REF!","v":{"$error":"#REF!"}},715]
[{"$f":"'Pob x Genero'!#REF!","v":{"$error":"#REF!"}},{"$f":"'Pob x Genero'!#REF!","v":{"$error":"#REF!"}},{"$f":"'Pob x Genero'!#REF!","v":{"$error":"#REF!"}},{"$f":"'Pob x Genero'!#REF!","v":{"$error":"#REF!"}},{"$f":"'Pob x Genero'!#REF!","v":{"$error":"#REF!"}},"Hombre","00-04",{"$f":"'Pob x Genero'!#REF!","v":{"$error":"#REF!"}},716]
[{"$f":"'Pob x Genero'!#REF!","v":{"$error":"#REF!"}},{"$f":"'Pob x Genero'!#REF!","v":{"$error":"#REF!"}},{"$f":"'Pob x Genero'!#REF!","v":{"$error":"#REF!"}},{"$f":"'Pob x Genero'!#REF!","v":{"$error":"#REF!"}},{"$f":"'Pob x Genero'!#REF!","v":{"$error":"#REF!"}},"Hombre","00-04",{"$f":"'Pob x Genero'!#REF!","v":{"$error":"#REF!"}},717]
[{"$f":"'Pob x Genero'!#REF!","v":{"$error":"#REF!"}},{"$f":"'Pob x Genero'!#REF!","v":{"$error":"#REF!"}},{"$f":"'Pob x Genero'!#REF!","v":{"$error":"#REF!"}},{"$f":"'Pob x Genero'!#REF!","v":{"$error":"#REF!"}},{"$f":"'Pob x Genero'!#REF!","v":{"$error":"#REF!"}},"Hombre","00-04",{"$f":"'Pob x Genero'!#REF!","v":{"$error":"#REF!"}},718]
[{"$f":"'Pob x Genero'!#REF!","v":{"$error":"#REF!"}},{"$f":"'Pob x Genero'!#REF!","v":{"$error":"#REF!"}},{"$f":"'Pob x Genero'!#REF!","v":{"$error":"#REF!"}},{"$f":"'Pob x Genero'!#REF!","v":{"$error":"#REF!"}},{"$f":"'Pob x Genero'!#REF!","v":{"$error":"#REF!"}},"Hombre","00-04",{"$f":"'Pob x Genero'!#REF!","v":{"$error":"#REF!"}},719]
[{"$f":"'Pob x Genero'!#REF!","v":{"$error":"#REF!"}},{"$f":"'Pob x Genero'!#REF!","v":{"$error":"#REF!"}},{"$f":"'Pob x Genero'!#REF!","v":{"$error":"#REF!"}},{"$f":"'Pob x Genero'!#REF!","v":{"$error":"#REF!"}},{"$f":"'Pob x Genero'!#REF!","v":{"$error":"#REF!"}},"Hombre","00-04",{"$f":"'Pob x Genero'!#REF!","v":{"$error":"#REF!"}},720]
[{"$f":"'Pob x Genero'!#REF!","v":{"$error":"#REF!"}},{"$f":"'Pob x Genero'!#REF!","v":{"$error":"#REF!"}},{"$f":"'Pob x Genero'!#REF!","v":{"$error":"#REF!"}},{"$f":"'Pob x Genero'!#REF!","v":{"$error":"#REF!"}},{"$f":"'Pob x Genero'!#REF!","v":{"$error":"#REF!"}},"Hombre","00-04",{"$f":"'Pob x Genero'!#REF!","v":{"$error":"#REF!"}},721]
[{"$f":"'Pob x Genero'!#REF!","v":{"$error":"#REF!"}},{"$f":"'Pob x Genero'!#REF!","v":{"$error":"#REF!"}},{"$f":"'Pob x Genero'!#REF!","v":{"$error":"#REF!"}},{"$f":"'Pob x Genero'!#REF!","v":{"$error":"#REF!"}},{"$f":"'Pob x Genero'!#REF!","v":{"$error":"#REF!"}},"Hombre","00-04",{"$f":"'Pob x Genero'!#REF!","v":{"$error":"#REF!"}},722]
[{"$f":"'Pob x Genero'!#REF!","v":{"$error":"#REF!"}},{"$f":"'Pob x Genero'!#REF!","v":{"$error":"#REF!"}},{"$f":"'Pob x Genero'!#REF!","v":{"$error":"#REF!"}},{"$f":"'Pob x Genero'!#REF!","v":{"$error":"#REF!"}},{"$f":"'Pob x Genero'!#REF!","v":{"$error":"#REF!"}},"Hombre","00-04",{"$f":"'Pob x Genero'!#REF!","v":{"$error":"#REF!"}},723]
[{"$f":"'Pob x Genero'!#REF!","v":{"$error":"#REF!"}},{"$f":"'Pob x Genero'!#REF!","v":{"$error":"#REF!"}},{"$f":"'Pob x Genero'!#REF!","v":{"$error":"#REF!"}},{"$f":"'Pob x Genero'!#REF!","v":{"$error":"#REF!"}},{"$f":"'Pob x Genero'!#REF!","v":{"$error":"#REF!"}},"Hombre","00-04",{"$f":"'Pob x Genero'!#REF!","v":{"$error":"#REF!"}},724]
[{"$f":"'Pob x Genero'!#REF!","v":{"$error":"#REF!"}},{"$f":"'Pob x Genero'!#REF!","v":{"$error":"#REF!"}},{"$f":"'Pob x Genero'!#REF!","v":{"$error":"#REF!"}},{"$f":"'Pob x Genero'!#REF!","v":{"$error":"#REF!"}},{"$f":"'Pob x Genero'!#REF!","v":{"$error":"#REF!"}},"Hombre","00-04",{"$f":"'Pob x Genero'!#REF!","v":{"$error":"#REF!"}},725]
[{"$f":"'Pob x Genero'!#REF!","v":{"$error":"#REF!"}},{"$f":"'Pob x Genero'!#REF!","v":{"$error":"#REF!"}},{"$f":"'Pob x Genero'!#REF!","v":{"$error":"#REF!"}},{"$f":"'Pob x Genero'!#REF!","v":{"$error":"#REF!"}},{"$f":"'Pob x Genero'!#REF!","v":{"$error":"#REF!"}},"Hombre","00-04",{"$f":"'Pob x Genero'!#REF!","v":{"$error":"#REF!"}},726]
[{"$f":"'Pob x Genero'!#REF!","v":{"$error":"#REF!"}},{"$f":"'Pob x Genero'!#REF!","v":{"$error":"#REF!"}},{"$f":"'Pob x Genero'!#REF!","v":{"$error":"#REF!"}},{"$f":"'Pob x Genero'!#REF!","v":{"$error":"#REF!"}},{"$f":"'Pob x Genero'!#REF!","v":{"$error":"#REF!"}},"Hombre","00-04",{"$f":"'Pob x Genero'!#REF!","v":{"$error":"#REF!"}},727]
[{"$f":"'Pob x Genero'!#REF!","v":{"$error":"#REF!"}},{"$f":"'Pob x Genero'!#REF!","v":{"$error":"#REF!"}},{"$f":"'Pob x Genero'!#REF!","v":{"$error":"#REF!"}},{"$f":"'Pob x Genero'!#REF!","v":{"$error":"#REF!"}},{"$f":"'Pob x Genero'!#REF!","v":{"$error":"#REF!"}},"Hombre","00-04",{"$f":"'Pob x Genero'!#REF!","v":{"$error":"#REF!"}},728]
[{"$f":"'Pob x Genero'!#REF!","v":{"$error":"#REF!"}},{"$f":"'Pob x Genero'!#REF!","v":{"$error":"#REF!"}},{"$f":"'Pob x Genero'!#REF!","v":{"$error":"#REF!"}},{"$f":"'Pob x Genero'!#REF!","v":{"$error":"#REF!"}},{"$f":"'Pob x Genero'!#REF!","v":{"$error":"#REF!"}},"Hombre","00-04",{"$f":"'Pob x Genero'!#REF!","v":{"$error":"#REF!"}},729]
[{"$f":"'Pob x Genero'!#REF!","v":{"$error":"#REF!"}},{"$f":"'Pob x Genero'!#REF!","v":{"$error":"#REF!"}},{"$f":"'Pob x Genero'!#REF!","v":{"$error":"#REF!"}},{"$f":"'Pob x Genero'!#REF!","v":{"$error":"#REF!"}},{"$f":"'Pob x Genero'!#REF!","v":{"$error":"#REF!"}},"Hombre","00-04",{"$f":"'Pob x Genero'!#REF!","v":{"$error":"#REF!"}},730]
[{"$f":"'Pob x Genero'!#REF!","v":{"$error":"#REF!"}},{"$f":"'Pob x Genero'!#REF!","v":{"$error":"#REF!"}},{"$f":"'Pob x Genero'!#REF!","v":{"$error":"#REF!"}},{"$f":"'Pob x Genero'!#REF!","v":{"$error":"#REF!"}},{"$f":"'Pob x Genero'!#REF!","v":{"$error":"#REF!"}},"Hombre","00-04",{"$f":"'Pob x Genero'!#REF!","v":{"$error":"#REF!"}},731]
[{"$f":"'Pob x Genero'!#REF!","v":{"$error":"#REF!"}},{"$f":"'Pob x Genero'!#REF!","v":{"$error":"#REF!"}},{"$f":"'Pob x Genero'!#REF!","v":{"$error":"#REF!"}},{"$f":"'Pob x Genero'!#REF!","v":{"$error":"#REF!"}},{"$f":"'Pob x Genero'!#REF!","v":{"$error":"#REF!"}},"Hombre","00-04",{"$f":"'Pob x Genero'!#REF!","v":{"$error":"#REF!"}},732]
[{"$f":"'Pob x Genero'!#REF!","v":{"$error":"#REF!"}},{"$f":"'Pob x Genero'!#REF!","v":{"$error":"#REF!"}},{"$f":"'Pob x Genero'!#REF!","v":{"$error":"#REF!"}},{"$f":"'Pob x Genero'!#REF!","v":{"$error":"#REF!"}},{"$f":"'Pob x Genero'!#REF!","v":{"$error":"#REF!"}},"Hombre","00-04",{"$f":"'Pob x Genero'!#REF!","v":{"$error":"#REF!"}},733]
[{"$f":"'Pob x Genero'!#REF!","v":{"$error":"#REF!"}},{"$f":"'Pob x Genero'!#REF!","v":{"$error":"#REF!"}},{"$f":"'Pob x Genero'!#REF!","v":{"$error":"#REF!"}},{"$f":"'Pob x Genero'!#REF!","v":{"$error":"#REF!"}},{"$f":"'Pob x Genero'!#REF!","v":{"$error":"#REF!"}},"Hombre","00-04",{"$f":"'Pob x Genero'!#REF!","v":{"$error":"#REF!"}},734]
[{"$f":"'Pob x Genero'!#REF!","v":{"$error":"#REF!"}},{"$f":"'Pob x Genero'!#REF!","v":{"$error":"#REF!"}},{"$f":"'Pob x Genero'!#REF!","v":{"$error":"#REF!"}},{"$f":"'Pob x Genero'!#REF!","v":{"$error":"#REF!"}},{"$f":"'Pob x Genero'!#REF!","v":{"$error":"#REF!"}},"Hombre","00-04",{"$f":"'Pob x Genero'!#REF!","v":{"$error":"#REF!"}},735]
[{"$f":"'Pob x Genero'!#REF!","v":{"$error":"#REF!"}},{"$f":"'Pob x Genero'!#REF!","v":{"$error":"#REF!"}},{"$f":"'Pob x Genero'!#REF!","v":{"$error":"#REF!"}},{"$f":"'Pob x Genero'!#REF!","v":{"$error":"#REF!"}},{"$f":"'Pob x Genero'!#REF!","v":{"$error":"#REF!"}},"Hombre","00-04",{"$f":"'Pob x Genero'!#REF!","v":{"$error":"#REF!"}},736]
[{"$f":"'Pob x Genero'!#REF!","v":{"$error":"#REF!"}},{"$f":"'Pob x Genero'!#REF!","v":{"$error":"#REF!"}},{"$f":"'Pob x Genero'!#REF!","v":{"$error":"#REF!"}},{"$f":"'Pob x Genero'!#REF!","v":{"$error":"#REF!"}},{"$f":"'Pob x Genero'!#REF!","v":{"$error":"#REF!"}},"Hombre","00-04",{"$f":"'Pob x Genero'!#REF!","v":{"$error":"#REF!"}},737]
[{"$f":"'Pob x Genero'!#REF!","v":{"$error":"#REF!"}},{"$f":"'Pob x Genero'!#REF!","v":{"$error":"#REF!"}},{"$f":"'Pob x Genero'!#REF!","v":{"$error":"#REF!"}},{"$f":"'Pob x Genero'!#REF!","v":{"$error":"#REF!"}},{"$f":"'Pob x Genero'!#REF!","v":{"$error":"#REF!"}},"Hombre","00-04",{"$f":"'Pob x Genero'!#REF!","v":{"$error":"#REF!"}},738]
[{"$f":"'Pob x Genero'!#REF!","v":{"$error":"#REF!"}},{"$f":"'Pob x Genero'!#REF!","v":{"$error":"#REF!"}},{"$f":"'Pob x Genero'!#REF!","v":{"$error":"#REF!"}},{"$f":"'Pob x Genero'!#REF!","v":{"$error":"#REF!"}},{"$f":"'Pob x Genero'!#REF!","v":{"$error":"#REF!"}},"Hombre","00-04",{"$f":"'Pob x Genero'!#REF!","v":{"$error":"#REF!"}},739]
[{"$f":"'Pob x Genero'!#REF!","v":{"$error":"#REF!"}},{"$f":"'Pob x Genero'!#REF!","v":{"$error":"#REF!"}},{"$f":"'Pob x Genero'!#REF!","v":{"$error":"#REF!"}},{"$f":"'Pob x Genero'!#REF!","v":{"$error":"#REF!"}},{"$f":"'Pob x Genero'!#REF!","v":{"$error":"#REF!"}},"Hombre","00-04",{"$f":"'Pob x Genero'!#REF!","v":{"$error":"#REF!"}},740]
[{"$f":"'Pob x Genero'!#REF!","v":{"$error":"#REF!"}},{"$f":"'Pob x Genero'!#REF!","v":{"$error":"#REF!"}},{"$f":"'Pob x Genero'!#REF!","v":{"$error":"#REF!"}},{"$f":"'Pob x Genero'!#REF!","v":{"$error":"#REF!"}},{"$f":"'Pob x Genero'!#REF!","v":{"$error":"#REF!"}},"Hombre","00-04",{"$f":"'Pob x Genero'!#REF!","v":{"$error":"#REF!"}},741]
[{"$f":"'Pob x Genero'!#REF!","v":{"$error":"#REF!"}},{"$f":"'Pob x Genero'!#REF!","v":{"$error":"#REF!"}},{"$f":"'Pob x Genero'!#REF!","v":{"$error":"#REF!"}},{"$f":"'Pob x Genero'!#REF!","v":{"$error":"#REF!"}},{"$f":"'Pob x Genero'!#REF!","v":{"$error":"#REF!"}},"Hombre","00-04",{"$f":"'Pob x Genero'!#REF!","v":{"$error":"#REF!"}},742]
[{"$f":"'Pob x Genero'!#REF!","v":{"$error":"#REF!"}},{"$f":"'Pob x Genero'!#REF!","v":{"$error":"#REF!"}},{"$f":"'Pob x Genero'!#REF!","v":{"$error":"#REF!"}},{"$f":"'Pob x Genero'!#REF!","v":{"$error":"#REF!"}},{"$f":"'Pob x Genero'!#REF!","v":{"$error":"#REF!"}},"Hombre","00-04",{"$f":"'Pob x Genero'!#REF!","v":{"$error":"#REF!"}},743]
[{"$f":"'Pob x Genero'!#REF!","v":{"$error":"#REF!"}},{"$f":"'Pob x Genero'!#REF!","v":{"$error":"#REF!"}},{"$f":"'Pob x Genero'!#REF!","v":{"$error":"#REF!"}},{"$f":"'Pob x Genero'!#REF!","v":{"$error":"#REF!"}},{"$f":"'Pob x Genero'!#REF!","v":{"$error":"#REF!"}},"Hombre","00-04",{"$f":"'Pob x Genero'!#REF!","v":{"$error":"#REF!"}},744]
[{"$f":"'Pob x Genero'!#REF!","v":{"$error":"#REF!"}},{"$f":"'Pob x Genero'!#REF!","v":{"$error":"#REF!"}},{"$f":"'Pob x Genero'!#REF!","v":{"$error":"#REF!"}},{"$f":"'Pob x Genero'!#REF!","v":{"$error":"#REF!"}},{"$f":"'Pob x Genero'!#REF!","v":{"$error":"#REF!"}},"Hombre","00-04",{"$f":"'Pob x Genero'!#REF!","v":{"$error":"#REF!"}},745]
[{"$f":"'Pob x Genero'!#REF!","v":{"$error":"#REF!"}},{"$f":"'Pob x Genero'!#REF!","v":{"$error":"#REF!"}},{"$f":"'Pob x Genero'!#REF!","v":{"$error":"#REF!"}},{"$f":"'Pob x Genero'!#REF!","v":{"$error":"#REF!"}},{"$f":"'Pob x Genero'!#REF!","v":{"$error":"#REF!"}},"Hombre","00-04",{"$f":"'Pob x Genero'!#REF!","v":{"$error":"#REF!"}},746]
[{"$f":"'Pob x Genero'!#REF!","v":{"$error":"#REF!"}},{"$f":"'Pob x Genero'!#REF!","v":{"$error":"#REF!"}},{"$f":"'Pob x Genero'!#REF!","v":{"$error":"#REF!"}},{"$f":"'Pob x Genero'!#REF!","v":{"$error":"#REF!"}},{"$f":"'Pob x Genero'!#REF!","v":{"$error":"#REF!"}},"Hombre","00-04",{"$f":"'Pob x Genero'!#REF!","v":{"$error":"#REF!"}},747]
[{"$f":"'Pob x Genero'!#REF!","v":{"$error":"#REF!"}},{"$f":"'Pob x Genero'!#REF!","v":{"$error":"#REF!"}},{"$f":"'Pob x Genero'!#REF!","v":{"$error":"#REF!"}},{"$f":"'Pob x Genero'!#REF!","v":{"$error":"#REF!"}},{"$f":"'Pob x Genero'!#REF!","v":{"$error":"#REF!"}},"Hombre","00-04",{"$f":"'Pob x Genero'!#REF!","v":{"$error":"#REF!"}},748]
[{"$f":"'Pob x Genero'!#REF!","v":{"$error":"#REF!"}},{"$f":"'Pob x Genero'!#REF!","v":{"$error":"#REF!"}},{"$f":"'Pob x Genero'!#REF!","v":{"$error":"#REF!"}},{"$f":"'Pob x Genero'!#REF!","v":{"$error":"#REF!"}},{"$f":"'Pob x Genero'!#REF!","v":{"$error":"#REF!"}},"Hombre","00-04",{"$f":"'Pob x Genero'!#REF!","v":{"$error":"#REF!"}},749]
[{"$f":"'Pob x Genero'!#REF!","v":{"$error":"#REF!"}},{"$f":"'Pob x Genero'!#REF!","v":{"$error":"#REF!"}},{"$f":"'Pob x Genero'!#REF!","v":{"$error":"#REF!"}},{"$f":"'Pob x Genero'!#REF!","v":{"$error":"#REF!"}},{"$f":"'Pob x Genero'!#REF!","v":{"$error":"#REF!"}},"Hombre","00-04",{"$f":"'Pob x Genero'!#REF!","v":{"$error":"#REF!"}},750]
[{"$f":"'Pob x Genero'!#REF!","v":{"$error":"#REF!"}},{"$f":"'Pob x Genero'!#REF!","v":{"$error":"#REF!"}},{"$f":"'Pob x Genero'!#REF!","v":{"$error":"#REF!"}},{"$f":"'Pob x Genero'!#REF!","v":{"$error":"#REF!"}},{"$f":"'Pob x Genero'!#REF!","v":{"$error":"#REF!"}},"Hombre","00-04",{"$f":"'Pob x Genero'!#REF!","v":{"$error":"#REF!"}},751]
[{"$f":"'Pob x Genero'!#REF!","v":{"$error":"#REF!"}},{"$f":"'Pob x Genero'!#REF!","v":{"$error":"#REF!"}},{"$f":"'Pob x Genero'!#REF!","v":{"$error":"#REF!"}},{"$f":"'Pob x Genero'!#REF!","v":{"$error":"#REF!"}},{"$f":"'Pob x Genero'!#REF!","v":{"$error":"#REF!"}},"Hombre","00-04",{"$f":"'Pob x Genero'!#REF!","v":{"$error":"#REF!"}},752]
[{"$f":"'Pob x Genero'!#REF!","v":{"$error":"#REF!"}},{"$f":"'Pob x Genero'!#REF!","v":{"$error":"#REF!"}},{"$f":"'Pob x Genero'!#REF!","v":{"$error":"#REF!"}},{"$f":"'Pob x Genero'!#REF!","v":{"$error":"#REF!"}},{"$f":"'Pob x Genero'!#REF!","v":{"$error":"#REF!"}},"Hombre","00-04",{"$f":"'Pob x Genero'!#REF!","v":{"$error":"#REF!"}},753]
[{"$f":"'Pob x Genero'!#REF!","v":{"$error":"#REF!"}},{"$f":"'Pob x Genero'!#REF!","v":{"$error":"#REF!"}},{"$f":"'Pob x Genero'!#REF!","v":{"$error":"#REF!"}},{"$f":"'Pob x Genero'!#REF!","v":{"$error":"#REF!"}},{"$f":"'Pob x Genero'!#REF!","v":{"$error":"#REF!"}},"Hombre","00-04",{"$f":"'Pob x Genero'!#REF!","v":{"$error":"#REF!"}},754]
[{"$f":"'Pob x Genero'!#REF!","v":{"$error":"#REF!"}},{"$f":"'Pob x Genero'!#REF!","v":{"$error":"#REF!"}},{"$f":"'Pob x Genero'!#REF!","v":{"$error":"#REF!"}},{"$f":"'Pob x Genero'!#REF!","v":{"$error":"#REF!"}},{"$f":"'Pob x Genero'!#REF!","v":{"$error":"#REF!"}},"Hombre","00-04",{"$f":"'Pob x Genero'!#REF!","v":{"$error":"#REF!"}},755]
[{"$f":"'Pob x Genero'!#REF!","v":{"$error":"#REF!"}},{"$f":"'Pob x Genero'!#REF!","v":{"$error":"#REF!"}},{"$f":"'Pob x Genero'!#REF!","v":{"$error":"#REF!"}},{"$f":"'Pob x Genero'!#REF!","v":{"$error":"#REF!"}},{"$f":"'Pob x Genero'!#REF!","v":{"$error":"#REF!"}},"Hombre","00-04",{"$f":"'Pob x Genero'!#REF!","v":{"$error":"#REF!"}},756]
[{"$f":"'Pob x Genero'!#REF!","v":{"$error":"#REF!"}},{"$f":"'Pob x Genero'!#REF!","v":{"$error":"#REF!"}},{"$f":"'Pob x Genero'!#REF!","v":{"$error":"#REF!"}},{"$f":"'Pob x Genero'!#REF!","v":{"$error":"#REF!"}},{"$f":"'Pob x Genero'!#REF!","v":{"$error":"#REF!"}},"Hombre","00-04",{"$f":"'Pob x Genero'!#REF!","v":{"$error":"#REF!"}},757]
[{"$f":"'Pob x Genero'!#REF!","v":{"$error":"#REF!"}},{"$f":"'Pob x Genero'!#REF!","v":{"$error":"#REF!"}},{"$f":"'Pob x Genero'!#REF!","v":{"$error":"#REF!"}},{"$f":"'Pob x Genero'!#REF!","v":{"$error":"#REF!"}},{"$f":"'Pob x Genero'!#REF!","v":{"$error":"#REF!"}},"Hombre","00-04",{"$f":"'Pob x Genero'!#REF!","v":{"$error":"#REF!"}},758]
[{"$f":"'Pob x Genero'!#REF!","v":{"$error":"#REF!"}},{"$f":"'Pob x Genero'!#REF!","v":{"$error":"#REF!"}},{"$f":"'Pob x Genero'!#REF!","v":{"$error":"#REF!"}},{"$f":"'Pob x Genero'!#REF!","v":{"$error":"#REF!"}},{"$f":"'Pob x Genero'!#REF!","v":{"$error":"#REF!"}},"Hombre","00-04",{"$f":"'Pob x Genero'!#REF!","v":{"$error":"#REF!"}},759]
[{"$f":"'Pob x Genero'!#REF!","v":{"$error":"#REF!"}},{"$f":"'Pob x Genero'!#REF!","v":{"$error":"#REF!"}},{"$f":"'Pob x Genero'!#REF!","v":{"$error":"#REF!"}},{"$f":"'Pob x Genero'!#REF!","v":{"$error":"#REF!"}},{"$f":"'Pob x Genero'!#REF!","v":{"$error":"#REF!"}},"Hombre","00-04",{"$f":"'Pob x Genero'!#REF!","v":{"$error":"#REF!"}},760]
[{"$f":"'Pob x Genero'!#REF!","v":{"$error":"#REF!"}},{"$f":"'Pob x Genero'!#REF!","v":{"$error":"#REF!"}},{"$f":"'Pob x Genero'!#REF!","v":{"$error":"#REF!"}},{"$f":"'Pob x Genero'!#REF!","v":{"$error":"#REF!"}},{"$f":"'Pob x Genero'!#REF!","v":{"$error":"#REF!"}},"Hombre","00-04",{"$f":"'Pob x Genero'!#REF!","v":{"$error":"#REF!"}},761]
[{"$f":"'Pob x Genero'!#REF!","v":{"$error":"#REF!"}},{"$f":"'Pob x Genero'!#REF!","v":{"$error":"#REF!"}},{"$f":"'Pob x Genero'!#REF!","v":{"$error":"#REF!"}},{"$f":"'Pob x Genero'!#REF!","v":{"$error":"#REF!"}},{"$f":"'Pob x Genero'!#REF!","v":{"$error":"#REF!"}},"Hombre","00-04",{"$f":"'Pob x Genero'!#REF!","v":{"$error":"#REF!"}},762]
[{"$f":"'Pob x Genero'!#REF!","v":{"$error":"#REF!"}},{"$f":"'Pob x Genero'!#REF!","v":{"$error":"#REF!"}},{"$f":"'Pob x Genero'!#REF!","v":{"$error":"#REF!"}},{"$f":"'Pob x Genero'!#REF!","v":{"$error":"#REF!"}},{"$f":"'Pob x Genero'!#REF!","v":{"$error":"#REF!"}},"Hombre","00-04",{"$f":"'Pob x Genero'!#REF!","v":{"$error":"#REF!"}},763]
[{"$f":"'Pob x Genero'!#REF!","v":{"$error":"#REF!"}},{"$f":"'Pob x Genero'!#REF!","v":{"$error":"#REF!"}},{"$f":"'Pob x Genero'!#REF!","v":{"$error":"#REF!"}},{"$f":"'Pob x Genero'!#REF!","v":{"$error":"#REF!"}},{"$f":"'Pob x Genero'!#REF!","v":{"$error":"#REF!"}},"Hombre","00-04",{"$f":"'Pob x Genero'!#REF!","v":{"$error":"#REF!"}},764]
[{"$f":"'Pob x Genero'!#REF!","v":{"$error":"#REF!"}},{"$f":"'Pob x Genero'!#REF!","v":{"$error":"#REF!"}},{"$f":"'Pob x Genero'!#REF!","v":{"$error":"#REF!"}},{"$f":"'Pob x Genero'!#REF!","v":{"$error":"#REF!"}},{"$f":"'Pob x Genero'!#REF!","v":{"$error":"#REF!"}},"Hombre","00-04",{"$f":"'Pob x Genero'!#REF!","v":{"$error":"#REF!"}},765]
[{"$f":"'Pob x Genero'!#REF!","v":{"$error":"#REF!"}},{"$f":"'Pob x Genero'!#REF!","v":{"$error":"#REF!"}},{"$f":"'Pob x Genero'!#REF!","v":{"$error":"#REF!"}},{"$f":"'Pob x Genero'!#REF!","v":{"$error":"#REF!"}},{"$f":"'Pob x Genero'!#REF!","v":{"$error":"#REF!"}},"Hombre","00-04",{"$f":"'Pob x Genero'!#REF!","v":{"$error":"#REF!"}},766]
[{"$f":"'Pob x Genero'!#REF!","v":{"$error":"#REF!"}},{"$f":"'Pob x Genero'!#REF!","v":{"$error":"#REF!"}},{"$f":"'Pob x Genero'!#REF!","v":{"$error":"#REF!"}},{"$f":"'Pob x Genero'!#REF!","v":{"$error":"#REF!"}},{"$f":"'Pob x Genero'!#REF!","v":{"$error":"#REF!"}},"Hombre","00-04",{"$f":"'Pob x Genero'!#REF!","v":{"$error":"#REF!"}},767]
[{"$f":"'Pob x Genero'!#REF!","v":{"$error":"#REF!"}},{"$f":"'Pob x Genero'!#REF!","v":{"$error":"#REF!"}},{"$f":"'Pob x Genero'!#REF!","v":{"$error":"#REF!"}},{"$f":"'Pob x Genero'!#REF!","v":{"$error":"#REF!"}},{"$f":"'Pob x Genero'!#REF!","v":{"$error":"#REF!"}},"Hombre","00-04",{"$f":"'Pob x Genero'!#REF!","v":{"$error":"#REF!"}},768]
[{"$f":"'Pob x Genero'!#REF!","v":{"$error":"#REF!"}},{"$f":"'Pob x Genero'!#REF!","v":{"$error":"#REF!"}},{"$f":"'Pob x Genero'!#REF!","v":{"$error":"#REF!"}},{"$f":"'Pob x Genero'!#REF!","v":{"$error":"#REF!"}},{"$f":"'Pob x Genero'!#REF!","v":{"$error":"#REF!"}},"Hombre","00-04",{"$f":"'Pob x Genero'!#REF!","v":{"$error":"#REF!"}},769]
[{"$f":"'Pob x Genero'!#REF!","v":{"$error":"#REF!"}},{"$f":"'Pob x Genero'!#REF!","v":{"$error":"#REF!"}},{"$f":"'Pob x Genero'!#REF!","v":{"$error":"#REF!"}},{"$f":"'Pob x Genero'!#REF!","v":{"$error":"#REF!"}},{"$f":"'Pob x Genero'!#REF!","v":{"$error":"#REF!"}},{"$f":"F770","v":"Hombre"},{"$f":"G770","v":"00-04"},{"$f":"'Pob x Genero'!#REF!","v":{"$error":"#REF!"}},770]
[{"$f":"'Pob x Genero'!#REF!","v":{"$error":"#REF!"}},{"$f":"'Pob x Genero'!#REF!","v":{"$error":"#REF!"}},{"$f":"'Pob x Genero'!#REF!","v":{"$error":"#REF!"}},{"$f":"'Pob x Genero'!#REF!","v":{"$error":"#REF!"}},{"$f":"'Pob x Genero'!#REF!","v":{"$error":"#REF!"}},"Hombre","00-04",{"$f":"'Pob x Genero'!#REF!","v":{"$error":"#REF!"}},771]
[{"$f":"'Pob x Genero'!#REF!","v":{"$error":"#REF!"}},{"$f":"'Pob x Genero'!#REF!","v":{"$error":"#REF!"}},{"$f":"'Pob x Genero'!#REF!","v":{"$error":"#REF!"}},{"$f":"'Pob x Genero'!#REF!","v":{"$error":"#REF!"}},{"$f":"'Pob x Genero'!#REF!","v":{"$error":"#REF!"}},"Hombre","00-04",{"$f":"'Pob x Genero'!#REF!","v":{"$error":"#REF!"}},772]
[{"$f":"'Pob x Genero'!#REF!","v":{"$error":"#REF!"}},{"$f":"'Pob x Genero'!#REF!","v":{"$error":"#REF!"}},{"$f":"'Pob x Genero'!#REF!","v":{"$error":"#REF!"}},{"$f":"'Pob x Genero'!#REF!","v":{"$error":"#REF!"}},{"$f":"'Pob x Genero'!#REF!","v":{"$error":"#REF!"}},"Hombre","00-04",{"$f":"'Pob x Genero'!#REF!","v":{"$error":"#REF!"}},773]
[{"$f":"'Pob x Genero'!#REF!","v":{"$error":"#REF!"}},{"$f":"'Pob x Genero'!#REF!","v":{"$error":"#REF!"}},{"$f":"'Pob x Genero'!#REF!","v":{"$error":"#REF!"}},{"$f":"'Pob x Genero'!#REF!","v":{"$error":"#REF!"}},{"$f":"'Pob x Genero'!#REF!","v":{"$error":"#REF!"}},"Hombre","00-04",{"$f":"'Pob x Genero'!#REF!","v":{"$error":"#REF!"}},774]
[{"$f":"'Pob x Genero'!#REF!","v":{"$error":"#REF!"}},{"$f":"'Pob x Genero'!#REF!","v":{"$error":"#REF!"}},{"$f":"'Pob x Genero'!#REF!","v":{"$error":"#REF!"}},{"$f":"'Pob x Genero'!#REF!","v":{"$error":"#REF!"}},{"$f":"'Pob x Genero'!#REF!","v":{"$error":"#REF!"}},"Hombre","00-04",{"$f":"'Pob x Genero'!#REF!","v":{"$error":"#REF!"}},775]
[{"$f":"'Pob x Genero'!#REF!","v":{"$error":"#REF!"}},{"$f":"'Pob x Genero'!#REF!","v":{"$error":"#REF!"}},{"$f":"'Pob x Genero'!#REF!","v":{"$error":"#REF!"}},{"$f":"'Pob x Genero'!#REF!","v":{"$error":"#REF!"}},{"$f":"'Pob x Genero'!#REF!","v":{"$error":"#REF!"}},"Hombre","00-04",{"$f":"'Pob x Genero'!#REF!","v":{"$error":"#REF!"}},776]
[{"$f":"'Pob x Genero'!#REF!","v":{"$error":"#REF!"}},{"$f":"'Pob x Genero'!#REF!","v":{"$error":"#REF!"}},{"$f":"'Pob x Genero'!#REF!","v":{"$error":"#REF!"}},{"$f":"'Pob x Genero'!#REF!","v":{"$error":"#REF!"}},{"$f":"'Pob x Genero'!#REF!","v":{"$error":"#REF!"}},"Hombre","00-04",{"$f":"'Pob x Genero'!#REF!","v":{"$error":"#REF!"}},777]
[{"$f":"'Pob x Genero'!#REF!","v":{"$error":"#REF!"}},{"$f":"'Pob x Genero'!#REF!","v":{"$error":"#REF!"}},{"$f":"'Pob x Genero'!#REF!","v":{"$error":"#REF!"}},{"$f":"'Pob x Genero'!#REF!","v":{"$error":"#REF!"}},{"$f":"'Pob x Genero'!#REF!","v":{"$error":"#REF!"}},"Hombre","00-04",{"$f":"'Pob x Genero'!#REF!","v":{"$error":"#REF!"}},778]
[{"$f":"'Pob x Genero'!#REF!","v":{"$error":"#REF!"}},{"$f":"'Pob x Genero'!#REF!","v":{"$error":"#REF!"}},{"$f":"'Pob x Genero'!#REF!","v":{"$error":"#REF!"}},{"$f":"'Pob x Genero'!#REF!","v":{"$error":"#REF!"}},{"$f":"'Pob x Genero'!#REF!","v":{"$error":"#REF!"}},"Hombre","00-04",{"$f":"'Pob x Genero'!#REF!","v":{"$error":"#REF!"}},779]
[{"$f":"'Pob x Genero'!#REF!","v":{"$error":"#REF!"}},{"$f":"'Pob x Genero'!#REF!","v":{"$error":"#REF!"}},{"$f":"'Pob x Genero'!#REF!","v":{"$error":"#REF!"}},{"$f":"'Pob x Genero'!#REF!","v":{"$error":"#REF!"}},{"$f":"'Pob x Genero'!#REF!","v":{"$error":"#REF!"}},"Hombre","00-04",{"$f":"'Pob x Genero'!#REF!","v":{"$error":"#REF!"}},780]
[{"$f":"'Pob x Genero'!#REF!","v":{"$error":"#REF!"}},{"$f":"'Pob x Genero'!#REF!","v":{"$error":"#REF!"}},{"$f":"'Pob x Genero'!#REF!","v":{"$error":"#REF!"}},{"$f":"'Pob x Genero'!#REF!","v":{"$error":"#REF!"}},{"$f":"'Pob x Genero'!#REF!","v":{"$error":"#REF!"}},"Hombre","00-04",{"$f":"'Pob x Genero'!#REF!","v":{"$error":"#REF!"}},781]
[{"$f":"'Pob x Genero'!#REF!","v":{"$error":"#REF!"}},{"$f":"'Pob x Genero'!#REF!","v":{"$error":"#REF!"}},{"$f":"'Pob x Genero'!#REF!","v":{"$error":"#REF!"}},{"$f":"'Pob x Genero'!#REF!","v":{"$error":"#REF!"}},{"$f":"'Pob x Genero'!#REF!","v":{"$error":"#REF!"}},"Hombre","00-04",{"$f":"'Pob x Genero'!#REF!","v":{"$error":"#REF!"}},782]
[{"$f":"'Pob x Genero'!#REF!","v":{"$error":"#REF!"}},{"$f":"'Pob x Genero'!#REF!","v":{"$error":"#REF!"}},{"$f":"'Pob x Genero'!#REF!","v":{"$error":"#REF!"}},{"$f":"'Pob x Genero'!#REF!","v":{"$error":"#REF!"}},{"$f":"'Pob x Genero'!#REF!","v":{"$error":"#REF!"}},"Hombre","00-04",{"$f":"'Pob x Genero'!#REF!","v":{"$error":"#REF!"}},783]
[{"$f":"'Pob x Genero'!#REF!","v":{"$error":"#REF!"}},{"$f":"'Pob x Genero'!#REF!","v":{"$error":"#REF!"}},{"$f":"'Pob x Genero'!#REF!","v":{"$error":"#REF!"}},{"$f":"'Pob x Genero'!#REF!","v":{"$error":"#REF!"}},{"$f":"'Pob x Genero'!#REF!","v":{"$error":"#REF!"}},"Hombre","00-04",{"$f":"'Pob x Genero'!#REF!","v":{"$error":"#REF!"}},784]
[{"$f":"'Pob x Genero'!#REF!","v":{"$error":"#REF!"}},{"$f":"'Pob x Genero'!#REF!","v":{"$error":"#REF!"}},{"$f":"'Pob x Genero'!#REF!","v":{"$error":"#REF!"}},{"$f":"'Pob x Genero'!#REF!","v":{"$error":"#REF!"}},{"$f":"'Pob x Genero'!#REF!","v":{"$error":"#REF!"}},"Hombre","00-04",{"$f":"'Pob x Genero'!#REF!","v":{"$error":"#REF!"}},785]
[{"$f":"'Pob x Genero'!#REF!","v":{"$error":"#REF!"}},{"$f":"'Pob x Genero'!#REF!","v":{"$error":"#REF!"}},{"$f":"'Pob x Genero'!#REF!","v":{"$error":"#REF!"}},{"$f":"'Pob x Genero'!#REF!","v":{"$error":"#REF!"}},{"$f":"'Pob x Genero'!#REF!","v":{"$error":"#REF!"}},"Hombre","00-04",{"$f":"'Pob x Genero'!#REF!","v":{"$error":"#REF!"}},786]
[{"$f":"'Pob x Genero'!#REF!","v":{"$error":"#REF!"}},{"$f":"'Pob x Genero'!#REF!","v":{"$error":"#REF!"}},{"$f":"'Pob x Genero'!#REF!","v":{"$error":"#REF!"}},{"$f":"'Pob x Genero'!#REF!","v":{"$error":"#REF!"}},{"$f":"'Pob x Genero'!#REF!","v":{"$error":"#REF!"}},"Hombre","00-04",{"$f":"'Pob x Genero'!#REF!","v":{"$error":"#REF!"}},787]
[{"$f":"'Pob x Genero'!#REF!","v":{"$error":"#REF!"}},{"$f":"'Pob x Genero'!#REF!","v":{"$error":"#REF!"}},{"$f":"'Pob x Genero'!#REF!","v":{"$error":"#REF!"}},{"$f":"'Pob x Genero'!#REF!","v":{"$error":"#REF!"}},{"$f":"'Pob x Genero'!#REF!","v":{"$error":"#REF!"}},"Hombre","00-04",{"$f":"'Pob x Genero'!#REF!","v":{"$error":"#REF!"}},788]
[{"$f":"'Pob x Genero'!#REF!","v":{"$error":"#REF!"}},{"$f":"'Pob x Genero'!#REF!","v":{"$error":"#REF!"}},{"$f":"'Pob x Genero'!#REF!","v":{"$error":"#REF!"}},{"$f":"'Pob x Genero'!#REF!","v":{"$error":"#REF!"}},{"$f":"'Pob x Genero'!#REF!","v":{"$error":"#REF!"}},"Hombre","00-04",{"$f":"'Pob x Genero'!#REF!","v":{"$error":"#REF!"}},789]
[{"$f":"'Pob x Genero'!#REF!","v":{"$error":"#REF!"}},{"$f":"'Pob x Genero'!#REF!","v":{"$error":"#REF!"}},{"$f":"'Pob x Genero'!#REF!","v":{"$error":"#REF!"}},{"$f":"'Pob x Genero'!#REF!","v":{"$error":"#REF!"}},{"$f":"'Pob x Genero'!#REF!","v":{"$error":"#REF!"}},"Hombre","00-04",{"$f":"'Pob x Genero'!#REF!","v":{"$error":"#REF!"}},790]
[{"$f":"'Pob x Genero'!#REF!","v":{"$error":"#REF!"}},{"$f":"'Pob x Genero'!#REF!","v":{"$error":"#REF!"}},{"$f":"'Pob x Genero'!#REF!","v":{"$error":"#REF!"}},{"$f":"'Pob x Genero'!#REF!","v":{"$error":"#REF!"}},{"$f":"'Pob x Genero'!#REF!","v":{"$error":"#REF!"}},"Hombre","00-04",{"$f":"'Pob x Genero'!#REF!","v":{"$error":"#REF!"}},791]
[{"$f":"'Pob x Genero'!#REF!","v":{"$error":"#REF!"}},{"$f":"'Pob x Genero'!#REF!","v":{"$error":"#REF!"}},{"$f":"'Pob x Genero'!#REF!","v":{"$error":"#REF!"}},{"$f":"'Pob x Genero'!#REF!","v":{"$error":"#REF!"}},{"$f":"'Pob x Genero'!#REF!","v":{"$error":"#REF!"}},"Hombre","00-04",{"$f":"'Pob x Genero'!#REF!","v":{"$error":"#REF!"}},792]
[{"$f":"'Pob x Genero'!#REF!","v":{"$error":"#REF!"}},{"$f":"'Pob x Genero'!#REF!","v":{"$error":"#REF!"}},{"$f":"'Pob x Genero'!#REF!","v":{"$error":"#REF!"}},{"$f":"'Pob x Genero'!#REF!","v":{"$error":"#REF!"}},{"$f":"'Pob x Genero'!#REF!","v":{"$error":"#REF!"}},"Hombre","00-04",{"$f":"'Pob x Genero'!#REF!","v":{"$error":"#REF!"}},793]
[{"$f":"'Pob x Genero'!#REF!","v":{"$error":"#REF!"}},{"$f":"'Pob x Genero'!#REF!","v":{"$error":"#REF!"}},{"$f":"'Pob x Genero'!#REF!","v":{"$error":"#REF!"}},{"$f":"'Pob x Genero'!#REF!","v":{"$error":"#REF!"}},{"$f":"'Pob x Genero'!#REF!","v":{"$error":"#REF!"}},"Hombre","00-04",{"$f":"'Pob x Genero'!#REF!","v":{"$error":"#REF!"}},794]
[{"$f":"'Pob x Genero'!#REF!","v":{"$error":"#REF!"}},{"$f":"'Pob x Genero'!#REF!","v":{"$error":"#REF!"}},{"$f":"'Pob x Genero'!#REF!","v":{"$error":"#REF!"}},{"$f":"'Pob x Genero'!#REF!","v":{"$error":"#REF!"}},{"$f":"'Pob x Genero'!#REF!","v":{"$error":"#REF!"}},"Hombre","00-04",{"$f":"'Pob x Genero'!#REF!","v":{"$error":"#REF!"}},795]
[{"$f":"'Pob x Genero'!#REF!","v":{"$error":"#REF!"}},{"$f":"'Pob x Genero'!#REF!","v":{"$error":"#REF!"}},{"$f":"'Pob x Genero'!#REF!","v":{"$error":"#REF!"}},{"$f":"'Pob x Genero'!#REF!","v":{"$error":"#REF!"}},{"$f":"'Pob x Genero'!#REF!","v":{"$error":"#REF!"}},"Hombre","00-04",{"$f":"'Pob x Genero'!#REF!","v":{"$error":"#REF!"}},796]
[{"$f":"'Pob x Genero'!#REF!","v":{"$error":"#REF!"}},{"$f":"'Pob x Genero'!#REF!","v":{"$error":"#REF!"}},{"$f":"'Pob x Genero'!#REF!","v":{"$error":"#REF!"}},{"$f":"'Pob x Genero'!#REF!","v":{"$error":"#REF!"}},{"$f":"'Pob x Genero'!#REF!","v":{"$error":"#REF!"}},"Hombre","00-04",{"$f":"'Pob x Genero'!#REF!","v":{"$error":"#REF!"}},797]
[{"$f":"'Pob x Genero'!#REF!","v":{"$error":"#REF!"}},{"$f":"'Pob x Genero'!#REF!","v":{"$error":"#REF!"}},{"$f":"'Pob x Genero'!#REF!","v":{"$error":"#REF!"}},{"$f":"'Pob x Genero'!#REF!","v":{"$error":"#REF!"}},{"$f":"'Pob x Genero'!#REF!","v":{"$error":"#REF!"}},"Hombre","00-04",{"$f":"'Pob x Genero'!#REF!","v":{"$error":"#REF!"}},798]
[{"$f":"'Pob x Genero'!#REF!","v":{"$error":"#REF!"}},{"$f":"'Pob x Genero'!#REF!","v":{"$error":"#REF!"}},{"$f":"'Pob x Genero'!#REF!","v":{"$error":"#REF!"}},{"$f":"'Pob x Genero'!#REF!","v":{"$error":"#REF!"}},{"$f":"'Pob x Genero'!#REF!","v":{"$error":"#REF!"}},"Hombre","00-04",{"$f":"'Pob x Genero'!#REF!","v":{"$error":"#REF!"}},799]
[{"$f":"'Pob x Genero'!#REF!","v":{"$error":"#REF!"}},{"$f":"'Pob x Genero'!#REF!","v":{"$error":"#REF!"}},{"$f":"'Pob x Genero'!#REF!","v":{"$error":"#REF!"}},{"$f":"'Pob x Genero'!#REF!","v":{"$error":"#REF!"}},{"$f":"'Pob x Genero'!#REF!","v":{"$error":"#REF!"}},"Hombre","00-04",{"$f":"'Pob x Genero'!#REF!","v":{"$error":"#REF!"}},800]
[{"$f":"'Pob x Genero'!#REF!","v":{"$error":"#REF!"}},{"$f":"'Pob x Genero'!#REF!","v":{"$error":"#REF!"}},{"$f":"'Pob x Genero'!#REF!","v":{"$error":"#REF!"}},{"$f":"'Pob x Genero'!#REF!","v":{"$error":"#REF!"}},{"$f":"'Pob x Genero'!#REF!","v":{"$error":"#REF!"}},"Hombre","00-04",{"$f":"'Pob x Genero'!#REF!","v":{"$error":"#REF!"}},801]
[{"$f":"'Pob x Genero'!#REF!","v":{"$error":"#REF!"}},{"$f":"'Pob x Genero'!#REF!","v":{"$error":"#REF!"}},{"$f":"'Pob x Genero'!#REF!","v":{"$error":"#REF!"}},{"$f":"'Pob x Genero'!#REF!","v":{"$error":"#REF!"}},{"$f":"'Pob x Genero'!#REF!","v":{"$error":"#REF!"}},"Hombre","00-04",{"$f":"'Pob x Genero'!#REF!","v":{"$error":"#REF!"}},802]
[{"$f":"'Pob x Genero'!#REF!","v":{"$error":"#REF!"}},{"$f":"'Pob x Genero'!#REF!","v":{"$error":"#REF!"}},{"$f":"'Pob x Genero'!#REF!","v":{"$error":"#REF!"}},{"$f":"'Pob x Genero'!#REF!","v":{"$error":"#REF!"}},{"$f":"'Pob x Genero'!#REF!","v":{"$error":"#REF!"}},"Hombre","00-04",{"$f":"'Pob x Genero'!#REF!","v":{"$error":"#REF!"}},803]
[{"$f":"'Pob x Genero'!#REF!","v":{"$error":"#REF!"}},{"$f":"'Pob x Genero'!#REF!","v":{"$error":"#REF!"}},{"$f":"'Pob x Genero'!#REF!","v":{"$error":"#REF!"}},{"$f":"'Pob x Genero'!#REF!","v":{"$error":"#REF!"}},{"$f":"'Pob x Genero'!#REF!","v":{"$error":"#REF!"}},"Hombre","00-04",{"$f":"'Pob x Genero'!#REF!","v":{"$error":"#REF!"}},804]
[{"$f":"'Pob x Genero'!#REF!","v":{"$error":"#REF!"}},{"$f":"'Pob x Genero'!#REF!","v":{"$error":"#REF!"}},{"$f":"'Pob x Genero'!#REF!","v":{"$error":"#REF!"}},{"$f":"'Pob x Genero'!#REF!","v":{"$error":"#REF!"}},{"$f":"'Pob x Genero'!#REF!","v":{"$error":"#REF!"}},"Hombre","00-04",{"$f":"'Pob x Genero'!#REF!","v":{"$error":"#REF!"}},805]
[{"$f":"'Pob x Genero'!#REF!","v":{"$error":"#REF!"}},{"$f":"'Pob x Genero'!#REF!","v":{"$error":"#REF!"}},{"$f":"'Pob x Genero'!#REF!","v":{"$error":"#REF!"}},{"$f":"'Pob x Genero'!#REF!","v":{"$error":"#REF!"}},{"$f":"'Pob x Genero'!#REF!","v":{"$error":"#REF!"}},"Hombre","00-04",{"$f":"'Pob x Genero'!#REF!","v":{"$error":"#REF!"}},806]
[{"$f":"'Pob x Genero'!#REF!","v":{"$error":"#REF!"}},{"$f":"'Pob x Genero'!#REF!","v":{"$error":"#REF!"}},{"$f":"'Pob x Genero'!#REF!","v":{"$error":"#REF!"}},{"$f":"'Pob x Genero'!#REF!","v":{"$error":"#REF!"}},{"$f":"'Pob x Genero'!#REF!","v":{"$error":"#REF!"}},"Hombre","00-04",{"$f":"'Pob x Genero'!#REF!","v":{"$error":"#REF!"}},807]
[{"$f":"'Pob x Genero'!#REF!","v":{"$error":"#REF!"}},{"$f":"'Pob x Genero'!#REF!","v":{"$error":"#REF!"}},{"$f":"'Pob x Genero'!#REF!","v":{"$error":"#REF!"}},{"$f":"'Pob x Genero'!#REF!","v":{"$error":"#REF!"}},{"$f":"'Pob x Genero'!#REF!","v":{"$error":"#REF!"}},"Hombre","00-04",{"$f":"'Pob x Genero'!#REF!","v":{"$error":"#REF!"}},808]
[{"$f":"'Pob x Genero'!#REF!","v":{"$error":"#REF!"}},{"$f":"'Pob x Genero'!#REF!","v":{"$error":"#REF!"}},{"$f":"'Pob x Genero'!#REF!","v":{"$error":"#REF!"}},{"$f":"'Pob x Genero'!#REF!","v":{"$error":"#REF!"}},{"$f":"'Pob x Genero'!#REF!","v":{"$error":"#REF!"}},"Hombre","00-04",{"$f":"'Pob x Genero'!#REF!","v":{"$error":"#REF!"}},809]
[{"$f":"'Pob x Genero'!#REF!","v":{"$error":"#REF!"}},{"$f":"'Pob x Genero'!#REF!","v":{"$error":"#REF!"}},{"$f":"'Pob x Genero'!#REF!","v":{"$error":"#REF!"}},{"$f":"'Pob x Genero'!#REF!","v":{"$error":"#REF!"}},{"$f":"'Pob x Genero'!#REF!","v":{"$error":"#REF!"}},"Hombre","00-04",{"$f":"'Pob x Genero'!#REF!","v":{"$error":"#REF!"}},810]
[{"$f":"'Pob x Genero'!#REF!","v":{"$error":"#REF!"}},{"$f":"'Pob x Genero'!#REF!","v":{"$error":"#REF!"}},{"$f":"'Pob x Genero'!#REF!","v":{"$error":"#REF!"}},{"$f":"'Pob x Genero'!#REF!","v":{"$error":"#REF!"}},{"$f":"'Pob x Genero'!#REF!","v":{"$error":"#REF!"}},"Hombre","00-04",{"$f":"'Pob x Genero'!#REF!","v":{"$error":"#REF!"}},811]
[{"$f":"'Pob x Genero'!#REF!","v":{"$error":"#REF!"}},{"$f":"'Pob x Genero'!#REF!","v":{"$error":"#REF!"}},{"$f":"'Pob x Genero'!#REF!","v":{"$error":"#REF!"}},{"$f":"'Pob x Genero'!#REF!","v":{"$error":"#REF!"}},{"$f":"'Pob x Genero'!#REF!","v":{"$error":"#REF!"}},"Hombre","00-04",{"$f":"'Pob x Genero'!#REF!","v":{"$error":"#REF!"}},812]
[{"$f":"'Pob x Genero'!#REF!","v":{"$error":"#REF!"}},{"$f":"'Pob x Genero'!#REF!","v":{"$error":"#REF!"}},{"$f":"'Pob x Genero'!#REF!","v":{"$error":"#REF!"}},{"$f":"'Pob x Genero'!#REF!","v":{"$error":"#REF!"}},{"$f":"'Pob x Genero'!#REF!","v":{"$error":"#REF!"}},"Hombre","00-04",{"$f":"'Pob x Genero'!#REF!","v":{"$error":"#REF!"}},813]
[{"$f":"'Pob x Genero'!#REF!","v":{"$error":"#REF!"}},{"$f":"'Pob x Genero'!#REF!","v":{"$error":"#REF!"}},{"$f":"'Pob x Genero'!#REF!","v":{"$error":"#REF!"}},{"$f":"'Pob x Genero'!#REF!","v":{"$error":"#REF!"}},{"$f":"'Pob x Genero'!#REF!","v":{"$error":"#REF!"}},"Hombre","00-04",{"$f":"'Pob x Genero'!#REF!","v":{"$error":"#REF!"}},814]
[{"$f":"'Pob x Genero'!#REF!","v":{"$error":"#REF!"}},{"$f":"'Pob x Genero'!#REF!","v":{"$error":"#REF!"}},{"$f":"'Pob x Genero'!#REF!","v":{"$error":"#REF!"}},{"$f":"'Pob x Genero'!#REF!","v":{"$error":"#REF!"}},{"$f":"'Pob x Genero'!#REF!","v":{"$error":"#REF!"}},"Hombre","00-04",{"$f":"'Pob x Genero'!#REF!","v":{"$error":"#REF!"}},815]
[{"$f":"'Pob x Genero'!#REF!","v":{"$error":"#REF!"}},{"$f":"'Pob x Genero'!#REF!","v":{"$error":"#REF!"}},{"$f":"'Pob x Genero'!#REF!","v":{"$error":"#REF!"}},{"$f":"'Pob x Genero'!#REF!","v":{"$error":"#REF!"}},{"$f":"'Pob x Genero'!#REF!","v":{"$error":"#REF!"}},"Hombre","00-04",{"$f":"'Pob x Genero'!#REF!","v":{"$error":"#REF!"}},816]
[{"$f":"'Pob x Genero'!#REF!","v":{"$error":"#REF!"}},{"$f":"'Pob x Genero'!#REF!","v":{"$error":"#REF!"}},{"$f":"'Pob x Genero'!#REF!","v":{"$error":"#REF!"}},{"$f":"'Pob x Genero'!#REF!","v":{"$error":"#REF!"}},{"$f":"'Pob x Genero'!#REF!","v":{"$error":"#REF!"}},"Hombre","00-04",{"$f":"'Pob x Genero'!#REF!","v":{"$error":"#REF!"}},817]
[{"$f":"'Pob x Genero'!#REF!","v":{"$error":"#REF!"}},{"$f":"'Pob x Genero'!#REF!","v":{"$error":"#REF!"}},{"$f":"'Pob x Genero'!#REF!","v":{"$error":"#REF!"}},{"$f":"'Pob x Genero'!#REF!","v":{"$error":"#REF!"}},{"$f":"'Pob x Genero'!#REF!","v":{"$error":"#REF!"}},"Hombre","00-04",{"$f":"'Pob x Genero'!#REF!","v":{"$error":"#REF!"}},818]
[{"$f":"'Pob x Genero'!#REF!","v":{"$error":"#REF!"}},{"$f":"'Pob x Genero'!#REF!","v":{"$error":"#REF!"}},{"$f":"'Pob x Genero'!#REF!","v":{"$error":"#REF!"}},{"$f":"'Pob x Genero'!#REF!","v":{"$error":"#REF!"}},{"$f":"'Pob x Genero'!#REF!","v":{"$error":"#REF!"}},"Hombre","00-04",{"$f":"'Pob x Genero'!#REF!","v":{"$error":"#REF!"}},819]
[{"$f":"'Pob x Genero'!#REF!","v":{"$error":"#REF!"}},{"$f":"'Pob x Genero'!#REF!","v":{"$error":"#REF!"}},{"$f":"'Pob x Genero'!#REF!","v":{"$error":"#REF!"}},{"$f":"'Pob x Genero'!#REF!","v":{"$error":"#REF!"}},{"$f":"'Pob x Genero'!#REF!","v":{"$error":"#REF!"}},"Hombre","00-04",{"$f":"'Pob x Genero'!#REF!","v":{"$error":"#REF!"}},820]
[{"$f":"'Pob x Genero'!#REF!","v":{"$error":"#REF!"}},{"$f":"'Pob x Genero'!#REF!","v":{"$error":"#REF!"}},{"$f":"'Pob x Genero'!#REF!","v":{"$error":"#REF!"}},{"$f":"'Pob x Genero'!#REF!","v":{"$error":"#REF!"}},{"$f":"'Pob x Genero'!#REF!","v":{"$error":"#REF!"}},"Hombre","00-04",{"$f":"'Pob x Genero'!#REF!","v":{"$error":"#REF!"}},821]
[{"$f":"'Pob x Genero'!#REF!","v":{"$error":"#REF!"}},{"$f":"'Pob x Genero'!#REF!","v":{"$error":"#REF!"}},{"$f":"'Pob x Genero'!#REF!","v":{"$error":"#REF!"}},{"$f":"'Pob x Genero'!#REF!","v":{"$error":"#REF!"}},{"$f":"'Pob x Genero'!#REF!","v":{"$error":"#REF!"}},"Hombre","00-04",{"$f":"'Pob x Genero'!#REF!","v":{"$error":"#REF!"}},822]
[{"$f":"'Pob x Genero'!#REF!","v":{"$error":"#REF!"}},{"$f":"'Pob x Genero'!#REF!","v":{"$error":"#REF!"}},{"$f":"'Pob x Genero'!#REF!","v":{"$error":"#REF!"}},{"$f":"'Pob x Genero'!#REF!","v":{"$error":"#REF!"}},{"$f":"'Pob x Genero'!#REF!","v":{"$error":"#REF!"}},"Hombre","00-04",{"$f":"'Pob x Genero'!#REF!","v":{"$error":"#REF!"}},823]
[{"$f":"'Pob x Genero'!#REF!","v":{"$error":"#REF!"}},{"$f":"'Pob x Genero'!#REF!","v":{"$error":"#REF!"}},{"$f":"'Pob x Genero'!#REF!","v":{"$error":"#REF!"}},{"$f":"'Pob x Genero'!#REF!","v":{"$error":"#REF!"}},{"$f":"'Pob x Genero'!#REF!","v":{"$error":"#REF!"}},"Hombre","00-04",{"$f":"'Pob x Genero'!#REF!","v":{"$error":"#REF!"}},824]
[{"$f":"'Pob x Genero'!#REF!","v":{"$error":"#REF!"}},{"$f":"'Pob x Genero'!#REF!","v":{"$error":"#REF!"}},{"$f":"'Pob x Genero'!#REF!","v":{"$error":"#REF!"}},{"$f":"'Pob x Genero'!#REF!","v":{"$error":"#REF!"}},{"$f":"'Pob x Genero'!#REF!","v":{"$error":"#REF!"}},"Hombre","00-04",{"$f":"'Pob x Genero'!#REF!","v":{"$error":"#REF!"}},825]
[{"$f":"'Pob x Genero'!#REF!","v":{"$error":"#REF!"}},{"$f":"'Pob x Genero'!#REF!","v":{"$error":"#REF!"}},{"$f":"'Pob x Genero'!#REF!","v":{"$error":"#REF!"}},{"$f":"'Pob x Genero'!#REF!","v":{"$error":"#REF!"}},{"$f":"'Pob x Genero'!#REF!","v":{"$error":"#REF!"}},"Hombre","00-04",{"$f":"'Pob x Genero'!#REF!","v":{"$error":"#REF!"}},826]
[{"$f":"'Pob x Genero'!#REF!","v":{"$error":"#REF!"}},{"$f":"'Pob x Genero'!#REF!","v":{"$error":"#REF!"}},{"$f":"'Pob x Genero'!#REF!","v":{"$error":"#REF!"}},{"$f":"'Pob x Genero'!#REF!","v":{"$error":"#REF!"}},{"$f":"'Pob x Genero'!#REF!","v":{"$error":"#REF!"}},"Hombre","00-04",{"$f":"'Pob x Genero'!#REF!","v":{"$error":"#REF!"}},827]
[{"$f":"'Pob x Genero'!#REF!","v":{"$error":"#REF!"}},{"$f":"'Pob x Genero'!#REF!","v":{"$error":"#REF!"}},{"$f":"'Pob x Genero'!#REF!","v":{"$error":"#REF!"}},{"$f":"'Pob x Genero'!#REF!","v":{"$error":"#REF!"}},{"$f":"'Pob x Genero'!#REF!","v":{"$error":"#REF!"}},"Hombre","00-04",{"$f":"'Pob x Genero'!#REF!","v":{"$error":"#REF!"}},828]
[{"$f":"'Pob x Genero'!#REF!","v":{"$error":"#REF!"}},{"$f":"'Pob x Genero'!#REF!","v":{"$error":"#REF!"}},{"$f":"'Pob x Genero'!#REF!","v":{"$error":"#REF!"}},{"$f":"'Pob x Genero'!#REF!","v":{"$error":"#REF!"}},{"$f":"'Pob x Genero'!#REF!","v":{"$error":"#REF!"}},"Hombre","00-04",{"$f":"'Pob x Genero'!#REF!","v":{"$error":"#REF!"}},829]
[{"$f":"'Pob x Genero'!#REF!","v":{"$error":"#REF!"}},{"$f":"'Pob x Genero'!#REF!","v":{"$error":"#REF!"}},{"$f":"'Pob x Genero'!#REF!","v":{"$error":"#REF!"}},{"$f":"'Pob x Genero'!#REF!","v":{"$error":"#REF!"}},{"$f":"'Pob x Genero'!#REF!","v":{"$error":"#REF!"}},"Hombre","00-04",{"$f":"'Pob x Genero'!#REF!","v":{"$error":"#REF!"}},830]
[{"$f":"'Pob x Genero'!#REF!","v":{"$error":"#REF!"}},{"$f":"'Pob x Genero'!#REF!","v":{"$error":"#REF!"}},{"$f":"'Pob x Genero'!#REF!","v":{"$error":"#REF!"}},{"$f":"'Pob x Genero'!#REF!","v":{"$error":"#REF!"}},{"$f":"'Pob x Genero'!#REF!","v":{"$error":"#REF!"}},"Hombre","00-04",{"$f":"'Pob x Genero'!#REF!","v":{"$error":"#REF!"}},831]
[{"$f":"'Pob x Genero'!#REF!","v":{"$error":"#REF!"}},{"$f":"'Pob x Genero'!#REF!","v":{"$error":"#REF!"}},{"$f":"'Pob x Genero'!#REF!","v":{"$error":"#REF!"}},{"$f":"'Pob x Genero'!#REF!","v":{"$error":"#REF!"}},{"$f":"'Pob x Genero'!#REF!","v":{"$error":"#REF!"}},"Hombre","00-04",{"$f":"'Pob x Genero'!#REF!","v":{"$error":"#REF!"}},832]
[{"$f":"'Pob x Genero'!#REF!","v":{"$error":"#REF!"}},{"$f":"'Pob x Genero'!#REF!","v":{"$error":"#REF!"}},{"$f":"'Pob x Genero'!#REF!","v":{"$error":"#REF!"}},{"$f":"'Pob x Genero'!#REF!","v":{"$error":"#REF!"}},{"$f":"'Pob x Genero'!#REF!","v":{"$error":"#REF!"}},"Hombre","00-04",{"$f":"'Pob x Genero'!#REF!","v":{"$error":"#REF!"}},833]
[{"$f":"'Pob x Genero'!#REF!","v":{"$error":"#REF!"}},{"$f":"'Pob x Genero'!#REF!","v":{"$error":"#REF!"}},{"$f":"'Pob x Genero'!#REF!","v":{"$error":"#REF!"}},{"$f":"'Pob x Genero'!#REF!","v":{"$error":"#REF!"}},{"$f":"'Pob x Genero'!#REF!","v":{"$error":"#REF!"}},{"$f":"F834","v":"Hombre"},{"$f":"G834","v":"00-04"},{"$f":"'Pob x Genero'!#REF!","v":{"$error":"#REF!"}},834]
[{"$f":"'Pob x Genero'!#REF!","v":{"$error":"#REF!"}},{"$f":"'Pob x Genero'!#REF!","v":{"$error":"#REF!"}},{"$f":"'Pob x Genero'!#REF!","v":{"$error":"#REF!"}},{"$f":"'Pob x Genero'!#REF!","v":{"$error":"#REF!"}},{"$f":"'Pob x Genero'!#REF!","v":{"$error":"#REF!"}},"Hombre","00-04",{"$f":"'Pob x Genero'!#REF!","v":{"$error":"#REF!"}},835]
[{"$f":"'Pob x Genero'!#REF!","v":{"$error":"#REF!"}},{"$f":"'Pob x Genero'!#REF!","v":{"$error":"#REF!"}},{"$f":"'Pob x Genero'!#REF!","v":{"$error":"#REF!"}},{"$f":"'Pob x Genero'!#REF!","v":{"$error":"#REF!"}},{"$f":"'Pob x Genero'!#REF!","v":{"$error":"#REF!"}},"Hombre","00-04",{"$f":"'Pob x Genero'!#REF!","v":{"$error":"#REF!"}},836]
[{"$f":"'Pob x Genero'!#REF!","v":{"$error":"#REF!"}},{"$f":"'Pob x Genero'!#REF!","v":{"$error":"#REF!"}},{"$f":"'Pob x Genero'!#REF!","v":{"$error":"#REF!"}},{"$f":"'Pob x Genero'!#REF!","v":{"$error":"#REF!"}},{"$f":"'Pob x Genero'!#REF!","v":{"$error":"#REF!"}},"Hombre","00-04",{"$f":"'Pob x Genero'!#REF!","v":{"$error":"#REF!"}},837]
[{"$f":"'Pob x Genero'!#REF!","v":{"$error":"#REF!"}},{"$f":"'Pob x Genero'!#REF!","v":{"$error":"#REF!"}},{"$f":"'Pob x Genero'!#REF!","v":{"$error":"#REF!"}},{"$f":"'Pob x Genero'!#REF!","v":{"$error":"#REF!"}},{"$f":"'Pob x Genero'!#REF!","v":{"$error":"#REF!"}},"Hombre","00-04",{"$f":"'Pob x Genero'!#REF!","v":{"$error":"#REF!"}},838]
[{"$f":"'Pob x Genero'!#REF!","v":{"$error":"#REF!"}},{"$f":"'Pob x Genero'!#REF!","v":{"$error":"#REF!"}},{"$f":"'Pob x Genero'!#REF!","v":{"$error":"#REF!"}},{"$f":"'Pob x Genero'!#REF!","v":{"$error":"#REF!"}},{"$f":"'Pob x Genero'!#REF!","v":{"$error":"#REF!"}},"Hombre","00-04",{"$f":"'Pob x Genero'!#REF!","v":{"$error":"#REF!"}},839]
[{"$f":"'Pob x Genero'!#REF!","v":{"$error":"#REF!"}},{"$f":"'Pob x Genero'!#REF!","v":{"$error":"#REF!"}},{"$f":"'Pob x Genero'!#REF!","v":{"$error":"#REF!"}},{"$f":"'Pob x Genero'!#REF!","v":{"$error":"#REF!"}},{"$f":"'Pob x Genero'!#REF!","v":{"$error":"#REF!"}},"Hombre","00-04",{"$f":"'Pob x Genero'!#REF!","v":{"$error":"#REF!"}},840]
[{"$f":"'Pob x Genero'!#REF!","v":{"$error":"#REF!"}},{"$f":"'Pob x Genero'!#REF!","v":{"$error":"#REF!"}},{"$f":"'Pob x Genero'!#REF!","v":{"$error":"#REF!"}},{"$f":"'Pob x Genero'!#REF!","v":{"$error":"#REF!"}},{"$f":"'Pob x Genero'!#REF!","v":{"$error":"#REF!"}},"Hombre","00-04",{"$f":"'Pob x Genero'!#REF!","v":{"$error":"#REF!"}},841]
[{"$f":"'Pob x Genero'!#REF!","v":{"$error":"#REF!"}},{"$f":"'Pob x Genero'!#REF!","v":{"$error":"#REF!"}},{"$f":"'Pob x Genero'!#REF!","v":{"$error":"#REF!"}},{"$f":"'Pob x Genero'!#REF!","v":{"$error":"#REF!"}},{"$f":"'Pob x Genero'!#REF!","v":{"$error":"#REF!"}},"Hombre","00-04",{"$f":"'Pob x Genero'!#REF!","v":{"$error":"#REF!"}},842]
[{"$f":"'Pob x Genero'!#REF!","v":{"$error":"#REF!"}},{"$f":"'Pob x Genero'!#REF!","v":{"$error":"#REF!"}},{"$f":"'Pob x Genero'!#REF!","v":{"$error":"#REF!"}},{"$f":"'Pob x Genero'!#REF!","v":{"$error":"#REF!"}},{"$f":"'Pob x Genero'!#REF!","v":{"$error":"#REF!"}},"Hombre","00-04",{"$f":"'Pob x Genero'!#REF!","v":{"$error":"#REF!"}},843]
[{"$f":"'Pob x Genero'!#REF!","v":{"$error":"#REF!"}},{"$f":"'Pob x Genero'!#REF!","v":{"$error":"#REF!"}},{"$f":"'Pob x Genero'!#REF!","v":{"$error":"#REF!"}},{"$f":"'Pob x Genero'!#REF!","v":{"$error":"#REF!"}},{"$f":"'Pob x Genero'!#REF!","v":{"$error":"#REF!"}},"Hombre","00-04",{"$f":"'Pob x Genero'!#REF!","v":{"$error":"#REF!"}},844]
[{"$f":"'Pob x Genero'!#REF!","v":{"$error":"#REF!"}},{"$f":"'Pob x Genero'!#REF!","v":{"$error":"#REF!"}},{"$f":"'Pob x Genero'!#REF!","v":{"$error":"#REF!"}},{"$f":"'Pob x Genero'!#REF!","v":{"$error":"#REF!"}},{"$f":"'Pob x Genero'!#REF!","v":{"$error":"#REF!"}},"Hombre","00-04",{"$f":"'Pob x Genero'!#REF!","v":{"$error":"#REF!"}},845]
[{"$f":"'Pob x Genero'!#REF!","v":{"$error":"#REF!"}},{"$f":"'Pob x Genero'!#REF!","v":{"$error":"#REF!"}},{"$f":"'Pob x Genero'!#REF!","v":{"$error":"#REF!"}},{"$f":"'Pob x Genero'!#REF!","v":{"$error":"#REF!"}},{"$f":"'Pob x Genero'!#REF!","v":{"$error":"#REF!"}},"Hombre","00-04",{"$f":"'Pob x Genero'!#REF!","v":{"$error":"#REF!"}},846]
[{"$f":"'Pob x Genero'!#REF!","v":{"$error":"#REF!"}},{"$f":"'Pob x Genero'!#REF!","v":{"$error":"#REF!"}},{"$f":"'Pob x Genero'!#REF!","v":{"$error":"#REF!"}},{"$f":"'Pob x Genero'!#REF!","v":{"$error":"#REF!"}},{"$f":"'Pob x Genero'!#REF!","v":{"$error":"#REF!"}},"Hombre","00-04",{"$f":"'Pob x Genero'!#REF!","v":{"$error":"#REF!"}},847]
[{"$f":"'Pob x Genero'!#REF!","v":{"$error":"#REF!"}},{"$f":"'Pob x Genero'!#REF!","v":{"$error":"#REF!"}},{"$f":"'Pob x Genero'!#REF!","v":{"$error":"#REF!"}},{"$f":"'Pob x Genero'!#REF!","v":{"$error":"#REF!"}},{"$f":"'Pob x Genero'!#REF!","v":{"$error":"#REF!"}},"Hombre","00-04",{"$f":"'Pob x Genero'!#REF!","v":{"$error":"#REF!"}},848]
[{"$f":"'Pob x Genero'!#REF!","v":{"$error":"#REF!"}},{"$f":"'Pob x Genero'!#REF!","v":{"$error":"#REF!"}},{"$f":"'Pob x Genero'!#REF!","v":{"$error":"#REF!"}},{"$f":"'Pob x Genero'!#REF!","v":{"$error":"#REF!"}},{"$f":"'Pob x Genero'!#REF!","v":{"$error":"#REF!"}},"Hombre","00-04",{"$f":"'Pob x Genero'!#REF!","v":{"$error":"#REF!"}},849]
[{"$f":"'Pob x Genero'!#REF!","v":{"$error":"#REF!"}},{"$f":"'Pob x Genero'!#REF!","v":{"$error":"#REF!"}},{"$f":"'Pob x Genero'!#REF!","v":{"$error":"#REF!"}},{"$f":"'Pob x Genero'!#REF!","v":{"$error":"#REF!"}},{"$f":"'Pob x Genero'!#REF!","v":{"$error":"#REF!"}},"Hombre","00-04",{"$f":"'Pob x Genero'!#REF!","v":{"$error":"#REF!"}},850]
[{"$f":"'Pob x Genero'!#REF!","v":{"$error":"#REF!"}},{"$f":"'Pob x Genero'!#REF!","v":{"$error":"#REF!"}},{"$f":"'Pob x Genero'!#REF!","v":{"$error":"#REF!"}},{"$f":"'Pob x Genero'!#REF!","v":{"$error":"#REF!"}},{"$f":"'Pob x Genero'!#REF!","v":{"$error":"#REF!"}},"Hombre","00-04",{"$f":"'Pob x Genero'!#REF!","v":{"$error":"#REF!"}},851]
[{"$f":"'Pob x Genero'!#REF!","v":{"$error":"#REF!"}},{"$f":"'Pob x Genero'!#REF!","v":{"$error":"#REF!"}},{"$f":"'Pob x Genero'!#REF!","v":{"$error":"#REF!"}},{"$f":"'Pob x Genero'!#REF!","v":{"$error":"#REF!"}},{"$f":"'Pob x Genero'!#REF!","v":{"$error":"#REF!"}},"Hombre","00-04",{"$f":"'Pob x Genero'!#REF!","v":{"$error":"#REF!"}},852]
[{"$f":"'Pob x Genero'!#REF!","v":{"$error":"#REF!"}},{"$f":"'Pob x Genero'!#REF!","v":{"$error":"#REF!"}},{"$f":"'Pob x Genero'!#REF!","v":{"$error":"#REF!"}},{"$f":"'Pob x Genero'!#REF!","v":{"$error":"#REF!"}},{"$f":"'Pob x Genero'!#REF!","v":{"$error":"#REF!"}},"Hombre","00-04",{"$f":"'Pob x Genero'!#REF!","v":{"$error":"#REF!"}},853]
[{"$f":"'Pob x Genero'!#REF!","v":{"$error":"#REF!"}},{"$f":"'Pob x Genero'!#REF!","v":{"$error":"#REF!"}},{"$f":"'Pob x Genero'!#REF!","v":{"$error":"#REF!"}},{"$f":"'Pob x Genero'!#REF!","v":{"$error":"#REF!"}},{"$f":"'Pob x Genero'!#REF!","v":{"$error":"#REF!"}},"Hombre","00-04",{"$f":"'Pob x Genero'!#REF!","v":{"$error":"#REF!"}},854]
[{"$f":"'Pob x Genero'!#REF!","v":{"$error":"#REF!"}},{"$f":"'Pob x Genero'!#REF!","v":{"$error":"#REF!"}},{"$f":"'Pob x Genero'!#REF!","v":{"$error":"#REF!"}},{"$f":"'Pob x Genero'!#REF!","v":{"$error":"#REF!"}},{"$f":"'Pob x Genero'!#REF!","v":{"$error":"#REF!"}},"Hombre","00-04",{"$f":"'Pob x Genero'!#REF!","v":{"$error":"#REF!"}},855]
[{"$f":"'Pob x Genero'!#REF!","v":{"$error":"#REF!"}},{"$f":"'Pob x Genero'!#REF!","v":{"$error":"#REF!"}},{"$f":"'Pob x Genero'!#REF!","v":{"$error":"#REF!"}},{"$f":"'Pob x Genero'!#REF!","v":{"$error":"#REF!"}},{"$f":"'Pob x Genero'!#REF!","v":{"$error":"#REF!"}},"Hombre","00-04",{"$f":"'Pob x Genero'!#REF!","v":{"$error":"#REF!"}},856]
[{"$f":"'Pob x Genero'!#REF!","v":{"$error":"#REF!"}},{"$f":"'Pob x Genero'!#REF!","v":{"$error":"#REF!"}},{"$f":"'Pob x Genero'!#REF!","v":{"$error":"#REF!"}},{"$f":"'Pob x Genero'!#REF!","v":{"$error":"#REF!"}},{"$f":"'Pob x Genero'!#REF!","v":{"$error":"#REF!"}},"Hombre","00-04",{"$f":"'Pob x Genero'!#REF!","v":{"$error":"#REF!"}},857]
[{"$f":"'Pob x Genero'!#REF!","v":{"$error":"#REF!"}},{"$f":"'Pob x Genero'!#REF!","v":{"$error":"#REF!"}},{"$f":"'Pob x Genero'!#REF!","v":{"$error":"#REF!"}},{"$f":"'Pob x Genero'!#REF!","v":{"$error":"#REF!"}},{"$f":"'Pob x Genero'!#REF!","v":{"$error":"#REF!"}},"Hombre","00-04",{"$f":"'Pob x Genero'!#REF!","v":{"$error":"#REF!"}},858]
[{"$f":"'Pob x Genero'!#REF!","v":{"$error":"#REF!"}},{"$f":"'Pob x Genero'!#REF!","v":{"$error":"#REF!"}},{"$f":"'Pob x Genero'!#REF!","v":{"$error":"#REF!"}},{"$f":"'Pob x Genero'!#REF!","v":{"$error":"#REF!"}},{"$f":"'Pob x Genero'!#REF!","v":{"$error":"#REF!"}},"Hombre","00-04",{"$f":"'Pob x Genero'!#REF!","v":{"$error":"#REF!"}},859]
[{"$f":"'Pob x Genero'!#REF!","v":{"$error":"#REF!"}},{"$f":"'Pob x Genero'!#REF!","v":{"$error":"#REF!"}},{"$f":"'Pob x Genero'!#REF!","v":{"$error":"#REF!"}},{"$f":"'Pob x Genero'!#REF!","v":{"$error":"#REF!"}},{"$f":"'Pob x Genero'!#REF!","v":{"$error":"#REF!"}},"Hombre","00-04",{"$f":"'Pob x Genero'!#REF!","v":{"$error":"#REF!"}},860]
[{"$f":"'Pob x Genero'!#REF!","v":{"$error":"#REF!"}},{"$f":"'Pob x Genero'!#REF!","v":{"$error":"#REF!"}},{"$f":"'Pob x Genero'!#REF!","v":{"$error":"#REF!"}},{"$f":"'Pob x Genero'!#REF!","v":{"$error":"#REF!"}},{"$f":"'Pob x Genero'!#REF!","v":{"$error":"#REF!"}},"Hombre","00-04",{"$f":"'Pob x Genero'!#REF!","v":{"$error":"#REF!"}},861]
[{"$f":"'Pob x Genero'!#REF!","v":{"$error":"#REF!"}},{"$f":"'Pob x Genero'!#REF!","v":{"$error":"#REF!"}},{"$f":"'Pob x Genero'!#REF!","v":{"$error":"#REF!"}},{"$f":"'Pob x Genero'!#REF!","v":{"$error":"#REF!"}},{"$f":"'Pob x Genero'!#REF!","v":{"$error":"#REF!"}},"Hombre","00-04",{"$f":"'Pob x Genero'!#REF!","v":{"$error":"#REF!"}},862]
[{"$f":"'Pob x Genero'!#REF!","v":{"$error":"#REF!"}},{"$f":"'Pob x Genero'!#REF!","v":{"$error":"#REF!"}},{"$f":"'Pob x Genero'!#REF!","v":{"$error":"#REF!"}},{"$f":"'Pob x Genero'!#REF!","v":{"$error":"#REF!"}},{"$f":"'Pob x Genero'!#REF!","v":{"$error":"#REF!"}},"Hombre","00-04",{"$f":"'Pob x Genero'!#REF!","v":{"$error":"#REF!"}},863]
[{"$f":"'Pob x Genero'!#REF!","v":{"$error":"#REF!"}},{"$f":"'Pob x Genero'!#REF!","v":{"$error":"#REF!"}},{"$f":"'Pob x Genero'!#REF!","v":{"$error":"#REF!"}},{"$f":"'Pob x Genero'!#REF!","v":{"$error":"#REF!"}},{"$f":"'Pob x Genero'!#REF!","v":{"$error":"#REF!"}},"Hombre","00-04",{"$f":"'Pob x Genero'!#REF!","v":{"$error":"#REF!"}},864]
[{"$f":"'Pob x Genero'!#REF!","v":{"$error":"#REF!"}},{"$f":"'Pob x Genero'!#REF!","v":{"$error":"#REF!"}},{"$f":"'Pob x Genero'!#REF!","v":{"$error":"#REF!"}},{"$f":"'Pob x Genero'!#REF!","v":{"$error":"#REF!"}},{"$f":"'Pob x Genero'!#REF!","v":{"$error":"#REF!"}},"Hombre","00-04",{"$f":"'Pob x Genero'!#REF!","v":{"$error":"#REF!"}},865]
[{"$f":"'Pob x Genero'!#REF!","v":{"$error":"#REF!"}},{"$f":"'Pob x Genero'!#REF!","v":{"$error":"#REF!"}},{"$f":"'Pob x Genero'!#REF!","v":{"$error":"#REF!"}},{"$f":"'Pob x Genero'!#REF!","v":{"$error":"#REF!"}},{"$f":"'Pob x Genero'!#REF!","v":{"$error":"#REF!"}},"Hombre","00-04",{"$f":"'Pob x Genero'!#REF!","v":{"$error":"#REF!"}},866]
[{"$f":"'Pob x Genero'!#REF!","v":{"$error":"#REF!"}},{"$f":"'Pob x Genero'!#REF!","v":{"$error":"#REF!"}},{"$f":"'Pob x Genero'!#REF!","v":{"$error":"#REF!"}},{"$f":"'Pob x Genero'!#REF!","v":{"$error":"#REF!"}},{"$f":"'Pob x Genero'!#REF!","v":{"$error":"#REF!"}},"Hombre","00-04",{"$f":"'Pob x Genero'!#REF!","v":{"$error":"#REF!"}},867]
[{"$f":"'Pob x Genero'!#REF!","v":{"$error":"#REF!"}},{"$f":"'Pob x Genero'!#REF!","v":{"$error":"#REF!"}},{"$f":"'Pob x Genero'!#REF!","v":{"$error":"#REF!"}},{"$f":"'Pob x Genero'!#REF!","v":{"$error":"#REF!"}},{"$f":"'Pob x Genero'!#REF!","v":{"$error":"#REF!"}},"Hombre","00-04",{"$f":"'Pob x Genero'!#REF!","v":{"$error":"#REF!"}},868]
[{"$f":"'Pob x Genero'!#REF!","v":{"$error":"#REF!"}},{"$f":"'Pob x Genero'!#REF!","v":{"$error":"#REF!"}},{"$f":"'Pob x Genero'!#REF!","v":{"$error":"#REF!"}},{"$f":"'Pob x Genero'!#REF!","v":{"$error":"#REF!"}},{"$f":"'Pob x Genero'!#REF!","v":{"$error":"#REF!"}},"Hombre","00-04",{"$f":"'Pob x Genero'!#REF!","v":{"$error":"#REF!"}},869]
[{"$f":"'Pob x Genero'!#REF!","v":{"$error":"#REF!"}},{"$f":"'Pob x Genero'!#REF!","v":{"$error":"#REF!"}},{"$f":"'Pob x Genero'!#REF!","v":{"$error":"#REF!"}},{"$f":"'Pob x Genero'!#REF!","v":{"$error":"#REF!"}},{"$f":"'Pob x Genero'!#REF!","v":{"$error":"#REF!"}},"Hombre","00-04",{"$f":"'Pob x Genero'!#REF!","v":{"$error":"#REF!"}},870]
[{"$f":"'Pob x Genero'!#REF!","v":{"$error":"#REF!"}},{"$f":"'Pob x Genero'!#REF!","v":{"$error":"#REF!"}},{"$f":"'Pob x Genero'!#REF!","v":{"$error":"#REF!"}},{"$f":"'Pob x Genero'!#REF!","v":{"$error":"#REF!"}},{"$f":"'Pob x Genero'!#REF!","v":{"$error":"#REF!"}},"Hombre","00-04",{"$f":"'Pob x Genero'!#REF!","v":{"$error":"#REF!"}},871]
[{"$f":"'Pob x Genero'!#REF!","v":{"$error":"#REF!"}},{"$f":"'Pob x Genero'!#REF!","v":{"$error":"#REF!"}},{"$f":"'Pob x Genero'!#REF!","v":{"$error":"#REF!"}},{"$f":"'Pob x Genero'!#REF!","v":{"$error":"#REF!"}},{"$f":"'Pob x Genero'!#REF!","v":{"$error":"#REF!"}},"Hombre","00-04",{"$f":"'Pob x Genero'!#REF!","v":{"$error":"#REF!"}},872]
[{"$f":"'Pob x Genero'!#REF!","v":{"$error":"#REF!"}},{"$f":"'Pob x Genero'!#REF!","v":{"$error":"#REF!"}},{"$f":"'Pob x Genero'!#REF!","v":{"$error":"#REF!"}},{"$f":"'Pob x Genero'!#REF!","v":{"$error":"#REF!"}},{"$f":"'Pob x Genero'!#REF!","v":{"$error":"#REF!"}},"Hombre","00-04",{"$f":"'Pob x Genero'!#REF!","v":{"$error":"#REF!"}},873]
[{"$f":"'Pob x Genero'!#REF!","v":{"$error":"#REF!"}},{"$f":"'Pob x Genero'!#REF!","v":{"$error":"#REF!"}},{"$f":"'Pob x Genero'!#REF!","v":{"$error":"#REF!"}},{"$f":"'Pob x Genero'!#REF!","v":{"$error":"#REF!"}},{"$f":"'Pob x Genero'!#REF!","v":{"$error":"#REF!"}},"Hombre","00-04",{"$f":"'Pob x Genero'!#REF!","v":{"$error":"#REF!"}},874]
[{"$f":"'Pob x Genero'!#REF!","v":{"$error":"#REF!"}},{"$f":"'Pob x Genero'!#REF!","v":{"$error":"#REF!"}},{"$f":"'Pob x Genero'!#REF!","v":{"$error":"#REF!"}},{"$f":"'Pob x Genero'!#REF!","v":{"$error":"#REF!"}},{"$f":"'Pob x Genero'!#REF!","v":{"$error":"#REF!"}},"Hombre","00-04",{"$f":"'Pob x Genero'!#REF!","v":{"$error":"#REF!"}},875]
[{"$f":"'Pob x Genero'!#REF!","v":{"$error":"#REF!"}},{"$f":"'Pob x Genero'!#REF!","v":{"$error":"#REF!"}},{"$f":"'Pob x Genero'!#REF!","v":{"$error":"#REF!"}},{"$f":"'Pob x Genero'!#REF!","v":{"$error":"#REF!"}},{"$f":"'Pob x Genero'!#REF!","v":{"$error":"#REF!"}},"Hombre","00-04",{"$f":"'Pob x Genero'!#REF!","v":{"$error":"#REF!"}},876]
[{"$f":"'Pob x Genero'!#REF!","v":{"$error":"#REF!"}},{"$f":"'Pob x Genero'!#REF!","v":{"$error":"#REF!"}},{"$f":"'Pob x Genero'!#REF!","v":{"$error":"#REF!"}},{"$f":"'Pob x Genero'!#REF!","v":{"$error":"#REF!"}},{"$f":"'Pob x Genero'!#REF!","v":{"$error":"#REF!"}},"Hombre","00-04",{"$f":"'Pob x Genero'!#REF!","v":{"$error":"#REF!"}},877]
[{"$f":"'Pob x Genero'!#REF!","v":{"$error":"#REF!"}},{"$f":"'Pob x Genero'!#REF!","v":{"$error":"#REF!"}},{"$f":"'Pob x Genero'!#REF!","v":{"$error":"#REF!"}},{"$f":"'Pob x Genero'!#REF!","v":{"$error":"#REF!"}},{"$f":"'Pob x Genero'!#REF!","v":{"$error":"#REF!"}},"Hombre","00-04",{"$f":"'Pob x Genero'!#REF!","v":{"$error":"#REF!"}},878]
[{"$f":"'Pob x Genero'!#REF!","v":{"$error":"#REF!"}},{"$f":"'Pob x Genero'!#REF!","v":{"$error":"#REF!"}},{"$f":"'Pob x Genero'!#REF!","v":{"$error":"#REF!"}},{"$f":"'Pob x Genero'!#REF!","v":{"$error":"#REF!"}},{"$f":"'Pob x Genero'!#REF!","v":{"$error":"#REF!"}},"Hombre","00-04",{"$f":"'Pob x Genero'!#REF!","v":{"$error":"#REF!"}},879]
[{"$f":"'Pob x Genero'!#REF!","v":{"$error":"#REF!"}},{"$f":"'Pob x Genero'!#REF!","v":{"$error":"#REF!"}},{"$f":"'Pob x Genero'!#REF!","v":{"$error":"#REF!"}},{"$f":"'Pob x Genero'!#REF!","v":{"$error":"#REF!"}},{"$f":"'Pob x Genero'!#REF!","v":{"$error":"#REF!"}},"Hombre","00-04",{"$f":"'Pob x Genero'!#REF!","v":{"$error":"#REF!"}},880]
[{"$f":"'Pob x Genero'!#REF!","v":{"$error":"#REF!"}},{"$f":"'Pob x Genero'!#REF!","v":{"$error":"#REF!"}},{"$f":"'Pob x Genero'!#REF!","v":{"$error":"#REF!"}},{"$f":"'Pob x Genero'!#REF!","v":{"$error":"#REF!"}},{"$f":"'Pob x Genero'!#REF!","v":{"$error":"#REF!"}},"Hombre","00-04",{"$f":"'Pob x Genero'!#REF!","v":{"$error":"#REF!"}},881]
[{"$f":"'Pob x Genero'!#REF!","v":{"$error":"#REF!"}},{"$f":"'Pob x Genero'!#REF!","v":{"$error":"#REF!"}},{"$f":"'Pob x Genero'!#REF!","v":{"$error":"#REF!"}},{"$f":"'Pob x Genero'!#REF!","v":{"$error":"#REF!"}},{"$f":"'Pob x Genero'!#REF!","v":{"$error":"#REF!"}},"Hombre","00-04",{"$f":"'Pob x Genero'!#REF!","v":{"$error":"#REF!"}},882]
[{"$f":"'Pob x Genero'!#REF!","v":{"$error":"#REF!"}},{"$f":"'Pob x Genero'!#REF!","v":{"$error":"#REF!"}},{"$f":"'Pob x Genero'!#REF!","v":{"$error":"#REF!"}},{"$f":"'Pob x Genero'!#REF!","v":{"$error":"#REF!"}},{"$f":"'Pob x Genero'!#REF!","v":{"$error":"#REF!"}},"Hombre","00-04",{"$f":"'Pob x Genero'!#REF!","v":{"$error":"#REF!"}},883]
[{"$f":"'Pob x Genero'!#REF!","v":{"$error":"#REF!"}},{"$f":"'Pob x Genero'!#REF!","v":{"$error":"#REF!"}},{"$f":"'Pob x Genero'!#REF!","v":{"$error":"#REF!"}},{"$f":"'Pob x Genero'!#REF!","v":{"$error":"#REF!"}},{"$f":"'Pob x Genero'!#REF!","v":{"$error":"#REF!"}},"Hombre","00-04",{"$f":"'Pob x Genero'!#REF!","v":{"$error":"#REF!"}},884]
[{"$f":"'Pob x Genero'!#REF!","v":{"$error":"#REF!"}},{"$f":"'Pob x Genero'!#REF!","v":{"$error":"#REF!"}},{"$f":"'Pob x Genero'!#REF!","v":{"$error":"#REF!"}},{"$f":"'Pob x Genero'!#REF!","v":{"$error":"#REF!"}},{"$f":"'Pob x Genero'!#REF!","v":{"$error":"#REF!"}},"Hombre","00-04",{"$f":"'Pob x Genero'!#REF!","v":{"$error":"#REF!"}},885]
[{"$f":"'Pob x Genero'!#REF!","v":{"$error":"#REF!"}},{"$f":"'Pob x Genero'!#REF!","v":{"$error":"#REF!"}},{"$f":"'Pob x Genero'!#REF!","v":{"$error":"#REF!"}},{"$f":"'Pob x Genero'!#REF!","v":{"$error":"#REF!"}},{"$f":"'Pob x Genero'!#REF!","v":{"$error":"#REF!"}},"Hombre","00-04",{"$f":"'Pob x Genero'!#REF!","v":{"$error":"#REF!"}},886]
[{"$f":"'Pob x Genero'!#REF!","v":{"$error":"#REF!"}},{"$f":"'Pob x Genero'!#REF!","v":{"$error":"#REF!"}},{"$f":"'Pob x Genero'!#REF!","v":{"$error":"#REF!"}},{"$f":"'Pob x Genero'!#REF!","v":{"$error":"#REF!"}},{"$f":"'Pob x Genero'!#REF!","v":{"$error":"#REF!"}},"Hombre","00-04",{"$f":"'Pob x Genero'!#REF!","v":{"$error":"#REF!"}},887]
[{"$f":"'Pob x Genero'!#REF!","v":{"$error":"#REF!"}},{"$f":"'Pob x Genero'!#REF!","v":{"$error":"#REF!"}},{"$f":"'Pob x Genero'!#REF!","v":{"$error":"#REF!"}},{"$f":"'Pob x Genero'!#REF!","v":{"$error":"#REF!"}},{"$f":"'Pob x Genero'!#REF!","v":{"$error":"#REF!"}},"Hombre","00-04",{"$f":"'Pob x Genero'!#REF!","v":{"$error":"#REF!"}},888]
[{"$f":"'Pob x Genero'!#REF!","v":{"$error":"#REF!"}},{"$f":"'Pob x Genero'!#REF!","v":{"$error":"#REF!"}},{"$f":"'Pob x Genero'!#REF!","v":{"$error":"#REF!"}},{"$f":"'Pob x Genero'!#REF!","v":{"$error":"#REF!"}},{"$f":"'Pob x Genero'!#REF!","v":{"$error":"#REF!"}},"Hombre","00-04",{"$f":"'Pob x Genero'!#REF!","v":{"$error":"#REF!"}},889]
[{"$f":"'Pob x Genero'!#REF!","v":{"$error":"#REF!"}},{"$f":"'Pob x Genero'!#REF!","v":{"$error":"#REF!"}},{"$f":"'Pob x Genero'!#REF!","v":{"$error":"#REF!"}},{"$f":"'Pob x Genero'!#REF!","v":{"$error":"#REF!"}},{"$f":"'Pob x Genero'!#REF!","v":{"$error":"#REF!"}},"Hombre","00-04",{"$f":"'Pob x Genero'!#REF!","v":{"$error":"#REF!"}},890]
[{"$f":"'Pob x Genero'!#REF!","v":{"$error":"#REF!"}},{"$f":"'Pob x Genero'!#REF!","v":{"$error":"#REF!"}},{"$f":"'Pob x Genero'!#REF!","v":{"$error":"#REF!"}},{"$f":"'Pob x Genero'!#REF!","v":{"$error":"#REF!"}},{"$f":"'Pob x Genero'!#REF!","v":{"$error":"#REF!"}},"Hombre","00-04",{"$f":"'Pob x Genero'!#REF!","v":{"$error":"#REF!"}},891]
[{"$f":"'Pob x Genero'!#REF!","v":{"$error":"#REF!"}},{"$f":"'Pob x Genero'!#REF!","v":{"$error":"#REF!"}},{"$f":"'Pob x Genero'!#REF!","v":{"$error":"#REF!"}},{"$f":"'Pob x Genero'!#REF!","v":{"$error":"#REF!"}},{"$f":"'Pob x Genero'!#REF!","v":{"$error":"#REF!"}},"Hombre","00-04",{"$f":"'Pob x Genero'!#REF!","v":{"$error":"#REF!"}},892]
[{"$f":"'Pob x Genero'!#REF!","v":{"$error":"#REF!"}},{"$f":"'Pob x Genero'!#REF!","v":{"$error":"#REF!"}},{"$f":"'Pob x Genero'!#REF!","v":{"$error":"#REF!"}},{"$f":"'Pob x Genero'!#REF!","v":{"$error":"#REF!"}},{"$f":"'Pob x Genero'!#REF!","v":{"$error":"#REF!"}},"Hombre","00-04",{"$f":"'Pob x Genero'!#REF!","v":{"$error":"#REF!"}},893]
[{"$f":"'Pob x Genero'!#REF!","v":{"$error":"#REF!"}},{"$f":"'Pob x Genero'!#REF!","v":{"$error":"#REF!"}},{"$f":"'Pob x Genero'!#REF!","v":{"$error":"#REF!"}},{"$f":"'Pob x Genero'!#REF!","v":{"$error":"#REF!"}},{"$f":"'Pob x Genero'!#REF!","v":{"$error":"#REF!"}},"Hombre","00-04",{"$f":"'Pob x Genero'!#REF!","v":{"$error":"#REF!"}},894]
[{"$f":"'Pob x Genero'!#REF!","v":{"$error":"#REF!"}},{"$f":"'Pob x Genero'!#REF!","v":{"$error":"#REF!"}},{"$f":"'Pob x Genero'!#REF!","v":{"$error":"#REF!"}},{"$f":"'Pob x Genero'!#REF!","v":{"$error":"#REF!"}},{"$f":"'Pob x Genero'!#REF!","v":{"$error":"#REF!"}},"Hombre","00-04",{"$f":"'Pob x Genero'!#REF!","v":{"$error":"#REF!"}},895]
[{"$f":"'Pob x Genero'!#REF!","v":{"$error":"#REF!"}},{"$f":"'Pob x Genero'!#REF!","v":{"$error":"#REF!"}},{"$f":"'Pob x Genero'!#REF!","v":{"$error":"#REF!"}},{"$f":"'Pob x Genero'!#REF!","v":{"$error":"#REF!"}},{"$f":"'Pob x Genero'!#REF!","v":{"$error":"#REF!"}},"Hombre","00-04",{"$f":"'Pob x Genero'!#REF!","v":{"$error":"#REF!"}},896]
[{"$f":"'Pob x Genero'!#REF!","v":{"$error":"#REF!"}},{"$f":"'Pob x Genero'!#REF!","v":{"$error":"#REF!"}},{"$f":"'Pob x Genero'!#REF!","v":{"$error":"#REF!"}},{"$f":"'Pob x Genero'!#REF!","v":{"$error":"#REF!"}},{"$f":"'Pob x Genero'!#REF!","v":{"$error":"#REF!"}},"Hombre","00-04",{"$f":"'Pob x Genero'!#REF!","v":{"$error":"#REF!"}},897]
[{"$f":"'Pob x Genero'!#REF!","v":{"$error":"#REF!"}},{"$f":"'Pob x Genero'!#REF!","v":{"$error":"#REF!"}},{"$f":"'Pob x Genero'!#REF!","v":{"$error":"#REF!"}},{"$f":"'Pob x Genero'!#REF!","v":{"$error":"#REF!"}},{"$f":"'Pob x Genero'!#REF!","v":{"$error":"#REF!"}},{"$f":"F898","v":"Hombre"},{"$f":"G898","v":"00-04"},{"$f":"'Pob x Genero'!#REF!","v":{"$error":"#REF!"}},898]
[{"$f":"'Pob x Genero'!#REF!","v":{"$error":"#REF!"}},{"$f":"'Pob x Genero'!#REF!","v":{"$error":"#REF!"}},{"$f":"'Pob x Genero'!#REF!","v":{"$error":"#REF!"}},{"$f":"'Pob x Genero'!#REF!","v":{"$error":"#REF!"}},{"$f":"'Pob x Genero'!#REF!","v":{"$error":"#REF!"}},"Hombre","00-04",{"$f":"'Pob x Genero'!#REF!","v":{"$error":"#REF!"}},899]
[{"$f":"'Pob x Genero'!#REF!","v":{"$error":"#REF!"}},{"$f":"'Pob x Genero'!#REF!","v":{"$error":"#REF!"}},{"$f":"'Pob x Genero'!#REF!","v":{"$error":"#REF!"}},{"$f":"'Pob x Genero'!#REF!","v":{"$error":"#REF!"}},{"$f":"'Pob x Genero'!#REF!","v":{"$error":"#REF!"}},"Hombre","00-04",{"$f":"'Pob x Genero'!#REF!","v":{"$error":"#REF!"}},900]
[{"$f":"'Pob x Genero'!#REF!","v":{"$error":"#REF!"}},{"$f":"'Pob x Genero'!#REF!","v":{"$error":"#REF!"}},{"$f":"'Pob x Genero'!#REF!","v":{"$error":"#REF!"}},{"$f":"'Pob x Genero'!#REF!","v":{"$error":"#REF!"}},{"$f":"'Pob x Genero'!#REF!","v":{"$error":"#REF!"}},"Hombre","00-04",{"$f":"'Pob x Genero'!#REF!","v":{"$error":"#REF!"}},901]
[{"$f":"'Pob x Genero'!#REF!","v":{"$error":"#REF!"}},{"$f":"'Pob x Genero'!#REF!","v":{"$error":"#REF!"}},{"$f":"'Pob x Genero'!#REF!","v":{"$error":"#REF!"}},{"$f":"'Pob x Genero'!#REF!","v":{"$error":"#REF!"}},{"$f":"'Pob x Genero'!#REF!","v":{"$error":"#REF!"}},"Hombre","00-04",{"$f":"'Pob x Genero'!#REF!","v":{"$error":"#REF!"}},902]
[{"$f":"'Pob x Genero'!#REF!","v":{"$error":"#REF!"}},{"$f":"'Pob x Genero'!#REF!","v":{"$error":"#REF!"}},{"$f":"'Pob x Genero'!#REF!","v":{"$error":"#REF!"}},{"$f":"'Pob x Genero'!#REF!","v":{"$error":"#REF!"}},{"$f":"'Pob x Genero'!#REF!","v":{"$error":"#REF!"}},"Hombre","00-04",{"$f":"'Pob x Genero'!#REF!","v":{"$error":"#REF!"}},903]
[{"$f":"'Pob x Genero'!#REF!","v":{"$error":"#REF!"}},{"$f":"'Pob x Genero'!#REF!","v":{"$error":"#REF!"}},{"$f":"'Pob x Genero'!#REF!","v":{"$error":"#REF!"}},{"$f":"'Pob x Genero'!#REF!","v":{"$error":"#REF!"}},{"$f":"'Pob x Genero'!#REF!","v":{"$error":"#REF!"}},"Hombre","00-04",{"$f":"'Pob x Genero'!#REF!","v":{"$error":"#REF!"}},904]
[{"$f":"'Pob x Genero'!#REF!","v":{"$error":"#REF!"}},{"$f":"'Pob x Genero'!#REF!","v":{"$error":"#REF!"}},{"$f":"'Pob x Genero'!#REF!","v":{"$error":"#REF!"}},{"$f":"'Pob x Genero'!#REF!","v":{"$error":"#REF!"}},{"$f":"'Pob x Genero'!#REF!","v":{"$error":"#REF!"}},"Hombre","00-04",{"$f":"'Pob x Genero'!#REF!","v":{"$error":"#REF!"}},905]
[{"$f":"'Pob x Genero'!#REF!","v":{"$error":"#REF!"}},{"$f":"'Pob x Genero'!#REF!","v":{"$error":"#REF!"}},{"$f":"'Pob x Genero'!#REF!","v":{"$error":"#REF!"}},{"$f":"'Pob x Genero'!#REF!","v":{"$error":"#REF!"}},{"$f":"'Pob x Genero'!#REF!","v":{"$error":"#REF!"}},"Hombre","00-04",{"$f":"'Pob x Genero'!#REF!","v":{"$error":"#REF!"}},906]
[{"$f":"'Pob x Genero'!#REF!","v":{"$error":"#REF!"}},{"$f":"'Pob x Genero'!#REF!","v":{"$error":"#REF!"}},{"$f":"'Pob x Genero'!#REF!","v":{"$error":"#REF!"}},{"$f":"'Pob x Genero'!#REF!","v":{"$error":"#REF!"}},{"$f":"'Pob x Genero'!#REF!","v":{"$error":"#REF!"}},"Hombre","00-04",{"$f":"'Pob x Genero'!#REF!","v":{"$error":"#REF!"}},907]
[{"$f":"'Pob x Genero'!#REF!","v":{"$error":"#REF!"}},{"$f":"'Pob x Genero'!#REF!","v":{"$error":"#REF!"}},{"$f":"'Pob x Genero'!#REF!","v":{"$error":"#REF!"}},{"$f":"'Pob x Genero'!#REF!","v":{"$error":"#REF!"}},{"$f":"'Pob x Genero'!#REF!","v":{"$error":"#REF!"}},"Hombre","00-04",{"$f":"'Pob x Genero'!#REF!","v":{"$error":"#REF!"}},908]
[{"$f":"'Pob x Genero'!#REF!","v":{"$error":"#REF!"}},{"$f":"'Pob x Genero'!#REF!","v":{"$error":"#REF!"}},{"$f":"'Pob x Genero'!#REF!","v":{"$error":"#REF!"}},{"$f":"'Pob x Genero'!#REF!","v":{"$error":"#REF!"}},{"$f":"'Pob x Genero'!#REF!","v":{"$error":"#REF!"}},"Hombre","00-04",{"$f":"'Pob x Genero'!#REF!","v":{"$error":"#REF!"}},909]
[{"$f":"'Pob x Genero'!#REF!","v":{"$error":"#REF!"}},{"$f":"'Pob x Genero'!#REF!","v":{"$error":"#REF!"}},{"$f":"'Pob x Genero'!#REF!","v":{"$error":"#REF!"}},{"$f":"'Pob x Genero'!#REF!","v":{"$error":"#REF!"}},{"$f":"'Pob x Genero'!#REF!","v":{"$error":"#REF!"}},"Hombre","00-04",{"$f":"'Pob x Genero'!#REF!","v":{"$error":"#REF!"}},910]
[{"$f":"'Pob x Genero'!#REF!","v":{"$error":"#REF!"}},{"$f":"'Pob x Genero'!#REF!","v":{"$error":"#REF!"}},{"$f":"'Pob x Genero'!#REF!","v":{"$error":"#REF!"}},{"$f":"'Pob x Genero'!#REF!","v":{"$error":"#REF!"}},{"$f":"'Pob x Genero'!#REF!","v":{"$error":"#REF!"}},"Hombre","00-04",{"$f":"'Pob x Genero'!#REF!","v":{"$error":"#REF!"}},911]
[{"$f":"'Pob x Genero'!#REF!","v":{"$error":"#REF!"}},{"$f":"'Pob x Genero'!#REF!","v":{"$error":"#REF!"}},{"$f":"'Pob x Genero'!#REF!","v":{"$error":"#REF!"}},{"$f":"'Pob x Genero'!#REF!","v":{"$error":"#REF!"}},{"$f":"'Pob x Genero'!#REF!","v":{"$error":"#REF!"}},"Hombre","00-04",{"$f":"'Pob x Genero'!#REF!","v":{"$error":"#REF!"}},912]
[{"$f":"'Pob x Genero'!#REF!","v":{"$error":"#REF!"}},{"$f":"'Pob x Genero'!#REF!","v":{"$error":"#REF!"}},{"$f":"'Pob x Genero'!#REF!","v":{"$error":"#REF!"}},{"$f":"'Pob x Genero'!#REF!","v":{"$error":"#REF!"}},{"$f":"'Pob x Genero'!#REF!","v":{"$error":"#REF!"}},"Hombre","00-04",{"$f":"'Pob x Genero'!#REF!","v":{"$error":"#REF!"}},913]
[{"$f":"'Pob x Genero'!#REF!","v":{"$error":"#REF!"}},{"$f":"'Pob x Genero'!#REF!","v":{"$error":"#REF!"}},{"$f":"'Pob x Genero'!#REF!","v":{"$error":"#REF!"}},{"$f":"'Pob x Genero'!#REF!","v":{"$error":"#REF!"}},{"$f":"'Pob x Genero'!#REF!","v":{"$error":"#REF!"}},"Hombre","00-04",{"$f":"'Pob x Genero'!#REF!","v":{"$error":"#REF!"}},914]
[{"$f":"'Pob x Genero'!#REF!","v":{"$error":"#REF!"}},{"$f":"'Pob x Genero'!#REF!","v":{"$error":"#REF!"}},{"$f":"'Pob x Genero'!#REF!","v":{"$error":"#REF!"}},{"$f":"'Pob x Genero'!#REF!","v":{"$error":"#REF!"}},{"$f":"'Pob x Genero'!#REF!","v":{"$error":"#REF!"}},"Hombre","00-04",{"$f":"'Pob x Genero'!#REF!","v":{"$error":"#REF!"}},915]
[{"$f":"'Pob x Genero'!#REF!","v":{"$error":"#REF!"}},{"$f":"'Pob x Genero'!#REF!","v":{"$error":"#REF!"}},{"$f":"'Pob x Genero'!#REF!","v":{"$error":"#REF!"}},{"$f":"'Pob x Genero'!#REF!","v":{"$error":"#REF!"}},{"$f":"'Pob x Genero'!#REF!","v":{"$error":"#REF!"}},"Hombre","00-04",{"$f":"'Pob x Genero'!#REF!","v":{"$error":"#REF!"}},916]
[{"$f":"'Pob x Genero'!#REF!","v":{"$error":"#REF!"}},{"$f":"'Pob x Genero'!#REF!","v":{"$error":"#REF!"}},{"$f":"'Pob x Genero'!#REF!","v":{"$error":"#REF!"}},{"$f":"'Pob x Genero'!#REF!","v":{"$error":"#REF!"}},{"$f":"'Pob x Genero'!#REF!","v":{"$error":"#REF!"}},"Hombre","00-04",{"$f":"'Pob x Genero'!#REF!","v":{"$error":"#REF!"}},917]
[{"$f":"'Pob x Genero'!#REF!","v":{"$error":"#REF!"}},{"$f":"'Pob x Genero'!#REF!","v":{"$error":"#REF!"}},{"$f":"'Pob x Genero'!#REF!","v":{"$error":"#REF!"}},{"$f":"'Pob x Genero'!#REF!","v":{"$error":"#REF!"}},{"$f":"'Pob x Genero'!#REF!","v":{"$error":"#REF!"}},"Hombre","00-04",{"$f":"'Pob x Genero'!#REF!","v":{"$error":"#REF!"}},918]
[{"$f":"'Pob x Genero'!#REF!","v":{"$error":"#REF!"}},{"$f":"'Pob x Genero'!#REF!","v":{"$error":"#REF!"}},{"$f":"'Pob x Genero'!#REF!","v":{"$error":"#REF!"}},{"$f":"'Pob x Genero'!#REF!","v":{"$error":"#REF!"}},{"$f":"'Pob x Genero'!#REF!","v":{"$error":"#REF!"}},"Hombre","00-04",{"$f":"'Pob x Genero'!#REF!","v":{"$error":"#REF!"}},919]
[{"$f":"'Pob x Genero'!#REF!","v":{"$error":"#REF!"}},{"$f":"'Pob x Genero'!#REF!","v":{"$error":"#REF!"}},{"$f":"'Pob x Genero'!#REF!","v":{"$error":"#REF!"}},{"$f":"'Pob x Genero'!#REF!","v":{"$error":"#REF!"}},{"$f":"'Pob x Genero'!#REF!","v":{"$error":"#REF!"}},"Hombre","00-04",{"$f":"'Pob x Genero'!#REF!","v":{"$error":"#REF!"}},920]
[{"$f":"'Pob x Genero'!#REF!","v":{"$error":"#REF!"}},{"$f":"'Pob x Genero'!#REF!","v":{"$error":"#REF!"}},{"$f":"'Pob x Genero'!#REF!","v":{"$error":"#REF!"}},{"$f":"'Pob x Genero'!#REF!","v":{"$error":"#REF!"}},{"$f":"'Pob x Genero'!#REF!","v":{"$error":"#REF!"}},"Hombre","00-04",{"$f":"'Pob x Genero'!#REF!","v":{"$error":"#REF!"}},921]
[{"$f":"'Pob x Genero'!#REF!","v":{"$error":"#REF!"}},{"$f":"'Pob x Genero'!#REF!","v":{"$error":"#REF!"}},{"$f":"'Pob x Genero'!#REF!","v":{"$error":"#REF!"}},{"$f":"'Pob x Genero'!#REF!","v":{"$error":"#REF!"}},{"$f":"'Pob x Genero'!#REF!","v":{"$error":"#REF!"}},"Hombre","00-04",{"$f":"'Pob x Genero'!#REF!","v":{"$error":"#REF!"}},922]
[{"$f":"'Pob x Genero'!#REF!","v":{"$error":"#REF!"}},{"$f":"'Pob x Genero'!#REF!","v":{"$error":"#REF!"}},{"$f":"'Pob x Genero'!#REF!","v":{"$error":"#REF!"}},{"$f":"'Pob x Genero'!#REF!","v":{"$error":"#REF!"}},{"$f":"'Pob x Genero'!#REF!","v":{"$error":"#REF!"}},"Hombre","00-04",{"$f":"'Pob x Genero'!#REF!","v":{"$error":"#REF!"}},923]
[{"$f":"'Pob x Genero'!#REF!","v":{"$error":"#REF!"}},{"$f":"'Pob x Genero'!#REF!","v":{"$error":"#REF!"}},{"$f":"'Pob x Genero'!#REF!","v":{"$error":"#REF!"}},{"$f":"'Pob x Genero'!#REF!","v":{"$error":"#REF!"}},{"$f":"'Pob x Genero'!#REF!","v":{"$error":"#REF!"}},"Hombre","00-04",{"$f":"'Pob x Genero'!#REF!","v":{"$error":"#REF!"}},924]
[{"$f":"'Pob x Genero'!#REF!","v":{"$error":"#REF!"}},{"$f":"'Pob x Genero'!#REF!","v":{"$error":"#REF!"}},{"$f":"'Pob x Genero'!#REF!","v":{"$error":"#REF!"}},{"$f":"'Pob x Genero'!#REF!","v":{"$error":"#REF!"}},{"$f":"'Pob x Genero'!#REF!","v":{"$error":"#REF!"}},"Hombre","00-04",{"$f":"'Pob x Genero'!#REF!","v":{"$error":"#REF!"}},925]
[{"$f":"'Pob x Genero'!#REF!","v":{"$error":"#REF!"}},{"$f":"'Pob x Genero'!#REF!","v":{"$error":"#REF!"}},{"$f":"'Pob x Genero'!#REF!","v":{"$error":"#REF!"}},{"$f":"'Pob x Genero'!#REF!","v":{"$error":"#REF!"}},{"$f":"'Pob x Genero'!#REF!","v":{"$error":"#REF!"}},"Hombre","00-04",{"$f":"'Pob x Genero'!#REF!","v":{"$error":"#REF!"}},926]
[{"$f":"'Pob x Genero'!#REF!","v":{"$error":"#REF!"}},{"$f":"'Pob x Genero'!#REF!","v":{"$error":"#REF!"}},{"$f":"'Pob x Genero'!#REF!","v":{"$error":"#REF!"}},{"$f":"'Pob x Genero'!#REF!","v":{"$error":"#REF!"}},{"$f":"'Pob x Genero'!#REF!","v":{"$error":"#REF!"}},"Hombre","00-04",{"$f":"'Pob x Genero'!#REF!","v":{"$error":"#REF!"}},927]
[{"$f":"'Pob x Genero'!#REF!","v":{"$error":"#REF!"}},{"$f":"'Pob x Genero'!#REF!","v":{"$error":"#REF!"}},{"$f":"'Pob x Genero'!#REF!","v":{"$error":"#REF!"}},{"$f":"'Pob x Genero'!#REF!","v":{"$error":"#REF!"}},{"$f":"'Pob x Genero'!#REF!","v":{"$error":"#REF!"}},"Hombre","00-04",{"$f":"'Pob x Genero'!#REF!","v":{"$error":"#REF!"}},928]
[{"$f":"'Pob x Genero'!#REF!","v":{"$error":"#REF!"}},{"$f":"'Pob x Genero'!#REF!","v":{"$error":"#REF!"}},{"$f":"'Pob x Genero'!#REF!","v":{"$error":"#REF!"}},{"$f":"'Pob x Genero'!#REF!","v":{"$error":"#REF!"}},{"$f":"'Pob x Genero'!#REF!","v":{"$error":"#REF!"}},"Hombre","00-04",{"$f":"'Pob x Genero'!#REF!","v":{"$error":"#REF!"}},929]
[{"$f":"'Pob x Genero'!#REF!","v":{"$error":"#REF!"}},{"$f":"'Pob x Genero'!#REF!","v":{"$error":"#REF!"}},{"$f":"'Pob x Genero'!#REF!","v":{"$error":"#REF!"}},{"$f":"'Pob x Genero'!#REF!","v":{"$error":"#REF!"}},{"$f":"'Pob x Genero'!#REF!","v":{"$error":"#REF!"}},"Hombre","00-04",{"$f":"'Pob x Genero'!#REF!","v":{"$error":"#REF!"}},930]
[{"$f":"'Pob x Genero'!#REF!","v":{"$error":"#REF!"}},{"$f":"'Pob x Genero'!#REF!","v":{"$error":"#REF!"}},{"$f":"'Pob x Genero'!#REF!","v":{"$error":"#REF!"}},{"$f":"'Pob x Genero'!#REF!","v":{"$error":"#REF!"}},{"$f":"'Pob x Genero'!#REF!","v":{"$error":"#REF!"}},"Hombre","00-04",{"$f":"'Pob x Genero'!#REF!","v":{"$error":"#REF!"}},931]
[{"$f":"'Pob x Genero'!#REF!","v":{"$error":"#REF!"}},{"$f":"'Pob x Genero'!#REF!","v":{"$error":"#REF!"}},{"$f":"'Pob x Genero'!#REF!","v":{"$error":"#REF!"}},{"$f":"'Pob x Genero'!#REF!","v":{"$error":"#REF!"}},{"$f":"'Pob x Genero'!#REF!","v":{"$error":"#REF!"}},"Hombre","00-04",{"$f":"'Pob x Genero'!#REF!","v":{"$error":"#REF!"}},932]
[{"$f":"'Pob x Genero'!#REF!","v":{"$error":"#REF!"}},{"$f":"'Pob x Genero'!#REF!","v":{"$error":"#REF!"}},{"$f":"'Pob x Genero'!#REF!","v":{"$error":"#REF!"}},{"$f":"'Pob x Genero'!#REF!","v":{"$error":"#REF!"}},{"$f":"'Pob x Genero'!#REF!","v":{"$error":"#REF!"}},"Hombre","00-04",{"$f":"'Pob x Genero'!#REF!","v":{"$error":"#REF!"}},933]
[{"$f":"'Pob x Genero'!#REF!","v":{"$error":"#REF!"}},{"$f":"'Pob x Genero'!#REF!","v":{"$error":"#REF!"}},{"$f":"'Pob x Genero'!#REF!","v":{"$error":"#REF!"}},{"$f":"'Pob x Genero'!#REF!","v":{"$error":"#REF!"}},{"$f":"'Pob x Genero'!#REF!","v":{"$error":"#REF!"}},"Hombre","00-04",{"$f":"'Pob x Genero'!#REF!","v":{"$error":"#REF!"}},934]
[{"$f":"'Pob x Genero'!#REF!","v":{"$error":"#REF!"}},{"$f":"'Pob x Genero'!#REF!","v":{"$error":"#REF!"}},{"$f":"'Pob x Genero'!#REF!","v":{"$error":"#REF!"}},{"$f":"'Pob x Genero'!#REF!","v":{"$error":"#REF!"}},{"$f":"'Pob x Genero'!#REF!","v":{"$error":"#REF!"}},"Hombre","00-04",{"$f":"'Pob x Genero'!#REF!","v":{"$error":"#REF!"}},935]
[{"$f":"'Pob x Genero'!#REF!","v":{"$error":"#REF!"}},{"$f":"'Pob x Genero'!#REF!","v":{"$error":"#REF!"}},{"$f":"'Pob x Genero'!#REF!","v":{"$error":"#REF!"}},{"$f":"'Pob x Genero'!#REF!","v":{"$error":"#REF!"}},{"$f":"'Pob x Genero'!#REF!","v":{"$error":"#REF!"}},"Hombre","00-04",{"$f":"'Pob x Genero'!#REF!","v":{"$error":"#REF!"}},936]
[{"$f":"'Pob x Genero'!#REF!","v":{"$error":"#REF!"}},{"$f":"'Pob x Genero'!#REF!","v":{"$error":"#REF!"}},{"$f":"'Pob x Genero'!#REF!","v":{"$error":"#REF!"}},{"$f":"'Pob x Genero'!#REF!","v":{"$error":"#REF!"}},{"$f":"'Pob x Genero'!#REF!","v":{"$error":"#REF!"}},"Hombre","00-04",{"$f":"'Pob x Genero'!#REF!","v":{"$error":"#REF!"}},937]
[{"$f":"'Pob x Genero'!#REF!","v":{"$error":"#REF!"}},{"$f":"'Pob x Genero'!#REF!","v":{"$error":"#REF!"}},{"$f":"'Pob x Genero'!#REF!","v":{"$error":"#REF!"}},{"$f":"'Pob x Genero'!#REF!","v":{"$error":"#REF!"}},{"$f":"'Pob x Genero'!#REF!","v":{"$error":"#REF!"}},"Hombre","00-04",{"$f":"'Pob x Genero'!#REF!","v":{"$error":"#REF!"}},938]
[{"$f":"'Pob x Genero'!#REF!","v":{"$error":"#REF!"}},{"$f":"'Pob x Genero'!#REF!","v":{"$error":"#REF!"}},{"$f":"'Pob x Genero'!#REF!","v":{"$error":"#REF!"}},{"$f":"'Pob x Genero'!#REF!","v":{"$error":"#REF!"}},{"$f":"'Pob x Genero'!#REF!","v":{"$error":"#REF!"}},"Hombre","00-04",{"$f":"'Pob x Genero'!#REF!","v":{"$error":"#REF!"}},939]
[{"$f":"'Pob x Genero'!#REF!","v":{"$error":"#REF!"}},{"$f":"'Pob x Genero'!#REF!","v":{"$error":"#REF!"}},{"$f":"'Pob x Genero'!#REF!","v":{"$error":"#REF!"}},{"$f":"'Pob x Genero'!#REF!","v":{"$error":"#REF!"}},{"$f":"'Pob x Genero'!#REF!","v":{"$error":"#REF!"}},"Hombre","00-04",{"$f":"'Pob x Genero'!#REF!","v":{"$error":"#REF!"}},940]
[{"$f":"'Pob x Genero'!#REF!","v":{"$error":"#REF!"}},{"$f":"'Pob x Genero'!#REF!","v":{"$error":"#REF!"}},{"$f":"'Pob x Genero'!#REF!","v":{"$error":"#REF!"}},{"$f":"'Pob x Genero'!#REF!","v":{"$error":"#REF!"}},{"$f":"'Pob x Genero'!#REF!","v":{"$error":"#REF!"}},"Hombre","00-04",{"$f":"'Pob x Genero'!#REF!","v":{"$error":"#REF!"}},941]
[{"$f":"'Pob x Genero'!#REF!","v":{"$error":"#REF!"}},{"$f":"'Pob x Genero'!#REF!","v":{"$error":"#REF!"}},{"$f":"'Pob x Genero'!#REF!","v":{"$error":"#REF!"}},{"$f":"'Pob x Genero'!#REF!","v":{"$error":"#REF!"}},{"$f":"'Pob x Genero'!#REF!","v":{"$error":"#REF!"}},"Hombre","00-04",{"$f":"'Pob x Genero'!#REF!","v":{"$error":"#REF!"}},942]
[{"$f":"'Pob x Genero'!#REF!","v":{"$error":"#REF!"}},{"$f":"'Pob x Genero'!#REF!","v":{"$error":"#REF!"}},{"$f":"'Pob x Genero'!#REF!","v":{"$error":"#REF!"}},{"$f":"'Pob x Genero'!#REF!","v":{"$error":"#REF!"}},{"$f":"'Pob x Genero'!#REF!","v":{"$error":"#REF!"}},"Hombre","00-04",{"$f":"'Pob x Genero'!#REF!","v":{"$error":"#REF!"}},943]
[{"$f":"'Pob x Genero'!#REF!","v":{"$error":"#REF!"}},{"$f":"'Pob x Genero'!#REF!","v":{"$error":"#REF!"}},{"$f":"'Pob x Genero'!#REF!","v":{"$error":"#REF!"}},{"$f":"'Pob x Genero'!#REF!","v":{"$error":"#REF!"}},{"$f":"'Pob x Genero'!#REF!","v":{"$error":"#REF!"}},"Hombre","00-04",{"$f":"'Pob x Genero'!#REF!","v":{"$error":"#REF!"}},944]
[{"$f":"'Pob x Genero'!#REF!","v":{"$error":"#REF!"}},{"$f":"'Pob x Genero'!#REF!","v":{"$error":"#REF!"}},{"$f":"'Pob x Genero'!#REF!","v":{"$error":"#REF!"}},{"$f":"'Pob x Genero'!#REF!","v":{"$error":"#REF!"}},{"$f":"'Pob x Genero'!#REF!","v":{"$error":"#REF!"}},"Hombre","00-04",{"$f":"'Pob x Genero'!#REF!","v":{"$error":"#REF!"}},945]
[{"$f":"'Pob x Genero'!#REF!","v":{"$error":"#REF!"}},{"$f":"'Pob x Genero'!#REF!","v":{"$error":"#REF!"}},{"$f":"'Pob x Genero'!#REF!","v":{"$error":"#REF!"}},{"$f":"'Pob x Genero'!#REF!","v":{"$error":"#REF!"}},{"$f":"'Pob x Genero'!#REF!","v":{"$error":"#REF!"}},"Hombre","00-04",{"$f":"'Pob x Genero'!#REF!","v":{"$error":"#REF!"}},946]
[{"$f":"'Pob x Genero'!#REF!","v":{"$error":"#REF!"}},{"$f":"'Pob x Genero'!#REF!","v":{"$error":"#REF!"}},{"$f":"'Pob x Genero'!#REF!","v":{"$error":"#REF!"}},{"$f":"'Pob x Genero'!#REF!","v":{"$error":"#REF!"}},{"$f":"'Pob x Genero'!#REF!","v":{"$error":"#REF!"}},"Hombre","00-04",{"$f":"'Pob x Genero'!#REF!","v":{"$error":"#REF!"}},947]
[{"$f":"'Pob x Genero'!#REF!","v":{"$error":"#REF!"}},{"$f":"'Pob x Genero'!#REF!","v":{"$error":"#REF!"}},{"$f":"'Pob x Genero'!#REF!","v":{"$error":"#REF!"}},{"$f":"'Pob x Genero'!#REF!","v":{"$error":"#REF!"}},{"$f":"'Pob x Genero'!#REF!","v":{"$error":"#REF!"}},"Hombre","00-04",{"$f":"'Pob x Genero'!#REF!","v":{"$error":"#REF!"}},948]
[{"$f":"'Pob x Genero'!#REF!","v":{"$error":"#REF!"}},{"$f":"'Pob x Genero'!#REF!","v":{"$error":"#REF!"}},{"$f":"'Pob x Genero'!#REF!","v":{"$error":"#REF!"}},{"$f":"'Pob x Genero'!#REF!","v":{"$error":"#REF!"}},{"$f":"'Pob x Genero'!#REF!","v":{"$error":"#REF!"}},"Hombre","00-04",{"$f":"'Pob x Genero'!#REF!","v":{"$error":"#REF!"}},949]
[{"$f":"'Pob x Genero'!#REF!","v":{"$error":"#REF!"}},{"$f":"'Pob x Genero'!#REF!","v":{"$error":"#REF!"}},{"$f":"'Pob x Genero'!#REF!","v":{"$error":"#REF!"}},{"$f":"'Pob x Genero'!#REF!","v":{"$error":"#REF!"}},{"$f":"'Pob x Genero'!#REF!","v":{"$error":"#REF!"}},"Hombre","00-04",{"$f":"'Pob x Genero'!#REF!","v":{"$error":"#REF!"}},950]
[{"$f":"'Pob x Genero'!#REF!","v":{"$error":"#REF!"}},{"$f":"'Pob x Genero'!#REF!","v":{"$error":"#REF!"}},{"$f":"'Pob x Genero'!#REF!","v":{"$error":"#REF!"}},{"$f":"'Pob x Genero'!#REF!","v":{"$error":"#REF!"}},{"$f":"'Pob x Genero'!#REF!","v":{"$error":"#REF!"}},"Hombre","00-04",{"$f":"'Pob x Genero'!#REF!","v":{"$error":"#REF!"}},951]
[{"$f":"'Pob x Genero'!#REF!","v":{"$error":"#REF!"}},{"$f":"'Pob x Genero'!#REF!","v":{"$error":"#REF!"}},{"$f":"'Pob x Genero'!#REF!","v":{"$error":"#REF!"}},{"$f":"'Pob x Genero'!#REF!","v":{"$error":"#REF!"}},{"$f":"'Pob x Genero'!#REF!","v":{"$error":"#REF!"}},"Hombre","00-04",{"$f":"'Pob x Genero'!#REF!","v":{"$error":"#REF!"}},952]
[{"$f":"'Pob x Genero'!#REF!","v":{"$error":"#REF!"}},{"$f":"'Pob x Genero'!#REF!","v":{"$error":"#REF!"}},{"$f":"'Pob x Genero'!#REF!","v":{"$error":"#REF!"}},{"$f":"'Pob x Genero'!#REF!","v":{"$error":"#REF!"}},{"$f":"'Pob x Genero'!#REF!","v":{"$error":"#REF!"}},"Hombre","00-04",{"$f":"'Pob x Genero'!#REF!","v":{"$error":"#REF!"}},953]
[{"$f":"'Pob x Genero'!#REF!","v":{"$error":"#REF!"}},{"$f":"'Pob x Genero'!#REF!","v":{"$error":"#REF!"}},{"$f":"'Pob x Genero'!#REF!","v":{"$error":"#REF!"}},{"$f":"'Pob x Genero'!#REF!","v":{"$error":"#REF!"}},{"$f":"'Pob x Genero'!#REF!","v":{"$error":"#REF!"}},"Hombre","00-04",{"$f":"'Pob x Genero'!#REF!","v":{"$error":"#REF!"}},954]
[{"$f":"'Pob x Genero'!#REF!","v":{"$error":"#REF!"}},{"$f":"'Pob x Genero'!#REF!","v":{"$error":"#REF!"}},{"$f":"'Pob x Genero'!#REF!","v":{"$error":"#REF!"}},{"$f":"'Pob x Genero'!#REF!","v":{"$error":"#REF!"}},{"$f":"'Pob x Genero'!#REF!","v":{"$error":"#REF!"}},"Hombre","00-04",{"$f":"'Pob x Genero'!#REF!","v":{"$error":"#REF!"}},955]
[{"$f":"'Pob x Genero'!#REF!","v":{"$error":"#REF!"}},{"$f":"'Pob x Genero'!#REF!","v":{"$error":"#REF!"}},{"$f":"'Pob x Genero'!#REF!","v":{"$error":"#REF!"}},{"$f":"'Pob x Genero'!#REF!","v":{"$error":"#REF!"}},{"$f":"'Pob x Genero'!#REF!","v":{"$error":"#REF!"}},"Hombre","00-04",{"$f":"'Pob x Genero'!#REF!","v":{"$error":"#REF!"}},956]
[{"$f":"'Pob x Genero'!#REF!","v":{"$error":"#REF!"}},{"$f":"'Pob x Genero'!#REF!","v":{"$error":"#REF!"}},{"$f":"'Pob x Genero'!#REF!","v":{"$error":"#REF!"}},{"$f":"'Pob x Genero'!#REF!","v":{"$error":"#REF!"}},{"$f":"'Pob x Genero'!#REF!","v":{"$error":"#REF!"}},"Hombre","00-04",{"$f":"'Pob x Genero'!#REF!","v":{"$error":"#REF!"}},957]
[{"$f":"'Pob x Genero'!#REF!","v":{"$error":"#REF!"}},{"$f":"'Pob x Genero'!#REF!","v":{"$error":"#REF!"}},{"$f":"'Pob x Genero'!#REF!","v":{"$error":"#REF!"}},{"$f":"'Pob x Genero'!#REF!","v":{"$error":"#REF!"}},{"$f":"'Pob x Genero'!#REF!","v":{"$error":"#REF!"}},"Hombre","00-04",{"$f":"'Pob x Genero'!#REF!","v":{"$error":"#REF!"}},958]
[{"$f":"'Pob x Genero'!#REF!","v":{"$error":"#REF!"}},{"$f":"'Pob x Genero'!#REF!","v":{"$error":"#REF!"}},{"$f":"'Pob x Genero'!#REF!","v":{"$error":"#REF!"}},{"$f":"'Pob x Genero'!#REF!","v":{"$error":"#REF!"}},{"$f":"'Pob x Genero'!#REF!","v":{"$error":"#REF!"}},"Hombre","00-04",{"$f":"'Pob x Genero'!#REF!","v":{"$error":"#REF!"}},959]
[{"$f":"'Pob x Genero'!#REF!","v":{"$error":"#REF!"}},{"$f":"'Pob x Genero'!#REF!","v":{"$error":"#REF!"}},{"$f":"'Pob x Genero'!#REF!","v":{"$error":"#REF!"}},{"$f":"'Pob x Genero'!#REF!","v":{"$error":"#REF!"}},{"$f":"'Pob x Genero'!#REF!","v":{"$error":"#REF!"}},"Hombre","00-04",{"$f":"'Pob x Genero'!#REF!","v":{"$error":"#REF!"}},960]
[{"$f":"'Pob x Genero'!#REF!","v":{"$error":"#REF!"}},{"$f":"'Pob x Genero'!#REF!","v":{"$error":"#REF!"}},{"$f":"'Pob x Genero'!#REF!","v":{"$error":"#REF!"}},{"$f":"'Pob x Genero'!#REF!","v":{"$error":"#REF!"}},{"$f":"'Pob x Genero'!#REF!","v":{"$error":"#REF!"}},"Hombre","00-04",{"$f":"'Pob x Genero'!#REF!","v":{"$error":"#REF!"}},961]
[{"$f":"'Pob x Genero'!#REF!","v":{"$error":"#REF!"}},{"$f":"'Pob x Genero'!#REF!","v":{"$error":"#REF!"}},{"$f":"'Pob x Genero'!#REF!","v":{"$error":"#REF!"}},{"$f":"'Pob x Genero'!#REF!","v":{"$error":"#REF!"}},{"$f":"'Pob x Genero'!#REF!","v":{"$error":"#REF!"}},{"$f":"F962","v":"Hombre"},{"$f":"G962","v":"00-04"},{"$f":"'Pob x Genero'!#REF!","v":{"$error":"#REF!"}},962]
[{"$f":"'Pob x Genero'!#REF!","v":{"$error":"#REF!"}},{"$f":"'Pob x Genero'!#REF!","v":{"$error":"#REF!"}},{"$f":"'Pob x Genero'!#REF!","v":{"$error":"#REF!"}},{"$f":"'Pob x Genero'!#REF!","v":{"$error":"#REF!"}},{"$f":"'Pob x Genero'!#REF!","v":{"$error":"#REF!"}},"Hombre","00-04",{"$f":"'Pob x Genero'!#REF!","v":{"$error":"#REF!"}},963]
[{"$f":"'Pob x Genero'!#REF!","v":{"$error":"#REF!"}},{"$f":"'Pob x Genero'!#REF!","v":{"$error":"#REF!"}},{"$f":"'Pob x Genero'!#REF!","v":{"$error":"#REF!"}},{"$f":"'Pob x Genero'!#REF!","v":{"$error":"#REF!"}},{"$f":"'Pob x Genero'!#REF!","v":{"$error":"#REF!"}},"Hombre","00-04",{"$f":"'Pob x Genero'!#REF!","v":{"$error":"#REF!"}},964]
[{"$f":"'Pob x Genero'!#REF!","v":{"$error":"#REF!"}},{"$f":"'Pob x Genero'!#REF!","v":{"$error":"#REF!"}},{"$f":"'Pob x Genero'!#REF!","v":{"$error":"#REF!"}},{"$f":"'Pob x Genero'!#REF!","v":{"$error":"#REF!"}},{"$f":"'Pob x Genero'!#REF!","v":{"$error":"#REF!"}},"Hombre","00-04",{"$f":"'Pob x Genero'!#REF!","v":{"$error":"#REF!"}},965]
[{"$f":"'Pob x Genero'!#REF!","v":{"$error":"#REF!"}},{"$f":"'Pob x Genero'!#REF!","v":{"$error":"#REF!"}},{"$f":"'Pob x Genero'!#REF!","v":{"$error":"#REF!"}},{"$f":"'Pob x Genero'!#REF!","v":{"$error":"#REF!"}},{"$f":"'Pob x Genero'!#REF!","v":{"$error":"#REF!"}},"Hombre","00-04",{"$f":"'Pob x Genero'!#REF!","v":{"$error":"#REF!"}},966]
[{"$f":"'Pob x Genero'!#REF!","v":{"$error":"#REF!"}},{"$f":"'Pob x Genero'!#REF!","v":{"$error":"#REF!"}},{"$f":"'Pob x Genero'!#REF!","v":{"$error":"#REF!"}},{"$f":"'Pob x Genero'!#REF!","v":{"$error":"#REF!"}},{"$f":"'Pob x Genero'!#REF!","v":{"$error":"#REF!"}},"Hombre","00-04",{"$f":"'Pob x Genero'!#REF!","v":{"$error":"#REF!"}},967]
[{"$f":"'Pob x Genero'!#REF!","v":{"$error":"#REF!"}},{"$f":"'Pob x Genero'!#REF!","v":{"$error":"#REF!"}},{"$f":"'Pob x Genero'!#REF!","v":{"$error":"#REF!"}},{"$f":"'Pob x Genero'!#REF!","v":{"$error":"#REF!"}},{"$f":"'Pob x Genero'!#REF!","v":{"$error":"#REF!"}},"Hombre","00-04",{"$f":"'Pob x Genero'!#REF!","v":{"$error":"#REF!"}},968]
[{"$f":"'Pob x Genero'!#REF!","v":{"$error":"#REF!"}},{"$f":"'Pob x Genero'!#REF!","v":{"$error":"#REF!"}},{"$f":"'Pob x Genero'!#REF!","v":{"$error":"#REF!"}},{"$f":"'Pob x Genero'!#REF!","v":{"$error":"#REF!"}},{"$f":"'Pob x Genero'!#REF!","v":{"$error":"#REF!"}},"Hombre","00-04",{"$f":"'Pob x Genero'!#REF!","v":{"$error":"#REF!"}},969]
[{"$f":"'Pob x Genero'!#REF!","v":{"$error":"#REF!"}},{"$f":"'Pob x Genero'!#REF!","v":{"$error":"#REF!"}},{"$f":"'Pob x Genero'!#REF!","v":{"$error":"#REF!"}},{"$f":"'Pob x Genero'!#REF!","v":{"$error":"#REF!"}},{"$f":"'Pob x Genero'!#REF!","v":{"$error":"#REF!"}},"Hombre","00-04",{"$f":"'Pob x Genero'!#REF!","v":{"$error":"#REF!"}},970]
[{"$f":"'Pob x Genero'!#REF!","v":{"$error":"#REF!"}},{"$f":"'Pob x Genero'!#REF!","v":{"$error":"#REF!"}},{"$f":"'Pob x Genero'!#REF!","v":{"$error":"#REF!"}},{"$f":"'Pob x Genero'!#REF!","v":{"$error":"#REF!"}},{"$f":"'Pob x Genero'!#REF!","v":{"$error":"#REF!"}},"Hombre","00-04",{"$f":"'Pob x Genero'!#REF!","v":{"$error":"#REF!"}},971]
[{"$f":"'Pob x Genero'!#REF!","v":{"$error":"#REF!"}},{"$f":"'Pob x Genero'!#REF!","v":{"$error":"#REF!"}},{"$f":"'Pob x Genero'!#REF!","v":{"$error":"#REF!"}},{"$f":"'Pob x Genero'!#REF!","v":{"$error":"#REF!"}},{"$f":"'Pob x Genero'!#REF!","v":{"$error":"#REF!"}},"Hombre","00-04",{"$f":"'Pob x Genero'!#REF!","v":{"$error":"#REF!"}},972]
[{"$f":"'Pob x Genero'!#REF!","v":{"$error":"#REF!"}},{"$f":"'Pob x Genero'!#REF!","v":{"$error":"#REF!"}},{"$f":"'Pob x Genero'!#REF!","v":{"$error":"#REF!"}},{"$f":"'Pob x Genero'!#REF!","v":{"$error":"#REF!"}},{"$f":"'Pob x Genero'!#REF!","v":{"$error":"#REF!"}},"Hombre","00-04",{"$f":"'Pob x Genero'!#REF!","v":{"$error":"#REF!"}},973]
[{"$f":"'Pob x Genero'!#REF!","v":{"$error":"#REF!"}},{"$f":"'Pob x Genero'!#REF!","v":{"$error":"#REF!"}},{"$f":"'Pob x Genero'!#REF!","v":{"$error":"#REF!"}},{"$f":"'Pob x Genero'!#REF!","v":{"$error":"#REF!"}},{"$f":"'Pob x Genero'!#REF!","v":{"$error":"#REF!"}},"Hombre","00-04",{"$f":"'Pob x Genero'!#REF!","v":{"$error":"#REF!"}},974]
[{"$f":"'Pob x Genero'!#REF!","v":{"$error":"#REF!"}},{"$f":"'Pob x Genero'!#REF!","v":{"$error":"#REF!"}},{"$f":"'Pob x Genero'!#REF!","v":{"$error":"#REF!"}},{"$f":"'Pob x Genero'!#REF!","v":{"$error":"#REF!"}},{"$f":"'Pob x Genero'!#REF!","v":{"$error":"#REF!"}},"Hombre","00-04",{"$f":"'Pob x Genero'!#REF!","v":{"$error":"#REF!"}},975]
[{"$f":"'Pob x Genero'!#REF!","v":{"$error":"#REF!"}},{"$f":"'Pob x Genero'!#REF!","v":{"$error":"#REF!"}},{"$f":"'Pob x Genero'!#REF!","v":{"$error":"#REF!"}},{"$f":"'Pob x Genero'!#REF!","v":{"$error":"#REF!"}},{"$f":"'Pob x Genero'!#REF!","v":{"$error":"#REF!"}},"Hombre","00-04",{"$f":"'Pob x Genero'!#REF!","v":{"$error":"#REF!"}},976]
[{"$f":"'Pob x Genero'!#REF!","v":{"$error":"#REF!"}},{"$f":"'Pob x Genero'!#REF!","v":{"$error":"#REF!"}},{"$f":"'Pob x Genero'!#REF!","v":{"$error":"#REF!"}},{"$f":"'Pob x Genero'!#REF!","v":{"$error":"#REF!"}},{"$f":"'Pob x Genero'!#REF!","v":{"$error":"#REF!"}},"Hombre","00-04",{"$f":"'Pob x Genero'!#REF!","v":{"$error":"#REF!"}},977]
[{"$f":"'Pob x Genero'!#REF!","v":{"$error":"#REF!"}},{"$f":"'Pob x Genero'!#REF!","v":{"$error":"#REF!"}},{"$f":"'Pob x Genero'!#REF!","v":{"$error":"#REF!"}},{"$f":"'Pob x Genero'!#REF!","v":{"$error":"#REF!"}},{"$f":"'Pob x Genero'!#REF!","v":{"$error":"#REF!"}},"Hombre","00-04",{"$f":"'Pob x Genero'!#REF!","v":{"$error":"#REF!"}},978]
[{"$f":"'Pob x Genero'!#REF!","v":{"$error":"#REF!"}},{"$f":"'Pob x Genero'!#REF!","v":{"$error":"#REF!"}},{"$f":"'Pob x Genero'!#REF!","v":{"$error":"#REF!"}},{"$f":"'Pob x Genero'!#REF!","v":{"$error":"#REF!"}},{"$f":"'Pob x Genero'!#REF!","v":{"$error":"#REF!"}},"Hombre","00-04",{"$f":"'Pob x Genero'!#REF!","v":{"$error":"#REF!"}},979]
[{"$f":"'Pob x Genero'!#REF!","v":{"$error":"#REF!"}},{"$f":"'Pob x Genero'!#REF!","v":{"$error":"#REF!"}},{"$f":"'Pob x Genero'!#REF!","v":{"$error":"#REF!"}},{"$f":"'Pob x Genero'!#REF!","v":{"$error":"#REF!"}},{"$f":"'Pob x Genero'!#REF!","v":{"$error":"#REF!"}},"Hombre","00-04",{"$f":"'Pob x Genero'!#REF!","v":{"$error":"#REF!"}},980]
[{"$f":"'Pob x Genero'!#REF!","v":{"$error":"#REF!"}},{"$f":"'Pob x Genero'!#REF!","v":{"$error":"#REF!"}},{"$f":"'Pob x Genero'!#REF!","v":{"$error":"#REF!"}},{"$f":"'Pob x Genero'!#REF!","v":{"$error":"#REF!"}},{"$f":"'Pob x Genero'!#REF!","v":{"$error":"#REF!"}},"Hombre","00-04",{"$f":"'Pob x Genero'!#REF!","v":{"$error":"#REF!"}},981]
[{"$f":"'Pob x Genero'!#REF!","v":{"$error":"#REF!"}},{"$f":"'Pob x Genero'!#REF!","v":{"$error":"#REF!"}},{"$f":"'Pob x Genero'!#REF!","v":{"$error":"#REF!"}},{"$f":"'Pob x Genero'!#REF!","v":{"$error":"#REF!"}},{"$f":"'Pob x Genero'!#REF!","v":{"$error":"#REF!"}},"Hombre","00-04",{"$f":"'Pob x Genero'!#REF!","v":{"$error":"#REF!"}},982]
[{"$f":"'Pob x Genero'!#REF!","v":{"$error":"#REF!"}},{"$f":"'Pob x Genero'!#REF!","v":{"$error":"#REF!"}},{"$f":"'Pob x Genero'!#REF!","v":{"$error":"#REF!"}},{"$f":"'Pob x Genero'!#REF!","v":{"$error":"#REF!"}},{"$f":"'Pob x Genero'!#REF!","v":{"$error":"#REF!"}},"Hombre","00-04",{"$f":"'Pob x Genero'!#REF!","v":{"$error":"#REF!"}},983]
[{"$f":"'Pob x Genero'!#REF!","v":{"$error":"#REF!"}},{"$f":"'Pob x Genero'!#REF!","v":{"$error":"#REF!"}},{"$f":"'Pob x Genero'!#REF!","v":{"$error":"#REF!"}},{"$f":"'Pob x Genero'!#REF!","v":{"$error":"#REF!"}},{"$f":"'Pob x Genero'!#REF!","v":{"$error":"#REF!"}},"Hombre","00-04",{"$f":"'Pob x Genero'!#REF!","v":{"$error":"#REF!"}},984]
[{"$f":"'Pob x Genero'!#REF!","v":{"$error":"#REF!"}},{"$f":"'Pob x Genero'!#REF!","v":{"$error":"#REF!"}},{"$f":"'Pob x Genero'!#REF!","v":{"$error":"#REF!"}},{"$f":"'Pob x Genero'!#REF!","v":{"$error":"#REF!"}},{"$f":"'Pob x Genero'!#REF!","v":{"$error":"#REF!"}},"Hombre","00-04",{"$f":"'Pob x Genero'!#REF!","v":{"$error":"#REF!"}},985]
[{"$f":"'Pob x Genero'!#REF!","v":{"$error":"#REF!"}},{"$f":"'Pob x Genero'!#REF!","v":{"$error":"#REF!"}},{"$f":"'Pob x Genero'!#REF!","v":{"$error":"#REF!"}},{"$f":"'Pob x Genero'!#REF!","v":{"$error":"#REF!"}},{"$f":"'Pob x Genero'!#REF!","v":{"$error":"#REF!"}},"Hombre","00-04",{"$f":"'Pob x Genero'!#REF!","v":{"$error":"#REF!"}},986]
[{"$f":"'Pob x Genero'!#REF!","v":{"$error":"#REF!"}},{"$f":"'Pob x Genero'!#REF!","v":{"$error":"#REF!"}},{"$f":"'Pob x Genero'!#REF!","v":{"$error":"#REF!"}},{"$f":"'Pob x Genero'!#REF!","v":{"$error":"#REF!"}},{"$f":"'Pob x Genero'!#REF!","v":{"$error":"#REF!"}},"Hombre","00-04",{"$f":"'Pob x Genero'!#REF!","v":{"$error":"#REF!"}},987]
[{"$f":"'Pob x Genero'!#REF!","v":{"$error":"#REF!"}},{"$f":"'Pob x Genero'!#REF!","v":{"$error":"#REF!"}},{"$f":"'Pob x Genero'!#REF!","v":{"$error":"#REF!"}},{"$f":"'Pob x Genero'!#REF!","v":{"$error":"#REF!"}},{"$f":"'Pob x Genero'!#REF!","v":{"$error":"#REF!"}},"Hombre","00-04",{"$f":"'Pob x Genero'!#REF!","v":{"$error":"#REF!"}},988]
[{"$f":"'Pob x Genero'!#REF!","v":{"$error":"#REF!"}},{"$f":"'Pob x Genero'!#REF!","v":{"$error":"#REF!"}},{"$f":"'Pob x Genero'!#REF!","v":{"$error":"#REF!"}},{"$f":"'Pob x Genero'!#REF!","v":{"$error":"#REF!"}},{"$f":"'Pob x Genero'!#REF!","v":{"$error":"#REF!"}},"Hombre","00-04",{"$f":"'Pob x Genero'!#REF!","v":{"$error":"#REF!"}},989]
[{"$f":"'Pob x Genero'!#REF!","v":{"$error":"#REF!"}},{"$f":"'Pob x Genero'!#REF!","v":{"$error":"#REF!"}},{"$f":"'Pob x Genero'!#REF!","v":{"$error":"#REF!"}},{"$f":"'Pob x Genero'!#REF!","v":{"$error":"#REF!"}},{"$f":"'Pob x Genero'!#REF!","v":{"$error":"#REF!"}},"Hombre","00-04",{"$f":"'Pob x Genero'!#REF!","v":{"$error":"#REF!"}},990]
[{"$f":"'Pob x Genero'!#REF!","v":{"$error":"#REF!"}},{"$f":"'Pob x Genero'!#REF!","v":{"$error":"#REF!"}},{"$f":"'Pob x Genero'!#REF!","v":{"$error":"#REF!"}},{"$f":"'Pob x Genero'!#REF!","v":{"$error":"#REF!"}},{"$f":"'Pob x Genero'!#REF!","v":{"$error":"#REF!"}},"Hombre","00-04",{"$f":"'Pob x Genero'!#REF!","v":{"$error":"#REF!"}},991]
[{"$f":"'Pob x Genero'!#REF!","v":{"$error":"#REF!"}},{"$f":"'Pob x Genero'!#REF!","v":{"$error":"#REF!"}},{"$f":"'Pob x Genero'!#REF!","v":{"$error":"#REF!"}},{"$f":"'Pob x Genero'!#REF!","v":{"$error":"#REF!"}},{"$f":"'Pob x Genero'!#REF!","v":{"$error":"#REF!"}},"Hombre","00-04",{"$f":"'Pob x Genero'!#REF!","v":{"$error":"#REF!"}},992]
[{"$f":"'Pob x Genero'!#REF!","v":{"$error":"#REF!"}},{"$f":"'Pob x Genero'!#REF!","v":{"$error":"#REF!"}},{"$f":"'Pob x Genero'!#REF!","v":{"$error":"#REF!"}},{"$f":"'Pob x Genero'!#REF!","v":{"$error":"#REF!"}},{"$f":"'Pob x Genero'!#REF!","v":{"$error":"#REF!"}},"Hombre","00-04",{"$f":"'Pob x Genero'!#REF!","v":{"$error":"#REF!"}},993]
[{"$f":"'Pob x Genero'!#REF!","v":{"$error":"#REF!"}},{"$f":"'Pob x Genero'!#REF!","v":{"$error":"#REF!"}},{"$f":"'Pob x Genero'!#REF!","v":{"$error":"#REF!"}},{"$f":"'Pob x Genero'!#REF!","v":{"$error":"#REF!"}},{"$f":"'Pob x Genero'!#REF!","v":{"$error":"#REF!"}},"Hombre","00-04",{"$f":"'Pob x Genero'!#REF!","v":{"$error":"#REF!"}},994]
[{"$f":"'Pob x Genero'!#REF!","v":{"$error":"#REF!"}},{"$f":"'Pob x Genero'!#REF!","v":{"$error":"#REF!"}},{"$f":"'Pob x Genero'!#REF!","v":{"$error":"#REF!"}},{"$f":"'Pob x Genero'!#REF!","v":{"$error":"#REF!"}},{"$f":"'Pob x Genero'!#REF!","v":{"$error":"#REF!"}},"Hombre","00-04",{"$f":"'Pob x Genero'!#REF!","v":{"$error":"#REF!"}},995]
[{"$f":"'Pob x Genero'!#REF!","v":{"$error":"#REF!"}},{"$f":"'Pob x Genero'!#REF!","v":{"$error":"#REF!"}},{"$f":"'Pob x Genero'!#REF!","v":{"$error":"#REF!"}},{"$f":"'Pob x Genero'!#REF!","v":{"$error":"#REF!"}},{"$f":"'Pob x Genero'!#REF!","v":{"$error":"#REF!"}},"Hombre","00-04",{"$f":"'Pob x Genero'!#REF!","v":{"$error":"#REF!"}},996]
[{"$f":"'Pob x Genero'!#REF!","v":{"$error":"#REF!"}},{"$f":"'Pob x Genero'!#REF!","v":{"$error":"#REF!"}},{"$f":"'Pob x Genero'!#REF!","v":{"$error":"#REF!"}},{"$f":"'Pob x Genero'!#REF!","v":{"$error":"#REF!"}},{"$f":"'Pob x Genero'!#REF!","v":{"$error":"#REF!"}},"Hombre","00-04",{"$f":"'Pob x Genero'!#REF!","v":{"$error":"#REF!"}},997]
[{"$f":"'Pob x Genero'!#REF!","v":{"$error":"#REF!"}},{"$f":"'Pob x Genero'!#REF!","v":{"$error":"#REF!"}},{"$f":"'Pob x Genero'!#REF!","v":{"$error":"#REF!"}},{"$f":"'Pob x Genero'!#REF!","v":{"$error":"#REF!"}},{"$f":"'Pob x Genero'!#REF!","v":{"$error":"#REF!"}},"Hombre","00-04",{"$f":"'Pob x Genero'!#REF!","v":{"$error":"#REF!"}},998]
[{"$f":"'Pob x Genero'!#REF!","v":{"$error":"#REF!"}},{"$f":"'Pob x Genero'!#REF!","v":{"$error":"#REF!"}},{"$f":"'Pob x Genero'!#REF!","v":{"$error":"#REF!"}},{"$f":"'Pob x Genero'!#REF!","v":{"$error":"#REF!"}},{"$f":"'Pob x Genero'!#REF!","v":{"$error":"#REF!"}},"Hombre","00-04",{"$f":"'Pob x Genero'!#REF!","v":{"$error":"#REF!"}},999]
[{"$f":"'Pob x Genero'!#REF!","v":{"$error":"#REF!"}},{"$f":"'Pob x Genero'!#REF!","v":{"$error":"#REF!"}},{"$f":"'Pob x Genero'!#REF!","v":{"$error":"#REF!"}},{"$f":"'Pob x Genero'!#REF!","v":{"$error":"#REF!"}},{"$f":"'Pob x Genero'!#REF!","v":{"$error":"#REF!"}},"Hombre","00-04",{"$f":"'Pob x Genero'!#REF!","v":{"$error":"#REF!"}},1000]
[{"$f":"'Pob x Genero'!#REF!","v":{"$error":"#REF!"}},{"$f":"'Pob x Genero'!#REF!","v":{"$error":"#REF!"}},{"$f":"'Pob x Genero'!#REF!","v":{"$error":"#REF!"}},{"$f":"'Pob x Genero'!#REF!","v":{"$error":"#REF!"}},{"$f":"'Pob x Genero'!#REF!","v":{"$error":"#REF!"}},"Hombre","00-04",{"$f":"'Pob x Genero'!#REF!","v":{"$error":"#REF!"}},1001]
[{"$f":"'Pob x Genero'!#REF!","v":{"$error":"#REF!"}},{"$f":"'Pob x Genero'!#REF!","v":{"$error":"#REF!"}},{"$f":"'Pob x Genero'!#REF!","v":{"$error":"#REF!"}},{"$f":"'Pob x Genero'!#REF!","v":{"$error":"#REF!"}},{"$f":"'Pob x Genero'!#REF!","v":{"$error":"#REF!"}},"Hombre","00-04",{"$f":"'Pob x Genero'!#REF!","v":{"$error":"#REF!"}},1002]
[{"$f":"'Pob x Genero'!#REF!","v":{"$error":"#REF!"}},{"$f":"'Pob x Genero'!#REF!","v":{"$error":"#REF!"}},{"$f":"'Pob x Genero'!#REF!","v":{"$error":"#REF!"}},{"$f":"'Pob x Genero'!#REF!","v":{"$error":"#REF!"}},{"$f":"'Pob x Genero'!#REF!","v":{"$error":"#REF!"}},"Hombre","00-04",{"$f":"'Pob x Genero'!#REF!","v":{"$error":"#REF!"}},1003]
[{"$f":"'Pob x Genero'!#REF!","v":{"$error":"#REF!"}},{"$f":"'Pob x Genero'!#REF!","v":{"$error":"#REF!"}},{"$f":"'Pob x Genero'!#REF!","v":{"$error":"#REF!"}},{"$f":"'Pob x Genero'!#REF!","v":{"$error":"#REF!"}},{"$f":"'Pob x Genero'!#REF!","v":{"$error":"#REF!"}},"Hombre","00-04",{"$f":"'Pob x Genero'!#REF!","v":{"$error":"#REF!"}},1004]
[{"$f":"'Pob x Genero'!#REF!","v":{"$error":"#REF!"}},{"$f":"'Pob x Genero'!#REF!","v":{"$error":"#REF!"}},{"$f":"'Pob x Genero'!#REF!","v":{"$error":"#REF!"}},{"$f":"'Pob x Genero'!#REF!","v":{"$error":"#REF!"}},{"$f":"'Pob x Genero'!#REF!","v":{"$error":"#REF!"}},"Hombre","00-04",{"$f":"'Pob x Genero'!#REF!","v":{"$error":"#REF!"}},1005]
[{"$f":"'Pob x Genero'!#REF!","v":{"$error":"#REF!"}},{"$f":"'Pob x Genero'!#REF!","v":{"$error":"#REF!"}},{"$f":"'Pob x Genero'!#REF!","v":{"$error":"#REF!"}},{"$f":"'Pob x Genero'!#REF!","v":{"$error":"#REF!"}},{"$f":"'Pob x Genero'!#REF!","v":{"$error":"#REF!"}},"Hombre","00-04",{"$f":"'Pob x Genero'!#REF!","v":{"$error":"#REF!"}},1006]
[{"$f":"'Pob x Genero'!#REF!","v":{"$error":"#REF!"}},{"$f":"'Pob x Genero'!#REF!","v":{"$error":"#REF!"}},{"$f":"'Pob x Genero'!#REF!","v":{"$error":"#REF!"}},{"$f":"'Pob x Genero'!#REF!","v":{"$error":"#REF!"}},{"$f":"'Pob x Genero'!#REF!","v":{"$error":"#REF!"}},"Hombre","00-04",{"$f":"'Pob x Genero'!#REF!","v":{"$error":"#REF!"}},1007]
[{"$f":"'Pob x Genero'!#REF!","v":{"$error":"#REF!"}},{"$f":"'Pob x Genero'!#REF!","v":{"$error":"#REF!"}},{"$f":"'Pob x Genero'!#REF!","v":{"$error":"#REF!"}},{"$f":"'Pob x Genero'!#REF!","v":{"$error":"#REF!"}},{"$f":"'Pob x Genero'!#REF!","v":{"$error":"#REF!"}},"Hombre","00-04",{"$f":"'Pob x Genero'!#REF!","v":{"$error":"#REF!"}},1008]
[{"$f":"'Pob x Genero'!#REF!","v":{"$error":"#REF!"}},{"$f":"'Pob x Genero'!#REF!","v":{"$error":"#REF!"}},{"$f":"'Pob x Genero'!#REF!","v":{"$error":"#REF!"}},{"$f":"'Pob x Genero'!#REF!","v":{"$error":"#REF!"}},{"$f":"'Pob x Genero'!#REF!","v":{"$error":"#REF!"}},"Hombre","00-04",{"$f":"'Pob x Genero'!#REF!","v":{"$error":"#REF!"}},1009]
[{"$f":"'Pob x Genero'!#REF!","v":{"$error":"#REF!"}},{"$f":"'Pob x Genero'!#REF!","v":{"$error":"#REF!"}},{"$f":"'Pob x Genero'!#REF!","v":{"$error":"#REF!"}},{"$f":"'Pob x Genero'!#REF!","v":{"$error":"#REF!"}},{"$f":"'Pob x Genero'!#REF!","v":{"$error":"#REF!"}},"Hombre","00-04",{"$f":"'Pob x Genero'!#REF!","v":{"$error":"#REF!"}},1010]
[{"$f":"'Pob x Genero'!#REF!","v":{"$error":"#REF!"}},{"$f":"'Pob x Genero'!#REF!","v":{"$error":"#REF!"}},{"$f":"'Pob x Genero'!#REF!","v":{"$error":"#REF!"}},{"$f":"'Pob x Genero'!#REF!","v":{"$error":"#REF!"}},{"$f":"'Pob x Genero'!#REF!","v":{"$error":"#REF!"}},"Hombre","00-04",{"$f":"'Pob x Genero'!#REF!","v":{"$error":"#REF!"}},1011]
[{"$f":"'Pob x Genero'!#REF!","v":{"$error":"#REF!"}},{"$f":"'Pob x Genero'!#REF!","v":{"$error":"#REF!"}},{"$f":"'Pob x Genero'!#REF!","v":{"$error":"#REF!"}},{"$f":"'Pob x Genero'!#REF!","v":{"$error":"#REF!"}},{"$f":"'Pob x Genero'!#REF!","v":{"$error":"#REF!"}},"Hombre","00-04",{"$f":"'Pob x Genero'!#REF!","v":{"$error":"#REF!"}},1012]
[{"$f":"'Pob x Genero'!#REF!","v":{"$error":"#REF!"}},{"$f":"'Pob x Genero'!#REF!","v":{"$error":"#REF!"}},{"$f":"'Pob x Genero'!#REF!","v":{"$error":"#REF!"}},{"$f":"'Pob x Genero'!#REF!","v":{"$error":"#REF!"}},{"$f":"'Pob x Genero'!#REF!","v":{"$error":"#REF!"}},"Hombre","00-04",{"$f":"'Pob x Genero'!#REF!","v":{"$error":"#REF!"}},1013]
[{"$f":"'Pob x Genero'!#REF!","v":{"$error":"#REF!"}},{"$f":"'Pob x Genero'!#REF!","v":{"$error":"#REF!"}},{"$f":"'Pob x Genero'!#REF!","v":{"$error":"#REF!"}},{"$f":"'Pob x Genero'!#REF!","v":{"$error":"#REF!"}},{"$f":"'Pob x Genero'!#REF!","v":{"$error":"#REF!"}},"Hombre","00-04",{"$f":"'Pob x Genero'!#REF!","v":{"$error":"#REF!"}},1014]
[{"$f":"'Pob x Genero'!#REF!","v":{"$error":"#REF!"}},{"$f":"'Pob x Genero'!#REF!","v":{"$error":"#REF!"}},{"$f":"'Pob x Genero'!#REF!","v":{"$error":"#REF!"}},{"$f":"'Pob x Genero'!#REF!","v":{"$error":"#REF!"}},{"$f":"'Pob x Genero'!#REF!","v":{"$error":"#REF!"}},"Hombre","00-04",{"$f":"'Pob x Genero'!#REF!","v":{"$error":"#REF!"}},1015]
[{"$f":"'Pob x Genero'!#REF!","v":{"$error":"#REF!"}},{"$f":"'Pob x Genero'!#REF!","v":{"$error":"#REF!"}},{"$f":"'Pob x Genero'!#REF!","v":{"$error":"#REF!"}},{"$f":"'Pob x Genero'!#REF!","v":{"$error":"#REF!"}},{"$f":"'Pob x Genero'!#REF!","v":{"$error":"#REF!"}},"Hombre","00-04",{"$f":"'Pob x Genero'!#REF!","v":{"$error":"#REF!"}},1016]
[{"$f":"'Pob x Genero'!#REF!","v":{"$error":"#REF!"}},{"$f":"'Pob x Genero'!#REF!","v":{"$error":"#REF!"}},{"$f":"'Pob x Genero'!#REF!","v":{"$error":"#REF!"}},{"$f":"'Pob x Genero'!#REF!","v":{"$error":"#REF!"}},{"$f":"'Pob x Genero'!#REF!","v":{"$error":"#REF!"}},"Hombre","00-04",{"$f":"'Pob x Genero'!#REF!","v":{"$error":"#REF!"}},1017]
[{"$f":"'Pob x Genero'!#REF!","v":{"$error":"#REF!"}},{"$f":"'Pob x Genero'!#REF!","v":{"$error":"#REF!"}},{"$f":"'Pob x Genero'!#REF!","v":{"$error":"#REF!"}},{"$f":"'Pob x Genero'!#REF!","v":{"$error":"#REF!"}},{"$f":"'Pob x Genero'!#REF!","v":{"$error":"#REF!"}},"Hombre","00-04",{"$f":"'Pob x Genero'!#REF!","v":{"$error":"#REF!"}},1018]
[{"$f":"'Pob x Genero'!#REF!","v":{"$error":"#REF!"}},{"$f":"'Pob x Genero'!#REF!","v":{"$error":"#REF!"}},{"$f":"'Pob x Genero'!#REF!","v":{"$error":"#REF!"}},{"$f":"'Pob x Genero'!#REF!","v":{"$error":"#REF!"}},{"$f":"'Pob x Genero'!#REF!","v":{"$error":"#REF!"}},"Hombre","00-04",{"$f":"'Pob x Genero'!#REF!","v":{"$error":"#REF!"}},1019]
[{"$f":"'Pob x Genero'!#REF!","v":{"$error":"#REF!"}},{"$f":"'Pob x Genero'!#REF!","v":{"$error":"#REF!"}},{"$f":"'Pob x Genero'!#REF!","v":{"$error":"#REF!"}},{"$f":"'Pob x Genero'!#REF!","v":{"$error":"#REF!"}},{"$f":"'Pob x Genero'!#REF!","v":{"$error":"#REF!"}},"Hombre","00-04",{"$f":"'Pob x Genero'!#REF!","v":{"$error":"#REF!"}},1020]
[{"$f":"'Pob x Genero'!#REF!","v":{"$error":"#REF!"}},{"$f":"'Pob x Genero'!#REF!","v":{"$error":"#REF!"}},{"$f":"'Pob x Genero'!#REF!","v":{"$error":"#REF!"}},{"$f":"'Pob x Genero'!#REF!","v":{"$error":"#REF!"}},{"$f":"'Pob x Genero'!#REF!","v":{"$error":"#REF!"}},"Hombre","00-04",{"$f":"'Pob x Genero'!#REF!","v":{"$error":"#REF!"}},1021]
[{"$f":"'Pob x Genero'!#REF!","v":{"$error":"#REF!"}},{"$f":"'Pob x Genero'!#REF!","v":{"$error":"#REF!"}},{"$f":"'Pob x Genero'!#REF!","v":{"$error":"#REF!"}},{"$f":"'Pob x Genero'!#REF!","v":{"$error":"#REF!"}},{"$f":"'Pob x Genero'!#REF!","v":{"$error":"#REF!"}},"Hombre","00-04",{"$f":"'Pob x Genero'!#REF!","v":{"$error":"#REF!"}},1022]
[{"$f":"'Pob x Genero'!#REF!","v":{"$error":"#REF!"}},{"$f":"'Pob x Genero'!#REF!","v":{"$error":"#REF!"}},{"$f":"'Pob x Genero'!#REF!","v":{"$error":"#REF!"}},{"$f":"'Pob x Genero'!#REF!","v":{"$error":"#REF!"}},{"$f":"'Pob x Genero'!#REF!","v":{"$error":"#REF!"}},"Hombre","00-04",{"$f":"'Pob x Genero'!#REF!","v":{"$error":"#REF!"}},1023]
[{"$f":"'Pob x Genero'!#REF!","v":{"$error":"#REF!"}},{"$f":"'Pob x Genero'!#REF!","v":{"$error":"#REF!"}},{"$f":"'Pob x Genero'!#REF!","v":{"$error":"#REF!"}},{"$f":"'Pob x Genero'!#REF!","v":{"$error":"#REF!"}},{"$f":"'Pob x Genero'!#REF!","v":{"$error":"#REF!"}},"Hombre","00-04",{"$f":"'Pob x Genero'!#REF!","v":{"$error":"#REF!"}},1024]
[{"$f":"'Pob x Genero'!#REF!","v":{"$error":"#REF!"}},{"$f":"'Pob x Genero'!#REF!","v":{"$error":"#REF!"}},{"$f":"'Pob x Genero'!#REF!","v":{"$error":"#REF!"}},{"$f":"'Pob x Genero'!#REF!","v":{"$error":"#REF!"}},{"$f":"'Pob x Genero'!#REF!","v":{"$error":"#REF!"}},"Hombre","00-04",{"$f":"'Pob x Genero'!#REF!","v":{"$error":"#REF!"}},1025]
[{"$f":"'Pob x Genero'!#REF!","v":{"$error":"#REF!"}},{"$f":"'Pob x Genero'!#REF!","v":{"$error":"#REF!"}},{"$f":"'Pob x Genero'!#REF!","v":{"$error":"#REF!"}},{"$f":"'Pob x Genero'!#REF!","v":{"$error":"#REF!"}},{"$f":"'Pob x Genero'!#REF!","v":{"$error":"#REF!"}},{"$f":"F1026","v":"Hombre"},{"$f":"G1026","v":"00-04"},{"$f":"'Pob x Genero'!#REF!","v":{"$error":"#REF!"}},1026]
[{"$f":"'Pob x Genero'!#REF!","v":{"$error":"#REF!"}},{"$f":"'Pob x Genero'!#REF!","v":{"$error":"#REF!"}},{"$f":"'Pob x Genero'!#REF!","v":{"$error":"#REF!"}},{"$f":"'Pob x Genero'!#REF!","v":{"$error":"#REF!"}},{"$f":"'Pob x Genero'!#REF!","v":{"$error":"#REF!"}},"Hombre","00-04",{"$f":"'Pob x Genero'!#REF!","v":{"$error":"#REF!"}},1027]
[{"$f":"'Pob x Genero'!#REF!","v":{"$error":"#REF!"}},{"$f":"'Pob x Genero'!#REF!","v":{"$error":"#REF!"}},{"$f":"'Pob x Genero'!#REF!","v":{"$error":"#REF!"}},{"$f":"'Pob x Genero'!#REF!","v":{"$error":"#REF!"}},{"$f":"'Pob x Genero'!#REF!","v":{"$error":"#REF!"}},"Hombre","00-04",{"$f":"'Pob x Genero'!#REF!","v":{"$error":"#REF!"}},1028]
[{"$f":"'Pob x Genero'!#REF!","v":{"$error":"#REF!"}},{"$f":"'Pob x Genero'!#REF!","v":{"$error":"#REF!"}},{"$f":"'Pob x Genero'!#REF!","v":{"$error":"#REF!"}},{"$f":"'Pob x Genero'!#REF!","v":{"$error":"#REF!"}},{"$f":"'Pob x Genero'!#REF!","v":{"$error":"#REF!"}},"Hombre","00-04",{"$f":"'Pob x Genero'!#REF!","v":{"$error":"#REF!"}},1029]
[{"$f":"'Pob x Genero'!#REF!","v":{"$error":"#REF!"}},{"$f":"'Pob x Genero'!#REF!","v":{"$error":"#REF!"}},{"$f":"'Pob x Genero'!#REF!","v":{"$error":"#REF!"}},{"$f":"'Pob x Genero'!#REF!","v":{"$error":"#REF!"}},{"$f":"'Pob x Genero'!#REF!","v":{"$error":"#REF!"}},"Hombre","00-04",{"$f":"'Pob x Genero'!#REF!","v":{"$error":"#REF!"}},1030]
[{"$f":"'Pob x Genero'!#REF!","v":{"$error":"#REF!"}},{"$f":"'Pob x Genero'!#REF!","v":{"$error":"#REF!"}},{"$f":"'Pob x Genero'!#REF!","v":{"$error":"#REF!"}},{"$f":"'Pob x Genero'!#REF!","v":{"$error":"#REF!"}},{"$f":"'Pob x Genero'!#REF!","v":{"$error":"#REF!"}},"Hombre","00-04",{"$f":"'Pob x Genero'!#REF!","v":{"$error":"#REF!"}},1031]
[{"$f":"'Pob x Genero'!#REF!","v":{"$error":"#REF!"}},{"$f":"'Pob x Genero'!#REF!","v":{"$error":"#REF!"}},{"$f":"'Pob x Genero'!#REF!","v":{"$error":"#REF!"}},{"$f":"'Pob x Genero'!#REF!","v":{"$error":"#REF!"}},{"$f":"'Pob x Genero'!#REF!","v":{"$error":"#REF!"}},"Hombre","00-04",{"$f":"'Pob x Genero'!#REF!","v":{"$error":"#REF!"}},1032]
[{"$f":"'Pob x Genero'!#REF!","v":{"$error":"#REF!"}},{"$f":"'Pob x Genero'!#REF!","v":{"$error":"#REF!"}},{"$f":"'Pob x Genero'!#REF!","v":{"$error":"#REF!"}},{"$f":"'Pob x Genero'!#REF!","v":{"$error":"#REF!"}},{"$f":"'Pob x Genero'!#REF!","v":{"$error":"#REF!"}},"Hombre","00-04",{"$f":"'Pob x Genero'!#REF!","v":{"$error":"#REF!"}},1033]
[{"$f":"'Pob x Genero'!#REF!","v":{"$error":"#REF!"}},{"$f":"'Pob x Genero'!#REF!","v":{"$error":"#REF!"}},{"$f":"'Pob x Genero'!#REF!","v":{"$error":"#REF!"}},{"$f":"'Pob x Genero'!#REF!","v":{"$error":"#REF!"}},{"$f":"'Pob x Genero'!#REF!","v":{"$error":"#REF!"}},"Hombre","00-04",{"$f":"'Pob x Genero'!#REF!","v":{"$error":"#REF!"}},1034]
[{"$f":"'Pob x Genero'!#REF!","v":{"$error":"#REF!"}},{"$f":"'Pob x Genero'!#REF!","v":{"$error":"#REF!"}},{"$f":"'Pob x Genero'!#REF!","v":{"$error":"#REF!"}},{"$f":"'Pob x Genero'!#REF!","v":{"$error":"#REF!"}},{"$f":"'Pob x Genero'!#REF!","v":{"$error":"#REF!"}},"Hombre","00-04",{"$f":"'Pob x Genero'!#REF!","v":{"$error":"#REF!"}},1035]
[{"$f":"'Pob x Genero'!#REF!","v":{"$error":"#REF!"}},{"$f":"'Pob x Genero'!#REF!","v":{"$error":"#REF!"}},{"$f":"'Pob x Genero'!#REF!","v":{"$error":"#REF!"}},{"$f":"'Pob x Genero'!#REF!","v":{"$error":"#REF!"}},{"$f":"'Pob x Genero'!#REF!","v":{"$error":"#REF!"}},"Hombre","00-04",{"$f":"'Pob x Genero'!#REF!","v":{"$error":"#REF!"}},1036]
[{"$f":"'Pob x Genero'!#REF!","v":{"$error":"#REF!"}},{"$f":"'Pob x Genero'!#REF!","v":{"$error":"#REF!"}},{"$f":"'Pob x Genero'!#REF!","v":{"$error":"#REF!"}},{"$f":"'Pob x Genero'!#REF!","v":{"$error":"#REF!"}},{"$f":"'Pob x Genero'!#REF!","v":{"$error":"#REF!"}},"Hombre","00-04",{"$f":"'Pob x Genero'!#REF!","v":{"$error":"#REF!"}},1037]
[{"$f":"'Pob x Genero'!#REF!","v":{"$error":"#REF!"}},{"$f":"'Pob x Genero'!#REF!","v":{"$error":"#REF!"}},{"$f":"'Pob x Genero'!#REF!","v":{"$error":"#REF!"}},{"$f":"'Pob x Genero'!#REF!","v":{"$error":"#REF!"}},{"$f":"'Pob x Genero'!#REF!","v":{"$error":"#REF!"}},"Hombre","00-04",{"$f":"'Pob x Genero'!#REF!","v":{"$error":"#REF!"}},1038]
[{"$f":"'Pob x Genero'!#REF!","v":{"$error":"#REF!"}},{"$f":"'Pob x Genero'!#REF!","v":{"$error":"#REF!"}},{"$f":"'Pob x Genero'!#REF!","v":{"$error":"#REF!"}},{"$f":"'Pob x Genero'!#REF!","v":{"$error":"#REF!"}},{"$f":"'Pob x Genero'!#REF!","v":{"$error":"#REF!"}},"Hombre","00-04",{"$f":"'Pob x Genero'!#REF!","v":{"$error":"#REF!"}},1039]
[{"$f":"'Pob x Genero'!#REF!","v":{"$error":"#REF!"}},{"$f":"'Pob x Genero'!#REF!","v":{"$error":"#REF!"}},{"$f":"'Pob x Genero'!#REF!","v":{"$error":"#REF!"}},{"$f":"'Pob x Genero'!#REF!","v":{"$error":"#REF!"}},{"$f":"'Pob x Genero'!#REF!","v":{"$error":"#REF!"}},"Hombre","00-04",{"$f":"'Pob x Genero'!#REF!","v":{"$error":"#REF!"}},1040]
[{"$f":"'Pob x Genero'!#REF!","v":{"$error":"#REF!"}},{"$f":"'Pob x Genero'!#REF!","v":{"$error":"#REF!"}},{"$f":"'Pob x Genero'!#REF!","v":{"$error":"#REF!"}},{"$f":"'Pob x Genero'!#REF!","v":{"$error":"#REF!"}},{"$f":"'Pob x Genero'!#REF!","v":{"$error":"#REF!"}},"Hombre","00-04",{"$f":"'Pob x Genero'!#REF!","v":{"$error":"#REF!"}},1041]
[{"$f":"'Pob x Genero'!#REF!","v":{"$error":"#REF!"}},{"$f":"'Pob x Genero'!#REF!","v":{"$error":"#REF!"}},{"$f":"'Pob x Genero'!#REF!","v":{"$error":"#REF!"}},{"$f":"'Pob x Genero'!#REF!","v":{"$error":"#REF!"}},{"$f":"'Pob x Genero'!#REF!","v":{"$error":"#REF!"}},"Hombre","00-04",{"$f":"'Pob x Genero'!#REF!","v":{"$error":"#REF!"}},1042]
[{"$f":"'Pob x Genero'!#REF!","v":{"$error":"#REF!"}},{"$f":"'Pob x Genero'!#REF!","v":{"$error":"#REF!"}},{"$f":"'Pob x Genero'!#REF!","v":{"$error":"#REF!"}},{"$f":"'Pob x Genero'!#REF!","v":{"$error":"#REF!"}},{"$f":"'Pob x Genero'!#REF!","v":{"$error":"#REF!"}},"Hombre","00-04",{"$f":"'Pob x Genero'!#REF!","v":{"$error":"#REF!"}},1043]
[{"$f":"'Pob x Genero'!#REF!","v":{"$error":"#REF!"}},{"$f":"'Pob x Genero'!#REF!","v":{"$error":"#REF!"}},{"$f":"'Pob x Genero'!#REF!","v":{"$error":"#REF!"}},{"$f":"'Pob x Genero'!#REF!","v":{"$error":"#REF!"}},{"$f":"'Pob x Genero'!#REF!","v":{"$error":"#REF!"}},"Hombre","00-04",{"$f":"'Pob x Genero'!#REF!","v":{"$error":"#REF!"}},1044]
[{"$f":"'Pob x Genero'!#REF!","v":{"$error":"#REF!"}},{"$f":"'Pob x Genero'!#REF!","v":{"$error":"#REF!"}},{"$f":"'Pob x Genero'!#REF!","v":{"$error":"#REF!"}},{"$f":"'Pob x Genero'!#REF!","v":{"$error":"#REF!"}},{"$f":"'Pob x Genero'!#REF!","v":{"$error":"#REF!"}},"Hombre","00-04",{"$f":"'Pob x Genero'!#REF!","v":{"$error":"#REF!"}},1045]
[{"$f":"'Pob x Genero'!#REF!","v":{"$error":"#REF!"}},{"$f":"'Pob x Genero'!#REF!","v":{"$error":"#REF!"}},{"$f":"'Pob x Genero'!#REF!","v":{"$error":"#REF!"}},{"$f":"'Pob x Genero'!#REF!","v":{"$error":"#REF!"}},{"$f":"'Pob x Genero'!#REF!","v":{"$error":"#REF!"}},"Hombre","00-04",{"$f":"'Pob x Genero'!#REF!","v":{"$error":"#REF!"}},1046]
[{"$f":"'Pob x Genero'!#REF!","v":{"$error":"#REF!"}},{"$f":"'Pob x Genero'!#REF!","v":{"$error":"#REF!"}},{"$f":"'Pob x Genero'!#REF!","v":{"$error":"#REF!"}},{"$f":"'Pob x Genero'!#REF!","v":{"$error":"#REF!"}},{"$f":"'Pob x Genero'!#REF!","v":{"$error":"#REF!"}},"Hombre","00-04",{"$f":"'Pob x Genero'!#REF!","v":{"$error":"#REF!"}},1047]
[{"$f":"'Pob x Genero'!#REF!","v":{"$error":"#REF!"}},{"$f":"'Pob x Genero'!#REF!","v":{"$error":"#REF!"}},{"$f":"'Pob x Genero'!#REF!","v":{"$error":"#REF!"}},{"$f":"'Pob x Genero'!#REF!","v":{"$error":"#REF!"}},{"$f":"'Pob x Genero'!#REF!","v":{"$error":"#REF!"}},"Hombre","00-04",{"$f":"'Pob x Genero'!#REF!","v":{"$error":"#REF!"}},1048]
[{"$f":"'Pob x Genero'!#REF!","v":{"$error":"#REF!"}},{"$f":"'Pob x Genero'!#REF!","v":{"$error":"#REF!"}},{"$f":"'Pob x Genero'!#REF!","v":{"$error":"#REF!"}},{"$f":"'Pob x Genero'!#REF!","v":{"$error":"#REF!"}},{"$f":"'Pob x Genero'!#REF!","v":{"$error":"#REF!"}},"Hombre","00-04",{"$f":"'Pob x Genero'!#REF!","v":{"$error":"#REF!"}},1049]
[{"$f":"'Pob x Genero'!#REF!","v":{"$error":"#REF!"}},{"$f":"'Pob x Genero'!#REF!","v":{"$error":"#REF!"}},{"$f":"'Pob x Genero'!#REF!","v":{"$error":"#REF!"}},{"$f":"'Pob x Genero'!#REF!","v":{"$error":"#REF!"}},{"$f":"'Pob x Genero'!#REF!","v":{"$error":"#REF!"}},"Hombre","00-04",{"$f":"'Pob x Genero'!#REF!","v":{"$error":"#REF!"}},1050]
[{"$f":"'Pob x Genero'!#REF!","v":{"$error":"#REF!"}},{"$f":"'Pob x Genero'!#REF!","v":{"$error":"#REF!"}},{"$f":"'Pob x Genero'!#REF!","v":{"$error":"#REF!"}},{"$f":"'Pob x Genero'!#REF!","v":{"$error":"#REF!"}},{"$f":"'Pob x Genero'!#REF!","v":{"$error":"#REF!"}},"Hombre","00-04",{"$f":"'Pob x Genero'!#REF!","v":{"$error":"#REF!"}},1051]
[{"$f":"'Pob x Genero'!#REF!","v":{"$error":"#REF!"}},{"$f":"'Pob x Genero'!#REF!","v":{"$error":"#REF!"}},{"$f":"'Pob x Genero'!#REF!","v":{"$error":"#REF!"}},{"$f":"'Pob x Genero'!#REF!","v":{"$error":"#REF!"}},{"$f":"'Pob x Genero'!#REF!","v":{"$error":"#REF!"}},"Hombre","00-04",{"$f":"'Pob x Genero'!#REF!","v":{"$error":"#REF!"}},1052]
[{"$f":"'Pob x Genero'!#REF!","v":{"$error":"#REF!"}},{"$f":"'Pob x Genero'!#REF!","v":{"$error":"#REF!"}},{"$f":"'Pob x Genero'!#REF!","v":{"$error":"#REF!"}},{"$f":"'Pob x Genero'!#REF!","v":{"$error":"#REF!"}},{"$f":"'Pob x Genero'!#REF!","v":{"$error":"#REF!"}},"Hombre","00-04",{"$f":"'Pob x Genero'!#REF!","v":{"$error":"#REF!"}},1053]
[{"$f":"'Pob x Genero'!#REF!","v":{"$error":"#REF!"}},{"$f":"'Pob x Genero'!#REF!","v":{"$error":"#REF!"}},{"$f":"'Pob x Genero'!#REF!","v":{"$error":"#REF!"}},{"$f":"'Pob x Genero'!#REF!","v":{"$error":"#REF!"}},{"$f":"'Pob x Genero'!#REF!","v":{"$error":"#REF!"}},"Hombre","00-04",{"$f":"'Pob x Genero'!#REF!","v":{"$error":"#REF!"}},1054]
[{"$f":"'Pob x Genero'!#REF!","v":{"$error":"#REF!"}},{"$f":"'Pob x Genero'!#REF!","v":{"$error":"#REF!"}},{"$f":"'Pob x Genero'!#REF!","v":{"$error":"#REF!"}},{"$f":"'Pob x Genero'!#REF!","v":{"$error":"#REF!"}},{"$f":"'Pob x Genero'!#REF!","v":{"$error":"#REF!"}},"Hombre","00-04",{"$f":"'Pob x Genero'!#REF!","v":{"$error":"#REF!"}},1055]
[{"$f":"'Pob x Genero'!#REF!","v":{"$error":"#REF!"}},{"$f":"'Pob x Genero'!#REF!","v":{"$error":"#REF!"}},{"$f":"'Pob x Genero'!#REF!","v":{"$error":"#REF!"}},{"$f":"'Pob x Genero'!#REF!","v":{"$error":"#REF!"}},{"$f":"'Pob x Genero'!#REF!","v":{"$error":"#REF!"}},"Hombre","00-04",{"$f":"'Pob x Genero'!#REF!","v":{"$error":"#REF!"}},1056]
[{"$f":"'Pob x Genero'!#REF!","v":{"$error":"#REF!"}},{"$f":"'Pob x Genero'!#REF!","v":{"$error":"#REF!"}},{"$f":"'Pob x Genero'!#REF!","v":{"$error":"#REF!"}},{"$f":"'Pob x Genero'!#REF!","v":{"$error":"#REF!"}},{"$f":"'Pob x Genero'!#REF!","v":{"$error":"#REF!"}},"Hombre","00-04",{"$f":"'Pob x Genero'!#REF!","v":{"$error":"#REF!"}},1057]
[{"$f":"'Pob x Genero'!#REF!","v":{"$error":"#REF!"}},{"$f":"'Pob x Genero'!#REF!","v":{"$error":"#REF!"}},{"$f":"'Pob x Genero'!#REF!","v":{"$error":"#REF!"}},{"$f":"'Pob x Genero'!#REF!","v":{"$error":"#REF!"}},{"$f":"'Pob x Genero'!#REF!","v":{"$error":"#REF!"}},"Hombre","00-04",{"$f":"'Pob x Genero'!#REF!","v":{"$error":"#REF!"}},1058]
[{"$f":"'Pob x Genero'!#REF!","v":{"$error":"#REF!"}},{"$f":"'Pob x Genero'!#REF!","v":{"$error":"#REF!"}},{"$f":"'Pob x Genero'!#REF!","v":{"$error":"#REF!"}},{"$f":"'Pob x Genero'!#REF!","v":{"$error":"#REF!"}},{"$f":"'Pob x Genero'!#REF!","v":{"$error":"#REF!"}},"Hombre","00-04",{"$f":"'Pob x Genero'!#REF!","v":{"$error":"#REF!"}},1059]
[{"$f":"'Pob x Genero'!#REF!","v":{"$error":"#REF!"}},{"$f":"'Pob x Genero'!#REF!","v":{"$error":"#REF!"}},{"$f":"'Pob x Genero'!#REF!","v":{"$error":"#REF!"}},{"$f":"'Pob x Genero'!#REF!","v":{"$error":"#REF!"}},{"$f":"'Pob x Genero'!#REF!","v":{"$error":"#REF!"}},"Hombre","00-04",{"$f":"'Pob x Genero'!#REF!","v":{"$error":"#REF!"}},1060]
[{"$f":"'Pob x Genero'!#REF!","v":{"$error":"#REF!"}},{"$f":"'Pob x Genero'!#REF!","v":{"$error":"#REF!"}},{"$f":"'Pob x Genero'!#REF!","v":{"$error":"#REF!"}},{"$f":"'Pob x Genero'!#REF!","v":{"$error":"#REF!"}},{"$f":"'Pob x Genero'!#REF!","v":{"$error":"#REF!"}},"Hombre","00-04",{"$f":"'Pob x Genero'!#REF!","v":{"$error":"#REF!"}},1061]
[{"$f":"'Pob x Genero'!#REF!","v":{"$error":"#REF!"}},{"$f":"'Pob x Genero'!#REF!","v":{"$error":"#REF!"}},{"$f":"'Pob x Genero'!#REF!","v":{"$error":"#REF!"}},{"$f":"'Pob x Genero'!#REF!","v":{"$error":"#REF!"}},{"$f":"'Pob x Genero'!#REF!","v":{"$error":"#REF!"}},"Hombre","00-04",{"$f":"'Pob x Genero'!#REF!","v":{"$error":"#REF!"}},1062]
[{"$f":"'Pob x Genero'!#REF!","v":{"$error":"#REF!"}},{"$f":"'Pob x Genero'!#REF!","v":{"$error":"#REF!"}},{"$f":"'Pob x Genero'!#REF!","v":{"$error":"#REF!"}},{"$f":"'Pob x Genero'!#REF!","v":{"$error":"#REF!"}},{"$f":"'Pob x Genero'!#REF!","v":{"$error":"#REF!"}},"Hombre","00-04",{"$f":"'Pob x Genero'!#REF!","v":{"$error":"#REF!"}},1063]
[{"$f":"'Pob x Genero'!#REF!","v":{"$error":"#REF!"}},{"$f":"'Pob x Genero'!#REF!","v":{"$error":"#REF!"}},{"$f":"'Pob x Genero'!#REF!","v":{"$error":"#REF!"}},{"$f":"'Pob x Genero'!#REF!","v":{"$error":"#REF!"}},{"$f":"'Pob x Genero'!#REF!","v":{"$error":"#REF!"}},"Hombre","00-04",{"$f":"'Pob x Genero'!#REF!","v":{"$error":"#REF!"}},1064]
[{"$f":"'Pob x Genero'!#REF!","v":{"$error":"#REF!"}},{"$f":"'Pob x Genero'!#REF!","v":{"$error":"#REF!"}},{"$f":"'Pob x Genero'!#REF!","v":{"$error":"#REF!"}},{"$f":"'Pob x Genero'!#REF!","v":{"$error":"#REF!"}},{"$f":"'Pob x Genero'!#REF!","v":{"$error":"#REF!"}},"Hombre","00-04",{"$f":"'Pob x Genero'!#REF!","v":{"$error":"#REF!"}},1065]
[{"$f":"'Pob x Genero'!#REF!","v":{"$error":"#REF!"}},{"$f":"'Pob x Genero'!#REF!","v":{"$error":"#REF!"}},{"$f":"'Pob x Genero'!#REF!","v":{"$error":"#REF!"}},{"$f":"'Pob x Genero'!#REF!","v":{"$error":"#REF!"}},{"$f":"'Pob x Genero'!#REF!","v":{"$error":"#REF!"}},"Hombre","00-04",{"$f":"'Pob x Genero'!#REF!","v":{"$error":"#REF!"}},1066]
[{"$f":"'Pob x Genero'!#REF!","v":{"$error":"#REF!"}},{"$f":"'Pob x Genero'!#REF!","v":{"$error":"#REF!"}},{"$f":"'Pob x Genero'!#REF!","v":{"$error":"#REF!"}},{"$f":"'Pob x Genero'!#REF!","v":{"$error":"#REF!"}},{"$f":"'Pob x Genero'!#REF!","v":{"$error":"#REF!"}},"Hombre","00-04",{"$f":"'Pob x Genero'!#REF!","v":{"$error":"#REF!"}},1067]
[{"$f":"'Pob x Genero'!#REF!","v":{"$error":"#REF!"}},{"$f":"'Pob x Genero'!#REF!","v":{"$error":"#REF!"}},{"$f":"'Pob x Genero'!#REF!","v":{"$error":"#REF!"}},{"$f":"'Pob x Genero'!#REF!","v":{"$error":"#REF!"}},{"$f":"'Pob x Genero'!#REF!","v":{"$error":"#REF!"}},"Hombre","00-04",{"$f":"'Pob x Genero'!#REF!","v":{"$error":"#REF!"}},1068]
[{"$f":"'Pob x Genero'!#REF!","v":{"$error":"#REF!"}},{"$f":"'Pob x Genero'!#REF!","v":{"$error":"#REF!"}},{"$f":"'Pob x Genero'!#REF!","v":{"$error":"#REF!"}},{"$f":"'Pob x Genero'!#REF!","v":{"$error":"#REF!"}},{"$f":"'Pob x Genero'!#REF!","v":{"$error":"#REF!"}},"Hombre","00-04",{"$f":"'Pob x Genero'!#REF!","v":{"$error":"#REF!"}},1069]
[{"$f":"'Pob x Genero'!#REF!","v":{"$error":"#REF!"}},{"$f":"'Pob x Genero'!#REF!","v":{"$error":"#REF!"}},{"$f":"'Pob x Genero'!#REF!","v":{"$error":"#REF!"}},{"$f":"'Pob x Genero'!#REF!","v":{"$error":"#REF!"}},{"$f":"'Pob x Genero'!#REF!","v":{"$error":"#REF!"}},"Hombre","00-04",{"$f":"'Pob x Genero'!#REF!","v":{"$error":"#REF!"}},1070]
[{"$f":"'Pob x Genero'!#REF!","v":{"$error":"#REF!"}},{"$f":"'Pob x Genero'!#REF!","v":{"$error":"#REF!"}},{"$f":"'Pob x Genero'!#REF!","v":{"$error":"#REF!"}},{"$f":"'Pob x Genero'!#REF!","v":{"$error":"#REF!"}},{"$f":"'Pob x Genero'!#REF!","v":{"$error":"#REF!"}},"Hombre","00-04",{"$f":"'Pob x Genero'!#REF!","v":{"$error":"#REF!"}},1071]
[{"$f":"'Pob x Genero'!#REF!","v":{"$error":"#REF!"}},{"$f":"'Pob x Genero'!#REF!","v":{"$error":"#REF!"}},{"$f":"'Pob x Genero'!#REF!","v":{"$error":"#REF!"}},{"$f":"'Pob x Genero'!#REF!","v":{"$error":"#REF!"}},{"$f":"'Pob x Genero'!#REF!","v":{"$error":"#REF!"}},"Hombre","00-04",{"$f":"'Pob x Genero'!#REF!","v":{"$error":"#REF!"}},1072]
[{"$f":"'Pob x Genero'!#REF!","v":{"$error":"#REF!"}},{"$f":"'Pob x Genero'!#REF!","v":{"$error":"#REF!"}},{"$f":"'Pob x Genero'!#REF!","v":{"$error":"#REF!"}},{"$f":"'Pob x Genero'!#REF!","v":{"$error":"#REF!"}},{"$f":"'Pob x Genero'!#REF!","v":{"$error":"#REF!"}},"Hombre","00-04",{"$f":"'Pob x Genero'!#REF!","v":{"$error":"#REF!"}},1073]
[{"$f":"'Pob x Genero'!#REF!","v":{"$error":"#REF!"}},{"$f":"'Pob x Genero'!#REF!","v":{"$error":"#REF!"}},{"$f":"'Pob x Genero'!#REF!","v":{"$error":"#REF!"}},{"$f":"'Pob x Genero'!#REF!","v":{"$error":"#REF!"}},{"$f":"'Pob x Genero'!#REF!","v":{"$error":"#REF!"}},"Hombre","00-04",{"$f":"'Pob x Genero'!#REF!","v":{"$error":"#REF!"}},1074]
[{"$f":"'Pob x Genero'!#REF!","v":{"$error":"#REF!"}},{"$f":"'Pob x Genero'!#REF!","v":{"$error":"#REF!"}},{"$f":"'Pob x Genero'!#REF!","v":{"$error":"#REF!"}},{"$f":"'Pob x Genero'!#REF!","v":{"$error":"#REF!"}},{"$f":"'Pob x Genero'!#REF!","v":{"$error":"#REF!"}},"Hombre","00-04",{"$f":"'Pob x Genero'!#REF!","v":{"$error":"#REF!"}},1075]
[{"$f":"'Pob x Genero'!#REF!","v":{"$error":"#REF!"}},{"$f":"'Pob x Genero'!#REF!","v":{"$error":"#REF!"}},{"$f":"'Pob x Genero'!#REF!","v":{"$error":"#REF!"}},{"$f":"'Pob x Genero'!#REF!","v":{"$error":"#REF!"}},{"$f":"'Pob x Genero'!#REF!","v":{"$error":"#REF!"}},"Hombre","00-04",{"$f":"'Pob x Genero'!#REF!","v":{"$error":"#REF!"}},1076]
[{"$f":"'Pob x Genero'!#REF!","v":{"$error":"#REF!"}},{"$f":"'Pob x Genero'!#REF!","v":{"$error":"#REF!"}},{"$f":"'Pob x Genero'!#REF!","v":{"$error":"#REF!"}},{"$f":"'Pob x Genero'!#REF!","v":{"$error":"#REF!"}},{"$f":"'Pob x Genero'!#REF!","v":{"$error":"#REF!"}},"Hombre","00-04",{"$f":"'Pob x Genero'!#REF!","v":{"$error":"#REF!"}},1077]
[{"$f":"'Pob x Genero'!#REF!","v":{"$error":"#REF!"}},{"$f":"'Pob x Genero'!#REF!","v":{"$error":"#REF!"}},{"$f":"'Pob x Genero'!#REF!","v":{"$error":"#REF!"}},{"$f":"'Pob x Genero'!#REF!","v":{"$error":"#REF!"}},{"$f":"'Pob x Genero'!#REF!","v":{"$error":"#REF!"}},"Hombre","00-04",{"$f":"'Pob x Genero'!#REF!","v":{"$error":"#REF!"}},1078]
[{"$f":"'Pob x Genero'!#REF!","v":{"$error":"#REF!"}},{"$f":"'Pob x Genero'!#REF!","v":{"$error":"#REF!"}},{"$f":"'Pob x Genero'!#REF!","v":{"$error":"#REF!"}},{"$f":"'Pob x Genero'!#REF!","v":{"$error":"#REF!"}},{"$f":"'Pob x Genero'!#REF!","v":{"$error":"#REF!"}},"Hombre","00-04",{"$f":"'Pob x Genero'!#REF!","v":{"$error":"#REF!"}},1079]
[{"$f":"'Pob x Genero'!#REF!","v":{"$error":"#REF!"}},{"$f":"'Pob x Genero'!#REF!","v":{"$error":"#REF!"}},{"$f":"'Pob x Genero'!#REF!","v":{"$error":"#REF!"}},{"$f":"'Pob x Genero'!#REF!","v":{"$error":"#REF!"}},{"$f":"'Pob x Genero'!#REF!","v":{"$error":"#REF!"}},"Hombre","00-04",{"$f":"'Pob x Genero'!#REF!","v":{"$error":"#REF!"}},1080]
[{"$f":"'Pob x Genero'!#REF!","v":{"$error":"#REF!"}},{"$f":"'Pob x Genero'!#REF!","v":{"$error":"#REF!"}},{"$f":"'Pob x Genero'!#REF!","v":{"$error":"#REF!"}},{"$f":"'Pob x Genero'!#REF!","v":{"$error":"#REF!"}},{"$f":"'Pob x Genero'!#REF!","v":{"$error":"#REF!"}},"Hombre","00-04",{"$f":"'Pob x Genero'!#REF!","v":{"$error":"#REF!"}},1081]
[{"$f":"'Pob x Genero'!#REF!","v":{"$error":"#REF!"}},{"$f":"'Pob x Genero'!#REF!","v":{"$error":"#REF!"}},{"$f":"'Pob x Genero'!#REF!","v":{"$error":"#REF!"}},{"$f":"'Pob x Genero'!#REF!","v":{"$error":"#REF!"}},{"$f":"'Pob x Genero'!#REF!","v":{"$error":"#REF!"}},"Hombre","00-04",{"$f":"'Pob x Genero'!#REF!","v":{"$error":"#REF!"}},1082]
[{"$f":"'Pob x Genero'!#REF!","v":{"$error":"#REF!"}},{"$f":"'Pob x Genero'!#REF!","v":{"$error":"#REF!"}},{"$f":"'Pob x Genero'!#REF!","v":{"$error":"#REF!"}},{"$f":"'Pob x Genero'!#REF!","v":{"$error":"#REF!"}},{"$f":"'Pob x Genero'!#REF!","v":{"$error":"#REF!"}},"Hombre","00-04",{"$f":"'Pob x Genero'!#REF!","v":{"$error":"#REF!"}},1083]
[{"$f":"'Pob x Genero'!#REF!","v":{"$error":"#REF!"}},{"$f":"'Pob x Genero'!#REF!","v":{"$error":"#REF!"}},{"$f":"'Pob x Genero'!#REF!","v":{"$error":"#REF!"}},{"$f":"'Pob x Genero'!#REF!","v":{"$error":"#REF!"}},{"$f":"'Pob x Genero'!#REF!","v":{"$error":"#REF!"}},"Hombre","00-04",{"$f":"'Pob x Genero'!#REF!","v":{"$error":"#REF!"}},1084]
[{"$f":"'Pob x Genero'!#REF!","v":{"$error":"#REF!"}},{"$f":"'Pob x Genero'!#REF!","v":{"$error":"#REF!"}},{"$f":"'Pob x Genero'!#REF!","v":{"$error":"#REF!"}},{"$f":"'Pob x Genero'!#REF!","v":{"$error":"#REF!"}},{"$f":"'Pob x Genero'!#REF!","v":{"$error":"#REF!"}},"Hombre","00-04",{"$f":"'Pob x Genero'!#REF!","v":{"$error":"#REF!"}},1085]
[{"$f":"'Pob x Genero'!#REF!","v":{"$error":"#REF!"}},{"$f":"'Pob x Genero'!#REF!","v":{"$error":"#REF!"}},{"$f":"'Pob x Genero'!#REF!","v":{"$error":"#REF!"}},{"$f":"'Pob x Genero'!#REF!","v":{"$error":"#REF!"}},{"$f":"'Pob x Genero'!#REF!","v":{"$error":"#REF!"}},"Hombre","00-04",{"$f":"'Pob x Genero'!#REF!","v":{"$error":"#REF!"}},1086]
[{"$f":"'Pob x Genero'!#REF!","v":{"$error":"#REF!"}},{"$f":"'Pob x Genero'!#REF!","v":{"$error":"#REF!"}},{"$f":"'Pob x Genero'!#REF!","v":{"$error":"#REF!"}},{"$f":"'Pob x Genero'!#REF!","v":{"$error":"#REF!"}},{"$f":"'Pob x Genero'!#REF!","v":{"$error":"#REF!"}},"Hombre","00-04",{"$f":"'Pob x Genero'!#REF!","v":{"$error":"#REF!"}},1087]
[{"$f":"'Pob x Genero'!#REF!","v":{"$error":"#REF!"}},{"$f":"'Pob x Genero'!#REF!","v":{"$error":"#REF!"}},{"$f":"'Pob x Genero'!#REF!","v":{"$error":"#REF!"}},{"$f":"'Pob x Genero'!#REF!","v":{"$error":"#REF!"}},{"$f":"'Pob x Genero'!#REF!","v":{"$error":"#REF!"}},"Hombre","00-04",{"$f":"'Pob x Genero'!#REF!","v":{"$error":"#REF!"}},1088]
[{"$f":"'Pob x Genero'!#REF!","v":{"$error":"#REF!"}},{"$f":"'Pob x Genero'!#REF!","v":{"$error":"#REF!"}},{"$f":"'Pob x Genero'!#REF!","v":{"$error":"#REF!"}},{"$f":"'Pob x Genero'!#REF!","v":{"$error":"#REF!"}},{"$f":"'Pob x Genero'!#REF!","v":{"$error":"#REF!"}},"Hombre","00-04",{"$f":"'Pob x Genero'!#REF!","v":{"$error":"#REF!"}},1089]
[{"$f":"'Pob x Genero'!#REF!","v":{"$error":"#REF!"}},{"$f":"'Pob x Genero'!#REF!","v":{"$error":"#REF!"}},{"$f":"'Pob x Genero'!#REF!","v":{"$error":"#REF!"}},{"$f":"'Pob x Genero'!#REF!","v":{"$error":"#REF!"}},{"$f":"'Pob x Genero'!#REF!","v":{"$error":"#REF!"}},{"$f":"F1090","v":"Hombre"},{"$f":"G1090","v":"00-04"},{"$f":"'Pob x Genero'!#REF!","v":{"$error":"#REF!"}},1090]
[{"$f":"'Pob x Genero'!#REF!","v":{"$error":"#REF!"}},{"$f":"'Pob x Genero'!#REF!","v":{"$error":"#REF!"}},{"$f":"'Pob x Genero'!#REF!","v":{"$error":"#REF!"}},{"$f":"'Pob x Genero'!#REF!","v":{"$error":"#REF!"}},{"$f":"'Pob x Genero'!#REF!","v":{"$error":"#REF!"}},"Hombre","00-04",{"$f":"'Pob x Genero'!#REF!","v":{"$error":"#REF!"}},1091]
[{"$f":"'Pob x Genero'!#REF!","v":{"$error":"#REF!"}},{"$f":"'Pob x Genero'!#REF!","v":{"$error":"#REF!"}},{"$f":"'Pob x Genero'!#REF!","v":{"$error":"#REF!"}},{"$f":"'Pob x Genero'!#REF!","v":{"$error":"#REF!"}},{"$f":"'Pob x Genero'!#REF!","v":{"$error":"#REF!"}},"Hombre","00-04",{"$f":"'Pob x Genero'!#REF!","v":{"$error":"#REF!"}},1092]
[{"$f":"'Pob x Genero'!#REF!","v":{"$error":"#REF!"}},{"$f":"'Pob x Genero'!#REF!","v":{"$error":"#REF!"}},{"$f":"'Pob x Genero'!#REF!","v":{"$error":"#REF!"}},{"$f":"'Pob x Genero'!#REF!","v":{"$error":"#REF!"}},{"$f":"'Pob x Genero'!#REF!","v":{"$error":"#REF!"}},"Hombre","00-04",{"$f":"'Pob x Genero'!#REF!","v":{"$error":"#REF!"}},1093]
[{"$f":"'Pob x Genero'!#REF!","v":{"$error":"#REF!"}},{"$f":"'Pob x Genero'!#REF!","v":{"$error":"#REF!"}},{"$f":"'Pob x Genero'!#REF!","v":{"$error":"#REF!"}},{"$f":"'Pob x Genero'!#REF!","v":{"$error":"#REF!"}},{"$f":"'Pob x Genero'!#REF!","v":{"$error":"#REF!"}},"Hombre","00-04",{"$f":"'Pob x Genero'!#REF!","v":{"$error":"#REF!"}},1094]
[{"$f":"'Pob x Genero'!#REF!","v":{"$error":"#REF!"}},{"$f":"'Pob x Genero'!#REF!","v":{"$error":"#REF!"}},{"$f":"'Pob x Genero'!#REF!","v":{"$error":"#REF!"}},{"$f":"'Pob x Genero'!#REF!","v":{"$error":"#REF!"}},{"$f":"'Pob x Genero'!#REF!","v":{"$error":"#REF!"}},"Hombre","00-04",{"$f":"'Pob x Genero'!#REF!","v":{"$error":"#REF!"}},1095]
[{"$f":"'Pob x Genero'!#REF!","v":{"$error":"#REF!"}},{"$f":"'Pob x Genero'!#REF!","v":{"$error":"#REF!"}},{"$f":"'Pob x Genero'!#REF!","v":{"$error":"#REF!"}},{"$f":"'Pob x Genero'!#REF!","v":{"$error":"#REF!"}},{"$f":"'Pob x Genero'!#REF!","v":{"$error":"#REF!"}},"Hombre","00-04",{"$f":"'Pob x Genero'!#REF!","v":{"$error":"#REF!"}},1096]
[{"$f":"'Pob x Genero'!#REF!","v":{"$error":"#REF!"}},{"$f":"'Pob x Genero'!#REF!","v":{"$error":"#REF!"}},{"$f":"'Pob x Genero'!#REF!","v":{"$error":"#REF!"}},{"$f":"'Pob x Genero'!#REF!","v":{"$error":"#REF!"}},{"$f":"'Pob x Genero'!#REF!","v":{"$error":"#REF!"}},"Hombre","00-04",{"$f":"'Pob x Genero'!#REF!","v":{"$error":"#REF!"}},1097]
[{"$f":"'Pob x Genero'!#REF!","v":{"$error":"#REF!"}},{"$f":"'Pob x Genero'!#REF!","v":{"$error":"#REF!"}},{"$f":"'Pob x Genero'!#REF!","v":{"$error":"#REF!"}},{"$f":"'Pob x Genero'!#REF!","v":{"$error":"#REF!"}},{"$f":"'Pob x Genero'!#REF!","v":{"$error":"#REF!"}},"Hombre","00-04",{"$f":"'Pob x Genero'!#REF!","v":{"$error":"#REF!"}},1098]
[{"$f":"'Pob x Genero'!#REF!","v":{"$error":"#REF!"}},{"$f":"'Pob x Genero'!#REF!","v":{"$error":"#REF!"}},{"$f":"'Pob x Genero'!#REF!","v":{"$error":"#REF!"}},{"$f":"'Pob x Genero'!#REF!","v":{"$error":"#REF!"}},{"$f":"'Pob x Genero'!#REF!","v":{"$error":"#REF!"}},"Hombre","00-04",{"$f":"'Pob x Genero'!#REF!","v":{"$error":"#REF!"}},1099]
[{"$f":"'Pob x Genero'!#REF!","v":{"$error":"#REF!"}},{"$f":"'Pob x Genero'!#REF!","v":{"$error":"#REF!"}},{"$f":"'Pob x Genero'!#REF!","v":{"$error":"#REF!"}},{"$f":"'Pob x Genero'!#REF!","v":{"$error":"#REF!"}},{"$f":"'Pob x Genero'!#REF!","v":{"$error":"#REF!"}},"Hombre","00-04",{"$f":"'Pob x Genero'!#REF!","v":{"$error":"#REF!"}},1100]
[{"$f":"'Pob x Genero'!#REF!","v":{"$error":"#REF!"}},{"$f":"'Pob x Genero'!#REF!","v":{"$error":"#REF!"}},{"$f":"'Pob x Genero'!#REF!","v":{"$error":"#REF!"}},{"$f":"'Pob x Genero'!#REF!","v":{"$error":"#REF!"}},{"$f":"'Pob x Genero'!#REF!","v":{"$error":"#REF!"}},"Hombre","00-04",{"$f":"'Pob x Genero'!#REF!","v":{"$error":"#REF!"}},1101]
[{"$f":"'Pob x Genero'!#REF!","v":{"$error":"#REF!"}},{"$f":"'Pob x Genero'!#REF!","v":{"$error":"#REF!"}},{"$f":"'Pob x Genero'!#REF!","v":{"$error":"#REF!"}},{"$f":"'Pob x Genero'!#REF!","v":{"$error":"#REF!"}},{"$f":"'Pob x Genero'!#REF!","v":{"$error":"#REF!"}},"Hombre","00-04",{"$f":"'Pob x Genero'!#REF!","v":{"$error":"#REF!"}},1102]
[{"$f":"'Pob x Genero'!#REF!","v":{"$error":"#REF!"}},{"$f":"'Pob x Genero'!#REF!","v":{"$error":"#REF!"}},{"$f":"'Pob x Genero'!#REF!","v":{"$error":"#REF!"}},{"$f":"'Pob x Genero'!#REF!","v":{"$error":"#REF!"}},{"$f":"'Pob x Genero'!#REF!","v":{"$error":"#REF!"}},"Hombre","00-04",{"$f":"'Pob x Genero'!#REF!","v":{"$error":"#REF!"}},1103]
[{"$f":"'Pob x Genero'!#REF!","v":{"$error":"#REF!"}},{"$f":"'Pob x Genero'!#REF!","v":{"$error":"#REF!"}},{"$f":"'Pob x Genero'!#REF!","v":{"$error":"#REF!"}},{"$f":"'Pob x Genero'!#REF!","v":{"$error":"#REF!"}},{"$f":"'Pob x Genero'!#REF!","v":{"$error":"#REF!"}},"Hombre","00-04",{"$f":"'Pob x Genero'!#REF!","v":{"$error":"#REF!"}},1104]
[{"$f":"'Pob x Genero'!#REF!","v":{"$error":"#REF!"}},{"$f":"'Pob x Genero'!#REF!","v":{"$error":"#REF!"}},{"$f":"'Pob x Genero'!#REF!","v":{"$error":"#REF!"}},{"$f":"'Pob x Genero'!#REF!","v":{"$error":"#REF!"}},{"$f":"'Pob x Genero'!#REF!","v":{"$error":"#REF!"}},"Hombre","00-04",{"$f":"'Pob x Genero'!#REF!","v":{"$error":"#REF!"}},1105]
[{"$f":"'Pob x Genero'!#REF!","v":{"$error":"#REF!"}},{"$f":"'Pob x Genero'!#REF!","v":{"$error":"#REF!"}},{"$f":"'Pob x Genero'!#REF!","v":{"$error":"#REF!"}},{"$f":"'Pob x Genero'!#REF!","v":{"$error":"#REF!"}},{"$f":"'Pob x Genero'!#REF!","v":{"$error":"#REF!"}},"Hombre","00-04",{"$f":"'Pob x Genero'!#REF!","v":{"$error":"#REF!"}},1106]
[{"$f":"'Pob x Genero'!#REF!","v":{"$error":"#REF!"}},{"$f":"'Pob x Genero'!#REF!","v":{"$error":"#REF!"}},{"$f":"'Pob x Genero'!#REF!","v":{"$error":"#REF!"}},{"$f":"'Pob x Genero'!#REF!","v":{"$error":"#REF!"}},{"$f":"'Pob x Genero'!#REF!","v":{"$error":"#REF!"}},"Hombre","00-04",{"$f":"'Pob x Genero'!#REF!","v":{"$error":"#REF!"}},1107]
[{"$f":"'Pob x Genero'!#REF!","v":{"$error":"#REF!"}},{"$f":"'Pob x Genero'!#REF!","v":{"$error":"#REF!"}},{"$f":"'Pob x Genero'!#REF!","v":{"$error":"#REF!"}},{"$f":"'Pob x Genero'!#REF!","v":{"$error":"#REF!"}},{"$f":"'Pob x Genero'!#REF!","v":{"$error":"#REF!"}},"Hombre","00-04",{"$f":"'Pob x Genero'!#REF!","v":{"$error":"#REF!"}},1108]
[{"$f":"'Pob x Genero'!#REF!","v":{"$error":"#REF!"}},{"$f":"'Pob x Genero'!#REF!","v":{"$error":"#REF!"}},{"$f":"'Pob x Genero'!#REF!","v":{"$error":"#REF!"}},{"$f":"'Pob x Genero'!#REF!","v":{"$error":"#REF!"}},{"$f":"'Pob x Genero'!#REF!","v":{"$error":"#REF!"}},"Hombre","00-04",{"$f":"'Pob x Genero'!#REF!","v":{"$error":"#REF!"}},1109]
[{"$f":"'Pob x Genero'!#REF!","v":{"$error":"#REF!"}},{"$f":"'Pob x Genero'!#REF!","v":{"$error":"#REF!"}},{"$f":"'Pob x Genero'!#REF!","v":{"$error":"#REF!"}},{"$f":"'Pob x Genero'!#REF!","v":{"$error":"#REF!"}},{"$f":"'Pob x Genero'!#REF!","v":{"$error":"#REF!"}},"Hombre","00-04",{"$f":"'Pob x Genero'!#REF!","v":{"$error":"#REF!"}},1110]
[{"$f":"'Pob x Genero'!#REF!","v":{"$error":"#REF!"}},{"$f":"'Pob x Genero'!#REF!","v":{"$error":"#REF!"}},{"$f":"'Pob x Genero'!#REF!","v":{"$error":"#REF!"}},{"$f":"'Pob x Genero'!#REF!","v":{"$error":"#REF!"}},{"$f":"'Pob x Genero'!#REF!","v":{"$error":"#REF!"}},"Hombre","00-04",{"$f":"'Pob x Genero'!#REF!","v":{"$error":"#REF!"}},1111]
[{"$f":"'Pob x Genero'!#REF!","v":{"$error":"#REF!"}},{"$f":"'Pob x Genero'!#REF!","v":{"$error":"#REF!"}},{"$f":"'Pob x Genero'!#REF!","v":{"$error":"#REF!"}},{"$f":"'Pob x Genero'!#REF!","v":{"$error":"#REF!"}},{"$f":"'Pob x Genero'!#REF!","v":{"$error":"#REF!"}},"Hombre","00-04",{"$f":"'Pob x Genero'!#REF!","v":{"$error":"#REF!"}},1112]
[{"$f":"'Pob x Genero'!#REF!","v":{"$error":"#REF!"}},{"$f":"'Pob x Genero'!#REF!","v":{"$error":"#REF!"}},{"$f":"'Pob x Genero'!#REF!","v":{"$error":"#REF!"}},{"$f":"'Pob x Genero'!#REF!","v":{"$error":"#REF!"}},{"$f":"'Pob x Genero'!#REF!","v":{"$error":"#REF!"}},"Hombre","00-04",{"$f":"'Pob x Genero'!#REF!","v":{"$error":"#REF!"}},1113]
[{"$f":"'Pob x Genero'!#REF!","v":{"$error":"#REF!"}},{"$f":"'Pob x Genero'!#REF!","v":{"$error":"#REF!"}},{"$f":"'Pob x Genero'!#REF!","v":{"$error":"#REF!"}},{"$f":"'Pob x Genero'!#REF!","v":{"$error":"#REF!"}},{"$f":"'Pob x Genero'!#REF!","v":{"$error":"#REF!"}},"Hombre","00-04",{"$f":"'Pob x Genero'!#REF!","v":{"$error":"#REF!"}},1114]
[{"$f":"'Pob x Genero'!#REF!","v":{"$error":"#REF!"}},{"$f":"'Pob x Genero'!#REF!","v":{"$error":"#REF!"}},{"$f":"'Pob x Genero'!#REF!","v":{"$error":"#REF!"}},{"$f":"'Pob x Genero'!#REF!","v":{"$error":"#REF!"}},{"$f":"'Pob x Genero'!#REF!","v":{"$error":"#REF!"}},"Hombre","00-04",{"$f":"'Pob x Genero'!#REF!","v":{"$error":"#REF!"}},1115]
[{"$f":"'Pob x Genero'!#REF!","v":{"$error":"#REF!"}},{"$f":"'Pob x Genero'!#REF!","v":{"$error":"#REF!"}},{"$f":"'Pob x Genero'!#REF!","v":{"$error":"#REF!"}},{"$f":"'Pob x Genero'!#REF!","v":{"$error":"#REF!"}},{"$f":"'Pob x Genero'!#REF!","v":{"$error":"#REF!"}},"Hombre","00-04",{"$f":"'Pob x Genero'!#REF!","v":{"$error":"#REF!"}},1116]
[{"$f":"'Pob x Genero'!#REF!","v":{"$error":"#REF!"}},{"$f":"'Pob x Genero'!#REF!","v":{"$error":"#REF!"}},{"$f":"'Pob x Genero'!#REF!","v":{"$error":"#REF!"}},{"$f":"'Pob x Genero'!#REF!","v":{"$error":"#REF!"}},{"$f":"'Pob x Genero'!#REF!","v":{"$error":"#REF!"}},"Hombre","00-04",{"$f":"'Pob x Genero'!#REF!","v":{"$error":"#REF!"}},1117]
[{"$f":"'Pob x Genero'!#REF!","v":{"$error":"#REF!"}},{"$f":"'Pob x Genero'!#REF!","v":{"$error":"#REF!"}},{"$f":"'Pob x Genero'!#REF!","v":{"$error":"#REF!"}},{"$f":"'Pob x Genero'!#REF!","v":{"$error":"#REF!"}},{"$f":"'Pob x Genero'!#REF!","v":{"$error":"#REF!"}},"Hombre","00-04",{"$f":"'Pob x Genero'!#REF!","v":{"$error":"#REF!"}},1118]
[{"$f":"'Pob x Genero'!#REF!","v":{"$error":"#REF!"}},{"$f":"'Pob x Genero'!#REF!","v":{"$error":"#REF!"}},{"$f":"'Pob x Genero'!#REF!","v":{"$error":"#REF!"}},{"$f":"'Pob x Genero'!#REF!","v":{"$error":"#REF!"}},{"$f":"'Pob x Genero'!#REF!","v":{"$error":"#REF!"}},"Hombre","00-04",{"$f":"'Pob x Genero'!#REF!","v":{"$error":"#REF!"}},1119]
[{"$f":"'Pob x Genero'!#REF!","v":{"$error":"#REF!"}},{"$f":"'Pob x Genero'!#REF!","v":{"$error":"#REF!"}},{"$f":"'Pob x Genero'!#REF!","v":{"$error":"#REF!"}},{"$f":"'Pob x Genero'!#REF!","v":{"$error":"#REF!"}},{"$f":"'Pob x Genero'!#REF!","v":{"$error":"#REF!"}},"Hombre","00-04",{"$f":"'Pob x Genero'!#REF!","v":{"$error":"#REF!"}},1120]
[{"$f":"'Pob x Genero'!#REF!","v":{"$error":"#REF!"}},{"$f":"'Pob x Genero'!#REF!","v":{"$error":"#REF!"}},{"$f":"'Pob x Genero'!#REF!","v":{"$error":"#REF!"}},{"$f":"'Pob x Genero'!#REF!","v":{"$error":"#REF!"}},{"$f":"'Pob x Genero'!#REF!","v":{"$error":"#REF!"}},"Hombre","00-04",{"$f":"'Pob x Genero'!#REF!","v":{"$error":"#REF!"}},1121]
[{"$f":"'Pob x Genero'!#REF!","v":{"$error":"#REF!"}},{"$f":"'Pob x Genero'!#REF!","v":{"$error":"#REF!"}},{"$f":"'Pob x Genero'!#REF!","v":{"$error":"#REF!"}},{"$f":"'Pob x Genero'!#REF!","v":{"$error":"#REF!"}},{"$f":"'Pob x Genero'!#REF!","v":{"$error":"#REF!"}},"Hombre","00-04",{"$f":"'Pob x Genero'!#REF!","v":{"$error":"#REF!"}},1122]
[{"$f":"'Pob x Genero'!#REF!","v":{"$error":"#REF!"}},{"$f":"'Pob x Genero'!#REF!","v":{"$error":"#REF!"}},{"$f":"'Pob x Genero'!#REF!","v":{"$error":"#REF!"}},{"$f":"'Pob x Genero'!#REF!","v":{"$error":"#REF!"}},{"$f":"'Pob x Genero'!#REF!","v":{"$error":"#REF!"}},"Hombre","00-04",{"$f":"'Pob x Genero'!#REF!","v":{"$error":"#REF!"}},1123]
[{"$f":"'Pob x Genero'!#REF!","v":{"$error":"#REF!"}},{"$f":"'Pob x Genero'!#REF!","v":{"$error":"#REF!"}},{"$f":"'Pob x Genero'!#REF!","v":{"$error":"#REF!"}},{"$f":"'Pob x Genero'!#REF!","v":{"$error":"#REF!"}},{"$f":"'Pob x Genero'!#REF!","v":{"$error":"#REF!"}},"Hombre","00-04",{"$f":"'Pob x Genero'!#REF!","v":{"$error":"#REF!"}},1124]
[{"$f":"'Pob x Genero'!#REF!","v":{"$error":"#REF!"}},{"$f":"'Pob x Genero'!#REF!","v":{"$error":"#REF!"}},{"$f":"'Pob x Genero'!#REF!","v":{"$error":"#REF!"}},{"$f":"'Pob x Genero'!#REF!","v":{"$error":"#REF!"}},{"$f":"'Pob x Genero'!#REF!","v":{"$error":"#REF!"}},"Hombre","00-04",{"$f":"'Pob x Genero'!#REF!","v":{"$error":"#REF!"}},1125]
[{"$f":"'Pob x Genero'!#REF!","v":{"$error":"#REF!"}},{"$f":"'Pob x Genero'!#REF!","v":{"$error":"#REF!"}},{"$f":"'Pob x Genero'!#REF!","v":{"$error":"#REF!"}},{"$f":"'Pob x Genero'!#REF!","v":{"$error":"#REF!"}},{"$f":"'Pob x Genero'!#REF!","v":{"$error":"#REF!"}},"Hombre","00-04",{"$f":"'Pob x Genero'!#REF!","v":{"$error":"#REF!"}},1126]
[{"$f":"'Pob x Genero'!#REF!","v":{"$error":"#REF!"}},{"$f":"'Pob x Genero'!#REF!","v":{"$error":"#REF!"}},{"$f":"'Pob x Genero'!#REF!","v":{"$error":"#REF!"}},{"$f":"'Pob x Genero'!#REF!","v":{"$error":"#REF!"}},{"$f":"'Pob x Genero'!#REF!","v":{"$error":"#REF!"}},"Hombre","00-04",{"$f":"'Pob x Genero'!#REF!","v":{"$error":"#REF!"}},1127]
[{"$f":"'Pob x Genero'!#REF!","v":{"$error":"#REF!"}},{"$f":"'Pob x Genero'!#REF!","v":{"$error":"#REF!"}},{"$f":"'Pob x Genero'!#REF!","v":{"$error":"#REF!"}},{"$f":"'Pob x Genero'!#REF!","v":{"$error":"#REF!"}},{"$f":"'Pob x Genero'!#REF!","v":{"$error":"#REF!"}},"Hombre","00-04",{"$f":"'Pob x Genero'!#REF!","v":{"$error":"#REF!"}},1128]
[{"$f":"'Pob x Genero'!#REF!","v":{"$error":"#REF!"}},{"$f":"'Pob x Genero'!#REF!","v":{"$error":"#REF!"}},{"$f":"'Pob x Genero'!#REF!","v":{"$error":"#REF!"}},{"$f":"'Pob x Genero'!#REF!","v":{"$error":"#REF!"}},{"$f":"'Pob x Genero'!#REF!","v":{"$error":"#REF!"}},"Hombre","00-04",{"$f":"'Pob x Genero'!#REF!","v":{"$error":"#REF!"}},1129]
[{"$f":"'Pob x Genero'!#REF!","v":{"$error":"#REF!"}},{"$f":"'Pob x Genero'!#REF!","v":{"$error":"#REF!"}},{"$f":"'Pob x Genero'!#REF!","v":{"$error":"#REF!"}},{"$f":"'Pob x Genero'!#REF!","v":{"$error":"#REF!"}},{"$f":"'Pob x Genero'!#REF!","v":{"$error":"#REF!"}},"Hombre","00-04",{"$f":"'Pob x Genero'!#REF!","v":{"$error":"#REF!"}},1130]
[{"$f":"'Pob x Genero'!#REF!","v":{"$error":"#REF!"}},{"$f":"'Pob x Genero'!#REF!","v":{"$error":"#REF!"}},{"$f":"'Pob x Genero'!#REF!","v":{"$error":"#REF!"}},{"$f":"'Pob x Genero'!#REF!","v":{"$error":"#REF!"}},{"$f":"'Pob x Genero'!#REF!","v":{"$error":"#REF!"}},"Hombre","00-04",{"$f":"'Pob x Genero'!#REF!","v":{"$error":"#REF!"}},1131]
[{"$f":"'Pob x Genero'!#REF!","v":{"$error":"#REF!"}},{"$f":"'Pob x Genero'!#REF!","v":{"$error":"#REF!"}},{"$f":"'Pob x Genero'!#REF!","v":{"$error":"#REF!"}},{"$f":"'Pob x Genero'!#REF!","v":{"$error":"#REF!"}},{"$f":"'Pob x Genero'!#REF!","v":{"$error":"#REF!"}},"Hombre","00-04",{"$f":"'Pob x Genero'!#REF!","v":{"$error":"#REF!"}},1132]
[{"$f":"'Pob x Genero'!#REF!","v":{"$error":"#REF!"}},{"$f":"'Pob x Genero'!#REF!","v":{"$error":"#REF!"}},{"$f":"'Pob x Genero'!#REF!","v":{"$error":"#REF!"}},{"$f":"'Pob x Genero'!#REF!","v":{"$error":"#REF!"}},{"$f":"'Pob x Genero'!#REF!","v":{"$error":"#REF!"}},"Hombre","00-04",{"$f":"'Pob x Genero'!#REF!","v":{"$error":"#REF!"}},1133]
[{"$f":"'Pob x Genero'!#REF!","v":{"$error":"#REF!"}},{"$f":"'Pob x Genero'!#REF!","v":{"$error":"#REF!"}},{"$f":"'Pob x Genero'!#REF!","v":{"$error":"#REF!"}},{"$f":"'Pob x Genero'!#REF!","v":{"$error":"#REF!"}},{"$f":"'Pob x Genero'!#REF!","v":{"$error":"#REF!"}},"Hombre","00-04",{"$f":"'Pob x Genero'!#REF!","v":{"$error":"#REF!"}},1134]
[{"$f":"'Pob x Genero'!#REF!","v":{"$error":"#REF!"}},{"$f":"'Pob x Genero'!#REF!","v":{"$error":"#REF!"}},{"$f":"'Pob x Genero'!#REF!","v":{"$error":"#REF!"}},{"$f":"'Pob x Genero'!#REF!","v":{"$error":"#REF!"}},{"$f":"'Pob x Genero'!#REF!","v":{"$error":"#REF!"}},"Hombre","00-04",{"$f":"'Pob x Genero'!#REF!","v":{"$error":"#REF!"}},1135]
[{"$f":"'Pob x Genero'!#REF!","v":{"$error":"#REF!"}},{"$f":"'Pob x Genero'!#REF!","v":{"$error":"#REF!"}},{"$f":"'Pob x Genero'!#REF!","v":{"$error":"#REF!"}},{"$f":"'Pob x Genero'!#REF!","v":{"$error":"#REF!"}},{"$f":"'Pob x Genero'!#REF!","v":{"$error":"#REF!"}},"Hombre","00-04",{"$f":"'Pob x Genero'!#REF!","v":{"$error":"#REF!"}},1136]
[{"$f":"'Pob x Genero'!#REF!","v":{"$error":"#REF!"}},{"$f":"'Pob x Genero'!#REF!","v":{"$error":"#REF!"}},{"$f":"'Pob x Genero'!#REF!","v":{"$error":"#REF!"}},{"$f":"'Pob x Genero'!#REF!","v":{"$error":"#REF!"}},{"$f":"'Pob x Genero'!#REF!","v":{"$error":"#REF!"}},"Hombre","00-04",{"$f":"'Pob x Genero'!#REF!","v":{"$error":"#REF!"}},1137]
[{"$f":"'Pob x Genero'!#REF!","v":{"$error":"#REF!"}},{"$f":"'Pob x Genero'!#REF!","v":{"$error":"#REF!"}},{"$f":"'Pob x Genero'!#REF!","v":{"$error":"#REF!"}},{"$f":"'Pob x Genero'!#REF!","v":{"$error":"#REF!"}},{"$f":"'Pob x Genero'!#REF!","v":{"$error":"#REF!"}},"Hombre","00-04",{"$f":"'Pob x Genero'!#REF!","v":{"$error":"#REF!"}},1138]
[{"$f":"'Pob x Genero'!#REF!","v":{"$error":"#REF!"}},{"$f":"'Pob x Genero'!#REF!","v":{"$error":"#REF!"}},{"$f":"'Pob x Genero'!#REF!","v":{"$error":"#REF!"}},{"$f":"'Pob x Genero'!#REF!","v":{"$error":"#REF!"}},{"$f":"'Pob x Genero'!#REF!","v":{"$error":"#REF!"}},"Hombre","00-04",{"$f":"'Pob x Genero'!#REF!","v":{"$error":"#REF!"}},1139]
[{"$f":"'Pob x Genero'!#REF!","v":{"$error":"#REF!"}},{"$f":"'Pob x Genero'!#REF!","v":{"$error":"#REF!"}},{"$f":"'Pob x Genero'!#REF!","v":{"$error":"#REF!"}},{"$f":"'Pob x Genero'!#REF!","v":{"$error":"#REF!"}},{"$f":"'Pob x Genero'!#REF!","v":{"$error":"#REF!"}},"Hombre","00-04",{"$f":"'Pob x Genero'!#REF!","v":{"$error":"#REF!"}},1140]
[{"$f":"'Pob x Genero'!#REF!","v":{"$error":"#REF!"}},{"$f":"'Pob x Genero'!#REF!","v":{"$error":"#REF!"}},{"$f":"'Pob x Genero'!#REF!","v":{"$error":"#REF!"}},{"$f":"'Pob x Genero'!#REF!","v":{"$error":"#REF!"}},{"$f":"'Pob x Genero'!#REF!","v":{"$error":"#REF!"}},"Hombre","00-04",{"$f":"'Pob x Genero'!#REF!","v":{"$error":"#REF!"}},1141]
[{"$f":"'Pob x Genero'!#REF!","v":{"$error":"#REF!"}},{"$f":"'Pob x Genero'!#REF!","v":{"$error":"#REF!"}},{"$f":"'Pob x Genero'!#REF!","v":{"$error":"#REF!"}},{"$f":"'Pob x Genero'!#REF!","v":{"$error":"#REF!"}},{"$f":"'Pob x Genero'!#REF!","v":{"$error":"#REF!"}},"Hombre","00-04",{"$f":"'Pob x Genero'!#REF!","v":{"$error":"#REF!"}},1142]
[{"$f":"'Pob x Genero'!#REF!","v":{"$error":"#REF!"}},{"$f":"'Pob x Genero'!#REF!","v":{"$error":"#REF!"}},{"$f":"'Pob x Genero'!#REF!","v":{"$error":"#REF!"}},{"$f":"'Pob x Genero'!#REF!","v":{"$error":"#REF!"}},{"$f":"'Pob x Genero'!#REF!","v":{"$error":"#REF!"}},"Hombre","00-04",{"$f":"'Pob x Genero'!#REF!","v":{"$error":"#REF!"}},1143]
[{"$f":"'Pob x Genero'!#REF!","v":{"$error":"#REF!"}},{"$f":"'Pob x Genero'!#REF!","v":{"$error":"#REF!"}},{"$f":"'Pob x Genero'!#REF!","v":{"$error":"#REF!"}},{"$f":"'Pob x Genero'!#REF!","v":{"$error":"#REF!"}},{"$f":"'Pob x Genero'!#REF!","v":{"$error":"#REF!"}},"Hombre","00-04",{"$f":"'Pob x Genero'!#REF!","v":{"$error":"#REF!"}},1144]
[{"$f":"'Pob x Genero'!#REF!","v":{"$error":"#REF!"}},{"$f":"'Pob x Genero'!#REF!","v":{"$error":"#REF!"}},{"$f":"'Pob x Genero'!#REF!","v":{"$error":"#REF!"}},{"$f":"'Pob x Genero'!#REF!","v":{"$error":"#REF!"}},{"$f":"'Pob x Genero'!#REF!","v":{"$error":"#REF!"}},"Hombre","00-04",{"$f":"'Pob x Genero'!#REF!","v":{"$error":"#REF!"}},1145]
[{"$f":"'Pob x Genero'!#REF!","v":{"$error":"#REF!"}},{"$f":"'Pob x Genero'!#REF!","v":{"$error":"#REF!"}},{"$f":"'Pob x Genero'!#REF!","v":{"$error":"#REF!"}},{"$f":"'Pob x Genero'!#REF!","v":{"$error":"#REF!"}},{"$f":"'Pob x Genero'!#REF!","v":{"$error":"#REF!"}},"Hombre","00-04",{"$f":"'Pob x Genero'!#REF!","v":{"$error":"#REF!"}},1146]
[{"$f":"'Pob x Genero'!#REF!","v":{"$error":"#REF!"}},{"$f":"'Pob x Genero'!#REF!","v":{"$error":"#REF!"}},{"$f":"'Pob x Genero'!#REF!","v":{"$error":"#REF!"}},{"$f":"'Pob x Genero'!#REF!","v":{"$error":"#REF!"}},{"$f":"'Pob x Genero'!#REF!","v":{"$error":"#REF!"}},"Hombre","00-04",{"$f":"'Pob x Genero'!#REF!","v":{"$error":"#REF!"}},1147]
[{"$f":"'Pob x Genero'!#REF!","v":{"$error":"#REF!"}},{"$f":"'Pob x Genero'!#REF!","v":{"$error":"#REF!"}},{"$f":"'Pob x Genero'!#REF!","v":{"$error":"#REF!"}},{"$f":"'Pob x Genero'!#REF!","v":{"$error":"#REF!"}},{"$f":"'Pob x Genero'!#REF!","v":{"$error":"#REF!"}},"Hombre","00-04",{"$f":"'Pob x Genero'!#REF!","v":{"$error":"#REF!"}},1148]
[{"$f":"'Pob x Genero'!#REF!","v":{"$error":"#REF!"}},{"$f":"'Pob x Genero'!#REF!","v":{"$error":"#REF!"}},{"$f":"'Pob x Genero'!#REF!","v":{"$error":"#REF!"}},{"$f":"'Pob x Genero'!#REF!","v":{"$error":"#REF!"}},{"$f":"'Pob x Genero'!#REF!","v":{"$error":"#REF!"}},"Hombre","00-04",{"$f":"'Pob x Genero'!#REF!","v":{"$error":"#REF!"}},1149]
[{"$f":"'Pob x Genero'!#REF!","v":{"$error":"#REF!"}},{"$f":"'Pob x Genero'!#REF!","v":{"$error":"#REF!"}},{"$f":"'Pob x Genero'!#REF!","v":{"$error":"#REF!"}},{"$f":"'Pob x Genero'!#REF!","v":{"$error":"#REF!"}},{"$f":"'Pob x Genero'!#REF!","v":{"$error":"#REF!"}},"Hombre","00-04",{"$f":"'Pob x Genero'!#REF!","v":{"$error":"#REF!"}},1150]
[{"$f":"'Pob x Genero'!#REF!","v":{"$error":"#REF!"}},{"$f":"'Pob x Genero'!#REF!","v":{"$error":"#REF!"}},{"$f":"'Pob x Genero'!#REF!","v":{"$error":"#REF!"}},{"$f":"'Pob x Genero'!#REF!","v":{"$error":"#REF!"}},{"$f":"'Pob x Genero'!#REF!","v":{"$error":"#REF!"}},"Hombre","00-04",{"$f":"'Pob x Genero'!#REF!","v":{"$error":"#REF!"}},1151]
[{"$f":"'Pob x Genero'!#REF!","v":{"$error":"#REF!"}},{"$f":"'Pob x Genero'!#REF!","v":{"$error":"#REF!"}},{"$f":"'Pob x Genero'!#REF!","v":{"$error":"#REF!"}},{"$f":"'Pob x Genero'!#REF!","v":{"$error":"#REF!"}},{"$f":"'Pob x Genero'!#REF!","v":{"$error":"#REF!"}},"Hombre","00-04",{"$f":"'Pob x Genero'!#REF!","v":{"$error":"#REF!"}},1152]
[{"$f":"'Pob x Genero'!#REF!","v":{"$error":"#REF!"}},{"$f":"'Pob x Genero'!#REF!","v":{"$error":"#REF!"}},{"$f":"'Pob x Genero'!#REF!","v":{"$error":"#REF!"}},{"$f":"'Pob x Genero'!#REF!","v":{"$error":"#REF!"}},{"$f":"'Pob x Genero'!#REF!","v":{"$error":"#REF!"}},"Hombre","00-04",{"$f":"'Pob x Genero'!#REF!","v":{"$error":"#REF!"}},1153]
[{"$f":"'Pob x Genero'!#REF!","v":{"$error":"#REF!"}},{"$f":"'Pob x Genero'!#REF!","v":{"$error":"#REF!"}},{"$f":"'Pob x Genero'!#REF!","v":{"$error":"#REF!"}},{"$f":"'Pob x Genero'!#REF!","v":{"$error":"#REF!"}},{"$f":"'Pob x Genero'!#REF!","v":{"$error":"#REF!"}},{"$f":"F1154","v":"Hombre"},{"$f":"G1154","v":"00-04"},{"$f":"'Pob x Genero'!#REF!","v":{"$error":"#REF!"}},1154]
[{"$f":"'Pob x Genero'!#REF!","v":{"$error":"#REF!"}},{"$f":"'Pob x Genero'!#REF!","v":{"$error":"#REF!"}},{"$f":"'Pob x Genero'!#REF!","v":{"$error":"#REF!"}},{"$f":"'Pob x Genero'!#REF!","v":{"$error":"#REF!"}},{"$f":"'Pob x Genero'!#REF!","v":{"$error":"#REF!"}},"Hombre","00-04",{"$f":"'Pob x Genero'!#REF!","v":{"$error":"#REF!"}},1155]
[{"$f":"'Pob x Genero'!#REF!","v":{"$error":"#REF!"}},{"$f":"'Pob x Genero'!#REF!","v":{"$error":"#REF!"}},{"$f":"'Pob x Genero'!#REF!","v":{"$error":"#REF!"}},{"$f":"'Pob x Genero'!#REF!","v":{"$error":"#REF!"}},{"$f":"'Pob x Genero'!#REF!","v":{"$error":"#REF!"}},"Hombre","00-04",{"$f":"'Pob x Genero'!#REF!","v":{"$error":"#REF!"}},1156]
[{"$f":"'Pob x Genero'!#REF!","v":{"$error":"#REF!"}},{"$f":"'Pob x Genero'!#REF!","v":{"$error":"#REF!"}},{"$f":"'Pob x Genero'!#REF!","v":{"$error":"#REF!"}},{"$f":"'Pob x Genero'!#REF!","v":{"$error":"#REF!"}},{"$f":"'Pob x Genero'!#REF!","v":{"$error":"#REF!"}},"Hombre","00-04",{"$f":"'Pob x Genero'!#REF!","v":{"$error":"#REF!"}},1157]
[{"$f":"'Pob x Genero'!#REF!","v":{"$error":"#REF!"}},{"$f":"'Pob x Genero'!#REF!","v":{"$error":"#REF!"}},{"$f":"'Pob x Genero'!#REF!","v":{"$error":"#REF!"}},{"$f":"'Pob x Genero'!#REF!","v":{"$error":"#REF!"}},{"$f":"'Pob x Genero'!#REF!","v":{"$error":"#REF!"}},"Hombre","00-04",{"$f":"'Pob x Genero'!#REF!","v":{"$error":"#REF!"}},1158]
[{"$f":"'Pob x Genero'!#REF!","v":{"$error":"#REF!"}},{"$f":"'Pob x Genero'!#REF!","v":{"$error":"#REF!"}},{"$f":"'Pob x Genero'!#REF!","v":{"$error":"#REF!"}},{"$f":"'Pob x Genero'!#REF!","v":{"$error":"#REF!"}},{"$f":"'Pob x Genero'!#REF!","v":{"$error":"#REF!"}},"Hombre","00-04",{"$f":"'Pob x Genero'!#REF!","v":{"$error":"#REF!"}},1159]
[{"$f":"'Pob x Genero'!#REF!","v":{"$error":"#REF!"}},{"$f":"'Pob x Genero'!#REF!","v":{"$error":"#REF!"}},{"$f":"'Pob x Genero'!#REF!","v":{"$error":"#REF!"}},{"$f":"'Pob x Genero'!#REF!","v":{"$error":"#REF!"}},{"$f":"'Pob x Genero'!#REF!","v":{"$error":"#REF!"}},"Hombre","00-04",{"$f":"'Pob x Genero'!#REF!","v":{"$error":"#REF!"}},1160]
[{"$f":"'Pob x Genero'!#REF!","v":{"$error":"#REF!"}},{"$f":"'Pob x Genero'!#REF!","v":{"$error":"#REF!"}},{"$f":"'Pob x Genero'!#REF!","v":{"$error":"#REF!"}},{"$f":"'Pob x Genero'!#REF!","v":{"$error":"#REF!"}},{"$f":"'Pob x Genero'!#REF!","v":{"$error":"#REF!"}},"Hombre","00-04",{"$f":"'Pob x Genero'!#REF!","v":{"$error":"#REF!"}},1161]
[{"$f":"'Pob x Genero'!#REF!","v":{"$error":"#REF!"}},{"$f":"'Pob x Genero'!#REF!","v":{"$error":"#REF!"}},{"$f":"'Pob x Genero'!#REF!","v":{"$error":"#REF!"}},{"$f":"'Pob x Genero'!#REF!","v":{"$error":"#REF!"}},{"$f":"'Pob x Genero'!#REF!","v":{"$error":"#REF!"}},"Hombre","00-04",{"$f":"'Pob x Genero'!#REF!","v":{"$error":"#REF!"}},1162]
[{"$f":"'Pob x Genero'!#REF!","v":{"$error":"#REF!"}},{"$f":"'Pob x Genero'!#REF!","v":{"$error":"#REF!"}},{"$f":"'Pob x Genero'!#REF!","v":{"$error":"#REF!"}},{"$f":"'Pob x Genero'!#REF!","v":{"$error":"#REF!"}},{"$f":"'Pob x Genero'!#REF!","v":{"$error":"#REF!"}},"Hombre","00-04",{"$f":"'Pob x Genero'!#REF!","v":{"$error":"#REF!"}},1163]
[{"$f":"'Pob x Genero'!#REF!","v":{"$error":"#REF!"}},{"$f":"'Pob x Genero'!#REF!","v":{"$error":"#REF!"}},{"$f":"'Pob x Genero'!#REF!","v":{"$error":"#REF!"}},{"$f":"'Pob x Genero'!#REF!","v":{"$error":"#REF!"}},{"$f":"'Pob x Genero'!#REF!","v":{"$error":"#REF!"}},"Hombre","00-04",{"$f":"'Pob x Genero'!#REF!","v":{"$error":"#REF!"}},1164]
[{"$f":"'Pob x Genero'!#REF!","v":{"$error":"#REF!"}},{"$f":"'Pob x Genero'!#REF!","v":{"$error":"#REF!"}},{"$f":"'Pob x Genero'!#REF!","v":{"$error":"#REF!"}},{"$f":"'Pob x Genero'!#REF!","v":{"$error":"#REF!"}},{"$f":"'Pob x Genero'!#REF!","v":{"$error":"#REF!"}},"Hombre","00-04",{"$f":"'Pob x Genero'!#REF!","v":{"$error":"#REF!"}},1165]
[{"$f":"'Pob x Genero'!#REF!","v":{"$error":"#REF!"}},{"$f":"'Pob x Genero'!#REF!","v":{"$error":"#REF!"}},{"$f":"'Pob x Genero'!#REF!","v":{"$error":"#REF!"}},{"$f":"'Pob x Genero'!#REF!","v":{"$error":"#REF!"}},{"$f":"'Pob x Genero'!#REF!","v":{"$error":"#REF!"}},"Hombre","00-04",{"$f":"'Pob x Genero'!#REF!","v":{"$error":"#REF!"}},1166]
[{"$f":"'Pob x Genero'!#REF!","v":{"$error":"#REF!"}},{"$f":"'Pob x Genero'!#REF!","v":{"$error":"#REF!"}},{"$f":"'Pob x Genero'!#REF!","v":{"$error":"#REF!"}},{"$f":"'Pob x Genero'!#REF!","v":{"$error":"#REF!"}},{"$f":"'Pob x Genero'!#REF!","v":{"$error":"#REF!"}},"Hombre","00-04",{"$f":"'Pob x Genero'!#REF!","v":{"$error":"#REF!"}},1167]
[{"$f":"'Pob x Genero'!#REF!","v":{"$error":"#REF!"}},{"$f":"'Pob x Genero'!#REF!","v":{"$error":"#REF!"}},{"$f":"'Pob x Genero'!#REF!","v":{"$error":"#REF!"}},{"$f":"'Pob x Genero'!#REF!","v":{"$error":"#REF!"}},{"$f":"'Pob x Genero'!#REF!","v":{"$error":"#REF!"}},"Hombre","00-04",{"$f":"'Pob x Genero'!#REF!","v":{"$error":"#REF!"}},1168]
[{"$f":"'Pob x Genero'!#REF!","v":{"$error":"#REF!"}},{"$f":"'Pob x Genero'!#REF!","v":{"$error":"#REF!"}},{"$f":"'Pob x Genero'!#REF!","v":{"$error":"#REF!"}},{"$f":"'Pob x Genero'!#REF!","v":{"$error":"#REF!"}},{"$f":"'Pob x Genero'!#REF!","v":{"$error":"#REF!"}},"Hombre","00-04",{"$f":"'Pob x Genero'!#REF!","v":{"$error":"#REF!"}},1169]
[{"$f":"'Pob x Genero'!#REF!","v":{"$error":"#REF!"}},{"$f":"'Pob x Genero'!#REF!","v":{"$error":"#REF!"}},{"$f":"'Pob x Genero'!#REF!","v":{"$error":"#REF!"}},{"$f":"'Pob x Genero'!#REF!","v":{"$error":"#REF!"}},{"$f":"'Pob x Genero'!#REF!","v":{"$error":"#REF!"}},"Hombre","00-04",{"$f":"'Pob x Genero'!#REF!","v":{"$error":"#REF!"}},1170]
[{"$f":"'Pob x Genero'!#REF!","v":{"$error":"#REF!"}},{"$f":"'Pob x Genero'!#REF!","v":{"$error":"#REF!"}},{"$f":"'Pob x Genero'!#REF!","v":{"$error":"#REF!"}},{"$f":"'Pob x Genero'!#REF!","v":{"$error":"#REF!"}},{"$f":"'Pob x Genero'!#REF!","v":{"$error":"#REF!"}},"Hombre","00-04",{"$f":"'Pob x Genero'!#REF!","v":{"$error":"#REF!"}},1171]
[{"$f":"'Pob x Genero'!#REF!","v":{"$error":"#REF!"}},{"$f":"'Pob x Genero'!#REF!","v":{"$error":"#REF!"}},{"$f":"'Pob x Genero'!#REF!","v":{"$error":"#REF!"}},{"$f":"'Pob x Genero'!#REF!","v":{"$error":"#REF!"}},{"$f":"'Pob x Genero'!#REF!","v":{"$error":"#REF!"}},"Hombre","00-04",{"$f":"'Pob x Genero'!#REF!","v":{"$error":"#REF!"}},1172]
[{"$f":"'Pob x Genero'!#REF!","v":{"$error":"#REF!"}},{"$f":"'Pob x Genero'!#REF!","v":{"$error":"#REF!"}},{"$f":"'Pob x Genero'!#REF!","v":{"$error":"#REF!"}},{"$f":"'Pob x Genero'!#REF!","v":{"$error":"#REF!"}},{"$f":"'Pob x Genero'!#REF!","v":{"$error":"#REF!"}},"Hombre","00-04",{"$f":"'Pob x Genero'!#REF!","v":{"$error":"#REF!"}},1173]
[{"$f":"'Pob x Genero'!#REF!","v":{"$error":"#REF!"}},{"$f":"'Pob x Genero'!#REF!","v":{"$error":"#REF!"}},{"$f":"'Pob x Genero'!#REF!","v":{"$error":"#REF!"}},{"$f":"'Pob x Genero'!#REF!","v":{"$error":"#REF!"}},{"$f":"'Pob x Genero'!#REF!","v":{"$error":"#REF!"}},"Hombre","00-04",{"$f":"'Pob x Genero'!#REF!","v":{"$error":"#REF!"}},1174]
[{"$f":"'Pob x Genero'!#REF!","v":{"$error":"#REF!"}},{"$f":"'Pob x Genero'!#REF!","v":{"$error":"#REF!"}},{"$f":"'Pob x Genero'!#REF!","v":{"$error":"#REF!"}},{"$f":"'Pob x Genero'!#REF!","v":{"$error":"#REF!"}},{"$f":"'Pob x Genero'!#REF!","v":{"$error":"#REF!"}},"Hombre","00-04",{"$f":"'Pob x Genero'!#REF!","v":{"$error":"#REF!"}},1175]
[{"$f":"'Pob x Genero'!#REF!","v":{"$error":"#REF!"}},{"$f":"'Pob x Genero'!#REF!","v":{"$error":"#REF!"}},{"$f":"'Pob x Genero'!#REF!","v":{"$error":"#REF!"}},{"$f":"'Pob x Genero'!#REF!","v":{"$error":"#REF!"}},{"$f":"'Pob x Genero'!#REF!","v":{"$error":"#REF!"}},"Hombre","00-04",{"$f":"'Pob x Genero'!#REF!","v":{"$error":"#REF!"}},1176]
[{"$f":"'Pob x Genero'!#REF!","v":{"$error":"#REF!"}},{"$f":"'Pob x Genero'!#REF!","v":{"$error":"#REF!"}},{"$f":"'Pob x Genero'!#REF!","v":{"$error":"#REF!"}},{"$f":"'Pob x Genero'!#REF!","v":{"$error":"#REF!"}},{"$f":"'Pob x Genero'!#REF!","v":{"$error":"#REF!"}},"Hombre","00-04",{"$f":"'Pob x Genero'!#REF!","v":{"$error":"#REF!"}},1177]
[{"$f":"'Pob x Genero'!#REF!","v":{"$error":"#REF!"}},{"$f":"'Pob x Genero'!#REF!","v":{"$error":"#REF!"}},{"$f":"'Pob x Genero'!#REF!","v":{"$error":"#REF!"}},{"$f":"'Pob x Genero'!#REF!","v":{"$error":"#REF!"}},{"$f":"'Pob x Genero'!#REF!","v":{"$error":"#REF!"}},"Hombre","00-04",{"$f":"'Pob x Genero'!#REF!","v":{"$error":"#REF!"}},1178]
[{"$f":"'Pob x Genero'!#REF!","v":{"$error":"#REF!"}},{"$f":"'Pob x Genero'!#REF!","v":{"$error":"#REF!"}},{"$f":"'Pob x Genero'!#REF!","v":{"$error":"#REF!"}},{"$f":"'Pob x Genero'!#REF!","v":{"$error":"#REF!"}},{"$f":"'Pob x Genero'!#REF!","v":{"$error":"#REF!"}},"Hombre","00-04",{"$f":"'Pob x Genero'!#REF!","v":{"$error":"#REF!"}},1179]
[{"$f":"'Pob x Genero'!#REF!","v":{"$error":"#REF!"}},{"$f":"'Pob x Genero'!#REF!","v":{"$error":"#REF!"}},{"$f":"'Pob x Genero'!#REF!","v":{"$error":"#REF!"}},{"$f":"'Pob x Genero'!#REF!","v":{"$error":"#REF!"}},{"$f":"'Pob x Genero'!#REF!","v":{"$error":"#REF!"}},"Hombre","00-04",{"$f":"'Pob x Genero'!#REF!","v":{"$error":"#REF!"}},1180]
[{"$f":"'Pob x Genero'!#REF!","v":{"$error":"#REF!"}},{"$f":"'Pob x Genero'!#REF!","v":{"$error":"#REF!"}},{"$f":"'Pob x Genero'!#REF!","v":{"$error":"#REF!"}},{"$f":"'Pob x Genero'!#REF!","v":{"$error":"#REF!"}},{"$f":"'Pob x Genero'!#REF!","v":{"$error":"#REF!"}},"Hombre","00-04",{"$f":"'Pob x Genero'!#REF!","v":{"$error":"#REF!"}},1181]
[{"$f":"'Pob x Genero'!#REF!","v":{"$error":"#REF!"}},{"$f":"'Pob x Genero'!#REF!","v":{"$error":"#REF!"}},{"$f":"'Pob x Genero'!#REF!","v":{"$error":"#REF!"}},{"$f":"'Pob x Genero'!#REF!","v":{"$error":"#REF!"}},{"$f":"'Pob x Genero'!#REF!","v":{"$error":"#REF!"}},"Hombre","00-04",{"$f":"'Pob x Genero'!#REF!","v":{"$error":"#REF!"}},1182]
[{"$f":"'Pob x Genero'!#REF!","v":{"$error":"#REF!"}},{"$f":"'Pob x Genero'!#REF!","v":{"$error":"#REF!"}},{"$f":"'Pob x Genero'!#REF!","v":{"$error":"#REF!"}},{"$f":"'Pob x Genero'!#REF!","v":{"$error":"#REF!"}},{"$f":"'Pob x Genero'!#REF!","v":{"$error":"#REF!"}},"Hombre","00-04",{"$f":"'Pob x Genero'!#REF!","v":{"$error":"#REF!"}},1183]
[{"$f":"'Pob x Genero'!#REF!","v":{"$error":"#REF!"}},{"$f":"'Pob x Genero'!#REF!","v":{"$error":"#REF!"}},{"$f":"'Pob x Genero'!#REF!","v":{"$error":"#REF!"}},{"$f":"'Pob x Genero'!#REF!","v":{"$error":"#REF!"}},{"$f":"'Pob x Genero'!#REF!","v":{"$error":"#REF!"}},"Hombre","00-04",{"$f":"'Pob x Genero'!#REF!","v":{"$error":"#REF!"}},1184]
[{"$f":"'Pob x Genero'!#REF!","v":{"$error":"#REF!"}},{"$f":"'Pob x Genero'!#REF!","v":{"$error":"#REF!"}},{"$f":"'Pob x Genero'!#REF!","v":{"$error":"#REF!"}},{"$f":"'Pob x Genero'!#REF!","v":{"$error":"#REF!"}},{"$f":"'Pob x Genero'!#REF!","v":{"$error":"#REF!"}},"Hombre","00-04",{"$f":"'Pob x Genero'!#REF!","v":{"$error":"#REF!"}},1185]
[{"$f":"'Pob x Genero'!#REF!","v":{"$error":"#REF!"}},{"$f":"'Pob x Genero'!#REF!","v":{"$error":"#REF!"}},{"$f":"'Pob x Genero'!#REF!","v":{"$error":"#REF!"}},{"$f":"'Pob x Genero'!#REF!","v":{"$error":"#REF!"}},{"$f":"'Pob x Genero'!#REF!","v":{"$error":"#REF!"}},"Hombre","00-04",{"$f":"'Pob x Genero'!#REF!","v":{"$error":"#REF!"}},1186]
[{"$f":"'Pob x Genero'!#REF!","v":{"$error":"#REF!"}},{"$f":"'Pob x Genero'!#REF!","v":{"$error":"#REF!"}},{"$f":"'Pob x Genero'!#REF!","v":{"$error":"#REF!"}},{"$f":"'Pob x Genero'!#REF!","v":{"$error":"#REF!"}},{"$f":"'Pob x Genero'!#REF!","v":{"$error":"#REF!"}},"Hombre","00-04",{"$f":"'Pob x Genero'!#REF!","v":{"$error":"#REF!"}},1187]
[{"$f":"'Pob x Genero'!#REF!","v":{"$error":"#REF!"}},{"$f":"'Pob x Genero'!#REF!","v":{"$error":"#REF!"}},{"$f":"'Pob x Genero'!#REF!","v":{"$error":"#REF!"}},{"$f":"'Pob x Genero'!#REF!","v":{"$error":"#REF!"}},{"$f":"'Pob x Genero'!#REF!","v":{"$error":"#REF!"}},"Hombre","00-04",{"$f":"'Pob x Genero'!#REF!","v":{"$error":"#REF!"}},1188]
[{"$f":"'Pob x Genero'!#REF!","v":{"$error":"#REF!"}},{"$f":"'Pob x Genero'!#REF!","v":{"$error":"#REF!"}},{"$f":"'Pob x Genero'!#REF!","v":{"$error":"#REF!"}},{"$f":"'Pob x Genero'!#REF!","v":{"$error":"#REF!"}},{"$f":"'Pob x Genero'!#REF!","v":{"$error":"#REF!"}},"Hombre","00-04",{"$f":"'Pob x Genero'!#REF!","v":{"$error":"#REF!"}},1189]
[{"$f":"'Pob x Genero'!#REF!","v":{"$error":"#REF!"}},{"$f":"'Pob x Genero'!#REF!","v":{"$error":"#REF!"}},{"$f":"'Pob x Genero'!#REF!","v":{"$error":"#REF!"}},{"$f":"'Pob x Genero'!#REF!","v":{"$error":"#REF!"}},{"$f":"'Pob x Genero'!#REF!","v":{"$error":"#REF!"}},"Hombre","00-04",{"$f":"'Pob x Genero'!#REF!","v":{"$error":"#REF!"}},1190]
[{"$f":"'Pob x Genero'!#REF!","v":{"$error":"#REF!"}},{"$f":"'Pob x Genero'!#REF!","v":{"$error":"#REF!"}},{"$f":"'Pob x Genero'!#REF!","v":{"$error":"#REF!"}},{"$f":"'Pob x Genero'!#REF!","v":{"$error":"#REF!"}},{"$f":"'Pob x Genero'!#REF!","v":{"$error":"#REF!"}},"Hombre","00-04",{"$f":"'Pob x Genero'!#REF!","v":{"$error":"#REF!"}},1191]
[{"$f":"'Pob x Genero'!#REF!","v":{"$error":"#REF!"}},{"$f":"'Pob x Genero'!#REF!","v":{"$error":"#REF!"}},{"$f":"'Pob x Genero'!#REF!","v":{"$error":"#REF!"}},{"$f":"'Pob x Genero'!#REF!","v":{"$error":"#REF!"}},{"$f":"'Pob x Genero'!#REF!","v":{"$error":"#REF!"}},"Hombre","00-04",{"$f":"'Pob x Genero'!#REF!","v":{"$error":"#REF!"}},1192]
[{"$f":"'Pob x Genero'!#REF!","v":{"$error":"#REF!"}},{"$f":"'Pob x Genero'!#REF!","v":{"$error":"#REF!"}},{"$f":"'Pob x Genero'!#REF!","v":{"$error":"#REF!"}},{"$f":"'Pob x Genero'!#REF!","v":{"$error":"#REF!"}},{"$f":"'Pob x Genero'!#REF!","v":{"$error":"#REF!"}},"Hombre","00-04",{"$f":"'Pob x Genero'!#REF!","v":{"$error":"#REF!"}},1193]
[{"$f":"'Pob x Genero'!#REF!","v":{"$error":"#REF!"}},{"$f":"'Pob x Genero'!#REF!","v":{"$error":"#REF!"}},{"$f":"'Pob x Genero'!#REF!","v":{"$error":"#REF!"}},{"$f":"'Pob x Genero'!#REF!","v":{"$error":"#REF!"}},{"$f":"'Pob x Genero'!#REF!","v":{"$error":"#REF!"}},"Hombre","00-04",{"$f":"'Pob x Genero'!#REF!","v":{"$error":"#REF!"}},1194]
[{"$f":"'Pob x Genero'!#REF!","v":{"$error":"#REF!"}},{"$f":"'Pob x Genero'!#REF!","v":{"$error":"#REF!"}},{"$f":"'Pob x Genero'!#REF!","v":{"$error":"#REF!"}},{"$f":"'Pob x Genero'!#REF!","v":{"$error":"#REF!"}},{"$f":"'Pob x Genero'!#REF!","v":{"$error":"#REF!"}},"Hombre","00-04",{"$f":"'Pob x Genero'!#REF!","v":{"$error":"#REF!"}},1195]
[{"$f":"'Pob x Genero'!#REF!","v":{"$error":"#REF!"}},{"$f":"'Pob x Genero'!#REF!","v":{"$error":"#REF!"}},{"$f":"'Pob x Genero'!#REF!","v":{"$error":"#REF!"}},{"$f":"'Pob x Genero'!#REF!","v":{"$error":"#REF!"}},{"$f":"'Pob x Genero'!#REF!","v":{"$error":"#REF!"}},"Hombre","00-04",{"$f":"'Pob x Genero'!#REF!","v":{"$error":"#REF!"}},1196]
[{"$f":"'Pob x Genero'!#REF!","v":{"$error":"#REF!"}},{"$f":"'Pob x Genero'!#REF!","v":{"$error":"#REF!"}},{"$f":"'Pob x Genero'!#REF!","v":{"$error":"#REF!"}},{"$f":"'Pob x Genero'!#REF!","v":{"$error":"#REF!"}},{"$f":"'Pob x Genero'!#REF!","v":{"$error":"#REF!"}},"Hombre","00-04",{"$f":"'Pob x Genero'!#REF!","v":{"$error":"#REF!"}},1197]
[{"$f":"'Pob x Genero'!#REF!","v":{"$error":"#REF!"}},{"$f":"'Pob x Genero'!#REF!","v":{"$error":"#REF!"}},{"$f":"'Pob x Genero'!#REF!","v":{"$error":"#REF!"}},{"$f":"'Pob x Genero'!#REF!","v":{"$error":"#REF!"}},{"$f":"'Pob x Genero'!#REF!","v":{"$error":"#REF!"}},"Hombre","00-04",{"$f":"'Pob x Genero'!#REF!","v":{"$error":"#REF!"}},1198]
[{"$f":"'Pob x Genero'!#REF!","v":{"$error":"#REF!"}},{"$f":"'Pob x Genero'!#REF!","v":{"$error":"#REF!"}},{"$f":"'Pob x Genero'!#REF!","v":{"$error":"#REF!"}},{"$f":"'Pob x Genero'!#REF!","v":{"$error":"#REF!"}},{"$f":"'Pob x Genero'!#REF!","v":{"$error":"#REF!"}},"Hombre","00-04",{"$f":"'Pob x Genero'!#REF!","v":{"$error":"#REF!"}},1199]
[{"$f":"'Pob x Genero'!#REF!","v":{"$error":"#REF!"}},{"$f":"'Pob x Genero'!#REF!","v":{"$error":"#REF!"}},{"$f":"'Pob x Genero'!#REF!","v":{"$error":"#REF!"}},{"$f":"'Pob x Genero'!#REF!","v":{"$error":"#REF!"}},{"$f":"'Pob x Genero'!#REF!","v":{"$error":"#REF!"}},"Hombre","00-04",{"$f":"'Pob x Genero'!#REF!","v":{"$error":"#REF!"}},1200]
[{"$f":"'Pob x Genero'!#REF!","v":{"$error":"#REF!"}},{"$f":"'Pob x Genero'!#REF!","v":{"$error":"#REF!"}},{"$f":"'Pob x Genero'!#REF!","v":{"$error":"#REF!"}},{"$f":"'Pob x Genero'!#REF!","v":{"$error":"#REF!"}},{"$f":"'Pob x Genero'!#REF!","v":{"$error":"#REF!"}},"Hombre","00-04",{"$f":"'Pob x Genero'!#REF!","v":{"$error":"#REF!"}},1201]
[{"$f":"'Pob x Genero'!#REF!","v":{"$error":"#REF!"}},{"$f":"'Pob x Genero'!#REF!","v":{"$error":"#REF!"}},{"$f":"'Pob x Genero'!#REF!","v":{"$error":"#REF!"}},{"$f":"'Pob x Genero'!#REF!","v":{"$error":"#REF!"}},{"$f":"'Pob x Genero'!#REF!","v":{"$error":"#REF!"}},"Hombre","00-04",{"$f":"'Pob x Genero'!#REF!","v":{"$error":"#REF!"}},1202]
[{"$f":"'Pob x Genero'!#REF!","v":{"$error":"#REF!"}},{"$f":"'Pob x Genero'!#REF!","v":{"$error":"#REF!"}},{"$f":"'Pob x Genero'!#REF!","v":{"$error":"#REF!"}},{"$f":"'Pob x Genero'!#REF!","v":{"$error":"#REF!"}},{"$f":"'Pob x Genero'!#REF!","v":{"$error":"#REF!"}},"Hombre","00-04",{"$f":"'Pob x Genero'!#REF!","v":{"$error":"#REF!"}},1203]
[{"$f":"'Pob x Genero'!#REF!","v":{"$error":"#REF!"}},{"$f":"'Pob x Genero'!#REF!","v":{"$error":"#REF!"}},{"$f":"'Pob x Genero'!#REF!","v":{"$error":"#REF!"}},{"$f":"'Pob x Genero'!#REF!","v":{"$error":"#REF!"}},{"$f":"'Pob x Genero'!#REF!","v":{"$error":"#REF!"}},"Hombre","00-04",{"$f":"'Pob x Genero'!#REF!","v":{"$error":"#REF!"}},1204]
[{"$f":"'Pob x Genero'!#REF!","v":{"$error":"#REF!"}},{"$f":"'Pob x Genero'!#REF!","v":{"$error":"#REF!"}},{"$f":"'Pob x Genero'!#REF!","v":{"$error":"#REF!"}},{"$f":"'Pob x Genero'!#REF!","v":{"$error":"#REF!"}},{"$f":"'Pob x Genero'!#REF!","v":{"$error":"#REF!"}},"Hombre","00-04",{"$f":"'Pob x Genero'!#REF!","v":{"$error":"#REF!"}},1205]
[{"$f":"'Pob x Genero'!#REF!","v":{"$error":"#REF!"}},{"$f":"'Pob x Genero'!#REF!","v":{"$error":"#REF!"}},{"$f":"'Pob x Genero'!#REF!","v":{"$error":"#REF!"}},{"$f":"'Pob x Genero'!#REF!","v":{"$error":"#REF!"}},{"$f":"'Pob x Genero'!#REF!","v":{"$error":"#REF!"}},"Hombre","00-04",{"$f":"'Pob x Genero'!#REF!","v":{"$error":"#REF!"}},1206]
[{"$f":"'Pob x Genero'!#REF!","v":{"$error":"#REF!"}},{"$f":"'Pob x Genero'!#REF!","v":{"$error":"#REF!"}},{"$f":"'Pob x Genero'!#REF!","v":{"$error":"#REF!"}},{"$f":"'Pob x Genero'!#REF!","v":{"$error":"#REF!"}},{"$f":"'Pob x Genero'!#REF!","v":{"$error":"#REF!"}},"Hombre","00-04",{"$f":"'Pob x Genero'!#REF!","v":{"$error":"#REF!"}},1207]
[{"$f":"'Pob x Genero'!#REF!","v":{"$error":"#REF!"}},{"$f":"'Pob x Genero'!#REF!","v":{"$error":"#REF!"}},{"$f":"'Pob x Genero'!#REF!","v":{"$error":"#REF!"}},{"$f":"'Pob x Genero'!#REF!","v":{"$error":"#REF!"}},{"$f":"'Pob x Genero'!#REF!","v":{"$error":"#REF!"}},"Hombre","00-04",{"$f":"'Pob x Genero'!#REF!","v":{"$error":"#REF!"}},1208]
[{"$f":"'Pob x Genero'!#REF!","v":{"$error":"#REF!"}},{"$f":"'Pob x Genero'!#REF!","v":{"$error":"#REF!"}},{"$f":"'Pob x Genero'!#REF!","v":{"$error":"#REF!"}},{"$f":"'Pob x Genero'!#REF!","v":{"$error":"#REF!"}},{"$f":"'Pob x Genero'!#REF!","v":{"$error":"#REF!"}},"Hombre","00-04",{"$f":"'Pob x Genero'!#REF!","v":{"$error":"#REF!"}},1209]
[{"$f":"'Pob x Genero'!#REF!","v":{"$error":"#REF!"}},{"$f":"'Pob x Genero'!#REF!","v":{"$error":"#REF!"}},{"$f":"'Pob x Genero'!#REF!","v":{"$error":"#REF!"}},{"$f":"'Pob x Genero'!#REF!","v":{"$error":"#REF!"}},{"$f":"'Pob x Genero'!#REF!","v":{"$error":"#REF!"}},"Hombre","00-04",{"$f":"'Pob x Genero'!#REF!","v":{"$error":"#REF!"}},1210]
[{"$f":"'Pob x Genero'!#REF!","v":{"$error":"#REF!"}},{"$f":"'Pob x Genero'!#REF!","v":{"$error":"#REF!"}},{"$f":"'Pob x Genero'!#REF!","v":{"$error":"#REF!"}},{"$f":"'Pob x Genero'!#REF!","v":{"$error":"#REF!"}},{"$f":"'Pob x Genero'!#REF!","v":{"$error":"#REF!"}},"Hombre","00-04",{"$f":"'Pob x Genero'!#REF!","v":{"$error":"#REF!"}},1211]
[{"$f":"'Pob x Genero'!#REF!","v":{"$error":"#REF!"}},{"$f":"'Pob x Genero'!#REF!","v":{"$error":"#REF!"}},{"$f":"'Pob x Genero'!#REF!","v":{"$error":"#REF!"}},{"$f":"'Pob x Genero'!#REF!","v":{"$error":"#REF!"}},{"$f":"'Pob x Genero'!#REF!","v":{"$error":"#REF!"}},"Hombre","00-04",{"$f":"'Pob x Genero'!#REF!","v":{"$error":"#REF!"}},1212]
[{"$f":"'Pob x Genero'!#REF!","v":{"$error":"#REF!"}},{"$f":"'Pob x Genero'!#REF!","v":{"$error":"#REF!"}},{"$f":"'Pob x Genero'!#REF!","v":{"$error":"#REF!"}},{"$f":"'Pob x Genero'!#REF!","v":{"$error":"#REF!"}},{"$f":"'Pob x Genero'!#REF!","v":{"$error":"#REF!"}},"Hombre","00-04",{"$f":"'Pob x Genero'!#REF!","v":{"$error":"#REF!"}},1213]
[{"$f":"'Pob x Genero'!#REF!","v":{"$error":"#REF!"}},{"$f":"'Pob x Genero'!#REF!","v":{"$error":"#REF!"}},{"$f":"'Pob x Genero'!#REF!","v":{"$error":"#REF!"}},{"$f":"'Pob x Genero'!#REF!","v":{"$error":"#REF!"}},{"$f":"'Pob x Genero'!#REF!","v":{"$error":"#REF!"}},"Hombre","00-04",{"$f":"'Pob x Genero'!#REF!","v":{"$error":"#REF!"}},1214]
[{"$f":"'Pob x Genero'!#REF!","v":{"$error":"#REF!"}},{"$f":"'Pob x Genero'!#REF!","v":{"$error":"#REF!"}},{"$f":"'Pob x Genero'!#REF!","v":{"$error":"#REF!"}},{"$f":"'Pob x Genero'!#REF!","v":{"$error":"#REF!"}},{"$f":"'Pob x Genero'!#REF!","v":{"$error":"#REF!"}},"Hombre","00-04",{"$f":"'Pob x Genero'!#REF!","v":{"$error":"#REF!"}},1215]
[{"$f":"'Pob x Genero'!#REF!","v":{"$error":"#REF!"}},{"$f":"'Pob x Genero'!#REF!","v":{"$error":"#REF!"}},{"$f":"'Pob x Genero'!#REF!","v":{"$error":"#REF!"}},{"$f":"'Pob x Genero'!#REF!","v":{"$error":"#REF!"}},{"$f":"'Pob x Genero'!#REF!","v":{"$error":"#REF!"}},"Hombre","00-04",{"$f":"'Pob x Genero'!#REF!","v":{"$error":"#REF!"}},1216]
[{"$f":"'Pob x Genero'!#REF!","v":{"$error":"#REF!"}},{"$f":"'Pob x Genero'!#REF!","v":{"$error":"#REF!"}},{"$f":"'Pob x Genero'!#REF!","v":{"$error":"#REF!"}},{"$f":"'Pob x Genero'!#REF!","v":{"$error":"#REF!"}},{"$f":"'Pob x Genero'!#REF!","v":{"$error":"#REF!"}},"Hombre","00-04",{"$f":"'Pob x Genero'!#REF!","v":{"$error":"#REF!"}},1217]
[{"$f":"'Pob x Genero'!#REF!","v":{"$error":"#REF!"}},{"$f":"'Pob x Genero'!#REF!","v":{"$error":"#REF!"}},{"$f":"'Pob x Genero'!#REF!","v":{"$error":"#REF!"}},{"$f":"'Pob x Genero'!#REF!","v":{"$error":"#REF!"}},{"$f":"'Pob x Genero'!#REF!","v":{"$error":"#REF!"}},{"$f":"F1218","v":"Hombre"},{"$f":"G1218","v":"00-04"},{"$f":"'Pob x Genero'!#REF!","v":{"$error":"#REF!"}},1218]
[{"$f":"'Pob x Genero'!#REF!","v":{"$error":"#REF!"}},{"$f":"'Pob x Genero'!#REF!","v":{"$error":"#REF!"}},{"$f":"'Pob x Genero'!#REF!","v":{"$error":"#REF!"}},{"$f":"'Pob x Genero'!#REF!","v":{"$error":"#REF!"}},{"$f":"'Pob x Genero'!#REF!","v":{"$error":"#REF!"}},"Hombre","00-04",{"$f":"'Pob x Genero'!#REF!","v":{"$error":"#REF!"}},1219]
[{"$f":"'Pob x Genero'!#REF!","v":{"$error":"#REF!"}},{"$f":"'Pob x Genero'!#REF!","v":{"$error":"#REF!"}},{"$f":"'Pob x Genero'!#REF!","v":{"$error":"#REF!"}},{"$f":"'Pob x Genero'!#REF!","v":{"$error":"#REF!"}},{"$f":"'Pob x Genero'!#REF!","v":{"$error":"#REF!"}},"Hombre","00-04",{"$f":"'Pob x Genero'!#REF!","v":{"$error":"#REF!"}},1220]
[{"$f":"'Pob x Genero'!#REF!","v":{"$error":"#REF!"}},{"$f":"'Pob x Genero'!#REF!","v":{"$error":"#REF!"}},{"$f":"'Pob x Genero'!#REF!","v":{"$error":"#REF!"}},{"$f":"'Pob x Genero'!#REF!","v":{"$error":"#REF!"}},{"$f":"'Pob x Genero'!#REF!","v":{"$error":"#REF!"}},"Hombre","00-04",{"$f":"'Pob x Genero'!#REF!","v":{"$error":"#REF!"}},1221]
[{"$f":"'Pob x Genero'!#REF!","v":{"$error":"#REF!"}},{"$f":"'Pob x Genero'!#REF!","v":{"$error":"#REF!"}},{"$f":"'Pob x Genero'!#REF!","v":{"$error":"#REF!"}},{"$f":"'Pob x Genero'!#REF!","v":{"$error":"#REF!"}},{"$f":"'Pob x Genero'!#REF!","v":{"$error":"#REF!"}},"Hombre","00-04",{"$f":"'Pob x Genero'!#REF!","v":{"$error":"#REF!"}},1222]
[{"$f":"'Pob x Genero'!#REF!","v":{"$error":"#REF!"}},{"$f":"'Pob x Genero'!#REF!","v":{"$error":"#REF!"}},{"$f":"'Pob x Genero'!#REF!","v":{"$error":"#REF!"}},{"$f":"'Pob x Genero'!#REF!","v":{"$error":"#REF!"}},{"$f":"'Pob x Genero'!#REF!","v":{"$error":"#REF!"}},"Hombre","00-04",{"$f":"'Pob x Genero'!#REF!","v":{"$error":"#REF!"}},1223]
[{"$f":"'Pob x Genero'!#REF!","v":{"$error":"#REF!"}},{"$f":"'Pob x Genero'!#REF!","v":{"$error":"#REF!"}},{"$f":"'Pob x Genero'!#REF!","v":{"$error":"#REF!"}},{"$f":"'Pob x Genero'!#REF!","v":{"$error":"#REF!"}},{"$f":"'Pob x Genero'!#REF!","v":{"$error":"#REF!"}},"Hombre","00-04",{"$f":"'Pob x Genero'!#REF!","v":{"$error":"#REF!"}},1224]
[{"$f":"'Pob x Genero'!#REF!","v":{"$error":"#REF!"}},{"$f":"'Pob x Genero'!#REF!","v":{"$error":"#REF!"}},{"$f":"'Pob x Genero'!#REF!","v":{"$error":"#REF!"}},{"$f":"'Pob x Genero'!#REF!","v":{"$error":"#REF!"}},{"$f":"'Pob x Genero'!#REF!","v":{"$error":"#REF!"}},"Hombre","00-04",{"$f":"'Pob x Genero'!#REF!","v":{"$error":"#REF!"}},1225]
[{"$f":"'Pob x Genero'!#REF!","v":{"$error":"#REF!"}},{"$f":"'Pob x Genero'!#REF!","v":{"$error":"#REF!"}},{"$f":"'Pob x Genero'!#REF!","v":{"$error":"#REF!"}},{"$f":"'Pob x Genero'!#REF!","v":{"$error":"#REF!"}},{"$f":"'Pob x Genero'!#REF!","v":{"$error":"#REF!"}},"Hombre","00-04",{"$f":"'Pob x Genero'!#REF!","v":{"$error":"#REF!"}},1226]
[{"$f":"'Pob x Genero'!#REF!","v":{"$error":"#REF!"}},{"$f":"'Pob x Genero'!#REF!","v":{"$error":"#REF!"}},{"$f":"'Pob x Genero'!#REF!","v":{"$error":"#REF!"}},{"$f":"'Pob x Genero'!#REF!","v":{"$error":"#REF!"}},{"$f":"'Pob x Genero'!#REF!","v":{"$error":"#REF!"}},"Hombre","00-04",{"$f":"'Pob x Genero'!#REF!","v":{"$error":"#REF!"}},1227]
[{"$f":"'Pob x Genero'!#REF!","v":{"$error":"#REF!"}},{"$f":"'Pob x Genero'!#REF!","v":{"$error":"#REF!"}},{"$f":"'Pob x Genero'!#REF!","v":{"$error":"#REF!"}},{"$f":"'Pob x Genero'!#REF!","v":{"$error":"#REF!"}},{"$f":"'Pob x Genero'!#REF!","v":{"$error":"#REF!"}},"Hombre","00-04",{"$f":"'Pob x Genero'!#REF!","v":{"$error":"#REF!"}},1228]
[{"$f":"'Pob x Genero'!#REF!","v":{"$error":"#REF!"}},{"$f":"'Pob x Genero'!#REF!","v":{"$error":"#REF!"}},{"$f":"'Pob x Genero'!#REF!","v":{"$error":"#REF!"}},{"$f":"'Pob x Genero'!#REF!","v":{"$error":"#REF!"}},{"$f":"'Pob x Genero'!#REF!","v":{"$error":"#REF!"}},"Hombre","00-04",{"$f":"'Pob x Genero'!#REF!","v":{"$error":"#REF!"}},1229]
[{"$f":"'Pob x Genero'!#REF!","v":{"$error":"#REF!"}},{"$f":"'Pob x Genero'!#REF!","v":{"$error":"#REF!"}},{"$f":"'Pob x Genero'!#REF!","v":{"$error":"#REF!"}},{"$f":"'Pob x Genero'!#REF!","v":{"$error":"#REF!"}},{"$f":"'Pob x Genero'!#REF!","v":{"$error":"#REF!"}},"Hombre","00-04",{"$f":"'Pob x Genero'!#REF!","v":{"$error":"#REF!"}},1230]
[{"$f":"'Pob x Genero'!#REF!","v":{"$error":"#REF!"}},{"$f":"'Pob x Genero'!#REF!","v":{"$error":"#REF!"}},{"$f":"'Pob x Genero'!#REF!","v":{"$error":"#REF!"}},{"$f":"'Pob x Genero'!#REF!","v":{"$error":"#REF!"}},{"$f":"'Pob x Genero'!#REF!","v":{"$error":"#REF!"}},"Hombre","00-04",{"$f":"'Pob x Genero'!#REF!","v":{"$error":"#REF!"}},1231]
[{"$f":"'Pob x Genero'!#REF!","v":{"$error":"#REF!"}},{"$f":"'Pob x Genero'!#REF!","v":{"$error":"#REF!"}},{"$f":"'Pob x Genero'!#REF!","v":{"$error":"#REF!"}},{"$f":"'Pob x Genero'!#REF!","v":{"$error":"#REF!"}},{"$f":"'Pob x Genero'!#REF!","v":{"$error":"#REF!"}},"Hombre","00-04",{"$f":"'Pob x Genero'!#REF!","v":{"$error":"#REF!"}},1232]
[{"$f":"'Pob x Genero'!#REF!","v":{"$error":"#REF!"}},{"$f":"'Pob x Genero'!#REF!","v":{"$error":"#REF!"}},{"$f":"'Pob x Genero'!#REF!","v":{"$error":"#REF!"}},{"$f":"'Pob x Genero'!#REF!","v":{"$error":"#REF!"}},{"$f":"'Pob x Genero'!#REF!","v":{"$error":"#REF!"}},"Hombre","00-04",{"$f":"'Pob x Genero'!#REF!","v":{"$error":"#REF!"}},1233]
[{"$f":"'Pob x Genero'!#REF!","v":{"$error":"#REF!"}},{"$f":"'Pob x Genero'!#REF!","v":{"$error":"#REF!"}},{"$f":"'Pob x Genero'!#REF!","v":{"$error":"#REF!"}},{"$f":"'Pob x Genero'!#REF!","v":{"$error":"#REF!"}},{"$f":"'Pob x Genero'!#REF!","v":{"$error":"#REF!"}},"Hombre","00-04",{"$f":"'Pob x Genero'!#REF!","v":{"$error":"#REF!"}},1234]
[{"$f":"'Pob x Genero'!#REF!","v":{"$error":"#REF!"}},{"$f":"'Pob x Genero'!#REF!","v":{"$error":"#REF!"}},{"$f":"'Pob x Genero'!#REF!","v":{"$error":"#REF!"}},{"$f":"'Pob x Genero'!#REF!","v":{"$error":"#REF!"}},{"$f":"'Pob x Genero'!#REF!","v":{"$error":"#REF!"}},"Hombre","00-04",{"$f":"'Pob x Genero'!#REF!","v":{"$error":"#REF!"}},1235]
[{"$f":"'Pob x Genero'!#REF!","v":{"$error":"#REF!"}},{"$f":"'Pob x Genero'!#REF!","v":{"$error":"#REF!"}},{"$f":"'Pob x Genero'!#REF!","v":{"$error":"#REF!"}},{"$f":"'Pob x Genero'!#REF!","v":{"$error":"#REF!"}},{"$f":"'Pob x Genero'!#REF!","v":{"$error":"#REF!"}},"Hombre","00-04",{"$f":"'Pob x Genero'!#REF!","v":{"$error":"#REF!"}},1236]
[{"$f":"'Pob x Genero'!#REF!","v":{"$error":"#REF!"}},{"$f":"'Pob x Genero'!#REF!","v":{"$error":"#REF!"}},{"$f":"'Pob x Genero'!#REF!","v":{"$error":"#REF!"}},{"$f":"'Pob x Genero'!#REF!","v":{"$error":"#REF!"}},{"$f":"'Pob x Genero'!#REF!","v":{"$error":"#REF!"}},"Hombre","00-04",{"$f":"'Pob x Genero'!#REF!","v":{"$error":"#REF!"}},1237]
[{"$f":"'Pob x Genero'!#REF!","v":{"$error":"#REF!"}},{"$f":"'Pob x Genero'!#REF!","v":{"$error":"#REF!"}},{"$f":"'Pob x Genero'!#REF!","v":{"$error":"#REF!"}},{"$f":"'Pob x Genero'!#REF!","v":{"$error":"#REF!"}},{"$f":"'Pob x Genero'!#REF!","v":{"$error":"#REF!"}},"Hombre","00-04",{"$f":"'Pob x Genero'!#REF!","v":{"$error":"#REF!"}},1238]
[{"$f":"'Pob x Genero'!#REF!","v":{"$error":"#REF!"}},{"$f":"'Pob x Genero'!#REF!","v":{"$error":"#REF!"}},{"$f":"'Pob x Genero'!#REF!","v":{"$error":"#REF!"}},{"$f":"'Pob x Genero'!#REF!","v":{"$error":"#REF!"}},{"$f":"'Pob x Genero'!#REF!","v":{"$error":"#REF!"}},"Hombre","00-04",{"$f":"'Pob x Genero'!#REF!","v":{"$error":"#REF!"}},1239]
[{"$f":"'Pob x Genero'!#REF!","v":{"$error":"#REF!"}},{"$f":"'Pob x Genero'!#REF!","v":{"$error":"#REF!"}},{"$f":"'Pob x Genero'!#REF!","v":{"$error":"#REF!"}},{"$f":"'Pob x Genero'!#REF!","v":{"$error":"#REF!"}},{"$f":"'Pob x Genero'!#REF!","v":{"$error":"#REF!"}},"Hombre","00-04",{"$f":"'Pob x Genero'!#REF!","v":{"$error":"#REF!"}},1240]
[{"$f":"'Pob x Genero'!#REF!","v":{"$error":"#REF!"}},{"$f":"'Pob x Genero'!#REF!","v":{"$error":"#REF!"}},{"$f":"'Pob x Genero'!#REF!","v":{"$error":"#REF!"}},{"$f":"'Pob x Genero'!#REF!","v":{"$error":"#REF!"}},{"$f":"'Pob x Genero'!#REF!","v":{"$error":"#REF!"}},"Hombre","00-04",{"$f":"'Pob x Genero'!#REF!","v":{"$error":"#REF!"}},1241]
[{"$f":"'Pob x Genero'!#REF!","v":{"$error":"#REF!"}},{"$f":"'Pob x Genero'!#REF!","v":{"$error":"#REF!"}},{"$f":"'Pob x Genero'!#REF!","v":{"$error":"#REF!"}},{"$f":"'Pob x Genero'!#REF!","v":{"$error":"#REF!"}},{"$f":"'Pob x Genero'!#REF!","v":{"$error":"#REF!"}},"Hombre","00-04",{"$f":"'Pob x Genero'!#REF!","v":{"$error":"#REF!"}},1242]
[{"$f":"'Pob x Genero'!#REF!","v":{"$error":"#REF!"}},{"$f":"'Pob x Genero'!#REF!","v":{"$error":"#REF!"}},{"$f":"'Pob x Genero'!#REF!","v":{"$error":"#REF!"}},{"$f":"'Pob x Genero'!#REF!","v":{"$error":"#REF!"}},{"$f":"'Pob x Genero'!#REF!","v":{"$error":"#REF!"}},"Hombre","00-04",{"$f":"'Pob x Genero'!#REF!","v":{"$error":"#REF!"}},1243]
[{"$f":"'Pob x Genero'!#REF!","v":{"$error":"#REF!"}},{"$f":"'Pob x Genero'!#REF!","v":{"$error":"#REF!"}},{"$f":"'Pob x Genero'!#REF!","v":{"$error":"#REF!"}},{"$f":"'Pob x Genero'!#REF!","v":{"$error":"#REF!"}},{"$f":"'Pob x Genero'!#REF!","v":{"$error":"#REF!"}},"Hombre","00-04",{"$f":"'Pob x Genero'!#REF!","v":{"$error":"#REF!"}},1244]
[{"$f":"'Pob x Genero'!#REF!","v":{"$error":"#REF!"}},{"$f":"'Pob x Genero'!#REF!","v":{"$error":"#REF!"}},{"$f":"'Pob x Genero'!#REF!","v":{"$error":"#REF!"}},{"$f":"'Pob x Genero'!#REF!","v":{"$error":"#REF!"}},{"$f":"'Pob x Genero'!#REF!","v":{"$error":"#REF!"}},"Hombre","00-04",{"$f":"'Pob x Genero'!#REF!","v":{"$error":"#REF!"}},1245]
[{"$f":"'Pob x Genero'!#REF!","v":{"$error":"#REF!"}},{"$f":"'Pob x Genero'!#REF!","v":{"$error":"#REF!"}},{"$f":"'Pob x Genero'!#REF!","v":{"$error":"#REF!"}},{"$f":"'Pob x Genero'!#REF!","v":{"$error":"#REF!"}},{"$f":"'Pob x Genero'!#REF!","v":{"$error":"#REF!"}},"Hombre","00-04",{"$f":"'Pob x Genero'!#REF!","v":{"$error":"#REF!"}},1246]
[{"$f":"'Pob x Genero'!#REF!","v":{"$error":"#REF!"}},{"$f":"'Pob x Genero'!#REF!","v":{"$error":"#REF!"}},{"$f":"'Pob x Genero'!#REF!","v":{"$error":"#REF!"}},{"$f":"'Pob x Genero'!#REF!","v":{"$error":"#REF!"}},{"$f":"'Pob x Genero'!#REF!","v":{"$error":"#REF!"}},"Hombre","00-04",{"$f":"'Pob x Genero'!#REF!","v":{"$error":"#REF!"}},1247]
[{"$f":"'Pob x Genero'!#REF!","v":{"$error":"#REF!"}},{"$f":"'Pob x Genero'!#REF!","v":{"$error":"#REF!"}},{"$f":"'Pob x Genero'!#REF!","v":{"$error":"#REF!"}},{"$f":"'Pob x Genero'!#REF!","v":{"$error":"#REF!"}},{"$f":"'Pob x Genero'!#REF!","v":{"$error":"#REF!"}},"Hombre","00-04",{"$f":"'Pob x Genero'!#REF!","v":{"$error":"#REF!"}},1248]
[{"$f":"'Pob x Genero'!#REF!","v":{"$error":"#REF!"}},{"$f":"'Pob x Genero'!#REF!","v":{"$error":"#REF!"}},{"$f":"'Pob x Genero'!#REF!","v":{"$error":"#REF!"}},{"$f":"'Pob x Genero'!#REF!","v":{"$error":"#REF!"}},{"$f":"'Pob x Genero'!#REF!","v":{"$error":"#REF!"}},"Hombre","00-04",{"$f":"'Pob x Genero'!#REF!","v":{"$error":"#REF!"}},1249]
[{"$f":"'Pob x Genero'!#REF!","v":{"$error":"#REF!"}},{"$f":"'Pob x Genero'!#REF!","v":{"$error":"#REF!"}},{"$f":"'Pob x Genero'!#REF!","v":{"$error":"#REF!"}},{"$f":"'Pob x Genero'!#REF!","v":{"$error":"#REF!"}},{"$f":"'Pob x Genero'!#REF!","v":{"$error":"#REF!"}},"Hombre","00-04",{"$f":"'Pob x Genero'!#REF!","v":{"$error":"#REF!"}},1250]
[{"$f":"'Pob x Genero'!#REF!","v":{"$error":"#REF!"}},{"$f":"'Pob x Genero'!#REF!","v":{"$error":"#REF!"}},{"$f":"'Pob x Genero'!#REF!","v":{"$error":"#REF!"}},{"$f":"'Pob x Genero'!#REF!","v":{"$error":"#REF!"}},{"$f":"'Pob x Genero'!#REF!","v":{"$error":"#REF!"}},"Hombre","00-04",{"$f":"'Pob x Genero'!#REF!","v":{"$error":"#REF!"}},1251]
[{"$f":"'Pob x Genero'!#REF!","v":{"$error":"#REF!"}},{"$f":"'Pob x Genero'!#REF!","v":{"$error":"#REF!"}},{"$f":"'Pob x Genero'!#REF!","v":{"$error":"#REF!"}},{"$f":"'Pob x Genero'!#REF!","v":{"$error":"#REF!"}},{"$f":"'Pob x Genero'!#REF!","v":{"$error":"#REF!"}},"Hombre","00-04",{"$f":"'Pob x Genero'!#REF!","v":{"$error":"#REF!"}},1252]
[{"$f":"'Pob x Genero'!#REF!","v":{"$error":"#REF!"}},{"$f":"'Pob x Genero'!#REF!","v":{"$error":"#REF!"}},{"$f":"'Pob x Genero'!#REF!","v":{"$error":"#REF!"}},{"$f":"'Pob x Genero'!#REF!","v":{"$error":"#REF!"}},{"$f":"'Pob x Genero'!#REF!","v":{"$error":"#REF!"}},"Hombre","00-04",{"$f":"'Pob x Genero'!#REF!","v":{"$error":"#REF!"}},1253]
[{"$f":"'Pob x Genero'!#REF!","v":{"$error":"#REF!"}},{"$f":"'Pob x Genero'!#REF!","v":{"$error":"#REF!"}},{"$f":"'Pob x Genero'!#REF!","v":{"$error":"#REF!"}},{"$f":"'Pob x Genero'!#REF!","v":{"$error":"#REF!"}},{"$f":"'Pob x Genero'!#REF!","v":{"$error":"#REF!"}},"Hombre","00-04",{"$f":"'Pob x Genero'!#REF!","v":{"$error":"#REF!"}},1254]
[{"$f":"'Pob x Genero'!#REF!","v":{"$error":"#REF!"}},{"$f":"'Pob x Genero'!#REF!","v":{"$error":"#REF!"}},{"$f":"'Pob x Genero'!#REF!","v":{"$error":"#REF!"}},{"$f":"'Pob x Genero'!#REF!","v":{"$error":"#REF!"}},{"$f":"'Pob x Genero'!#REF!","v":{"$error":"#REF!"}},"Hombre","00-04",{"$f":"'Pob x Genero'!#REF!","v":{"$error":"#REF!"}},1255]
[{"$f":"'Pob x Genero'!#REF!","v":{"$error":"#REF!"}},{"$f":"'Pob x Genero'!#REF!","v":{"$error":"#REF!"}},{"$f":"'Pob x Genero'!#REF!","v":{"$error":"#REF!"}},{"$f":"'Pob x Genero'!#REF!","v":{"$error":"#REF!"}},{"$f":"'Pob x Genero'!#REF!","v":{"$error":"#REF!"}},"Hombre","00-04",{"$f":"'Pob x Genero'!#REF!","v":{"$error":"#REF!"}},1256]
[{"$f":"'Pob x Genero'!#REF!","v":{"$error":"#REF!"}},{"$f":"'Pob x Genero'!#REF!","v":{"$error":"#REF!"}},{"$f":"'Pob x Genero'!#REF!","v":{"$error":"#REF!"}},{"$f":"'Pob x Genero'!#REF!","v":{"$error":"#REF!"}},{"$f":"'Pob x Genero'!#REF!","v":{"$error":"#REF!"}},"Hombre","00-04",{"$f":"'Pob x Genero'!#REF!","v":{"$error":"#REF!"}},1257]
[{"$f":"'Pob x Genero'!#REF!","v":{"$error":"#REF!"}},{"$f":"'Pob x Genero'!#REF!","v":{"$error":"#REF!"}},{"$f":"'Pob x Genero'!#REF!","v":{"$error":"#REF!"}},{"$f":"'Pob x Genero'!#REF!","v":{"$error":"#REF!"}},{"$f":"'Pob x Genero'!#REF!","v":{"$error":"#REF!"}},"Hombre","00-04",{"$f":"'Pob x Genero'!#REF!","v":{"$error":"#REF!"}},1258]
[{"$f":"'Pob x Genero'!#REF!","v":{"$error":"#REF!"}},{"$f":"'Pob x Genero'!#REF!","v":{"$error":"#REF!"}},{"$f":"'Pob x Genero'!#REF!","v":{"$error":"#REF!"}},{"$f":"'Pob x Genero'!#REF!","v":{"$error":"#REF!"}},{"$f":"'Pob x Genero'!#REF!","v":{"$error":"#REF!"}},"Hombre","00-04",{"$f":"'Pob x Genero'!#REF!","v":{"$error":"#REF!"}},1259]
[{"$f":"'Pob x Genero'!#REF!","v":{"$error":"#REF!"}},{"$f":"'Pob x Genero'!#REF!","v":{"$error":"#REF!"}},{"$f":"'Pob x Genero'!#REF!","v":{"$error":"#REF!"}},{"$f":"'Pob x Genero'!#REF!","v":{"$error":"#REF!"}},{"$f":"'Pob x Genero'!#REF!","v":{"$error":"#REF!"}},"Hombre","00-04",{"$f":"'Pob x Genero'!#REF!","v":{"$error":"#REF!"}},1260]
[{"$f":"'Pob x Genero'!#REF!","v":{"$error":"#REF!"}},{"$f":"'Pob x Genero'!#REF!","v":{"$error":"#REF!"}},{"$f":"'Pob x Genero'!#REF!","v":{"$error":"#REF!"}},{"$f":"'Pob x Genero'!#REF!","v":{"$error":"#REF!"}},{"$f":"'Pob x Genero'!#REF!","v":{"$error":"#REF!"}},"Hombre","00-04",{"$f":"'Pob x Genero'!#REF!","v":{"$error":"#REF!"}},1261]
[{"$f":"'Pob x Genero'!#REF!","v":{"$error":"#REF!"}},{"$f":"'Pob x Genero'!#REF!","v":{"$error":"#REF!"}},{"$f":"'Pob x Genero'!#REF!","v":{"$error":"#REF!"}},{"$f":"'Pob x Genero'!#REF!","v":{"$error":"#REF!"}},{"$f":"'Pob x Genero'!#REF!","v":{"$error":"#REF!"}},"Hombre","00-04",{"$f":"'Pob x Genero'!#REF!","v":{"$error":"#REF!"}},1262]
[{"$f":"'Pob x Genero'!#REF!","v":{"$error":"#REF!"}},{"$f":"'Pob x Genero'!#REF!","v":{"$error":"#REF!"}},{"$f":"'Pob x Genero'!#REF!","v":{"$error":"#REF!"}},{"$f":"'Pob x Genero'!#REF!","v":{"$error":"#REF!"}},{"$f":"'Pob x Genero'!#REF!","v":{"$error":"#REF!"}},"Hombre","00-04",{"$f":"'Pob x Genero'!#REF!","v":{"$error":"#REF!"}},1263]
[{"$f":"'Pob x Genero'!#REF!","v":{"$error":"#REF!"}},{"$f":"'Pob x Genero'!#REF!","v":{"$error":"#REF!"}},{"$f":"'Pob x Genero'!#REF!","v":{"$error":"#REF!"}},{"$f":"'Pob x Genero'!#REF!","v":{"$error":"#REF!"}},{"$f":"'Pob x Genero'!#REF!","v":{"$error":"#REF!"}},"Hombre","00-04",{"$f":"'Pob x Genero'!#REF!","v":{"$error":"#REF!"}},1264]
[{"$f":"'Pob x Genero'!#REF!","v":{"$error":"#REF!"}},{"$f":"'Pob x Genero'!#REF!","v":{"$error":"#REF!"}},{"$f":"'Pob x Genero'!#REF!","v":{"$error":"#REF!"}},{"$f":"'Pob x Genero'!#REF!","v":{"$error":"#REF!"}},{"$f":"'Pob x Genero'!#REF!","v":{"$error":"#REF!"}},"Hombre","00-04",{"$f":"'Pob x Genero'!#REF!","v":{"$error":"#REF!"}},1265]
[{"$f":"'Pob x Genero'!#REF!","v":{"$error":"#REF!"}},{"$f":"'Pob x Genero'!#REF!","v":{"$error":"#REF!"}},{"$f":"'Pob x Genero'!#REF!","v":{"$error":"#REF!"}},{"$f":"'Pob x Genero'!#REF!","v":{"$error":"#REF!"}},{"$f":"'Pob x Genero'!#REF!","v":{"$error":"#REF!"}},"Hombre","00-04",{"$f":"'Pob x Genero'!#REF!","v":{"$error":"#REF!"}},1266]
[{"$f":"'Pob x Genero'!#REF!","v":{"$error":"#REF!"}},{"$f":"'Pob x Genero'!#REF!","v":{"$error":"#REF!"}},{"$f":"'Pob x Genero'!#REF!","v":{"$error":"#REF!"}},{"$f":"'Pob x Genero'!#REF!","v":{"$error":"#REF!"}},{"$f":"'Pob x Genero'!#REF!","v":{"$error":"#REF!"}},"Hombre","00-04",{"$f":"'Pob x Genero'!#REF!","v":{"$error":"#REF!"}},1267]
[{"$f":"'Pob x Genero'!#REF!","v":{"$error":"#REF!"}},{"$f":"'Pob x Genero'!#REF!","v":{"$error":"#REF!"}},{"$f":"'Pob x Genero'!#REF!","v":{"$error":"#REF!"}},{"$f":"'Pob x Genero'!#REF!","v":{"$error":"#REF!"}},{"$f":"'Pob x Genero'!#REF!","v":{"$error":"#REF!"}},"Hombre","00-04",{"$f":"'Pob x Genero'!#REF!","v":{"$error":"#REF!"}},1268]
[{"$f":"'Pob x Genero'!#REF!","v":{"$error":"#REF!"}},{"$f":"'Pob x Genero'!#REF!","v":{"$error":"#REF!"}},{"$f":"'Pob x Genero'!#REF!","v":{"$error":"#REF!"}},{"$f":"'Pob x Genero'!#REF!","v":{"$error":"#REF!"}},{"$f":"'Pob x Genero'!#REF!","v":{"$error":"#REF!"}},"Hombre","00-04",{"$f":"'Pob x Genero'!#REF!","v":{"$error":"#REF!"}},1269]
[{"$f":"'Pob x Genero'!#REF!","v":{"$error":"#REF!"}},{"$f":"'Pob x Genero'!#REF!","v":{"$error":"#REF!"}},{"$f":"'Pob x Genero'!#REF!","v":{"$error":"#REF!"}},{"$f":"'Pob x Genero'!#REF!","v":{"$error":"#REF!"}},{"$f":"'Pob x Genero'!#REF!","v":{"$error":"#REF!"}},"Hombre","00-04",{"$f":"'Pob x Genero'!#REF!","v":{"$error":"#REF!"}},1270]
[{"$f":"'Pob x Genero'!#REF!","v":{"$error":"#REF!"}},{"$f":"'Pob x Genero'!#REF!","v":{"$error":"#REF!"}},{"$f":"'Pob x Genero'!#REF!","v":{"$error":"#REF!"}},{"$f":"'Pob x Genero'!#REF!","v":{"$error":"#REF!"}},{"$f":"'Pob x Genero'!#REF!","v":{"$error":"#REF!"}},"Hombre","00-04",{"$f":"'Pob x Genero'!#REF!","v":{"$error":"#REF!"}},1271]
[{"$f":"'Pob x Genero'!#REF!","v":{"$error":"#REF!"}},{"$f":"'Pob x Genero'!#REF!","v":{"$error":"#REF!"}},{"$f":"'Pob x Genero'!#REF!","v":{"$error":"#REF!"}},{"$f":"'Pob x Genero'!#REF!","v":{"$error":"#REF!"}},{"$f":"'Pob x Genero'!#REF!","v":{"$error":"#REF!"}},"Hombre","00-04",{"$f":"'Pob x Genero'!#REF!","v":{"$error":"#REF!"}},1272]
[{"$f":"'Pob x Genero'!#REF!","v":{"$error":"#REF!"}},{"$f":"'Pob x Genero'!#REF!","v":{"$error":"#REF!"}},{"$f":"'Pob x Genero'!#REF!","v":{"$error":"#REF!"}},{"$f":"'Pob x Genero'!#REF!","v":{"$error":"#REF!"}},{"$f":"'Pob x Genero'!#REF!","v":{"$error":"#REF!"}},"Hombre","00-04",{"$f":"'Pob x Genero'!#REF!","v":{"$error":"#REF!"}},1273]
[{"$f":"'Pob x Genero'!#REF!","v":{"$error":"#REF!"}},{"$f":"'Pob x Genero'!#REF!","v":{"$error":"#REF!"}},{"$f":"'Pob x Genero'!#REF!","v":{"$error":"#REF!"}},{"$f":"'Pob x Genero'!#REF!","v":{"$error":"#REF!"}},{"$f":"'Pob x Genero'!#REF!","v":{"$error":"#REF!"}},"Hombre","00-04",{"$f":"'Pob x Genero'!#REF!","v":{"$error":"#REF!"}},1274]
[{"$f":"'Pob x Genero'!#REF!","v":{"$error":"#REF!"}},{"$f":"'Pob x Genero'!#REF!","v":{"$error":"#REF!"}},{"$f":"'Pob x Genero'!#REF!","v":{"$error":"#REF!"}},{"$f":"'Pob x Genero'!#REF!","v":{"$error":"#REF!"}},{"$f":"'Pob x Genero'!#REF!","v":{"$error":"#REF!"}},"Hombre","00-04",{"$f":"'Pob x Genero'!#REF!","v":{"$error":"#REF!"}},1275]
[{"$f":"'Pob x Genero'!#REF!","v":{"$error":"#REF!"}},{"$f":"'Pob x Genero'!#REF!","v":{"$error":"#REF!"}},{"$f":"'Pob x Genero'!#REF!","v":{"$error":"#REF!"}},{"$f":"'Pob x Genero'!#REF!","v":{"$error":"#REF!"}},{"$f":"'Pob x Genero'!#REF!","v":{"$error":"#REF!"}},"Hombre","00-04",{"$f":"'Pob x Genero'!#REF!","v":{"$error":"#REF!"}},1276]
[{"$f":"'Pob x Genero'!#REF!","v":{"$error":"#REF!"}},{"$f":"'Pob x Genero'!#REF!","v":{"$error":"#REF!"}},{"$f":"'Pob x Genero'!#REF!","v":{"$error":"#REF!"}},{"$f":"'Pob x Genero'!#REF!","v":{"$error":"#REF!"}},{"$f":"'Pob x Genero'!#REF!","v":{"$error":"#REF!"}},"Hombre","00-04",{"$f":"'Pob x Genero'!#REF!","v":{"$error":"#REF!"}},1277]
[{"$f":"'Pob x Genero'!#REF!","v":{"$error":"#REF!"}},{"$f":"'Pob x Genero'!#REF!","v":{"$error":"#REF!"}},{"$f":"'Pob x Genero'!#REF!","v":{"$error":"#REF!"}},{"$f":"'Pob x Genero'!#REF!","v":{"$error":"#REF!"}},{"$f":"'Pob x Genero'!#REF!","v":{"$error":"#REF!"}},"Hombre","00-04",{"$f":"'Pob x Genero'!#REF!","v":{"$error":"#REF!"}},1278]
[{"$f":"'Pob x Genero'!#REF!","v":{"$error":"#REF!"}},{"$f":"'Pob x Genero'!#REF!","v":{"$error":"#REF!"}},{"$f":"'Pob x Genero'!#REF!","v":{"$error":"#REF!"}},{"$f":"'Pob x Genero'!#REF!","v":{"$error":"#REF!"}},{"$f":"'Pob x Genero'!#REF!","v":{"$error":"#REF!"}},"Hombre","00-04",{"$f":"'Pob x Genero'!#REF!","v":{"$error":"#REF!"}},1279]
[{"$f":"'Pob x Genero'!#REF!","v":{"$error":"#REF!"}},{"$f":"'Pob x Genero'!#REF!","v":{"$error":"#REF!"}},{"$f":"'Pob x Genero'!#REF!","v":{"$error":"#REF!"}},{"$f":"'Pob x Genero'!#REF!","v":{"$error":"#REF!"}},{"$f":"'Pob x Genero'!#REF!","v":{"$error":"#REF!"}},"Hombre","00-04",{"$f":"'Pob x Genero'!#REF!","v":{"$error":"#REF!"}},1280]
[{"$f":"'Pob x Genero'!#REF!","v":{"$error":"#REF!"}},{"$f":"'Pob x Genero'!#REF!","v":{"$error":"#REF!"}},{"$f":"'Pob x Genero'!#REF!","v":{"$error":"#REF!"}},{"$f":"'Pob x Genero'!#REF!","v":{"$error":"#REF!"}},{"$f":"'Pob x Genero'!#REF!","v":{"$error":"#REF!"}},"Hombre","00-04",{"$f":"'Pob x Genero'!#REF!","v":{"$error":"#REF!"}},1281]
[{"$f":"'Pob x Genero'!#REF!","v":{"$error":"#REF!"}},{"$f":"'Pob x Genero'!#REF!","v":{"$error":"#REF!"}},{"$f":"'Pob x Genero'!#REF!","v":{"$error":"#REF!"}},{"$f":"'Pob x Genero'!#REF!","v":{"$error":"#REF!"}},{"$f":"'Pob x Genero'!#REF!","v":{"$error":"#REF!"}},{"$f":"F1282","v":"Hombre"},{"$f":"G1282","v":"00-04"},{"$f":"'Pob x Genero'!#REF!","v":{"$error":"#REF!"}},1282]
[{"$f":"'Pob x Genero'!#REF!","v":{"$error":"#REF!"}},{"$f":"'Pob x Genero'!#REF!","v":{"$error":"#REF!"}},{"$f":"'Pob x Genero'!#REF!","v":{"$error":"#REF!"}},{"$f":"'Pob x Genero'!#REF!","v":{"$error":"#REF!"}},{"$f":"'Pob x Genero'!#REF!","v":{"$error":"#REF!"}},"Hombre","00-04",{"$f":"'Pob x Genero'!#REF!","v":{"$error":"#REF!"}},1283]
[{"$f":"'Pob x Genero'!#REF!","v":{"$error":"#REF!"}},{"$f":"'Pob x Genero'!#REF!","v":{"$error":"#REF!"}},{"$f":"'Pob x Genero'!#REF!","v":{"$error":"#REF!"}},{"$f":"'Pob x Genero'!#REF!","v":{"$error":"#REF!"}},{"$f":"'Pob x Genero'!#REF!","v":{"$error":"#REF!"}},"Hombre","00-04",{"$f":"'Pob x Genero'!#REF!","v":{"$error":"#REF!"}},1284]
[{"$f":"'Pob x Genero'!#REF!","v":{"$error":"#REF!"}},{"$f":"'Pob x Genero'!#REF!","v":{"$error":"#REF!"}},{"$f":"'Pob x Genero'!#REF!","v":{"$error":"#REF!"}},{"$f":"'Pob x Genero'!#REF!","v":{"$error":"#REF!"}},{"$f":"'Pob x Genero'!#REF!","v":{"$error":"#REF!"}},"Hombre","00-04",{"$f":"'Pob x Genero'!#REF!","v":{"$error":"#REF!"}},1285]
[{"$f":"'Pob x Genero'!#REF!","v":{"$error":"#REF!"}},{"$f":"'Pob x Genero'!#REF!","v":{"$error":"#REF!"}},{"$f":"'Pob x Genero'!#REF!","v":{"$error":"#REF!"}},{"$f":"'Pob x Genero'!#REF!","v":{"$error":"#REF!"}},{"$f":"'Pob x Genero'!#REF!","v":{"$error":"#REF!"}},"Hombre","00-04",{"$f":"'Pob x Genero'!#REF!","v":{"$error":"#REF!"}},1286]
[{"$f":"'Pob x Genero'!#REF!","v":{"$error":"#REF!"}},{"$f":"'Pob x Genero'!#REF!","v":{"$error":"#REF!"}},{"$f":"'Pob x Genero'!#REF!","v":{"$error":"#REF!"}},{"$f":"'Pob x Genero'!#REF!","v":{"$error":"#REF!"}},{"$f":"'Pob x Genero'!#REF!","v":{"$error":"#REF!"}},"Hombre","00-04",{"$f":"'Pob x Genero'!#REF!","v":{"$error":"#REF!"}},1287]
[{"$f":"'Pob x Genero'!#REF!","v":{"$error":"#REF!"}},{"$f":"'Pob x Genero'!#REF!","v":{"$error":"#REF!"}},{"$f":"'Pob x Genero'!#REF!","v":{"$error":"#REF!"}},{"$f":"'Pob x Genero'!#REF!","v":{"$error":"#REF!"}},{"$f":"'Pob x Genero'!#REF!","v":{"$error":"#REF!"}},"Hombre","00-04",{"$f":"'Pob x Genero'!#REF!","v":{"$error":"#REF!"}},1288]
[{"$f":"'Pob x Genero'!#REF!","v":{"$error":"#REF!"}},{"$f":"'Pob x Genero'!#REF!","v":{"$error":"#REF!"}},{"$f":"'Pob x Genero'!#REF!","v":{"$error":"#REF!"}},{"$f":"'Pob x Genero'!#REF!","v":{"$error":"#REF!"}},{"$f":"'Pob x Genero'!#REF!","v":{"$error":"#REF!"}},"Hombre","00-04",{"$f":"'Pob x Genero'!#REF!","v":{"$error":"#REF!"}},1289]
[{"$f":"'Pob x Genero'!#REF!","v":{"$error":"#REF!"}},{"$f":"'Pob x Genero'!#REF!","v":{"$error":"#REF!"}},{"$f":"'Pob x Genero'!#REF!","v":{"$error":"#REF!"}},{"$f":"'Pob x Genero'!#REF!","v":{"$error":"#REF!"}},{"$f":"'Pob x Genero'!#REF!","v":{"$error":"#REF!"}},"Hombre","00-04",{"$f":"'Pob x Genero'!#REF!","v":{"$error":"#REF!"}},1290]
[{"$f":"'Pob x Genero'!#REF!","v":{"$error":"#REF!"}},{"$f":"'Pob x Genero'!#REF!","v":{"$error":"#REF!"}},{"$f":"'Pob x Genero'!#REF!","v":{"$error":"#REF!"}},{"$f":"'Pob x Genero'!#REF!","v":{"$error":"#REF!"}},{"$f":"'Pob x Genero'!#REF!","v":{"$error":"#REF!"}},"Hombre","00-04",{"$f":"'Pob x Genero'!#REF!","v":{"$error":"#REF!"}},1291]
[{"$f":"'Pob x Genero'!#REF!","v":{"$error":"#REF!"}},{"$f":"'Pob x Genero'!#REF!","v":{"$error":"#REF!"}},{"$f":"'Pob x Genero'!#REF!","v":{"$error":"#REF!"}},{"$f":"'Pob x Genero'!#REF!","v":{"$error":"#REF!"}},{"$f":"'Pob x Genero'!#REF!","v":{"$error":"#REF!"}},"Hombre","00-04",{"$f":"'Pob x Genero'!#REF!","v":{"$error":"#REF!"}},1292]
[{"$f":"'Pob x Genero'!#REF!","v":{"$error":"#REF!"}},{"$f":"'Pob x Genero'!#REF!","v":{"$error":"#REF!"}},{"$f":"'Pob x Genero'!#REF!","v":{"$error":"#REF!"}},{"$f":"'Pob x Genero'!#REF!","v":{"$error":"#REF!"}},{"$f":"'Pob x Genero'!#REF!","v":{"$error":"#REF!"}},"Hombre","00-04",{"$f":"'Pob x Genero'!#REF!","v":{"$error":"#REF!"}},1293]
[{"$f":"'Pob x Genero'!#REF!","v":{"$error":"#REF!"}},{"$f":"'Pob x Genero'!#REF!","v":{"$error":"#REF!"}},{"$f":"'Pob x Genero'!#REF!","v":{"$error":"#REF!"}},{"$f":"'Pob x Genero'!#REF!","v":{"$error":"#REF!"}},{"$f":"'Pob x Genero'!#REF!","v":{"$error":"#REF!"}},"Hombre","00-04",{"$f":"'Pob x Genero'!#REF!","v":{"$error":"#REF!"}},1294]
[{"$f":"'Pob x Genero'!#REF!","v":{"$error":"#REF!"}},{"$f":"'Pob x Genero'!#REF!","v":{"$error":"#REF!"}},{"$f":"'Pob x Genero'!#REF!","v":{"$error":"#REF!"}},{"$f":"'Pob x Genero'!#REF!","v":{"$error":"#REF!"}},{"$f":"'Pob x Genero'!#REF!","v":{"$error":"#REF!"}},"Hombre","00-04",{"$f":"'Pob x Genero'!#REF!","v":{"$error":"#REF!"}},1295]
[{"$f":"'Pob x Genero'!#REF!","v":{"$error":"#REF!"}},{"$f":"'Pob x Genero'!#REF!","v":{"$error":"#REF!"}},{"$f":"'Pob x Genero'!#REF!","v":{"$error":"#REF!"}},{"$f":"'Pob x Genero'!#REF!","v":{"$error":"#REF!"}},{"$f":"'Pob x Genero'!#REF!","v":{"$error":"#REF!"}},"Hombre","00-04",{"$f":"'Pob x Genero'!#REF!","v":{"$error":"#REF!"}},1296]
[{"$f":"'Pob x Genero'!#REF!","v":{"$error":"#REF!"}},{"$f":"'Pob x Genero'!#REF!","v":{"$error":"#REF!"}},{"$f":"'Pob x Genero'!#REF!","v":{"$error":"#REF!"}},{"$f":"'Pob x Genero'!#REF!","v":{"$error":"#REF!"}},{"$f":"'Pob x Genero'!#REF!","v":{"$error":"#REF!"}},"Hombre","00-04",{"$f":"'Pob x Genero'!#REF!","v":{"$error":"#REF!"}},1297]
[{"$f":"'Pob x Genero'!#REF!","v":{"$error":"#REF!"}},{"$f":"'Pob x Genero'!#REF!","v":{"$error":"#REF!"}},{"$f":"'Pob x Genero'!#REF!","v":{"$error":"#REF!"}},{"$f":"'Pob x Genero'!#REF!","v":{"$error":"#REF!"}},{"$f":"'Pob x Genero'!#REF!","v":{"$error":"#REF!"}},"Hombre","00-04",{"$f":"'Pob x Genero'!#REF!","v":{"$error":"#REF!"}},1298]
[{"$f":"'Pob x Genero'!#REF!","v":{"$error":"#REF!"}},{"$f":"'Pob x Genero'!#REF!","v":{"$error":"#REF!"}},{"$f":"'Pob x Genero'!#REF!","v":{"$error":"#REF!"}},{"$f":"'Pob x Genero'!#REF!","v":{"$error":"#REF!"}},{"$f":"'Pob x Genero'!#REF!","v":{"$error":"#REF!"}},"Hombre","00-04",{"$f":"'Pob x Genero'!#REF!","v":{"$error":"#REF!"}},1299]
[{"$f":"'Pob x Genero'!#REF!","v":{"$error":"#REF!"}},{"$f":"'Pob x Genero'!#REF!","v":{"$error":"#REF!"}},{"$f":"'Pob x Genero'!#REF!","v":{"$error":"#REF!"}},{"$f":"'Pob x Genero'!#REF!","v":{"$error":"#REF!"}},{"$f":"'Pob x Genero'!#REF!","v":{"$error":"#REF!"}},"Hombre","00-04",{"$f":"'Pob x Genero'!#REF!","v":{"$error":"#REF!"}},1300]
[{"$f":"'Pob x Genero'!#REF!","v":{"$error":"#REF!"}},{"$f":"'Pob x Genero'!#REF!","v":{"$error":"#REF!"}},{"$f":"'Pob x Genero'!#REF!","v":{"$error":"#REF!"}},{"$f":"'Pob x Genero'!#REF!","v":{"$error":"#REF!"}},{"$f":"'Pob x Genero'!#REF!","v":{"$error":"#REF!"}},"Hombre","00-04",{"$f":"'Pob x Genero'!#REF!","v":{"$error":"#REF!"}},1301]
[{"$f":"'Pob x Genero'!#REF!","v":{"$error":"#REF!"}},{"$f":"'Pob x Genero'!#REF!","v":{"$error":"#REF!"}},{"$f":"'Pob x Genero'!#REF!","v":{"$error":"#REF!"}},{"$f":"'Pob x Genero'!#REF!","v":{"$error":"#REF!"}},{"$f":"'Pob x Genero'!#REF!","v":{"$error":"#REF!"}},"Hombre","00-04",{"$f":"'Pob x Genero'!#REF!","v":{"$error":"#REF!"}},1302]
[{"$f":"'Pob x Genero'!#REF!","v":{"$error":"#REF!"}},{"$f":"'Pob x Genero'!#REF!","v":{"$error":"#REF!"}},{"$f":"'Pob x Genero'!#REF!","v":{"$error":"#REF!"}},{"$f":"'Pob x Genero'!#REF!","v":{"$error":"#REF!"}},{"$f":"'Pob x Genero'!#REF!","v":{"$error":"#REF!"}},"Hombre","00-04",{"$f":"'Pob x Genero'!#REF!","v":{"$error":"#REF!"}},1303]
[{"$f":"'Pob x Genero'!#REF!","v":{"$error":"#REF!"}},{"$f":"'Pob x Genero'!#REF!","v":{"$error":"#REF!"}},{"$f":"'Pob x Genero'!#REF!","v":{"$error":"#REF!"}},{"$f":"'Pob x Genero'!#REF!","v":{"$error":"#REF!"}},{"$f":"'Pob x Genero'!#REF!","v":{"$error":"#REF!"}},"Hombre","00-04",{"$f":"'Pob x Genero'!#REF!","v":{"$error":"#REF!"}},1304]
[{"$f":"'Pob x Genero'!#REF!","v":{"$error":"#REF!"}},{"$f":"'Pob x Genero'!#REF!","v":{"$error":"#REF!"}},{"$f":"'Pob x Genero'!#REF!","v":{"$error":"#REF!"}},{"$f":"'Pob x Genero'!#REF!","v":{"$error":"#REF!"}},{"$f":"'Pob x Genero'!#REF!","v":{"$error":"#REF!"}},"Hombre","00-04",{"$f":"'Pob x Genero'!#REF!","v":{"$error":"#REF!"}},1305]
[{"$f":"'Pob x Genero'!#REF!","v":{"$error":"#REF!"}},{"$f":"'Pob x Genero'!#REF!","v":{"$error":"#REF!"}},{"$f":"'Pob x Genero'!#REF!","v":{"$error":"#REF!"}},{"$f":"'Pob x Genero'!#REF!","v":{"$error":"#REF!"}},{"$f":"'Pob x Genero'!#REF!","v":{"$error":"#REF!"}},"Hombre","00-04",{"$f":"'Pob x Genero'!#REF!","v":{"$error":"#REF!"}},1306]
[{"$f":"'Pob x Genero'!#REF!","v":{"$error":"#REF!"}},{"$f":"'Pob x Genero'!#REF!","v":{"$error":"#REF!"}},{"$f":"'Pob x Genero'!#REF!","v":{"$error":"#REF!"}},{"$f":"'Pob x Genero'!#REF!","v":{"$error":"#REF!"}},{"$f":"'Pob x Genero'!#REF!","v":{"$error":"#REF!"}},"Hombre","00-04",{"$f":"'Pob x Genero'!#REF!","v":{"$error":"#REF!"}},1307]
[{"$f":"'Pob x Genero'!#REF!","v":{"$error":"#REF!"}},{"$f":"'Pob x Genero'!#REF!","v":{"$error":"#REF!"}},{"$f":"'Pob x Genero'!#REF!","v":{"$error":"#REF!"}},{"$f":"'Pob x Genero'!#REF!","v":{"$error":"#REF!"}},{"$f":"'Pob x Genero'!#REF!","v":{"$error":"#REF!"}},"Hombre","00-04",{"$f":"'Pob x Genero'!#REF!","v":{"$error":"#REF!"}},1308]
[{"$f":"'Pob x Genero'!#REF!","v":{"$error":"#REF!"}},{"$f":"'Pob x Genero'!#REF!","v":{"$error":"#REF!"}},{"$f":"'Pob x Genero'!#REF!","v":{"$error":"#REF!"}},{"$f":"'Pob x Genero'!#REF!","v":{"$error":"#REF!"}},{"$f":"'Pob x Genero'!#REF!","v":{"$error":"#REF!"}},"Hombre","00-04",{"$f":"'Pob x Genero'!#REF!","v":{"$error":"#REF!"}},1309]
[{"$f":"'Pob x Genero'!#REF!","v":{"$error":"#REF!"}},{"$f":"'Pob x Genero'!#REF!","v":{"$error":"#REF!"}},{"$f":"'Pob x Genero'!#REF!","v":{"$error":"#REF!"}},{"$f":"'Pob x Genero'!#REF!","v":{"$error":"#REF!"}},{"$f":"'Pob x Genero'!#REF!","v":{"$error":"#REF!"}},"Hombre","00-04",{"$f":"'Pob x Genero'!#REF!","v":{"$error":"#REF!"}},1310]
[{"$f":"'Pob x Genero'!#REF!","v":{"$error":"#REF!"}},{"$f":"'Pob x Genero'!#REF!","v":{"$error":"#REF!"}},{"$f":"'Pob x Genero'!#REF!","v":{"$error":"#REF!"}},{"$f":"'Pob x Genero'!#REF!","v":{"$error":"#REF!"}},{"$f":"'Pob x Genero'!#REF!","v":{"$error":"#REF!"}},"Hombre","00-04",{"$f":"'Pob x Genero'!#REF!","v":{"$error":"#REF!"}},1311]
[{"$f":"'Pob x Genero'!#REF!","v":{"$error":"#REF!"}},{"$f":"'Pob x Genero'!#REF!","v":{"$error":"#REF!"}},{"$f":"'Pob x Genero'!#REF!","v":{"$error":"#REF!"}},{"$f":"'Pob x Genero'!#REF!","v":{"$error":"#REF!"}},{"$f":"'Pob x Genero'!#REF!","v":{"$error":"#REF!"}},"Hombre","00-04",{"$f":"'Pob x Genero'!#REF!","v":{"$error":"#REF!"}},1312]
[{"$f":"'Pob x Genero'!#REF!","v":{"$error":"#REF!"}},{"$f":"'Pob x Genero'!#REF!","v":{"$error":"#REF!"}},{"$f":"'Pob x Genero'!#REF!","v":{"$error":"#REF!"}},{"$f":"'Pob x Genero'!#REF!","v":{"$error":"#REF!"}},{"$f":"'Pob x Genero'!#REF!","v":{"$error":"#REF!"}},"Hombre","00-04",{"$f":"'Pob x Genero'!#REF!","v":{"$error":"#REF!"}},1313]
[{"$f":"'Pob x Genero'!#REF!","v":{"$error":"#REF!"}},{"$f":"'Pob x Genero'!#REF!","v":{"$error":"#REF!"}},{"$f":"'Pob x Genero'!#REF!","v":{"$error":"#REF!"}},{"$f":"'Pob x Genero'!#REF!","v":{"$error":"#REF!"}},{"$f":"'Pob x Genero'!#REF!","v":{"$error":"#REF!"}},"Hombre","00-04",{"$f":"'Pob x Genero'!#REF!","v":{"$error":"#REF!"}},1314]
[{"$f":"'Pob x Genero'!#REF!","v":{"$error":"#REF!"}},{"$f":"'Pob x Genero'!#REF!","v":{"$error":"#REF!"}},{"$f":"'Pob x Genero'!#REF!","v":{"$error":"#REF!"}},{"$f":"'Pob x Genero'!#REF!","v":{"$error":"#REF!"}},{"$f":"'Pob x Genero'!#REF!","v":{"$error":"#REF!"}},"Hombre","00-04",{"$f":"'Pob x Genero'!#REF!","v":{"$error":"#REF!"}},1315]
[{"$f":"'Pob x Genero'!#REF!","v":{"$error":"#REF!"}},{"$f":"'Pob x Genero'!#REF!","v":{"$error":"#REF!"}},{"$f":"'Pob x Genero'!#REF!","v":{"$error":"#REF!"}},{"$f":"'Pob x Genero'!#REF!","v":{"$error":"#REF!"}},{"$f":"'Pob x Genero'!#REF!","v":{"$error":"#REF!"}},"Hombre","00-04",{"$f":"'Pob x Genero'!#REF!","v":{"$error":"#REF!"}},1316]
[{"$f":"'Pob x Genero'!#REF!","v":{"$error":"#REF!"}},{"$f":"'Pob x Genero'!#REF!","v":{"$error":"#REF!"}},{"$f":"'Pob x Genero'!#REF!","v":{"$error":"#REF!"}},{"$f":"'Pob x Genero'!#REF!","v":{"$error":"#REF!"}},{"$f":"'Pob x Genero'!#REF!","v":{"$error":"#REF!"}},"Hombre","00-04",{"$f":"'Pob x Genero'!#REF!","v":{"$error":"#REF!"}},1317]
[{"$f":"'Pob x Genero'!#REF!","v":{"$error":"#REF!"}},{"$f":"'Pob x Genero'!#REF!","v":{"$error":"#REF!"}},{"$f":"'Pob x Genero'!#REF!","v":{"$error":"#REF!"}},{"$f":"'Pob x Genero'!#REF!","v":{"$error":"#REF!"}},{"$f":"'Pob x Genero'!#REF!","v":{"$error":"#REF!"}},"Hombre","00-04",{"$f":"'Pob x Genero'!#REF!","v":{"$error":"#REF!"}},1318]
[{"$f":"'Pob x Genero'!#REF!","v":{"$error":"#REF!"}},{"$f":"'Pob x Genero'!#REF!","v":{"$error":"#REF!"}},{"$f":"'Pob x Genero'!#REF!","v":{"$error":"#REF!"}},{"$f":"'Pob x Genero'!#REF!","v":{"$error":"#REF!"}},{"$f":"'Pob x Genero'!#REF!","v":{"$error":"#REF!"}},"Hombre","00-04",{"$f":"'Pob x Genero'!#REF!","v":{"$error":"#REF!"}},1319]
[{"$f":"'Pob x Genero'!#REF!","v":{"$error":"#REF!"}},{"$f":"'Pob x Genero'!#REF!","v":{"$error":"#REF!"}},{"$f":"'Pob x Genero'!#REF!","v":{"$error":"#REF!"}},{"$f":"'Pob x Genero'!#REF!","v":{"$error":"#REF!"}},{"$f":"'Pob x Genero'!#REF!","v":{"$error":"#REF!"}},"Hombre","00-04",{"$f":"'Pob x Genero'!#REF!","v":{"$error":"#REF!"}},1320]
[{"$f":"'Pob x Genero'!#REF!","v":{"$error":"#REF!"}},{"$f":"'Pob x Genero'!#REF!","v":{"$error":"#REF!"}},{"$f":"'Pob x Genero'!#REF!","v":{"$error":"#REF!"}},{"$f":"'Pob x Genero'!#REF!","v":{"$error":"#REF!"}},{"$f":"'Pob x Genero'!#REF!","v":{"$error":"#REF!"}},"Hombre","00-04",{"$f":"'Pob x Genero'!#REF!","v":{"$error":"#REF!"}},1321]
[{"$f":"'Pob x Genero'!#REF!","v":{"$error":"#REF!"}},{"$f":"'Pob x Genero'!#REF!","v":{"$error":"#REF!"}},{"$f":"'Pob x Genero'!#REF!","v":{"$error":"#REF!"}},{"$f":"'Pob x Genero'!#REF!","v":{"$error":"#REF!"}},{"$f":"'Pob x Genero'!#REF!","v":{"$error":"#REF!"}},"Hombre","00-04",{"$f":"'Pob x Genero'!#REF!","v":{"$error":"#REF!"}},1322]
[{"$f":"'Pob x Genero'!#REF!","v":{"$error":"#REF!"}},{"$f":"'Pob x Genero'!#REF!","v":{"$error":"#REF!"}},{"$f":"'Pob x Genero'!#REF!","v":{"$error":"#REF!"}},{"$f":"'Pob x Genero'!#REF!","v":{"$error":"#REF!"}},{"$f":"'Pob x Genero'!#REF!","v":{"$error":"#REF!"}},"Hombre","00-04",{"$f":"'Pob x Genero'!#REF!","v":{"$error":"#REF!"}},1323]
[{"$f":"'Pob x Genero'!#REF!","v":{"$error":"#REF!"}},{"$f":"'Pob x Genero'!#REF!","v":{"$error":"#REF!"}},{"$f":"'Pob x Genero'!#REF!","v":{"$error":"#REF!"}},{"$f":"'Pob x Genero'!#REF!","v":{"$error":"#REF!"}},{"$f":"'Pob x Genero'!#REF!","v":{"$error":"#REF!"}},"Hombre","00-04",{"$f":"'Pob x Genero'!#REF!","v":{"$error":"#REF!"}},1324]
[{"$f":"'Pob x Genero'!#REF!","v":{"$error":"#REF!"}},{"$f":"'Pob x Genero'!#REF!","v":{"$error":"#REF!"}},{"$f":"'Pob x Genero'!#REF!","v":{"$error":"#REF!"}},{"$f":"'Pob x Genero'!#REF!","v":{"$error":"#REF!"}},{"$f":"'Pob x Genero'!#REF!","v":{"$error":"#REF!"}},"Hombre","00-04",{"$f":"'Pob x Genero'!#REF!","v":{"$error":"#REF!"}},1325]
[{"$f":"'Pob x Genero'!#REF!","v":{"$error":"#REF!"}},{"$f":"'Pob x Genero'!#REF!","v":{"$error":"#REF!"}},{"$f":"'Pob x Genero'!#REF!","v":{"$error":"#REF!"}},{"$f":"'Pob x Genero'!#REF!","v":{"$error":"#REF!"}},{"$f":"'Pob x Genero'!#REF!","v":{"$error":"#REF!"}},"Hombre","00-04",{"$f":"'Pob x Genero'!#REF!","v":{"$error":"#REF!"}},1326]
[{"$f":"'Pob x Genero'!#REF!","v":{"$error":"#REF!"}},{"$f":"'Pob x Genero'!#REF!","v":{"$error":"#REF!"}},{"$f":"'Pob x Genero'!#REF!","v":{"$error":"#REF!"}},{"$f":"'Pob x Genero'!#REF!","v":{"$error":"#REF!"}},{"$f":"'Pob x Genero'!#REF!","v":{"$error":"#REF!"}},"Hombre","00-04",{"$f":"'Pob x Genero'!#REF!","v":{"$error":"#REF!"}},1327]
[{"$f":"'Pob x Genero'!#REF!","v":{"$error":"#REF!"}},{"$f":"'Pob x Genero'!#REF!","v":{"$error":"#REF!"}},{"$f":"'Pob x Genero'!#REF!","v":{"$error":"#REF!"}},{"$f":"'Pob x Genero'!#REF!","v":{"$error":"#REF!"}},{"$f":"'Pob x Genero'!#REF!","v":{"$error":"#REF!"}},"Hombre","00-04",{"$f":"'Pob x Genero'!#REF!","v":{"$error":"#REF!"}},1328]
[{"$f":"'Pob x Genero'!#REF!","v":{"$error":"#REF!"}},{"$f":"'Pob x Genero'!#REF!","v":{"$error":"#REF!"}},{"$f":"'Pob x Genero'!#REF!","v":{"$error":"#REF!"}},{"$f":"'Pob x Genero'!#REF!","v":{"$error":"#REF!"}},{"$f":"'Pob x Genero'!#REF!","v":{"$error":"#REF!"}},"Hombre","00-04",{"$f":"'Pob x Genero'!#REF!","v":{"$error":"#REF!"}},1329]
[{"$f":"'Pob x Genero'!#REF!","v":{"$error":"#REF!"}},{"$f":"'Pob x Genero'!#REF!","v":{"$error":"#REF!"}},{"$f":"'Pob x Genero'!#REF!","v":{"$error":"#REF!"}},{"$f":"'Pob x Genero'!#REF!","v":{"$error":"#REF!"}},{"$f":"'Pob x Genero'!#REF!","v":{"$error":"#REF!"}},"Hombre","00-04",{"$f":"'Pob x Genero'!#REF!","v":{"$error":"#REF!"}},1330]
[{"$f":"'Pob x Genero'!#REF!","v":{"$error":"#REF!"}},{"$f":"'Pob x Genero'!#REF!","v":{"$error":"#REF!"}},{"$f":"'Pob x Genero'!#REF!","v":{"$error":"#REF!"}},{"$f":"'Pob x Genero'!#REF!","v":{"$error":"#REF!"}},{"$f":"'Pob x Genero'!#REF!","v":{"$error":"#REF!"}},"Hombre","00-04",{"$f":"'Pob x Genero'!#REF!","v":{"$error":"#REF!"}},1331]
[{"$f":"'Pob x Genero'!#REF!","v":{"$error":"#REF!"}},{"$f":"'Pob x Genero'!#REF!","v":{"$error":"#REF!"}},{"$f":"'Pob x Genero'!#REF!","v":{"$error":"#REF!"}},{"$f":"'Pob x Genero'!#REF!","v":{"$error":"#REF!"}},{"$f":"'Pob x Genero'!#REF!","v":{"$error":"#REF!"}},"Hombre","00-04",{"$f":"'Pob x Genero'!#REF!","v":{"$error":"#REF!"}},1332]
[{"$f":"'Pob x Genero'!#REF!","v":{"$error":"#REF!"}},{"$f":"'Pob x Genero'!#REF!","v":{"$error":"#REF!"}},{"$f":"'Pob x Genero'!#REF!","v":{"$error":"#REF!"}},{"$f":"'Pob x Genero'!#REF!","v":{"$error":"#REF!"}},{"$f":"'Pob x Genero'!#REF!","v":{"$error":"#REF!"}},"Hombre","00-04",{"$f":"'Pob x Genero'!#REF!","v":{"$error":"#REF!"}},1333]
[{"$f":"'Pob x Genero'!#REF!","v":{"$error":"#REF!"}},{"$f":"'Pob x Genero'!#REF!","v":{"$error":"#REF!"}},{"$f":"'Pob x Genero'!#REF!","v":{"$error":"#REF!"}},{"$f":"'Pob x Genero'!#REF!","v":{"$error":"#REF!"}},{"$f":"'Pob x Genero'!#REF!","v":{"$error":"#REF!"}},"Hombre","00-04",{"$f":"'Pob x Genero'!#REF!","v":{"$error":"#REF!"}},1334]
[{"$f":"'Pob x Genero'!#REF!","v":{"$error":"#REF!"}},{"$f":"'Pob x Genero'!#REF!","v":{"$error":"#REF!"}},{"$f":"'Pob x Genero'!#REF!","v":{"$error":"#REF!"}},{"$f":"'Pob x Genero'!#REF!","v":{"$error":"#REF!"}},{"$f":"'Pob x Genero'!#REF!","v":{"$error":"#REF!"}},"Hombre","00-04",{"$f":"'Pob x Genero'!#REF!","v":{"$error":"#REF!"}},1335]
[{"$f":"'Pob x Genero'!#REF!","v":{"$error":"#REF!"}},{"$f":"'Pob x Genero'!#REF!","v":{"$error":"#REF!"}},{"$f":"'Pob x Genero'!#REF!","v":{"$error":"#REF!"}},{"$f":"'Pob x Genero'!#REF!","v":{"$error":"#REF!"}},{"$f":"'Pob x Genero'!#REF!","v":{"$error":"#REF!"}},"Hombre","00-04",{"$f":"'Pob x Genero'!#REF!","v":{"$error":"#REF!"}},1336]
[{"$f":"'Pob x Genero'!#REF!","v":{"$error":"#REF!"}},{"$f":"'Pob x Genero'!#REF!","v":{"$error":"#REF!"}},{"$f":"'Pob x Genero'!#REF!","v":{"$error":"#REF!"}},{"$f":"'Pob x Genero'!#REF!","v":{"$error":"#REF!"}},{"$f":"'Pob x Genero'!#REF!","v":{"$error":"#REF!"}},"Hombre","00-04",{"$f":"'Pob x Genero'!#REF!","v":{"$error":"#REF!"}},1337]
[{"$f":"'Pob x Genero'!#REF!","v":{"$error":"#REF!"}},{"$f":"'Pob x Genero'!#REF!","v":{"$error":"#REF!"}},{"$f":"'Pob x Genero'!#REF!","v":{"$error":"#REF!"}},{"$f":"'Pob x Genero'!#REF!","v":{"$error":"#REF!"}},{"$f":"'Pob x Genero'!#REF!","v":{"$error":"#REF!"}},"Hombre","00-04",{"$f":"'Pob x Genero'!#REF!","v":{"$error":"#REF!"}},1338]
[{"$f":"'Pob x Genero'!#REF!","v":{"$error":"#REF!"}},{"$f":"'Pob x Genero'!#REF!","v":{"$error":"#REF!"}},{"$f":"'Pob x Genero'!#REF!","v":{"$error":"#REF!"}},{"$f":"'Pob x Genero'!#REF!","v":{"$error":"#REF!"}},{"$f":"'Pob x Genero'!#REF!","v":{"$error":"#REF!"}},"Hombre","00-04",{"$f":"'Pob x Genero'!#REF!","v":{"$error":"#REF!"}},1339]
[{"$f":"'Pob x Genero'!#REF!","v":{"$error":"#REF!"}},{"$f":"'Pob x Genero'!#REF!","v":{"$error":"#REF!"}},{"$f":"'Pob x Genero'!#REF!","v":{"$error":"#REF!"}},{"$f":"'Pob x Genero'!#REF!","v":{"$error":"#REF!"}},{"$f":"'Pob x Genero'!#REF!","v":{"$error":"#REF!"}},"Hombre","00-04",{"$f":"'Pob x Genero'!#REF!","v":{"$error":"#REF!"}},1340]
[{"$f":"'Pob x Genero'!#REF!","v":{"$error":"#REF!"}},{"$f":"'Pob x Genero'!#REF!","v":{"$error":"#REF!"}},{"$f":"'Pob x Genero'!#REF!","v":{"$error":"#REF!"}},{"$f":"'Pob x Genero'!#REF!","v":{"$error":"#REF!"}},{"$f":"'Pob x Genero'!#REF!","v":{"$error":"#REF!"}},"Hombre","00-04",{"$f":"'Pob x Genero'!#REF!","v":{"$error":"#REF!"}},1341]
[{"$f":"'Pob x Genero'!#REF!","v":{"$error":"#REF!"}},{"$f":"'Pob x Genero'!#REF!","v":{"$error":"#REF!"}},{"$f":"'Pob x Genero'!#REF!","v":{"$error":"#REF!"}},{"$f":"'Pob x Genero'!#REF!","v":{"$error":"#REF!"}},{"$f":"'Pob x Genero'!#REF!","v":{"$error":"#REF!"}},"Hombre","00-04",{"$f":"'Pob x Genero'!#REF!","v":{"$error":"#REF!"}},1342]
[{"$f":"'Pob x Genero'!#REF!","v":{"$error":"#REF!"}},{"$f":"'Pob x Genero'!#REF!","v":{"$error":"#REF!"}},{"$f":"'Pob x Genero'!#REF!","v":{"$error":"#REF!"}},{"$f":"'Pob x Genero'!#REF!","v":{"$error":"#REF!"}},{"$f":"'Pob x Genero'!#REF!","v":{"$error":"#REF!"}},"Hombre","00-04",{"$f":"'Pob x Genero'!#REF!","v":{"$error":"#REF!"}},1343]
[{"$f":"'Pob x Genero'!#REF!","v":{"$error":"#REF!"}},{"$f":"'Pob x Genero'!#REF!","v":{"$error":"#REF!"}},{"$f":"'Pob x Genero'!#REF!","v":{"$error":"#REF!"}},{"$f":"'Pob x Genero'!#REF!","v":{"$error":"#REF!"}},{"$f":"'Pob x Genero'!#REF!","v":{"$error":"#REF!"}},"Hombre","00-04",{"$f":"'Pob x Genero'!#REF!","v":{"$error":"#REF!"}},1344]
[{"$f":"'Pob x Genero'!#REF!","v":{"$error":"#REF!"}},{"$f":"'Pob x Genero'!#REF!","v":{"$error":"#REF!"}},{"$f":"'Pob x Genero'!#REF!","v":{"$error":"#REF!"}},{"$f":"'Pob x Genero'!#REF!","v":{"$error":"#REF!"}},{"$f":"'Pob x Genero'!#REF!","v":{"$error":"#REF!"}},"Hombre","00-04",{"$f":"'Pob x Genero'!#REF!","v":{"$error":"#REF!"}},1345]
[{"$f":"'Pob x Genero'!#REF!","v":{"$error":"#REF!"}},{"$f":"'Pob x Genero'!#REF!","v":{"$error":"#REF!"}},{"$f":"'Pob x Genero'!#REF!","v":{"$error":"#REF!"}},{"$f":"'Pob x Genero'!#REF!","v":{"$error":"#REF!"}},{"$f":"'Pob x Genero'!#REF!","v":{"$error":"#REF!"}},{"$f":"F1346","v":"Hombre"},{"$f":"G1346","v":"00-04"},{"$f":"'Pob x Genero'!#REF!","v":{"$error":"#REF!"}},1346]
[{"$f":"'Pob x Genero'!#REF!","v":{"$error":"#REF!"}},{"$f":"'Pob x Genero'!#REF!","v":{"$error":"#REF!"}},{"$f":"'Pob x Genero'!#REF!","v":{"$error":"#REF!"}},{"$f":"'Pob x Genero'!#REF!","v":{"$error":"#REF!"}},{"$f":"'Pob x Genero'!#REF!","v":{"$error":"#REF!"}},"Hombre","00-04",{"$f":"'Pob x Genero'!#REF!","v":{"$error":"#REF!"}},1347]
[{"$f":"'Pob x Genero'!#REF!","v":{"$error":"#REF!"}},{"$f":"'Pob x Genero'!#REF!","v":{"$error":"#REF!"}},{"$f":"'Pob x Genero'!#REF!","v":{"$error":"#REF!"}},{"$f":"'Pob x Genero'!#REF!","v":{"$error":"#REF!"}},{"$f":"'Pob x Genero'!#REF!","v":{"$error":"#REF!"}},"Hombre","00-04",{"$f":"'Pob x Genero'!#REF!","v":{"$error":"#REF!"}},1348]
[{"$f":"'Pob x Genero'!#REF!","v":{"$error":"#REF!"}},{"$f":"'Pob x Genero'!#REF!","v":{"$error":"#REF!"}},{"$f":"'Pob x Genero'!#REF!","v":{"$error":"#REF!"}},{"$f":"'Pob x Genero'!#REF!","v":{"$error":"#REF!"}},{"$f":"'Pob x Genero'!#REF!","v":{"$error":"#REF!"}},"Hombre","00-04",{"$f":"'Pob x Genero'!#REF!","v":{"$error":"#REF!"}},1349]
[{"$f":"'Pob x Genero'!#REF!","v":{"$error":"#REF!"}},{"$f":"'Pob x Genero'!#REF!","v":{"$error":"#REF!"}},{"$f":"'Pob x Genero'!#REF!","v":{"$error":"#REF!"}},{"$f":"'Pob x Genero'!#REF!","v":{"$error":"#REF!"}},{"$f":"'Pob x Genero'!#REF!","v":{"$error":"#REF!"}},"Hombre","00-04",{"$f":"'Pob x Genero'!#REF!","v":{"$error":"#REF!"}},1350]
[{"$f":"'Pob x Genero'!#REF!","v":{"$error":"#REF!"}},{"$f":"'Pob x Genero'!#REF!","v":{"$error":"#REF!"}},{"$f":"'Pob x Genero'!#REF!","v":{"$error":"#REF!"}},{"$f":"'Pob x Genero'!#REF!","v":{"$error":"#REF!"}},{"$f":"'Pob x Genero'!#REF!","v":{"$error":"#REF!"}},"Hombre","00-04",{"$f":"'Pob x Genero'!#REF!","v":{"$error":"#REF!"}},1351]
[{"$f":"'Pob x Genero'!#REF!","v":{"$error":"#REF!"}},{"$f":"'Pob x Genero'!#REF!","v":{"$error":"#REF!"}},{"$f":"'Pob x Genero'!#REF!","v":{"$error":"#REF!"}},{"$f":"'Pob x Genero'!#REF!","v":{"$error":"#REF!"}},{"$f":"'Pob x Genero'!#REF!","v":{"$error":"#REF!"}},"Hombre","00-04",{"$f":"'Pob x Genero'!#REF!","v":{"$error":"#REF!"}},1352]
[{"$f":"'Pob x Genero'!#REF!","v":{"$error":"#REF!"}},{"$f":"'Pob x Genero'!#REF!","v":{"$error":"#REF!"}},{"$f":"'Pob x Genero'!#REF!","v":{"$error":"#REF!"}},{"$f":"'Pob x Genero'!#REF!","v":{"$error":"#REF!"}},{"$f":"'Pob x Genero'!#REF!","v":{"$error":"#REF!"}},"Hombre","00-04",{"$f":"'Pob x Genero'!#REF!","v":{"$error":"#REF!"}},1353]
[{"$f":"'Pob x Genero'!#REF!","v":{"$error":"#REF!"}},{"$f":"'Pob x Genero'!#REF!","v":{"$error":"#REF!"}},{"$f":"'Pob x Genero'!#REF!","v":{"$error":"#REF!"}},{"$f":"'Pob x Genero'!#REF!","v":{"$error":"#REF!"}},{"$f":"'Pob x Genero'!#REF!","v":{"$error":"#REF!"}},"Hombre","00-04",{"$f":"'Pob x Genero'!#REF!","v":{"$error":"#REF!"}},1354]
[{"$f":"'Pob x Genero'!#REF!","v":{"$error":"#REF!"}},{"$f":"'Pob x Genero'!#REF!","v":{"$error":"#REF!"}},{"$f":"'Pob x Genero'!#REF!","v":{"$error":"#REF!"}},{"$f":"'Pob x Genero'!#REF!","v":{"$error":"#REF!"}},{"$f":"'Pob x Genero'!#REF!","v":{"$error":"#REF!"}},"Hombre","00-04",{"$f":"'Pob x Genero'!#REF!","v":{"$error":"#REF!"}},1355]
[{"$f":"'Pob x Genero'!#REF!","v":{"$error":"#REF!"}},{"$f":"'Pob x Genero'!#REF!","v":{"$error":"#REF!"}},{"$f":"'Pob x Genero'!#REF!","v":{"$error":"#REF!"}},{"$f":"'Pob x Genero'!#REF!","v":{"$error":"#REF!"}},{"$f":"'Pob x Genero'!#REF!","v":{"$error":"#REF!"}},"Hombre","00-04",{"$f":"'Pob x Genero'!#REF!","v":{"$error":"#REF!"}},1356]
[{"$f":"'Pob x Genero'!#REF!","v":{"$error":"#REF!"}},{"$f":"'Pob x Genero'!#REF!","v":{"$error":"#REF!"}},{"$f":"'Pob x Genero'!#REF!","v":{"$error":"#REF!"}},{"$f":"'Pob x Genero'!#REF!","v":{"$error":"#REF!"}},{"$f":"'Pob x Genero'!#REF!","v":{"$error":"#REF!"}},"Hombre","00-04",{"$f":"'Pob x Genero'!#REF!","v":{"$error":"#REF!"}},1357]
[{"$f":"'Pob x Genero'!#REF!","v":{"$error":"#REF!"}},{"$f":"'Pob x Genero'!#REF!","v":{"$error":"#REF!"}},{"$f":"'Pob x Genero'!#REF!","v":{"$error":"#REF!"}},{"$f":"'Pob x Genero'!#REF!","v":{"$error":"#REF!"}},{"$f":"'Pob x Genero'!#REF!","v":{"$error":"#REF!"}},"Hombre","00-04",{"$f":"'Pob x Genero'!#REF!","v":{"$error":"#REF!"}},1358]
[{"$f":"'Pob x Genero'!#REF!","v":{"$error":"#REF!"}},{"$f":"'Pob x Genero'!#REF!","v":{"$error":"#REF!"}},{"$f":"'Pob x Genero'!#REF!","v":{"$error":"#REF!"}},{"$f":"'Pob x Genero'!#REF!","v":{"$error":"#REF!"}},{"$f":"'Pob x Genero'!#REF!","v":{"$error":"#REF!"}},"Hombre","00-04",{"$f":"'Pob x Genero'!#REF!","v":{"$error":"#REF!"}},1359]
[{"$f":"'Pob x Genero'!#REF!","v":{"$error":"#REF!"}},{"$f":"'Pob x Genero'!#REF!","v":{"$error":"#REF!"}},{"$f":"'Pob x Genero'!#REF!","v":{"$error":"#REF!"}},{"$f":"'Pob x Genero'!#REF!","v":{"$error":"#REF!"}},{"$f":"'Pob x Genero'!#REF!","v":{"$error":"#REF!"}},"Hombre","00-04",{"$f":"'Pob x Genero'!#REF!","v":{"$error":"#REF!"}},1360]
[{"$f":"'Pob x Genero'!#REF!","v":{"$error":"#REF!"}},{"$f":"'Pob x Genero'!#REF!","v":{"$error":"#REF!"}},{"$f":"'Pob x Genero'!#REF!","v":{"$error":"#REF!"}},{"$f":"'Pob x Genero'!#REF!","v":{"$error":"#REF!"}},{"$f":"'Pob x Genero'!#REF!","v":{"$error":"#REF!"}},"Hombre","00-04",{"$f":"'Pob x Genero'!#REF!","v":{"$error":"#REF!"}},1361]
[{"$f":"'Pob x Genero'!#REF!","v":{"$error":"#REF!"}},{"$f":"'Pob x Genero'!#REF!","v":{"$error":"#REF!"}},{"$f":"'Pob x Genero'!#REF!","v":{"$error":"#REF!"}},{"$f":"'Pob x Genero'!#REF!","v":{"$error":"#REF!"}},{"$f":"'Pob x Genero'!#REF!","v":{"$error":"#REF!"}},"Hombre","00-04",{"$f":"'Pob x Genero'!#REF!","v":{"$error":"#REF!"}},1362]
[{"$f":"'Pob x Genero'!#REF!","v":{"$error":"#REF!"}},{"$f":"'Pob x Genero'!#REF!","v":{"$error":"#REF!"}},{"$f":"'Pob x Genero'!#REF!","v":{"$error":"#REF!"}},{"$f":"'Pob x Genero'!#REF!","v":{"$error":"#REF!"}},{"$f":"'Pob x Genero'!#REF!","v":{"$error":"#REF!"}},"Hombre","00-04",{"$f":"'Pob x Genero'!#REF!","v":{"$error":"#REF!"}},1363]
[{"$f":"'Pob x Genero'!#REF!","v":{"$error":"#REF!"}},{"$f":"'Pob x Genero'!#REF!","v":{"$error":"#REF!"}},{"$f":"'Pob x Genero'!#REF!","v":{"$error":"#REF!"}},{"$f":"'Pob x Genero'!#REF!","v":{"$error":"#REF!"}},{"$f":"'Pob x Genero'!#REF!","v":{"$error":"#REF!"}},"Hombre","00-04",{"$f":"'Pob x Genero'!#REF!","v":{"$error":"#REF!"}},1364]
[{"$f":"'Pob x Genero'!#REF!","v":{"$error":"#REF!"}},{"$f":"'Pob x Genero'!#REF!","v":{"$error":"#REF!"}},{"$f":"'Pob x Genero'!#REF!","v":{"$error":"#REF!"}},{"$f":"'Pob x Genero'!#REF!","v":{"$error":"#REF!"}},{"$f":"'Pob x Genero'!#REF!","v":{"$error":"#REF!"}},"Hombre","00-04",{"$f":"'Pob x Genero'!#REF!","v":{"$error":"#REF!"}},1365]
[{"$f":"'Pob x Genero'!#REF!","v":{"$error":"#REF!"}},{"$f":"'Pob x Genero'!#REF!","v":{"$error":"#REF!"}},{"$f":"'Pob x Genero'!#REF!","v":{"$error":"#REF!"}},{"$f":"'Pob x Genero'!#REF!","v":{"$error":"#REF!"}},{"$f":"'Pob x Genero'!#REF!","v":{"$error":"#REF!"}},"Hombre","00-04",{"$f":"'Pob x Genero'!#REF!","v":{"$error":"#REF!"}},1366]
[{"$f":"'Pob x Genero'!#REF!","v":{"$error":"#REF!"}},{"$f":"'Pob x Genero'!#REF!","v":{"$error":"#REF!"}},{"$f":"'Pob x Genero'!#REF!","v":{"$error":"#REF!"}},{"$f":"'Pob x Genero'!#REF!","v":{"$error":"#REF!"}},{"$f":"'Pob x Genero'!#REF!","v":{"$error":"#REF!"}},"Hombre","00-04",{"$f":"'Pob x Genero'!#REF!","v":{"$error":"#REF!"}},1367]
[{"$f":"'Pob x Genero'!#REF!","v":{"$error":"#REF!"}},{"$f":"'Pob x Genero'!#REF!","v":{"$error":"#REF!"}},{"$f":"'Pob x Genero'!#REF!","v":{"$error":"#REF!"}},{"$f":"'Pob x Genero'!#REF!","v":{"$error":"#REF!"}},{"$f":"'Pob x Genero'!#REF!","v":{"$error":"#REF!"}},"Hombre","00-04",{"$f":"'Pob x Genero'!#REF!","v":{"$error":"#REF!"}},1368]
[{"$f":"'Pob x Genero'!#REF!","v":{"$error":"#REF!"}},{"$f":"'Pob x Genero'!#REF!","v":{"$error":"#REF!"}},{"$f":"'Pob x Genero'!#REF!","v":{"$error":"#REF!"}},{"$f":"'Pob x Genero'!#REF!","v":{"$error":"#REF!"}},{"$f":"'Pob x Genero'!#REF!","v":{"$error":"#REF!"}},"Hombre","00-04",{"$f":"'Pob x Genero'!#REF!","v":{"$error":"#REF!"}},1369]
[{"$f":"'Pob x Genero'!#REF!","v":{"$error":"#REF!"}},{"$f":"'Pob x Genero'!#REF!","v":{"$error":"#REF!"}},{"$f":"'Pob x Genero'!#REF!","v":{"$error":"#REF!"}},{"$f":"'Pob x Genero'!#REF!","v":{"$error":"#REF!"}},{"$f":"'Pob x Genero'!#REF!","v":{"$error":"#REF!"}},"Hombre","00-04",{"$f":"'Pob x Genero'!#REF!","v":{"$error":"#REF!"}},1370]
[{"$f":"'Pob x Genero'!#REF!","v":{"$error":"#REF!"}},{"$f":"'Pob x Genero'!#REF!","v":{"$error":"#REF!"}},{"$f":"'Pob x Genero'!#REF!","v":{"$error":"#REF!"}},{"$f":"'Pob x Genero'!#REF!","v":{"$error":"#REF!"}},{"$f":"'Pob x Genero'!#REF!","v":{"$error":"#REF!"}},"Hombre","00-04",{"$f":"'Pob x Genero'!#REF!","v":{"$error":"#REF!"}},1371]
[{"$f":"'Pob x Genero'!#REF!","v":{"$error":"#REF!"}},{"$f":"'Pob x Genero'!#REF!","v":{"$error":"#REF!"}},{"$f":"'Pob x Genero'!#REF!","v":{"$error":"#REF!"}},{"$f":"'Pob x Genero'!#REF!","v":{"$error":"#REF!"}},{"$f":"'Pob x Genero'!#REF!","v":{"$error":"#REF!"}},"Hombre","00-04",{"$f":"'Pob x Genero'!#REF!","v":{"$error":"#REF!"}},1372]
[{"$f":"'Pob x Genero'!#REF!","v":{"$error":"#REF!"}},{"$f":"'Pob x Genero'!#REF!","v":{"$error":"#REF!"}},{"$f":"'Pob x Genero'!#REF!","v":{"$error":"#REF!"}},{"$f":"'Pob x Genero'!#REF!","v":{"$error":"#REF!"}},{"$f":"'Pob x Genero'!#REF!","v":{"$error":"#REF!"}},"Hombre","00-04",{"$f":"'Pob x Genero'!#REF!","v":{"$error":"#REF!"}},1373]
[{"$f":"'Pob x Genero'!#REF!","v":{"$error":"#REF!"}},{"$f":"'Pob x Genero'!#REF!","v":{"$error":"#REF!"}},{"$f":"'Pob x Genero'!#REF!","v":{"$error":"#REF!"}},{"$f":"'Pob x Genero'!#REF!","v":{"$error":"#REF!"}},{"$f":"'Pob x Genero'!#REF!","v":{"$error":"#REF!"}},"Hombre","00-04",{"$f":"'Pob x Genero'!#REF!","v":{"$error":"#REF!"}},1374]
[{"$f":"'Pob x Genero'!#REF!","v":{"$error":"#REF!"}},{"$f":"'Pob x Genero'!#REF!","v":{"$error":"#REF!"}},{"$f":"'Pob x Genero'!#REF!","v":{"$error":"#REF!"}},{"$f":"'Pob x Genero'!#REF!","v":{"$error":"#REF!"}},{"$f":"'Pob x Genero'!#REF!","v":{"$error":"#REF!"}},"Hombre","00-04",{"$f":"'Pob x Genero'!#REF!","v":{"$error":"#REF!"}},1375]
[{"$f":"'Pob x Genero'!#REF!","v":{"$error":"#REF!"}},{"$f":"'Pob x Genero'!#REF!","v":{"$error":"#REF!"}},{"$f":"'Pob x Genero'!#REF!","v":{"$error":"#REF!"}},{"$f":"'Pob x Genero'!#REF!","v":{"$error":"#REF!"}},{"$f":"'Pob x Genero'!#REF!","v":{"$error":"#REF!"}},"Hombre","00-04",{"$f":"'Pob x Genero'!#REF!","v":{"$error":"#REF!"}},1376]
[{"$f":"'Pob x Genero'!#REF!","v":{"$error":"#REF!"}},{"$f":"'Pob x Genero'!#REF!","v":{"$error":"#REF!"}},{"$f":"'Pob x Genero'!#REF!","v":{"$error":"#REF!"}},{"$f":"'Pob x Genero'!#REF!","v":{"$error":"#REF!"}},{"$f":"'Pob x Genero'!#REF!","v":{"$error":"#REF!"}},"Hombre","00-04",{"$f":"'Pob x Genero'!#REF!","v":{"$error":"#REF!"}},1377]
[{"$f":"'Pob x Genero'!#REF!","v":{"$error":"#REF!"}},{"$f":"'Pob x Genero'!#REF!","v":{"$error":"#REF!"}},{"$f":"'Pob x Genero'!#REF!","v":{"$error":"#REF!"}},{"$f":"'Pob x Genero'!#REF!","v":{"$error":"#REF!"}},{"$f":"'Pob x Genero'!#REF!","v":{"$error":"#REF!"}},"Hombre","00-04",{"$f":"'Pob x Genero'!#REF!","v":{"$error":"#REF!"}},1378]
[{"$f":"'Pob x Genero'!#REF!","v":{"$error":"#REF!"}},{"$f":"'Pob x Genero'!#REF!","v":{"$error":"#REF!"}},{"$f":"'Pob x Genero'!#REF!","v":{"$error":"#REF!"}},{"$f":"'Pob x Genero'!#REF!","v":{"$error":"#REF!"}},{"$f":"'Pob x Genero'!#REF!","v":{"$error":"#REF!"}},"Hombre","00-04",{"$f":"'Pob x Genero'!#REF!","v":{"$error":"#REF!"}},1379]
[{"$f":"'Pob x Genero'!#REF!","v":{"$error":"#REF!"}},{"$f":"'Pob x Genero'!#REF!","v":{"$error":"#REF!"}},{"$f":"'Pob x Genero'!#REF!","v":{"$error":"#REF!"}},{"$f":"'Pob x Genero'!#REF!","v":{"$error":"#REF!"}},{"$f":"'Pob x Genero'!#REF!","v":{"$error":"#REF!"}},"Hombre","00-04",{"$f":"'Pob x Genero'!#REF!","v":{"$error":"#REF!"}},1380]
[{"$f":"'Pob x Genero'!#REF!","v":{"$error":"#REF!"}},{"$f":"'Pob x Genero'!#REF!","v":{"$error":"#REF!"}},{"$f":"'Pob x Genero'!#REF!","v":{"$error":"#REF!"}},{"$f":"'Pob x Genero'!#REF!","v":{"$error":"#REF!"}},{"$f":"'Pob x Genero'!#REF!","v":{"$error":"#REF!"}},"Hombre","00-04",{"$f":"'Pob x Genero'!#REF!","v":{"$error":"#REF!"}},1381]
[{"$f":"'Pob x Genero'!#REF!","v":{"$error":"#REF!"}},{"$f":"'Pob x Genero'!#REF!","v":{"$error":"#REF!"}},{"$f":"'Pob x Genero'!#REF!","v":{"$error":"#REF!"}},{"$f":"'Pob x Genero'!#REF!","v":{"$error":"#REF!"}},{"$f":"'Pob x Genero'!#REF!","v":{"$error":"#REF!"}},"Hombre","00-04",{"$f":"'Pob x Genero'!#REF!","v":{"$error":"#REF!"}},1382]
[{"$f":"'Pob x Genero'!#REF!","v":{"$error":"#REF!"}},{"$f":"'Pob x Genero'!#REF!","v":{"$error":"#REF!"}},{"$f":"'Pob x Genero'!#REF!","v":{"$error":"#REF!"}},{"$f":"'Pob x Genero'!#REF!","v":{"$error":"#REF!"}},{"$f":"'Pob x Genero'!#REF!","v":{"$error":"#REF!"}},"Hombre","00-04",{"$f":"'Pob x Genero'!#REF!","v":{"$error":"#REF!"}},1383]
[{"$f":"'Pob x Genero'!#REF!","v":{"$error":"#REF!"}},{"$f":"'Pob x Genero'!#REF!","v":{"$error":"#REF!"}},{"$f":"'Pob x Genero'!#REF!","v":{"$error":"#REF!"}},{"$f":"'Pob x Genero'!#REF!","v":{"$error":"#REF!"}},{"$f":"'Pob x Genero'!#REF!","v":{"$error":"#REF!"}},"Hombre","00-04",{"$f":"'Pob x Genero'!#REF!","v":{"$error":"#REF!"}},1384]
[{"$f":"'Pob x Genero'!#REF!","v":{"$error":"#REF!"}},{"$f":"'Pob x Genero'!#REF!","v":{"$error":"#REF!"}},{"$f":"'Pob x Genero'!#REF!","v":{"$error":"#REF!"}},{"$f":"'Pob x Genero'!#REF!","v":{"$error":"#REF!"}},{"$f":"'Pob x Genero'!#REF!","v":{"$error":"#REF!"}},"Hombre","00-04",{"$f":"'Pob x Genero'!#REF!","v":{"$error":"#REF!"}},1385]
[{"$f":"'Pob x Genero'!#REF!","v":{"$error":"#REF!"}},{"$f":"'Pob x Genero'!#REF!","v":{"$error":"#REF!"}},{"$f":"'Pob x Genero'!#REF!","v":{"$error":"#REF!"}},{"$f":"'Pob x Genero'!#REF!","v":{"$error":"#REF!"}},{"$f":"'Pob x Genero'!#REF!","v":{"$error":"#REF!"}},"Hombre","00-04",{"$f":"'Pob x Genero'!#REF!","v":{"$error":"#REF!"}},1386]
[{"$f":"'Pob x Genero'!#REF!","v":{"$error":"#REF!"}},{"$f":"'Pob x Genero'!#REF!","v":{"$error":"#REF!"}},{"$f":"'Pob x Genero'!#REF!","v":{"$error":"#REF!"}},{"$f":"'Pob x Genero'!#REF!","v":{"$error":"#REF!"}},{"$f":"'Pob x Genero'!#REF!","v":{"$error":"#REF!"}},"Hombre","00-04",{"$f":"'Pob x Genero'!#REF!","v":{"$error":"#REF!"}},1387]
[{"$f":"'Pob x Genero'!#REF!","v":{"$error":"#REF!"}},{"$f":"'Pob x Genero'!#REF!","v":{"$error":"#REF!"}},{"$f":"'Pob x Genero'!#REF!","v":{"$error":"#REF!"}},{"$f":"'Pob x Genero'!#REF!","v":{"$error":"#REF!"}},{"$f":"'Pob x Genero'!#REF!","v":{"$error":"#REF!"}},"Hombre","00-04",{"$f":"'Pob x Genero'!#REF!","v":{"$error":"#REF!"}},1388]
[{"$f":"'Pob x Genero'!#REF!","v":{"$error":"#REF!"}},{"$f":"'Pob x Genero'!#REF!","v":{"$error":"#REF!"}},{"$f":"'Pob x Genero'!#REF!","v":{"$error":"#REF!"}},{"$f":"'Pob x Genero'!#REF!","v":{"$error":"#REF!"}},{"$f":"'Pob x Genero'!#REF!","v":{"$error":"#REF!"}},"Hombre","00-04",{"$f":"'Pob x Genero'!#REF!","v":{"$error":"#REF!"}},1389]
[{"$f":"'Pob x Genero'!#REF!","v":{"$error":"#REF!"}},{"$f":"'Pob x Genero'!#REF!","v":{"$error":"#REF!"}},{"$f":"'Pob x Genero'!#REF!","v":{"$error":"#REF!"}},{"$f":"'Pob x Genero'!#REF!","v":{"$error":"#REF!"}},{"$f":"'Pob x Genero'!#REF!","v":{"$error":"#REF!"}},"Hombre","00-04",{"$f":"'Pob x Genero'!#REF!","v":{"$error":"#REF!"}},1390]
[{"$f":"'Pob x Genero'!#REF!","v":{"$error":"#REF!"}},{"$f":"'Pob x Genero'!#REF!","v":{"$error":"#REF!"}},{"$f":"'Pob x Genero'!#REF!","v":{"$error":"#REF!"}},{"$f":"'Pob x Genero'!#REF!","v":{"$error":"#REF!"}},{"$f":"'Pob x Genero'!#REF!","v":{"$error":"#REF!"}},"Hombre","00-04",{"$f":"'Pob x Genero'!#REF!","v":{"$error":"#REF!"}},1391]
[{"$f":"'Pob x Genero'!#REF!","v":{"$error":"#REF!"}},{"$f":"'Pob x Genero'!#REF!","v":{"$error":"#REF!"}},{"$f":"'Pob x Genero'!#REF!","v":{"$error":"#REF!"}},{"$f":"'Pob x Genero'!#REF!","v":{"$error":"#REF!"}},{"$f":"'Pob x Genero'!#REF!","v":{"$error":"#REF!"}},"Hombre","00-04",{"$f":"'Pob x Genero'!#REF!","v":{"$error":"#REF!"}},1392]
[{"$f":"'Pob x Genero'!#REF!","v":{"$error":"#REF!"}},{"$f":"'Pob x Genero'!#REF!","v":{"$error":"#REF!"}},{"$f":"'Pob x Genero'!#REF!","v":{"$error":"#REF!"}},{"$f":"'Pob x Genero'!#REF!","v":{"$error":"#REF!"}},{"$f":"'Pob x Genero'!#REF!","v":{"$error":"#REF!"}},"Hombre","00-04",{"$f":"'Pob x Genero'!#REF!","v":{"$error":"#REF!"}},1393]
[{"$f":"'Pob x Genero'!#REF!","v":{"$error":"#REF!"}},{"$f":"'Pob x Genero'!#REF!","v":{"$error":"#REF!"}},{"$f":"'Pob x Genero'!#REF!","v":{"$error":"#REF!"}},{"$f":"'Pob x Genero'!#REF!","v":{"$error":"#REF!"}},{"$f":"'Pob x Genero'!#REF!","v":{"$error":"#REF!"}},"Hombre","00-04",{"$f":"'Pob x Genero'!#REF!","v":{"$error":"#REF!"}},1394]
[{"$f":"'Pob x Genero'!#REF!","v":{"$error":"#REF!"}},{"$f":"'Pob x Genero'!#REF!","v":{"$error":"#REF!"}},{"$f":"'Pob x Genero'!#REF!","v":{"$error":"#REF!"}},{"$f":"'Pob x Genero'!#REF!","v":{"$error":"#REF!"}},{"$f":"'Pob x Genero'!#REF!","v":{"$error":"#REF!"}},"Hombre","00-04",{"$f":"'Pob x Genero'!#REF!","v":{"$error":"#REF!"}},1395]
[{"$f":"'Pob x Genero'!#REF!","v":{"$error":"#REF!"}},{"$f":"'Pob x Genero'!#REF!","v":{"$error":"#REF!"}},{"$f":"'Pob x Genero'!#REF!","v":{"$error":"#REF!"}},{"$f":"'Pob x Genero'!#REF!","v":{"$error":"#REF!"}},{"$f":"'Pob x Genero'!#REF!","v":{"$error":"#REF!"}},"Hombre","00-04",{"$f":"'Pob x Genero'!#REF!","v":{"$error":"#REF!"}},1396]
[{"$f":"'Pob x Genero'!#REF!","v":{"$error":"#REF!"}},{"$f":"'Pob x Genero'!#REF!","v":{"$error":"#REF!"}},{"$f":"'Pob x Genero'!#REF!","v":{"$error":"#REF!"}},{"$f":"'Pob x Genero'!#REF!","v":{"$error":"#REF!"}},{"$f":"'Pob x Genero'!#REF!","v":{"$error":"#REF!"}},"Hombre","00-04",{"$f":"'Pob x Genero'!#REF!","v":{"$error":"#REF!"}},1397]
[{"$f":"'Pob x Genero'!#REF!","v":{"$error":"#REF!"}},{"$f":"'Pob x Genero'!#REF!","v":{"$error":"#REF!"}},{"$f":"'Pob x Genero'!#REF!","v":{"$error":"#REF!"}},{"$f":"'Pob x Genero'!#REF!","v":{"$error":"#REF!"}},{"$f":"'Pob x Genero'!#REF!","v":{"$error":"#REF!"}},"Hombre","00-04",{"$f":"'Pob x Genero'!#REF!","v":{"$error":"#REF!"}},1398]
[{"$f":"'Pob x Genero'!#REF!","v":{"$error":"#REF!"}},{"$f":"'Pob x Genero'!#REF!","v":{"$error":"#REF!"}},{"$f":"'Pob x Genero'!#REF!","v":{"$error":"#REF!"}},{"$f":"'Pob x Genero'!#REF!","v":{"$error":"#REF!"}},{"$f":"'Pob x Genero'!#REF!","v":{"$error":"#REF!"}},"Hombre","00-04",{"$f":"'Pob x Genero'!#REF!","v":{"$error":"#REF!"}},1399]
[{"$f":"'Pob x Genero'!#REF!","v":{"$error":"#REF!"}},{"$f":"'Pob x Genero'!#REF!","v":{"$error":"#REF!"}},{"$f":"'Pob x Genero'!#REF!","v":{"$error":"#REF!"}},{"$f":"'Pob x Genero'!#REF!","v":{"$error":"#REF!"}},{"$f":"'Pob x Genero'!#REF!","v":{"$error":"#REF!"}},"Hombre","00-04",{"$f":"'Pob x Genero'!#REF!","v":{"$error":"#REF!"}},1400]
[{"$f":"'Pob x Genero'!#REF!","v":{"$error":"#REF!"}},{"$f":"'Pob x Genero'!#REF!","v":{"$error":"#REF!"}},{"$f":"'Pob x Genero'!#REF!","v":{"$error":"#REF!"}},{"$f":"'Pob x Genero'!#REF!","v":{"$error":"#REF!"}},{"$f":"'Pob x Genero'!#REF!","v":{"$error":"#REF!"}},"Hombre","00-04",{"$f":"'Pob x Genero'!#REF!","v":{"$error":"#REF!"}},1401]
[{"$f":"'Pob x Genero'!#REF!","v":{"$error":"#REF!"}},{"$f":"'Pob x Genero'!#REF!","v":{"$error":"#REF!"}},{"$f":"'Pob x Genero'!#REF!","v":{"$error":"#REF!"}},{"$f":"'Pob x Genero'!#REF!","v":{"$error":"#REF!"}},{"$f":"'Pob x Genero'!#REF!","v":{"$error":"#REF!"}},"Hombre","00-04",{"$f":"'Pob x Genero'!#REF!","v":{"$error":"#REF!"}},1402]
[{"$f":"'Pob x Genero'!#REF!","v":{"$error":"#REF!"}},{"$f":"'Pob x Genero'!#REF!","v":{"$error":"#REF!"}},{"$f":"'Pob x Genero'!#REF!","v":{"$error":"#REF!"}},{"$f":"'Pob x Genero'!#REF!","v":{"$error":"#REF!"}},{"$f":"'Pob x Genero'!#REF!","v":{"$error":"#REF!"}},"Hombre","00-04",{"$f":"'Pob x Genero'!#REF!","v":{"$error":"#REF!"}},1403]
[{"$f":"'Pob x Genero'!#REF!","v":{"$error":"#REF!"}},{"$f":"'Pob x Genero'!#REF!","v":{"$error":"#REF!"}},{"$f":"'Pob x Genero'!#REF!","v":{"$error":"#REF!"}},{"$f":"'Pob x Genero'!#REF!","v":{"$error":"#REF!"}},{"$f":"'Pob x Genero'!#REF!","v":{"$error":"#REF!"}},"Hombre","00-04",{"$f":"'Pob x Genero'!#REF!","v":{"$error":"#REF!"}},1404]
[{"$f":"'Pob x Genero'!#REF!","v":{"$error":"#REF!"}},{"$f":"'Pob x Genero'!#REF!","v":{"$error":"#REF!"}},{"$f":"'Pob x Genero'!#REF!","v":{"$error":"#REF!"}},{"$f":"'Pob x Genero'!#REF!","v":{"$error":"#REF!"}},{"$f":"'Pob x Genero'!#REF!","v":{"$error":"#REF!"}},"Hombre","00-04",{"$f":"'Pob x Genero'!#REF!","v":{"$error":"#REF!"}},1405]
[{"$f":"'Pob x Genero'!#REF!","v":{"$error":"#REF!"}},{"$f":"'Pob x Genero'!#REF!","v":{"$error":"#REF!"}},{"$f":"'Pob x Genero'!#REF!","v":{"$error":"#REF!"}},{"$f":"'Pob x Genero'!#REF!","v":{"$error":"#REF!"}},{"$f":"'Pob x Genero'!#REF!","v":{"$error":"#REF!"}},"Hombre","00-04",{"$f":"'Pob x Genero'!#REF!","v":{"$error":"#REF!"}},1406]
[{"$f":"'Pob x Genero'!#REF!","v":{"$error":"#REF!"}},{"$f":"'Pob x Genero'!#REF!","v":{"$error":"#REF!"}},{"$f":"'Pob x Genero'!#REF!","v":{"$error":"#REF!"}},{"$f":"'Pob x Genero'!#REF!","v":{"$error":"#REF!"}},{"$f":"'Pob x Genero'!#REF!","v":{"$error":"#REF!"}},"Hombre","00-04",{"$f":"'Pob x Genero'!#REF!","v":{"$error":"#REF!"}},1407]
[{"$f":"'Pob x Genero'!#REF!","v":{"$error":"#REF!"}},{"$f":"'Pob x Genero'!#REF!","v":{"$error":"#REF!"}},{"$f":"'Pob x Genero'!#REF!","v":{"$error":"#REF!"}},{"$f":"'Pob x Genero'!#REF!","v":{"$error":"#REF!"}},{"$f":"'Pob x Genero'!#REF!","v":{"$error":"#REF!"}},"Hombre","00-04",{"$f":"'Pob x Genero'!#REF!","v":{"$error":"#REF!"}},1408]
[{"$f":"'Pob x Genero'!#REF!","v":{"$error":"#REF!"}},{"$f":"'Pob x Genero'!#REF!","v":{"$error":"#REF!"}},{"$f":"'Pob x Genero'!#REF!","v":{"$error":"#REF!"}},{"$f":"'Pob x Genero'!#REF!","v":{"$error":"#REF!"}},{"$f":"'Pob x Genero'!#REF!","v":{"$error":"#REF!"}},"Hombre","00-04",{"$f":"'Pob x Genero'!#REF!","v":{"$error":"#REF!"}},1409]
[{"$f":"'Pob x Genero'!#REF!","v":{"$error":"#REF!"}},{"$f":"'Pob x Genero'!#REF!","v":{"$error":"#REF!"}},{"$f":"'Pob x Genero'!#REF!","v":{"$error":"#REF!"}},{"$f":"'Pob x Genero'!#REF!","v":{"$error":"#REF!"}},{"$f":"'Pob x Genero'!#REF!","v":{"$error":"#REF!"}},{"$f":"F1410","v":"Hombre"},{"$f":"G1410","v":"00-04"},{"$f":"'Pob x Genero'!#REF!","v":{"$error":"#REF!"}},1410]
[{"$f":"'Pob x Genero'!#REF!","v":{"$error":"#REF!"}},{"$f":"'Pob x Genero'!#REF!","v":{"$error":"#REF!"}},{"$f":"'Pob x Genero'!#REF!","v":{"$error":"#REF!"}},{"$f":"'Pob x Genero'!#REF!","v":{"$error":"#REF!"}},{"$f":"'Pob x Genero'!#REF!","v":{"$error":"#REF!"}},"Hombre","00-04",{"$f":"'Pob x Genero'!#REF!","v":{"$error":"#REF!"}},1411]
[{"$f":"'Pob x Genero'!#REF!","v":{"$error":"#REF!"}},{"$f":"'Pob x Genero'!#REF!","v":{"$error":"#REF!"}},{"$f":"'Pob x Genero'!#REF!","v":{"$error":"#REF!"}},{"$f":"'Pob x Genero'!#REF!","v":{"$error":"#REF!"}},{"$f":"'Pob x Genero'!#REF!","v":{"$error":"#REF!"}},"Hombre","00-04",{"$f":"'Pob x Genero'!#REF!","v":{"$error":"#REF!"}},1412]
[{"$f":"'Pob x Genero'!#REF!","v":{"$error":"#REF!"}},{"$f":"'Pob x Genero'!#REF!","v":{"$error":"#REF!"}},{"$f":"'Pob x Genero'!#REF!","v":{"$error":"#REF!"}},{"$f":"'Pob x Genero'!#REF!","v":{"$error":"#REF!"}},{"$f":"'Pob x Genero'!#REF!","v":{"$error":"#REF!"}},"Hombre","00-04",{"$f":"'Pob x Genero'!#REF!","v":{"$error":"#REF!"}},1413]
[{"$f":"'Pob x Genero'!#REF!","v":{"$error":"#REF!"}},{"$f":"'Pob x Genero'!#REF!","v":{"$error":"#REF!"}},{"$f":"'Pob x Genero'!#REF!","v":{"$error":"#REF!"}},{"$f":"'Pob x Genero'!#REF!","v":{"$error":"#REF!"}},{"$f":"'Pob x Genero'!#REF!","v":{"$error":"#REF!"}},"Hombre","00-04",{"$f":"'Pob x Genero'!#REF!","v":{"$error":"#REF!"}},1414]
[{"$f":"'Pob x Genero'!#REF!","v":{"$error":"#REF!"}},{"$f":"'Pob x Genero'!#REF!","v":{"$error":"#REF!"}},{"$f":"'Pob x Genero'!#REF!","v":{"$error":"#REF!"}},{"$f":"'Pob x Genero'!#REF!","v":{"$error":"#REF!"}},{"$f":"'Pob x Genero'!#REF!","v":{"$error":"#REF!"}},"Hombre","00-04",{"$f":"'Pob x Genero'!#REF!","v":{"$error":"#REF!"}},1415]
[{"$f":"'Pob x Genero'!#REF!","v":{"$error":"#REF!"}},{"$f":"'Pob x Genero'!#REF!","v":{"$error":"#REF!"}},{"$f":"'Pob x Genero'!#REF!","v":{"$error":"#REF!"}},{"$f":"'Pob x Genero'!#REF!","v":{"$error":"#REF!"}},{"$f":"'Pob x Genero'!#REF!","v":{"$error":"#REF!"}},"Hombre","00-04",{"$f":"'Pob x Genero'!#REF!","v":{"$error":"#REF!"}},1416]
[{"$f":"'Pob x Genero'!#REF!","v":{"$error":"#REF!"}},{"$f":"'Pob x Genero'!#REF!","v":{"$error":"#REF!"}},{"$f":"'Pob x Genero'!#REF!","v":{"$error":"#REF!"}},{"$f":"'Pob x Genero'!#REF!","v":{"$error":"#REF!"}},{"$f":"'Pob x Genero'!#REF!","v":{"$error":"#REF!"}},"Hombre","00-04",{"$f":"'Pob x Genero'!#REF!","v":{"$error":"#REF!"}},1417]
[{"$f":"'Pob x Genero'!#REF!","v":{"$error":"#REF!"}},{"$f":"'Pob x Genero'!#REF!","v":{"$error":"#REF!"}},{"$f":"'Pob x Genero'!#REF!","v":{"$error":"#REF!"}},{"$f":"'Pob x Genero'!#REF!","v":{"$error":"#REF!"}},{"$f":"'Pob x Genero'!#REF!","v":{"$error":"#REF!"}},"Hombre","00-04",{"$f":"'Pob x Genero'!#REF!","v":{"$error":"#REF!"}},1418]
[{"$f":"'Pob x Genero'!#REF!","v":{"$error":"#REF!"}},{"$f":"'Pob x Genero'!#REF!","v":{"$error":"#REF!"}},{"$f":"'Pob x Genero'!#REF!","v":{"$error":"#REF!"}},{"$f":"'Pob x Genero'!#REF!","v":{"$error":"#REF!"}},{"$f":"'Pob x Genero'!#REF!","v":{"$error":"#REF!"}},"Hombre","00-04",{"$f":"'Pob x Genero'!#REF!","v":{"$error":"#REF!"}},1419]
[{"$f":"'Pob x Genero'!#REF!","v":{"$error":"#REF!"}},{"$f":"'Pob x Genero'!#REF!","v":{"$error":"#REF!"}},{"$f":"'Pob x Genero'!#REF!","v":{"$error":"#REF!"}},{"$f":"'Pob x Genero'!#REF!","v":{"$error":"#REF!"}},{"$f":"'Pob x Genero'!#REF!","v":{"$error":"#REF!"}},"Hombre","00-04",{"$f":"'Pob x Genero'!#REF!","v":{"$error":"#REF!"}},1420]
[{"$f":"'Pob x Genero'!#REF!","v":{"$error":"#REF!"}},{"$f":"'Pob x Genero'!#REF!","v":{"$error":"#REF!"}},{"$f":"'Pob x Genero'!#REF!","v":{"$error":"#REF!"}},{"$f":"'Pob x Genero'!#REF!","v":{"$error":"#REF!"}},{"$f":"'Pob x Genero'!#REF!","v":{"$error":"#REF!"}},"Hombre","00-04",{"$f":"'Pob x Genero'!#REF!","v":{"$error":"#REF!"}},1421]
[{"$f":"'Pob x Genero'!#REF!","v":{"$error":"#REF!"}},{"$f":"'Pob x Genero'!#REF!","v":{"$error":"#REF!"}},{"$f":"'Pob x Genero'!#REF!","v":{"$error":"#REF!"}},{"$f":"'Pob x Genero'!#REF!","v":{"$error":"#REF!"}},{"$f":"'Pob x Genero'!#REF!","v":{"$error":"#REF!"}},"Hombre","00-04",{"$f":"'Pob x Genero'!#REF!","v":{"$error":"#REF!"}},1422]
[{"$f":"'Pob x Genero'!#REF!","v":{"$error":"#REF!"}},{"$f":"'Pob x Genero'!#REF!","v":{"$error":"#REF!"}},{"$f":"'Pob x Genero'!#REF!","v":{"$error":"#REF!"}},{"$f":"'Pob x Genero'!#REF!","v":{"$error":"#REF!"}},{"$f":"'Pob x Genero'!#REF!","v":{"$error":"#REF!"}},"Hombre","00-04",{"$f":"'Pob x Genero'!#REF!","v":{"$error":"#REF!"}},1423]
[{"$f":"'Pob x Genero'!#REF!","v":{"$error":"#REF!"}},{"$f":"'Pob x Genero'!#REF!","v":{"$error":"#REF!"}},{"$f":"'Pob x Genero'!#REF!","v":{"$error":"#REF!"}},{"$f":"'Pob x Genero'!#REF!","v":{"$error":"#REF!"}},{"$f":"'Pob x Genero'!#REF!","v":{"$error":"#REF!"}},"Hombre","00-04",{"$f":"'Pob x Genero'!#REF!","v":{"$error":"#REF!"}},1424]
[{"$f":"'Pob x Genero'!#REF!","v":{"$error":"#REF!"}},{"$f":"'Pob x Genero'!#REF!","v":{"$error":"#REF!"}},{"$f":"'Pob x Genero'!#REF!","v":{"$error":"#REF!"}},{"$f":"'Pob x Genero'!#REF!","v":{"$error":"#REF!"}},{"$f":"'Pob x Genero'!#REF!","v":{"$error":"#REF!"}},"Hombre","00-04",{"$f":"'Pob x Genero'!#REF!","v":{"$error":"#REF!"}},1425]
[{"$f":"'Pob x Genero'!#REF!","v":{"$error":"#REF!"}},{"$f":"'Pob x Genero'!#REF!","v":{"$error":"#REF!"}},{"$f":"'Pob x Genero'!#REF!","v":{"$error":"#REF!"}},{"$f":"'Pob x Genero'!#REF!","v":{"$error":"#REF!"}},{"$f":"'Pob x Genero'!#REF!","v":{"$error":"#REF!"}},"Hombre","00-04",{"$f":"'Pob x Genero'!#REF!","v":{"$error":"#REF!"}},1426]
[{"$f":"'Pob x Genero'!#REF!","v":{"$error":"#REF!"}},{"$f":"'Pob x Genero'!#REF!","v":{"$error":"#REF!"}},{"$f":"'Pob x Genero'!#REF!","v":{"$error":"#REF!"}},{"$f":"'Pob x Genero'!#REF!","v":{"$error":"#REF!"}},{"$f":"'Pob x Genero'!#REF!","v":{"$error":"#REF!"}},"Hombre","00-04",{"$f":"'Pob x Genero'!#REF!","v":{"$error":"#REF!"}},1427]
[{"$f":"'Pob x Genero'!#REF!","v":{"$error":"#REF!"}},{"$f":"'Pob x Genero'!#REF!","v":{"$error":"#REF!"}},{"$f":"'Pob x Genero'!#REF!","v":{"$error":"#REF!"}},{"$f":"'Pob x Genero'!#REF!","v":{"$error":"#REF!"}},{"$f":"'Pob x Genero'!#REF!","v":{"$error":"#REF!"}},"Hombre","00-04",{"$f":"'Pob x Genero'!#REF!","v":{"$error":"#REF!"}},1428]
[{"$f":"'Pob x Genero'!#REF!","v":{"$error":"#REF!"}},{"$f":"'Pob x Genero'!#REF!","v":{"$error":"#REF!"}},{"$f":"'Pob x Genero'!#REF!","v":{"$error":"#REF!"}},{"$f":"'Pob x Genero'!#REF!","v":{"$error":"#REF!"}},{"$f":"'Pob x Genero'!#REF!","v":{"$error":"#REF!"}},"Hombre","00-04",{"$f":"'Pob x Genero'!#REF!","v":{"$error":"#REF!"}},1429]
[{"$f":"'Pob x Genero'!#REF!","v":{"$error":"#REF!"}},{"$f":"'Pob x Genero'!#REF!","v":{"$error":"#REF!"}},{"$f":"'Pob x Genero'!#REF!","v":{"$error":"#REF!"}},{"$f":"'Pob x Genero'!#REF!","v":{"$error":"#REF!"}},{"$f":"'Pob x Genero'!#REF!","v":{"$error":"#REF!"}},"Hombre","00-04",{"$f":"'Pob x Genero'!#REF!","v":{"$error":"#REF!"}},1430]
[{"$f":"'Pob x Genero'!#REF!","v":{"$error":"#REF!"}},{"$f":"'Pob x Genero'!#REF!","v":{"$error":"#REF!"}},{"$f":"'Pob x Genero'!#REF!","v":{"$error":"#REF!"}},{"$f":"'Pob x Genero'!#REF!","v":{"$error":"#REF!"}},{"$f":"'Pob x Genero'!#REF!","v":{"$error":"#REF!"}},"Hombre","00-04",{"$f":"'Pob x Genero'!#REF!","v":{"$error":"#REF!"}},1431]
[{"$f":"'Pob x Genero'!#REF!","v":{"$error":"#REF!"}},{"$f":"'Pob x Genero'!#REF!","v":{"$error":"#REF!"}},{"$f":"'Pob x Genero'!#REF!","v":{"$error":"#REF!"}},{"$f":"'Pob x Genero'!#REF!","v":{"$error":"#REF!"}},{"$f":"'Pob x Genero'!#REF!","v":{"$error":"#REF!"}},"Hombre","00-04",{"$f":"'Pob x Genero'!#REF!","v":{"$error":"#REF!"}},1432]
[{"$f":"'Pob x Genero'!#REF!","v":{"$error":"#REF!"}},{"$f":"'Pob x Genero'!#REF!","v":{"$error":"#REF!"}},{"$f":"'Pob x Genero'!#REF!","v":{"$error":"#REF!"}},{"$f":"'Pob x Genero'!#REF!","v":{"$error":"#REF!"}},{"$f":"'Pob x Genero'!#REF!","v":{"$error":"#REF!"}},"Hombre","00-04",{"$f":"'Pob x Genero'!#REF!","v":{"$error":"#REF!"}},1433]
[{"$f":"'Pob x Genero'!#REF!","v":{"$error":"#REF!"}},{"$f":"'Pob x Genero'!#REF!","v":{"$error":"#REF!"}},{"$f":"'Pob x Genero'!#REF!","v":{"$error":"#REF!"}},{"$f":"'Pob x Genero'!#REF!","v":{"$error":"#REF!"}},{"$f":"'Pob x Genero'!#REF!","v":{"$error":"#REF!"}},"Hombre","00-04",{"$f":"'Pob x Genero'!#REF!","v":{"$error":"#REF!"}},1434]
[{"$f":"'Pob x Genero'!#REF!","v":{"$error":"#REF!"}},{"$f":"'Pob x Genero'!#REF!","v":{"$error":"#REF!"}},{"$f":"'Pob x Genero'!#REF!","v":{"$error":"#REF!"}},{"$f":"'Pob x Genero'!#REF!","v":{"$error":"#REF!"}},{"$f":"'Pob x Genero'!#REF!","v":{"$error":"#REF!"}},"Hombre","00-04",{"$f":"'Pob x Genero'!#REF!","v":{"$error":"#REF!"}},1435]
[{"$f":"'Pob x Genero'!#REF!","v":{"$error":"#REF!"}},{"$f":"'Pob x Genero'!#REF!","v":{"$error":"#REF!"}},{"$f":"'Pob x Genero'!#REF!","v":{"$error":"#REF!"}},{"$f":"'Pob x Genero'!#REF!","v":{"$error":"#REF!"}},{"$f":"'Pob x Genero'!#REF!","v":{"$error":"#REF!"}},"Hombre","00-04",{"$f":"'Pob x Genero'!#REF!","v":{"$error":"#REF!"}},1436]
[{"$f":"'Pob x Genero'!#REF!","v":{"$error":"#REF!"}},{"$f":"'Pob x Genero'!#REF!","v":{"$error":"#REF!"}},{"$f":"'Pob x Genero'!#REF!","v":{"$error":"#REF!"}},{"$f":"'Pob x Genero'!#REF!","v":{"$error":"#REF!"}},{"$f":"'Pob x Genero'!#REF!","v":{"$error":"#REF!"}},"Hombre","00-04",{"$f":"'Pob x Genero'!#REF!","v":{"$error":"#REF!"}},1437]
[{"$f":"'Pob x Genero'!#REF!","v":{"$error":"#REF!"}},{"$f":"'Pob x Genero'!#REF!","v":{"$error":"#REF!"}},{"$f":"'Pob x Genero'!#REF!","v":{"$error":"#REF!"}},{"$f":"'Pob x Genero'!#REF!","v":{"$error":"#REF!"}},{"$f":"'Pob x Genero'!#REF!","v":{"$error":"#REF!"}},"Hombre","00-04",{"$f":"'Pob x Genero'!#REF!","v":{"$error":"#REF!"}},1438]
[{"$f":"'Pob x Genero'!#REF!","v":{"$error":"#REF!"}},{"$f":"'Pob x Genero'!#REF!","v":{"$error":"#REF!"}},{"$f":"'Pob x Genero'!#REF!","v":{"$error":"#REF!"}},{"$f":"'Pob x Genero'!#REF!","v":{"$error":"#REF!"}},{"$f":"'Pob x Genero'!#REF!","v":{"$error":"#REF!"}},"Hombre","00-04",{"$f":"'Pob x Genero'!#REF!","v":{"$error":"#REF!"}},1439]
[{"$f":"'Pob x Genero'!#REF!","v":{"$error":"#REF!"}},{"$f":"'Pob x Genero'!#REF!","v":{"$error":"#REF!"}},{"$f":"'Pob x Genero'!#REF!","v":{"$error":"#REF!"}},{"$f":"'Pob x Genero'!#REF!","v":{"$error":"#REF!"}},{"$f":"'Pob x Genero'!#REF!","v":{"$error":"#REF!"}},"Hombre","00-04",{"$f":"'Pob x Genero'!#REF!","v":{"$error":"#REF!"}},1440]
[{"$f":"'Pob x Genero'!#REF!","v":{"$error":"#REF!"}},{"$f":"'Pob x Genero'!#REF!","v":{"$error":"#REF!"}},{"$f":"'Pob x Genero'!#REF!","v":{"$error":"#REF!"}},{"$f":"'Pob x Genero'!#REF!","v":{"$error":"#REF!"}},{"$f":"'Pob x Genero'!#REF!","v":{"$error":"#REF!"}},"Hombre","00-04",{"$f":"'Pob x Genero'!#REF!","v":{"$error":"#REF!"}},1441]
[{"$f":"'Pob x Genero'!#REF!","v":{"$error":"#REF!"}},{"$f":"'Pob x Genero'!#REF!","v":{"$error":"#REF!"}},{"$f":"'Pob x Genero'!#REF!","v":{"$error":"#REF!"}},{"$f":"'Pob x Genero'!#REF!","v":{"$error":"#REF!"}},{"$f":"'Pob x Genero'!#REF!","v":{"$error":"#REF!"}},"Hombre","00-04",{"$f":"'Pob x Genero'!#REF!","v":{"$error":"#REF!"}},1442]
[{"$f":"'Pob x Genero'!#REF!","v":{"$error":"#REF!"}},{"$f":"'Pob x Genero'!#REF!","v":{"$error":"#REF!"}},{"$f":"'Pob x Genero'!#REF!","v":{"$error":"#REF!"}},{"$f":"'Pob x Genero'!#REF!","v":{"$error":"#REF!"}},{"$f":"'Pob x Genero'!#REF!","v":{"$error":"#REF!"}},"Hombre","00-04",{"$f":"'Pob x Genero'!#REF!","v":{"$error":"#REF!"}},1443]
[{"$f":"'Pob x Genero'!#REF!","v":{"$error":"#REF!"}},{"$f":"'Pob x Genero'!#REF!","v":{"$error":"#REF!"}},{"$f":"'Pob x Genero'!#REF!","v":{"$error":"#REF!"}},{"$f":"'Pob x Genero'!#REF!","v":{"$error":"#REF!"}},{"$f":"'Pob x Genero'!#REF!","v":{"$error":"#REF!"}},"Hombre","00-04",{"$f":"'Pob x Genero'!#REF!","v":{"$error":"#REF!"}},1444]
[{"$f":"'Pob x Genero'!#REF!","v":{"$error":"#REF!"}},{"$f":"'Pob x Genero'!#REF!","v":{"$error":"#REF!"}},{"$f":"'Pob x Genero'!#REF!","v":{"$error":"#REF!"}},{"$f":"'Pob x Genero'!#REF!","v":{"$error":"#REF!"}},{"$f":"'Pob x Genero'!#REF!","v":{"$error":"#REF!"}},"Hombre","00-04",{"$f":"'Pob x Genero'!#REF!","v":{"$error":"#REF!"}},1445]
[{"$f":"'Pob x Genero'!#REF!","v":{"$error":"#REF!"}},{"$f":"'Pob x Genero'!#REF!","v":{"$error":"#REF!"}},{"$f":"'Pob x Genero'!#REF!","v":{"$error":"#REF!"}},{"$f":"'Pob x Genero'!#REF!","v":{"$error":"#REF!"}},{"$f":"'Pob x Genero'!#REF!","v":{"$error":"#REF!"}},"Hombre","00-04",{"$f":"'Pob x Genero'!#REF!","v":{"$error":"#REF!"}},1446]
[{"$f":"'Pob x Genero'!#REF!","v":{"$error":"#REF!"}},{"$f":"'Pob x Genero'!#REF!","v":{"$error":"#REF!"}},{"$f":"'Pob x Genero'!#REF!","v":{"$error":"#REF!"}},{"$f":"'Pob x Genero'!#REF!","v":{"$error":"#REF!"}},{"$f":"'Pob x Genero'!#REF!","v":{"$error":"#REF!"}},"Hombre","00-04",{"$f":"'Pob x Genero'!#REF!","v":{"$error":"#REF!"}},1447]
[{"$f":"'Pob x Genero'!#REF!","v":{"$error":"#REF!"}},{"$f":"'Pob x Genero'!#REF!","v":{"$error":"#REF!"}},{"$f":"'Pob x Genero'!#REF!","v":{"$error":"#REF!"}},{"$f":"'Pob x Genero'!#REF!","v":{"$error":"#REF!"}},{"$f":"'Pob x Genero'!#REF!","v":{"$error":"#REF!"}},"Hombre","00-04",{"$f":"'Pob x Genero'!#REF!","v":{"$error":"#REF!"}},1448]
[{"$f":"'Pob x Genero'!#REF!","v":{"$error":"#REF!"}},{"$f":"'Pob x Genero'!#REF!","v":{"$error":"#REF!"}},{"$f":"'Pob x Genero'!#REF!","v":{"$error":"#REF!"}},{"$f":"'Pob x Genero'!#REF!","v":{"$error":"#REF!"}},{"$f":"'Pob x Genero'!#REF!","v":{"$error":"#REF!"}},"Hombre","00-04",{"$f":"'Pob x Genero'!#REF!","v":{"$error":"#REF!"}},1449]
[{"$f":"'Pob x Genero'!#REF!","v":{"$error":"#REF!"}},{"$f":"'Pob x Genero'!#REF!","v":{"$error":"#REF!"}},{"$f":"'Pob x Genero'!#REF!","v":{"$error":"#REF!"}},{"$f":"'Pob x Genero'!#REF!","v":{"$error":"#REF!"}},{"$f":"'Pob x Genero'!#REF!","v":{"$error":"#REF!"}},"Hombre","00-04",{"$f":"'Pob x Genero'!#REF!","v":{"$error":"#REF!"}},1450]
[{"$f":"'Pob x Genero'!#REF!","v":{"$error":"#REF!"}},{"$f":"'Pob x Genero'!#REF!","v":{"$error":"#REF!"}},{"$f":"'Pob x Genero'!#REF!","v":{"$error":"#REF!"}},{"$f":"'Pob x Genero'!#REF!","v":{"$error":"#REF!"}},{"$f":"'Pob x Genero'!#REF!","v":{"$error":"#REF!"}},"Hombre","00-04",{"$f":"'Pob x Genero'!#REF!","v":{"$error":"#REF!"}},1451]
[{"$f":"'Pob x Genero'!#REF!","v":{"$error":"#REF!"}},{"$f":"'Pob x Genero'!#REF!","v":{"$error":"#REF!"}},{"$f":"'Pob x Genero'!#REF!","v":{"$error":"#REF!"}},{"$f":"'Pob x Genero'!#REF!","v":{"$error":"#REF!"}},{"$f":"'Pob x Genero'!#REF!","v":{"$error":"#REF!"}},"Hombre","00-04",{"$f":"'Pob x Genero'!#REF!","v":{"$error":"#REF!"}},1452]
[{"$f":"'Pob x Genero'!#REF!","v":{"$error":"#REF!"}},{"$f":"'Pob x Genero'!#REF!","v":{"$error":"#REF!"}},{"$f":"'Pob x Genero'!#REF!","v":{"$error":"#REF!"}},{"$f":"'Pob x Genero'!#REF!","v":{"$error":"#REF!"}},{"$f":"'Pob x Genero'!#REF!","v":{"$error":"#REF!"}},"Hombre","00-04",{"$f":"'Pob x Genero'!#REF!","v":{"$error":"#REF!"}},1453]
[{"$f":"'Pob x Genero'!#REF!","v":{"$error":"#REF!"}},{"$f":"'Pob x Genero'!#REF!","v":{"$error":"#REF!"}},{"$f":"'Pob x Genero'!#REF!","v":{"$error":"#REF!"}},{"$f":"'Pob x Genero'!#REF!","v":{"$error":"#REF!"}},{"$f":"'Pob x Genero'!#REF!","v":{"$error":"#REF!"}},"Hombre","00-04",{"$f":"'Pob x Genero'!#REF!","v":{"$error":"#REF!"}},1454]
[{"$f":"'Pob x Genero'!#REF!","v":{"$error":"#REF!"}},{"$f":"'Pob x Genero'!#REF!","v":{"$error":"#REF!"}},{"$f":"'Pob x Genero'!#REF!","v":{"$error":"#REF!"}},{"$f":"'Pob x Genero'!#REF!","v":{"$error":"#REF!"}},{"$f":"'Pob x Genero'!#REF!","v":{"$error":"#REF!"}},"Hombre","00-04",{"$f":"'Pob x Genero'!#REF!","v":{"$error":"#REF!"}},1455]
[{"$f":"'Pob x Genero'!#REF!","v":{"$error":"#REF!"}},{"$f":"'Pob x Genero'!#REF!","v":{"$error":"#REF!"}},{"$f":"'Pob x Genero'!#REF!","v":{"$error":"#REF!"}},{"$f":"'Pob x Genero'!#REF!","v":{"$error":"#REF!"}},{"$f":"'Pob x Genero'!#REF!","v":{"$error":"#REF!"}},"Hombre","00-04",{"$f":"'Pob x Genero'!#REF!","v":{"$error":"#REF!"}},1456]
[{"$f":"'Pob x Genero'!#REF!","v":{"$error":"#REF!"}},{"$f":"'Pob x Genero'!#REF!","v":{"$error":"#REF!"}},{"$f":"'Pob x Genero'!#REF!","v":{"$error":"#REF!"}},{"$f":"'Pob x Genero'!#REF!","v":{"$error":"#REF!"}},{"$f":"'Pob x Genero'!#REF!","v":{"$error":"#REF!"}},"Hombre","00-04",{"$f":"'Pob x Genero'!#REF!","v":{"$error":"#REF!"}},1457]
[{"$f":"'Pob x Genero'!#REF!","v":{"$error":"#REF!"}},{"$f":"'Pob x Genero'!#REF!","v":{"$error":"#REF!"}},{"$f":"'Pob x Genero'!#REF!","v":{"$error":"#REF!"}},{"$f":"'Pob x Genero'!#REF!","v":{"$error":"#REF!"}},{"$f":"'Pob x Genero'!#REF!","v":{"$error":"#REF!"}},"Hombre","00-04",{"$f":"'Pob x Genero'!#REF!","v":{"$error":"#REF!"}},1458]
[{"$f":"'Pob x Genero'!#REF!","v":{"$error":"#REF!"}},{"$f":"'Pob x Genero'!#REF!","v":{"$error":"#REF!"}},{"$f":"'Pob x Genero'!#REF!","v":{"$error":"#REF!"}},{"$f":"'Pob x Genero'!#REF!","v":{"$error":"#REF!"}},{"$f":"'Pob x Genero'!#REF!","v":{"$error":"#REF!"}},"Hombre","00-04",{"$f":"'Pob x Genero'!#REF!","v":{"$error":"#REF!"}},1459]
[{"$f":"'Pob x Genero'!#REF!","v":{"$error":"#REF!"}},{"$f":"'Pob x Genero'!#REF!","v":{"$error":"#REF!"}},{"$f":"'Pob x Genero'!#REF!","v":{"$error":"#REF!"}},{"$f":"'Pob x Genero'!#REF!","v":{"$error":"#REF!"}},{"$f":"'Pob x Genero'!#REF!","v":{"$error":"#REF!"}},"Hombre","00-04",{"$f":"'Pob x Genero'!#REF!","v":{"$error":"#REF!"}},1460]
[{"$f":"'Pob x Genero'!#REF!","v":{"$error":"#REF!"}},{"$f":"'Pob x Genero'!#REF!","v":{"$error":"#REF!"}},{"$f":"'Pob x Genero'!#REF!","v":{"$error":"#REF!"}},{"$f":"'Pob x Genero'!#REF!","v":{"$error":"#REF!"}},{"$f":"'Pob x Genero'!#REF!","v":{"$error":"#REF!"}},"Hombre","00-04",{"$f":"'Pob x Genero'!#REF!","v":{"$error":"#REF!"}},1461]
[{"$f":"'Pob x Genero'!#REF!","v":{"$error":"#REF!"}},{"$f":"'Pob x Genero'!#REF!","v":{"$error":"#REF!"}},{"$f":"'Pob x Genero'!#REF!","v":{"$error":"#REF!"}},{"$f":"'Pob x Genero'!#REF!","v":{"$error":"#REF!"}},{"$f":"'Pob x Genero'!#REF!","v":{"$error":"#REF!"}},"Hombre","00-04",{"$f":"'Pob x Genero'!#REF!","v":{"$error":"#REF!"}},1462]
[{"$f":"'Pob x Genero'!#REF!","v":{"$error":"#REF!"}},{"$f":"'Pob x Genero'!#REF!","v":{"$error":"#REF!"}},{"$f":"'Pob x Genero'!#REF!","v":{"$error":"#REF!"}},{"$f":"'Pob x Genero'!#REF!","v":{"$error":"#REF!"}},{"$f":"'Pob x Genero'!#REF!","v":{"$error":"#REF!"}},"Hombre","00-04",{"$f":"'Pob x Genero'!#REF!","v":{"$error":"#REF!"}},1463]
[{"$f":"'Pob x Genero'!#REF!","v":{"$error":"#REF!"}},{"$f":"'Pob x Genero'!#REF!","v":{"$error":"#REF!"}},{"$f":"'Pob x Genero'!#REF!","v":{"$error":"#REF!"}},{"$f":"'Pob x Genero'!#REF!","v":{"$error":"#REF!"}},{"$f":"'Pob x Genero'!#REF!","v":{"$error":"#REF!"}},"Hombre","00-04",{"$f":"'Pob x Genero'!#REF!","v":{"$error":"#REF!"}},1464]
[{"$f":"'Pob x Genero'!#REF!","v":{"$error":"#REF!"}},{"$f":"'Pob x Genero'!#REF!","v":{"$error":"#REF!"}},{"$f":"'Pob x Genero'!#REF!","v":{"$error":"#REF!"}},{"$f":"'Pob x Genero'!#REF!","v":{"$error":"#REF!"}},{"$f":"'Pob x Genero'!#REF!","v":{"$error":"#REF!"}},"Hombre","00-04",{"$f":"'Pob x Genero'!#REF!","v":{"$error":"#REF!"}},1465]
[{"$f":"'Pob x Genero'!#REF!","v":{"$error":"#REF!"}},{"$f":"'Pob x Genero'!#REF!","v":{"$error":"#REF!"}},{"$f":"'Pob x Genero'!#REF!","v":{"$error":"#REF!"}},{"$f":"'Pob x Genero'!#REF!","v":{"$error":"#REF!"}},{"$f":"'Pob x Genero'!#REF!","v":{"$error":"#REF!"}},"Hombre","00-04",{"$f":"'Pob x Genero'!#REF!","v":{"$error":"#REF!"}},1466]
[{"$f":"'Pob x Genero'!#REF!","v":{"$error":"#REF!"}},{"$f":"'Pob x Genero'!#REF!","v":{"$error":"#REF!"}},{"$f":"'Pob x Genero'!#REF!","v":{"$error":"#REF!"}},{"$f":"'Pob x Genero'!#REF!","v":{"$error":"#REF!"}},{"$f":"'Pob x Genero'!#REF!","v":{"$error":"#REF!"}},"Hombre","00-04",{"$f":"'Pob x Genero'!#REF!","v":{"$error":"#REF!"}},1467]
[{"$f":"'Pob x Genero'!#REF!","v":{"$error":"#REF!"}},{"$f":"'Pob x Genero'!#REF!","v":{"$error":"#REF!"}},{"$f":"'Pob x Genero'!#REF!","v":{"$error":"#REF!"}},{"$f":"'Pob x Genero'!#REF!","v":{"$error":"#REF!"}},{"$f":"'Pob x Genero'!#REF!","v":{"$error":"#REF!"}},"Hombre","00-04",{"$f":"'Pob x Genero'!#REF!","v":{"$error":"#REF!"}},1468]
[{"$f":"'Pob x Genero'!#REF!","v":{"$error":"#REF!"}},{"$f":"'Pob x Genero'!#REF!","v":{"$error":"#REF!"}},{"$f":"'Pob x Genero'!#REF!","v":{"$error":"#REF!"}},{"$f":"'Pob x Genero'!#REF!","v":{"$error":"#REF!"}},{"$f":"'Pob x Genero'!#REF!","v":{"$error":"#REF!"}},"Hombre","00-04",{"$f":"'Pob x Genero'!#REF!","v":{"$error":"#REF!"}},1469]
[{"$f":"'Pob x Genero'!#REF!","v":{"$error":"#REF!"}},{"$f":"'Pob x Genero'!#REF!","v":{"$error":"#REF!"}},{"$f":"'Pob x Genero'!#REF!","v":{"$error":"#REF!"}},{"$f":"'Pob x Genero'!#REF!","v":{"$error":"#REF!"}},{"$f":"'Pob x Genero'!#REF!","v":{"$error":"#REF!"}},"Hombre","00-04",{"$f":"'Pob x Genero'!#REF!","v":{"$error":"#REF!"}},1470]
[{"$f":"'Pob x Genero'!#REF!","v":{"$error":"#REF!"}},{"$f":"'Pob x Genero'!#REF!","v":{"$error":"#REF!"}},{"$f":"'Pob x Genero'!#REF!","v":{"$error":"#REF!"}},{"$f":"'Pob x Genero'!#REF!","v":{"$error":"#REF!"}},{"$f":"'Pob x Genero'!#REF!","v":{"$error":"#REF!"}},"Hombre","00-04",{"$f":"'Pob x Genero'!#REF!","v":{"$error":"#REF!"}},1471]
[{"$f":"'Pob x Genero'!#REF!","v":{"$error":"#REF!"}},{"$f":"'Pob x Genero'!#REF!","v":{"$error":"#REF!"}},{"$f":"'Pob x Genero'!#REF!","v":{"$error":"#REF!"}},{"$f":"'Pob x Genero'!#REF!","v":{"$error":"#REF!"}},{"$f":"'Pob x Genero'!#REF!","v":{"$error":"#REF!"}},"Hombre","00-04",{"$f":"'Pob x Genero'!#REF!","v":{"$error":"#REF!"}},1472]
[{"$f":"'Pob x Genero'!#REF!","v":{"$error":"#REF!"}},{"$f":"'Pob x Genero'!#REF!","v":{"$error":"#REF!"}},{"$f":"'Pob x Genero'!#REF!","v":{"$error":"#REF!"}},{"$f":"'Pob x Genero'!#REF!","v":{"$error":"#REF!"}},{"$f":"'Pob x Genero'!#REF!","v":{"$error":"#REF!"}},"Hombre","00-04",{"$f":"'Pob x Genero'!#REF!","v":{"$error":"#REF!"}},1473]
[{"$f":"'Pob x Genero'!#REF!","v":{"$error":"#REF!"}},{"$f":"'Pob x Genero'!#REF!","v":{"$error":"#REF!"}},{"$f":"'Pob x Genero'!#REF!","v":{"$error":"#REF!"}},{"$f":"'Pob x Genero'!#REF!","v":{"$error":"#REF!"}},{"$f":"'Pob x Genero'!#REF!","v":{"$error":"#REF!"}},{"$f":"F1474","v":"Hombre"},{"$f":"G1474","v":"00-04"},{"$f":"'Pob x Genero'!#REF!","v":{"$error":"#REF!"}},1474]
[{"$f":"'Pob x Genero'!#REF!","v":{"$error":"#REF!"}},{"$f":"'Pob x Genero'!#REF!","v":{"$error":"#REF!"}},{"$f":"'Pob x Genero'!#REF!","v":{"$error":"#REF!"}},{"$f":"'Pob x Genero'!#REF!","v":{"$error":"#REF!"}},{"$f":"'Pob x Genero'!#REF!","v":{"$error":"#REF!"}},"Hombre","00-04",{"$f":"'Pob x Genero'!#REF!","v":{"$error":"#REF!"}},1475]
[{"$f":"'Pob x Genero'!#REF!","v":{"$error":"#REF!"}},{"$f":"'Pob x Genero'!#REF!","v":{"$error":"#REF!"}},{"$f":"'Pob x Genero'!#REF!","v":{"$error":"#REF!"}},{"$f":"'Pob x Genero'!#REF!","v":{"$error":"#REF!"}},{"$f":"'Pob x Genero'!#REF!","v":{"$error":"#REF!"}},"Hombre","00-04",{"$f":"'Pob x Genero'!#REF!","v":{"$error":"#REF!"}},1476]
[{"$f":"'Pob x Genero'!#REF!","v":{"$error":"#REF!"}},{"$f":"'Pob x Genero'!#REF!","v":{"$error":"#REF!"}},{"$f":"'Pob x Genero'!#REF!","v":{"$error":"#REF!"}},{"$f":"'Pob x Genero'!#REF!","v":{"$error":"#REF!"}},{"$f":"'Pob x Genero'!#REF!","v":{"$error":"#REF!"}},"Hombre","00-04",{"$f":"'Pob x Genero'!#REF!","v":{"$error":"#REF!"}},1477]
[{"$f":"'Pob x Genero'!#REF!","v":{"$error":"#REF!"}},{"$f":"'Pob x Genero'!#REF!","v":{"$error":"#REF!"}},{"$f":"'Pob x Genero'!#REF!","v":{"$error":"#REF!"}},{"$f":"'Pob x Genero'!#REF!","v":{"$error":"#REF!"}},{"$f":"'Pob x Genero'!#REF!","v":{"$error":"#REF!"}},"Hombre","00-04",{"$f":"'Pob x Genero'!#REF!","v":{"$error":"#REF!"}},1478]
[{"$f":"'Pob x Genero'!#REF!","v":{"$error":"#REF!"}},{"$f":"'Pob x Genero'!#REF!","v":{"$error":"#REF!"}},{"$f":"'Pob x Genero'!#REF!","v":{"$error":"#REF!"}},{"$f":"'Pob x Genero'!#REF!","v":{"$error":"#REF!"}},{"$f":"'Pob x Genero'!#REF!","v":{"$error":"#REF!"}},"Hombre","00-04",{"$f":"'Pob x Genero'!#REF!","v":{"$error":"#REF!"}},1479]
[{"$f":"'Pob x Genero'!#REF!","v":{"$error":"#REF!"}},{"$f":"'Pob x Genero'!#REF!","v":{"$error":"#REF!"}},{"$f":"'Pob x Genero'!#REF!","v":{"$error":"#REF!"}},{"$f":"'Pob x Genero'!#REF!","v":{"$error":"#REF!"}},{"$f":"'Pob x Genero'!#REF!","v":{"$error":"#REF!"}},"Hombre","00-04",{"$f":"'Pob x Genero'!#REF!","v":{"$error":"#REF!"}},1480]
[{"$f":"'Pob x Genero'!#REF!","v":{"$error":"#REF!"}},{"$f":"'Pob x Genero'!#REF!","v":{"$error":"#REF!"}},{"$f":"'Pob x Genero'!#REF!","v":{"$error":"#REF!"}},{"$f":"'Pob x Genero'!#REF!","v":{"$error":"#REF!"}},{"$f":"'Pob x Genero'!#REF!","v":{"$error":"#REF!"}},"Hombre","00-04",{"$f":"'Pob x Genero'!#REF!","v":{"$error":"#REF!"}},1481]
[{"$f":"'Pob x Genero'!#REF!","v":{"$error":"#REF!"}},{"$f":"'Pob x Genero'!#REF!","v":{"$error":"#REF!"}},{"$f":"'Pob x Genero'!#REF!","v":{"$error":"#REF!"}},{"$f":"'Pob x Genero'!#REF!","v":{"$error":"#REF!"}},{"$f":"'Pob x Genero'!#REF!","v":{"$error":"#REF!"}},"Hombre","00-04",{"$f":"'Pob x Genero'!#REF!","v":{"$error":"#REF!"}},1482]
[{"$f":"'Pob x Genero'!#REF!","v":{"$error":"#REF!"}},{"$f":"'Pob x Genero'!#REF!","v":{"$error":"#REF!"}},{"$f":"'Pob x Genero'!#REF!","v":{"$error":"#REF!"}},{"$f":"'Pob x Genero'!#REF!","v":{"$error":"#REF!"}},{"$f":"'Pob x Genero'!#REF!","v":{"$error":"#REF!"}},"Hombre","00-04",{"$f":"'Pob x Genero'!#REF!","v":{"$error":"#REF!"}},1483]
[{"$f":"'Pob x Genero'!#REF!","v":{"$error":"#REF!"}},{"$f":"'Pob x Genero'!#REF!","v":{"$error":"#REF!"}},{"$f":"'Pob x Genero'!#REF!","v":{"$error":"#REF!"}},{"$f":"'Pob x Genero'!#REF!","v":{"$error":"#REF!"}},{"$f":"'Pob x Genero'!#REF!","v":{"$error":"#REF!"}},"Hombre","00-04",{"$f":"'Pob x Genero'!#REF!","v":{"$error":"#REF!"}},1484]
[{"$f":"'Pob x Genero'!#REF!","v":{"$error":"#REF!"}},{"$f":"'Pob x Genero'!#REF!","v":{"$error":"#REF!"}},{"$f":"'Pob x Genero'!#REF!","v":{"$error":"#REF!"}},{"$f":"'Pob x Genero'!#REF!","v":{"$error":"#REF!"}},{"$f":"'Pob x Genero'!#REF!","v":{"$error":"#REF!"}},"Hombre","00-04",{"$f":"'Pob x Genero'!#REF!","v":{"$error":"#REF!"}},1485]
[{"$f":"'Pob x Genero'!#REF!","v":{"$error":"#REF!"}},{"$f":"'Pob x Genero'!#REF!","v":{"$error":"#REF!"}},{"$f":"'Pob x Genero'!#REF!","v":{"$error":"#REF!"}},{"$f":"'Pob x Genero'!#REF!","v":{"$error":"#REF!"}},{"$f":"'Pob x Genero'!#REF!","v":{"$error":"#REF!"}},"Hombre","00-04",{"$f":"'Pob x Genero'!#REF!","v":{"$error":"#REF!"}},1486]
[{"$f":"'Pob x Genero'!#REF!","v":{"$error":"#REF!"}},{"$f":"'Pob x Genero'!#REF!","v":{"$error":"#REF!"}},{"$f":"'Pob x Genero'!#REF!","v":{"$error":"#REF!"}},{"$f":"'Pob x Genero'!#REF!","v":{"$error":"#REF!"}},{"$f":"'Pob x Genero'!#REF!","v":{"$error":"#REF!"}},"Hombre","00-04",{"$f":"'Pob x Genero'!#REF!","v":{"$error":"#REF!"}},1487]
[{"$f":"'Pob x Genero'!#REF!","v":{"$error":"#REF!"}},{"$f":"'Pob x Genero'!#REF!","v":{"$error":"#REF!"}},{"$f":"'Pob x Genero'!#REF!","v":{"$error":"#REF!"}},{"$f":"'Pob x Genero'!#REF!","v":{"$error":"#REF!"}},{"$f":"'Pob x Genero'!#REF!","v":{"$error":"#REF!"}},"Hombre","00-04",{"$f":"'Pob x Genero'!#REF!","v":{"$error":"#REF!"}},1488]
[{"$f":"'Pob x Genero'!#REF!","v":{"$error":"#REF!"}},{"$f":"'Pob x Genero'!#REF!","v":{"$error":"#REF!"}},{"$f":"'Pob x Genero'!#REF!","v":{"$error":"#REF!"}},{"$f":"'Pob x Genero'!#REF!","v":{"$error":"#REF!"}},{"$f":"'Pob x Genero'!#REF!","v":{"$error":"#REF!"}},"Hombre","00-04",{"$f":"'Pob x Genero'!#REF!","v":{"$error":"#REF!"}},1489]
[{"$f":"'Pob x Genero'!#REF!","v":{"$error":"#REF!"}},{"$f":"'Pob x Genero'!#REF!","v":{"$error":"#REF!"}},{"$f":"'Pob x Genero'!#REF!","v":{"$error":"#REF!"}},{"$f":"'Pob x Genero'!#REF!","v":{"$error":"#REF!"}},{"$f":"'Pob x Genero'!#REF!","v":{"$error":"#REF!"}},"Hombre","00-04",{"$f":"'Pob x Genero'!#REF!","v":{"$error":"#REF!"}},1490]
[{"$f":"'Pob x Genero'!#REF!","v":{"$error":"#REF!"}},{"$f":"'Pob x Genero'!#REF!","v":{"$error":"#REF!"}},{"$f":"'Pob x Genero'!#REF!","v":{"$error":"#REF!"}},{"$f":"'Pob x Genero'!#REF!","v":{"$error":"#REF!"}},{"$f":"'Pob x Genero'!#REF!","v":{"$error":"#REF!"}},"Hombre","00-04",{"$f":"'Pob x Genero'!#REF!","v":{"$error":"#REF!"}},1491]
[{"$f":"'Pob x Genero'!#REF!","v":{"$error":"#REF!"}},{"$f":"'Pob x Genero'!#REF!","v":{"$error":"#REF!"}},{"$f":"'Pob x Genero'!#REF!","v":{"$error":"#REF!"}},{"$f":"'Pob x Genero'!#REF!","v":{"$error":"#REF!"}},{"$f":"'Pob x Genero'!#REF!","v":{"$error":"#REF!"}},"Hombre","00-04",{"$f":"'Pob x Genero'!#REF!","v":{"$error":"#REF!"}},1492]
[{"$f":"'Pob x Genero'!#REF!","v":{"$error":"#REF!"}},{"$f":"'Pob x Genero'!#REF!","v":{"$error":"#REF!"}},{"$f":"'Pob x Genero'!#REF!","v":{"$error":"#REF!"}},{"$f":"'Pob x Genero'!#REF!","v":{"$error":"#REF!"}},{"$f":"'Pob x Genero'!#REF!","v":{"$error":"#REF!"}},"Hombre","00-04",{"$f":"'Pob x Genero'!#REF!","v":{"$error":"#REF!"}},1493]
[{"$f":"'Pob x Genero'!#REF!","v":{"$error":"#REF!"}},{"$f":"'Pob x Genero'!#REF!","v":{"$error":"#REF!"}},{"$f":"'Pob x Genero'!#REF!","v":{"$error":"#REF!"}},{"$f":"'Pob x Genero'!#REF!","v":{"$error":"#REF!"}},{"$f":"'Pob x Genero'!#REF!","v":{"$error":"#REF!"}},"Hombre","00-04",{"$f":"'Pob x Genero'!#REF!","v":{"$error":"#REF!"}},1494]
[{"$f":"'Pob x Genero'!#REF!","v":{"$error":"#REF!"}},{"$f":"'Pob x Genero'!#REF!","v":{"$error":"#REF!"}},{"$f":"'Pob x Genero'!#REF!","v":{"$error":"#REF!"}},{"$f":"'Pob x Genero'!#REF!","v":{"$error":"#REF!"}},{"$f":"'Pob x Genero'!#REF!","v":{"$error":"#REF!"}},"Hombre","00-04",{"$f":"'Pob x Genero'!#REF!","v":{"$error":"#REF!"}},1495]
[{"$f":"'Pob x Genero'!#REF!","v":{"$error":"#REF!"}},{"$f":"'Pob x Genero'!#REF!","v":{"$error":"#REF!"}},{"$f":"'Pob x Genero'!#REF!","v":{"$error":"#REF!"}},{"$f":"'Pob x Genero'!#REF!","v":{"$error":"#REF!"}},{"$f":"'Pob x Genero'!#REF!","v":{"$error":"#REF!"}},"Hombre","00-04",{"$f":"'Pob x Genero'!#REF!","v":{"$error":"#REF!"}},1496]
[{"$f":"'Pob x Genero'!#REF!","v":{"$error":"#REF!"}},{"$f":"'Pob x Genero'!#REF!","v":{"$error":"#REF!"}},{"$f":"'Pob x Genero'!#REF!","v":{"$error":"#REF!"}},{"$f":"'Pob x Genero'!#REF!","v":{"$error":"#REF!"}},{"$f":"'Pob x Genero'!#REF!","v":{"$error":"#REF!"}},"Hombre","00-04",{"$f":"'Pob x Genero'!#REF!","v":{"$error":"#REF!"}},1497]
[{"$f":"'Pob x Genero'!#REF!","v":{"$error":"#REF!"}},{"$f":"'Pob x Genero'!#REF!","v":{"$error":"#REF!"}},{"$f":"'Pob x Genero'!#REF!","v":{"$error":"#REF!"}},{"$f":"'Pob x Genero'!#REF!","v":{"$error":"#REF!"}},{"$f":"'Pob x Genero'!#REF!","v":{"$error":"#REF!"}},"Hombre","00-04",{"$f":"'Pob x Genero'!#REF!","v":{"$error":"#REF!"}},1498]
[{"$f":"'Pob x Genero'!#REF!","v":{"$error":"#REF!"}},{"$f":"'Pob x Genero'!#REF!","v":{"$error":"#REF!"}},{"$f":"'Pob x Genero'!#REF!","v":{"$error":"#REF!"}},{"$f":"'Pob x Genero'!#REF!","v":{"$error":"#REF!"}},{"$f":"'Pob x Genero'!#REF!","v":{"$error":"#REF!"}},"Hombre","00-04",{"$f":"'Pob x Genero'!#REF!","v":{"$error":"#REF!"}},1499]
[{"$f":"'Pob x Genero'!#REF!","v":{"$error":"#REF!"}},{"$f":"'Pob x Genero'!#REF!","v":{"$error":"#REF!"}},{"$f":"'Pob x Genero'!#REF!","v":{"$error":"#REF!"}},{"$f":"'Pob x Genero'!#REF!","v":{"$error":"#REF!"}},{"$f":"'Pob x Genero'!#REF!","v":{"$error":"#REF!"}},"Hombre","00-04",{"$f":"'Pob x Genero'!#REF!","v":{"$error":"#REF!"}},1500]
[{"$f":"'Pob x Genero'!#REF!","v":{"$error":"#REF!"}},{"$f":"'Pob x Genero'!#REF!","v":{"$error":"#REF!"}},{"$f":"'Pob x Genero'!#REF!","v":{"$error":"#REF!"}},{"$f":"'Pob x Genero'!#REF!","v":{"$error":"#REF!"}},{"$f":"'Pob x Genero'!#REF!","v":{"$error":"#REF!"}},"Hombre","00-04",{"$f":"'Pob x Genero'!#REF!","v":{"$error":"#REF!"}},1501]
[{"$f":"'Pob x Genero'!#REF!","v":{"$error":"#REF!"}},{"$f":"'Pob x Genero'!#REF!","v":{"$error":"#REF!"}},{"$f":"'Pob x Genero'!#REF!","v":{"$error":"#REF!"}},{"$f":"'Pob x Genero'!#REF!","v":{"$error":"#REF!"}},{"$f":"'Pob x Genero'!#REF!","v":{"$error":"#REF!"}},"Hombre","00-04",{"$f":"'Pob x Genero'!#REF!","v":{"$error":"#REF!"}},1502]
[{"$f":"'Pob x Genero'!#REF!","v":{"$error":"#REF!"}},{"$f":"'Pob x Genero'!#REF!","v":{"$error":"#REF!"}},{"$f":"'Pob x Genero'!#REF!","v":{"$error":"#REF!"}},{"$f":"'Pob x Genero'!#REF!","v":{"$error":"#REF!"}},{"$f":"'Pob x Genero'!#REF!","v":{"$error":"#REF!"}},"Hombre","00-04",{"$f":"'Pob x Genero'!#REF!","v":{"$error":"#REF!"}},1503]
[{"$f":"'Pob x Genero'!#REF!","v":{"$error":"#REF!"}},{"$f":"'Pob x Genero'!#REF!","v":{"$error":"#REF!"}},{"$f":"'Pob x Genero'!#REF!","v":{"$error":"#REF!"}},{"$f":"'Pob x Genero'!#REF!","v":{"$error":"#REF!"}},{"$f":"'Pob x Genero'!#REF!","v":{"$error":"#REF!"}},"Hombre","00-04",{"$f":"'Pob x Genero'!#REF!","v":{"$error":"#REF!"}},1504]
[{"$f":"'Pob x Genero'!#REF!","v":{"$error":"#REF!"}},{"$f":"'Pob x Genero'!#REF!","v":{"$error":"#REF!"}},{"$f":"'Pob x Genero'!#REF!","v":{"$error":"#REF!"}},{"$f":"'Pob x Genero'!#REF!","v":{"$error":"#REF!"}},{"$f":"'Pob x Genero'!#REF!","v":{"$error":"#REF!"}},"Hombre","00-04",{"$f":"'Pob x Genero'!#REF!","v":{"$error":"#REF!"}},1505]
[{"$f":"'Pob x Genero'!#REF!","v":{"$error":"#REF!"}},{"$f":"'Pob x Genero'!#REF!","v":{"$error":"#REF!"}},{"$f":"'Pob x Genero'!#REF!","v":{"$error":"#REF!"}},{"$f":"'Pob x Genero'!#REF!","v":{"$error":"#REF!"}},{"$f":"'Pob x Genero'!#REF!","v":{"$error":"#REF!"}},"Hombre","00-04",{"$f":"'Pob x Genero'!#REF!","v":{"$error":"#REF!"}},1506]
[{"$f":"'Pob x Genero'!#REF!","v":{"$error":"#REF!"}},{"$f":"'Pob x Genero'!#REF!","v":{"$error":"#REF!"}},{"$f":"'Pob x Genero'!#REF!","v":{"$error":"#REF!"}},{"$f":"'Pob x Genero'!#REF!","v":{"$error":"#REF!"}},{"$f":"'Pob x Genero'!#REF!","v":{"$error":"#REF!"}},"Hombre","00-04",{"$f":"'Pob x Genero'!#REF!","v":{"$error":"#REF!"}},1507]
[{"$f":"'Pob x Genero'!#REF!","v":{"$error":"#REF!"}},{"$f":"'Pob x Genero'!#REF!","v":{"$error":"#REF!"}},{"$f":"'Pob x Genero'!#REF!","v":{"$error":"#REF!"}},{"$f":"'Pob x Genero'!#REF!","v":{"$error":"#REF!"}},{"$f":"'Pob x Genero'!#REF!","v":{"$error":"#REF!"}},"Hombre","00-04",{"$f":"'Pob x Genero'!#REF!","v":{"$error":"#REF!"}},1508]
[{"$f":"'Pob x Genero'!#REF!","v":{"$error":"#REF!"}},{"$f":"'Pob x Genero'!#REF!","v":{"$error":"#REF!"}},{"$f":"'Pob x Genero'!#REF!","v":{"$error":"#REF!"}},{"$f":"'Pob x Genero'!#REF!","v":{"$error":"#REF!"}},{"$f":"'Pob x Genero'!#REF!","v":{"$error":"#REF!"}},"Hombre","00-04",{"$f":"'Pob x Genero'!#REF!","v":{"$error":"#REF!"}},1509]
[{"$f":"'Pob x Genero'!#REF!","v":{"$error":"#REF!"}},{"$f":"'Pob x Genero'!#REF!","v":{"$error":"#REF!"}},{"$f":"'Pob x Genero'!#REF!","v":{"$error":"#REF!"}},{"$f":"'Pob x Genero'!#REF!","v":{"$error":"#REF!"}},{"$f":"'Pob x Genero'!#REF!","v":{"$error":"#REF!"}},"Hombre","00-04",{"$f":"'Pob x Genero'!#REF!","v":{"$error":"#REF!"}},1510]
[{"$f":"'Pob x Genero'!#REF!","v":{"$error":"#REF!"}},{"$f":"'Pob x Genero'!#REF!","v":{"$error":"#REF!"}},{"$f":"'Pob x Genero'!#REF!","v":{"$error":"#REF!"}},{"$f":"'Pob x Genero'!#REF!","v":{"$error":"#REF!"}},{"$f":"'Pob x Genero'!#REF!","v":{"$error":"#REF!"}},"Hombre","00-04",{"$f":"'Pob x Genero'!#REF!","v":{"$error":"#REF!"}},1511]
[{"$f":"'Pob x Genero'!#REF!","v":{"$error":"#REF!"}},{"$f":"'Pob x Genero'!#REF!","v":{"$error":"#REF!"}},{"$f":"'Pob x Genero'!#REF!","v":{"$error":"#REF!"}},{"$f":"'Pob x Genero'!#REF!","v":{"$error":"#REF!"}},{"$f":"'Pob x Genero'!#REF!","v":{"$error":"#REF!"}},"Hombre","00-04",{"$f":"'Pob x Genero'!#REF!","v":{"$error":"#REF!"}},1512]
[{"$f":"'Pob x Genero'!#REF!","v":{"$error":"#REF!"}},{"$f":"'Pob x Genero'!#REF!","v":{"$error":"#REF!"}},{"$f":"'Pob x Genero'!#REF!","v":{"$error":"#REF!"}},{"$f":"'Pob x Genero'!#REF!","v":{"$error":"#REF!"}},{"$f":"'Pob x Genero'!#REF!","v":{"$error":"#REF!"}},"Hombre","00-04",{"$f":"'Pob x Genero'!#REF!","v":{"$error":"#REF!"}},1513]
[{"$f":"'Pob x Genero'!#REF!","v":{"$error":"#REF!"}},{"$f":"'Pob x Genero'!#REF!","v":{"$error":"#REF!"}},{"$f":"'Pob x Genero'!#REF!","v":{"$error":"#REF!"}},{"$f":"'Pob x Genero'!#REF!","v":{"$error":"#REF!"}},{"$f":"'Pob x Genero'!#REF!","v":{"$error":"#REF!"}},"Hombre","00-04",{"$f":"'Pob x Genero'!#REF!","v":{"$error":"#REF!"}},1514]
[{"$f":"'Pob x Genero'!#REF!","v":{"$error":"#REF!"}},{"$f":"'Pob x Genero'!#REF!","v":{"$error":"#REF!"}},{"$f":"'Pob x Genero'!#REF!","v":{"$error":"#REF!"}},{"$f":"'Pob x Genero'!#REF!","v":{"$error":"#REF!"}},{"$f":"'Pob x Genero'!#REF!","v":{"$error":"#REF!"}},"Hombre","00-04",{"$f":"'Pob x Genero'!#REF!","v":{"$error":"#REF!"}},1515]
[{"$f":"'Pob x Genero'!#REF!","v":{"$error":"#REF!"}},{"$f":"'Pob x Genero'!#REF!","v":{"$error":"#REF!"}},{"$f":"'Pob x Genero'!#REF!","v":{"$error":"#REF!"}},{"$f":"'Pob x Genero'!#REF!","v":{"$error":"#REF!"}},{"$f":"'Pob x Genero'!#REF!","v":{"$error":"#REF!"}},"Hombre","00-04",{"$f":"'Pob x Genero'!#REF!","v":{"$error":"#REF!"}},1516]
[{"$f":"'Pob x Genero'!#REF!","v":{"$error":"#REF!"}},{"$f":"'Pob x Genero'!#REF!","v":{"$error":"#REF!"}},{"$f":"'Pob x Genero'!#REF!","v":{"$error":"#REF!"}},{"$f":"'Pob x Genero'!#REF!","v":{"$error":"#REF!"}},{"$f":"'Pob x Genero'!#REF!","v":{"$error":"#REF!"}},"Hombre","00-04",{"$f":"'Pob x Genero'!#REF!","v":{"$error":"#REF!"}},1517]
[{"$f":"'Pob x Genero'!#REF!","v":{"$error":"#REF!"}},{"$f":"'Pob x Genero'!#REF!","v":{"$error":"#REF!"}},{"$f":"'Pob x Genero'!#REF!","v":{"$error":"#REF!"}},{"$f":"'Pob x Genero'!#REF!","v":{"$error":"#REF!"}},{"$f":"'Pob x Genero'!#REF!","v":{"$error":"#REF!"}},"Hombre","00-04",{"$f":"'Pob x Genero'!#REF!","v":{"$error":"#REF!"}},1518]
[{"$f":"'Pob x Genero'!#REF!","v":{"$error":"#REF!"}},{"$f":"'Pob x Genero'!#REF!","v":{"$error":"#REF!"}},{"$f":"'Pob x Genero'!#REF!","v":{"$error":"#REF!"}},{"$f":"'Pob x Genero'!#REF!","v":{"$error":"#REF!"}},{"$f":"'Pob x Genero'!#REF!","v":{"$error":"#REF!"}},"Hombre","00-04",{"$f":"'Pob x Genero'!#REF!","v":{"$error":"#REF!"}},1519]
[{"$f":"'Pob x Genero'!#REF!","v":{"$error":"#REF!"}},{"$f":"'Pob x Genero'!#REF!","v":{"$error":"#REF!"}},{"$f":"'Pob x Genero'!#REF!","v":{"$error":"#REF!"}},{"$f":"'Pob x Genero'!#REF!","v":{"$error":"#REF!"}},{"$f":"'Pob x Genero'!#REF!","v":{"$error":"#REF!"}},"Hombre","00-04",{"$f":"'Pob x Genero'!#REF!","v":{"$error":"#REF!"}},1520]
[{"$f":"'Pob x Genero'!#REF!","v":{"$error":"#REF!"}},{"$f":"'Pob x Genero'!#REF!","v":{"$error":"#REF!"}},{"$f":"'Pob x Genero'!#REF!","v":{"$error":"#REF!"}},{"$f":"'Pob x Genero'!#REF!","v":{"$error":"#REF!"}},{"$f":"'Pob x Genero'!#REF!","v":{"$error":"#REF!"}},"Hombre","00-04",{"$f":"'Pob x Genero'!#REF!","v":{"$error":"#REF!"}},1521]
[{"$f":"'Pob x Genero'!#REF!","v":{"$error":"#REF!"}},{"$f":"'Pob x Genero'!#REF!","v":{"$error":"#REF!"}},{"$f":"'Pob x Genero'!#REF!","v":{"$error":"#REF!"}},{"$f":"'Pob x Genero'!#REF!","v":{"$error":"#REF!"}},{"$f":"'Pob x Genero'!#REF!","v":{"$error":"#REF!"}},"Hombre","00-04",{"$f":"'Pob x Genero'!#REF!","v":{"$error":"#REF!"}},1522]
[{"$f":"'Pob x Genero'!#REF!","v":{"$error":"#REF!"}},{"$f":"'Pob x Genero'!#REF!","v":{"$error":"#REF!"}},{"$f":"'Pob x Genero'!#REF!","v":{"$error":"#REF!"}},{"$f":"'Pob x Genero'!#REF!","v":{"$error":"#REF!"}},{"$f":"'Pob x Genero'!#REF!","v":{"$error":"#REF!"}},"Hombre","00-04",{"$f":"'Pob x Genero'!#REF!","v":{"$error":"#REF!"}},1523]
[{"$f":"'Pob x Genero'!#REF!","v":{"$error":"#REF!"}},{"$f":"'Pob x Genero'!#REF!","v":{"$error":"#REF!"}},{"$f":"'Pob x Genero'!#REF!","v":{"$error":"#REF!"}},{"$f":"'Pob x Genero'!#REF!","v":{"$error":"#REF!"}},{"$f":"'Pob x Genero'!#REF!","v":{"$error":"#REF!"}},"Hombre","00-04",{"$f":"'Pob x Genero'!#REF!","v":{"$error":"#REF!"}},1524]
[{"$f":"'Pob x Genero'!#REF!","v":{"$error":"#REF!"}},{"$f":"'Pob x Genero'!#REF!","v":{"$error":"#REF!"}},{"$f":"'Pob x Genero'!#REF!","v":{"$error":"#REF!"}},{"$f":"'Pob x Genero'!#REF!","v":{"$error":"#REF!"}},{"$f":"'Pob x Genero'!#REF!","v":{"$error":"#REF!"}},"Hombre","00-04",{"$f":"'Pob x Genero'!#REF!","v":{"$error":"#REF!"}},1525]
[{"$f":"'Pob x Genero'!#REF!","v":{"$error":"#REF!"}},{"$f":"'Pob x Genero'!#REF!","v":{"$error":"#REF!"}},{"$f":"'Pob x Genero'!#REF!","v":{"$error":"#REF!"}},{"$f":"'Pob x Genero'!#REF!","v":{"$error":"#REF!"}},{"$f":"'Pob x Genero'!#REF!","v":{"$error":"#REF!"}},"Hombre","00-04",{"$f":"'Pob x Genero'!#REF!","v":{"$error":"#REF!"}},1526]
[{"$f":"'Pob x Genero'!#REF!","v":{"$error":"#REF!"}},{"$f":"'Pob x Genero'!#REF!","v":{"$error":"#REF!"}},{"$f":"'Pob x Genero'!#REF!","v":{"$error":"#REF!"}},{"$f":"'Pob x Genero'!#REF!","v":{"$error":"#REF!"}},{"$f":"'Pob x Genero'!#REF!","v":{"$error":"#REF!"}},"Hombre","00-04",{"$f":"'Pob x Genero'!#REF!","v":{"$error":"#REF!"}},1527]
[{"$f":"'Pob x Genero'!#REF!","v":{"$error":"#REF!"}},{"$f":"'Pob x Genero'!#REF!","v":{"$error":"#REF!"}},{"$f":"'Pob x Genero'!#REF!","v":{"$error":"#REF!"}},{"$f":"'Pob x Genero'!#REF!","v":{"$error":"#REF!"}},{"$f":"'Pob x Genero'!#REF!","v":{"$error":"#REF!"}},"Hombre","00-04",{"$f":"'Pob x Genero'!#REF!","v":{"$error":"#REF!"}},1528]
[{"$f":"'Pob x Genero'!#REF!","v":{"$error":"#REF!"}},{"$f":"'Pob x Genero'!#REF!","v":{"$error":"#REF!"}},{"$f":"'Pob x Genero'!#REF!","v":{"$error":"#REF!"}},{"$f":"'Pob x Genero'!#REF!","v":{"$error":"#REF!"}},{"$f":"'Pob x Genero'!#REF!","v":{"$error":"#REF!"}},"Hombre","00-04",{"$f":"'Pob x Genero'!#REF!","v":{"$error":"#REF!"}},1529]
[{"$f":"'Pob x Genero'!#REF!","v":{"$error":"#REF!"}},{"$f":"'Pob x Genero'!#REF!","v":{"$error":"#REF!"}},{"$f":"'Pob x Genero'!#REF!","v":{"$error":"#REF!"}},{"$f":"'Pob x Genero'!#REF!","v":{"$error":"#REF!"}},{"$f":"'Pob x Genero'!#REF!","v":{"$error":"#REF!"}},"Hombre","00-04",{"$f":"'Pob x Genero'!#REF!","v":{"$error":"#REF!"}},1530]
[{"$f":"'Pob x Genero'!#REF!","v":{"$error":"#REF!"}},{"$f":"'Pob x Genero'!#REF!","v":{"$error":"#REF!"}},{"$f":"'Pob x Genero'!#REF!","v":{"$error":"#REF!"}},{"$f":"'Pob x Genero'!#REF!","v":{"$error":"#REF!"}},{"$f":"'Pob x Genero'!#REF!","v":{"$error":"#REF!"}},"Hombre","00-04",{"$f":"'Pob x Genero'!#REF!","v":{"$error":"#REF!"}},1531]
[{"$f":"'Pob x Genero'!#REF!","v":{"$error":"#REF!"}},{"$f":"'Pob x Genero'!#REF!","v":{"$error":"#REF!"}},{"$f":"'Pob x Genero'!#REF!","v":{"$error":"#REF!"}},{"$f":"'Pob x Genero'!#REF!","v":{"$error":"#REF!"}},{"$f":"'Pob x Genero'!#REF!","v":{"$error":"#REF!"}},"Hombre","00-04",{"$f":"'Pob x Genero'!#REF!","v":{"$error":"#REF!"}},1532]
[{"$f":"'Pob x Genero'!#REF!","v":{"$error":"#REF!"}},{"$f":"'Pob x Genero'!#REF!","v":{"$error":"#REF!"}},{"$f":"'Pob x Genero'!#REF!","v":{"$error":"#REF!"}},{"$f":"'Pob x Genero'!#REF!","v":{"$error":"#REF!"}},{"$f":"'Pob x Genero'!#REF!","v":{"$error":"#REF!"}},"Hombre","00-04",{"$f":"'Pob x Genero'!#REF!","v":{"$error":"#REF!"}},1533]
[{"$f":"'Pob x Genero'!#REF!","v":{"$error":"#REF!"}},{"$f":"'Pob x Genero'!#REF!","v":{"$error":"#REF!"}},{"$f":"'Pob x Genero'!#REF!","v":{"$error":"#REF!"}},{"$f":"'Pob x Genero'!#REF!","v":{"$error":"#REF!"}},{"$f":"'Pob x Genero'!#REF!","v":{"$error":"#REF!"}},"Hombre","00-04",{"$f":"'Pob x Genero'!#REF!","v":{"$error":"#REF!"}},1534]
[{"$f":"'Pob x Genero'!#REF!","v":{"$error":"#REF!"}},{"$f":"'Pob x Genero'!#REF!","v":{"$error":"#REF!"}},{"$f":"'Pob x Genero'!#REF!","v":{"$error":"#REF!"}},{"$f":"'Pob x Genero'!#REF!","v":{"$error":"#REF!"}},{"$f":"'Pob x Genero'!#REF!","v":{"$error":"#REF!"}},"Hombre","00-04",{"$f":"'Pob x Genero'!#REF!","v":{"$error":"#REF!"}},1535]
[{"$f":"'Pob x Genero'!#REF!","v":{"$error":"#REF!"}},{"$f":"'Pob x Genero'!#REF!","v":{"$error":"#REF!"}},{"$f":"'Pob x Genero'!#REF!","v":{"$error":"#REF!"}},{"$f":"'Pob x Genero'!#REF!","v":{"$error":"#REF!"}},{"$f":"'Pob x Genero'!#REF!","v":{"$error":"#REF!"}},"Hombre","00-04",{"$f":"'Pob x Genero'!#REF!","v":{"$error":"#REF!"}},1536]
[{"$f":"'Pob x Genero'!#REF!","v":{"$error":"#REF!"}},{"$f":"'Pob x Genero'!#REF!","v":{"$error":"#REF!"}},{"$f":"'Pob x Genero'!#REF!","v":{"$error":"#REF!"}},{"$f":"'Pob x Genero'!#REF!","v":{"$error":"#REF!"}},{"$f":"'Pob x Genero'!#REF!","v":{"$error":"#REF!"}},"Hombre","00-04",{"$f":"'Pob x Genero'!#REF!","v":{"$error":"#REF!"}},1537]
[{"$f":"'Pob x Genero'!#REF!","v":{"$error":"#REF!"}},{"$f":"'Pob x Genero'!#REF!","v":{"$error":"#REF!"}},{"$f":"'Pob x Genero'!#REF!","v":{"$error":"#REF!"}},{"$f":"'Pob x Genero'!#REF!","v":{"$error":"#REF!"}},{"$f":"'Pob x Genero'!#REF!","v":{"$error":"#REF!"}},{"$f":"F1538","v":"Hombre"},{"$f":"G1538","v":"00-04"},{"$f":"'Pob x Genero'!#REF!","v":{"$error":"#REF!"}},1538]
[{"$f":"'Pob x Genero'!#REF!","v":{"$error":"#REF!"}},{"$f":"'Pob x Genero'!#REF!","v":{"$error":"#REF!"}},{"$f":"'Pob x Genero'!#REF!","v":{"$error":"#REF!"}},{"$f":"'Pob x Genero'!#REF!","v":{"$error":"#REF!"}},{"$f":"'Pob x Genero'!#REF!","v":{"$error":"#REF!"}},"Hombre","00-04",{"$f":"'Pob x Genero'!#REF!","v":{"$error":"#REF!"}},1539]
[{"$f":"'Pob x Genero'!#REF!","v":{"$error":"#REF!"}},{"$f":"'Pob x Genero'!#REF!","v":{"$error":"#REF!"}},{"$f":"'Pob x Genero'!#REF!","v":{"$error":"#REF!"}},{"$f":"'Pob x Genero'!#REF!","v":{"$error":"#REF!"}},{"$f":"'Pob x Genero'!#REF!","v":{"$error":"#REF!"}},"Hombre","00-04",{"$f":"'Pob x Genero'!#REF!","v":{"$error":"#REF!"}},1540]
[{"$f":"'Pob x Genero'!#REF!","v":{"$error":"#REF!"}},{"$f":"'Pob x Genero'!#REF!","v":{"$error":"#REF!"}},{"$f":"'Pob x Genero'!#REF!","v":{"$error":"#REF!"}},{"$f":"'Pob x Genero'!#REF!","v":{"$error":"#REF!"}},{"$f":"'Pob x Genero'!#REF!","v":{"$error":"#REF!"}},"Hombre","00-04",{"$f":"'Pob x Genero'!#REF!","v":{"$error":"#REF!"}},1541]
[{"$f":"'Pob x Genero'!#REF!","v":{"$error":"#REF!"}},{"$f":"'Pob x Genero'!#REF!","v":{"$error":"#REF!"}},{"$f":"'Pob x Genero'!#REF!","v":{"$error":"#REF!"}},{"$f":"'Pob x Genero'!#REF!","v":{"$error":"#REF!"}},{"$f":"'Pob x Genero'!#REF!","v":{"$error":"#REF!"}},"Hombre","00-04",{"$f":"'Pob x Genero'!#REF!","v":{"$error":"#REF!"}},1542]
[{"$f":"'Pob x Genero'!#REF!","v":{"$error":"#REF!"}},{"$f":"'Pob x Genero'!#REF!","v":{"$error":"#REF!"}},{"$f":"'Pob x Genero'!#REF!","v":{"$error":"#REF!"}},{"$f":"'Pob x Genero'!#REF!","v":{"$error":"#REF!"}},{"$f":"'Pob x Genero'!#REF!","v":{"$error":"#REF!"}},"Hombre","00-04",{"$f":"'Pob x Genero'!#REF!","v":{"$error":"#REF!"}},1543]
[{"$f":"'Pob x Genero'!#REF!","v":{"$error":"#REF!"}},{"$f":"'Pob x Genero'!#REF!","v":{"$error":"#REF!"}},{"$f":"'Pob x Genero'!#REF!","v":{"$error":"#REF!"}},{"$f":"'Pob x Genero'!#REF!","v":{"$error":"#REF!"}},{"$f":"'Pob x Genero'!#REF!","v":{"$error":"#REF!"}},"Hombre","00-04",{"$f":"'Pob x Genero'!#REF!","v":{"$error":"#REF!"}},1544]
[{"$f":"'Pob x Genero'!#REF!","v":{"$error":"#REF!"}},{"$f":"'Pob x Genero'!#REF!","v":{"$error":"#REF!"}},{"$f":"'Pob x Genero'!#REF!","v":{"$error":"#REF!"}},{"$f":"'Pob x Genero'!#REF!","v":{"$error":"#REF!"}},{"$f":"'Pob x Genero'!#REF!","v":{"$error":"#REF!"}},"Hombre","00-04",{"$f":"'Pob x Genero'!#REF!","v":{"$error":"#REF!"}},1545]
[{"$f":"'Pob x Genero'!#REF!","v":{"$error":"#REF!"}},{"$f":"'Pob x Genero'!#REF!","v":{"$error":"#REF!"}},{"$f":"'Pob x Genero'!#REF!","v":{"$error":"#REF!"}},{"$f":"'Pob x Genero'!#REF!","v":{"$error":"#REF!"}},{"$f":"'Pob x Genero'!#REF!","v":{"$error":"#REF!"}},"Hombre","00-04",{"$f":"'Pob x Genero'!#REF!","v":{"$error":"#REF!"}},1546]
[{"$f":"'Pob x Genero'!#REF!","v":{"$error":"#REF!"}},{"$f":"'Pob x Genero'!#REF!","v":{"$error":"#REF!"}},{"$f":"'Pob x Genero'!#REF!","v":{"$error":"#REF!"}},{"$f":"'Pob x Genero'!#REF!","v":{"$error":"#REF!"}},{"$f":"'Pob x Genero'!#REF!","v":{"$error":"#REF!"}},"Hombre","00-04",{"$f":"'Pob x Genero'!#REF!","v":{"$error":"#REF!"}},1547]
[{"$f":"'Pob x Genero'!#REF!","v":{"$error":"#REF!"}},{"$f":"'Pob x Genero'!#REF!","v":{"$error":"#REF!"}},{"$f":"'Pob x Genero'!#REF!","v":{"$error":"#REF!"}},{"$f":"'Pob x Genero'!#REF!","v":{"$error":"#REF!"}},{"$f":"'Pob x Genero'!#REF!","v":{"$error":"#REF!"}},"Hombre","00-04",{"$f":"'Pob x Genero'!#REF!","v":{"$error":"#REF!"}},1548]
[{"$f":"'Pob x Genero'!#REF!","v":{"$error":"#REF!"}},{"$f":"'Pob x Genero'!#REF!","v":{"$error":"#REF!"}},{"$f":"'Pob x Genero'!#REF!","v":{"$error":"#REF!"}},{"$f":"'Pob x Genero'!#REF!","v":{"$error":"#REF!"}},{"$f":"'Pob x Genero'!#REF!","v":{"$error":"#REF!"}},"Hombre","00-04",{"$f":"'Pob x Genero'!#REF!","v":{"$error":"#REF!"}},1549]
[{"$f":"'Pob x Genero'!#REF!","v":{"$error":"#REF!"}},{"$f":"'Pob x Genero'!#REF!","v":{"$error":"#REF!"}},{"$f":"'Pob x Genero'!#REF!","v":{"$error":"#REF!"}},{"$f":"'Pob x Genero'!#REF!","v":{"$error":"#REF!"}},{"$f":"'Pob x Genero'!#REF!","v":{"$error":"#REF!"}},"Hombre","00-04",{"$f":"'Pob x Genero'!#REF!","v":{"$error":"#REF!"}},1550]
[{"$f":"'Pob x Genero'!#REF!","v":{"$error":"#REF!"}},{"$f":"'Pob x Genero'!#REF!","v":{"$error":"#REF!"}},{"$f":"'Pob x Genero'!#REF!","v":{"$error":"#REF!"}},{"$f":"'Pob x Genero'!#REF!","v":{"$error":"#REF!"}},{"$f":"'Pob x Genero'!#REF!","v":{"$error":"#REF!"}},"Hombre","00-04",{"$f":"'Pob x Genero'!#REF!","v":{"$error":"#REF!"}},1551]
[{"$f":"'Pob x Genero'!#REF!","v":{"$error":"#REF!"}},{"$f":"'Pob x Genero'!#REF!","v":{"$error":"#REF!"}},{"$f":"'Pob x Genero'!#REF!","v":{"$error":"#REF!"}},{"$f":"'Pob x Genero'!#REF!","v":{"$error":"#REF!"}},{"$f":"'Pob x Genero'!#REF!","v":{"$error":"#REF!"}},"Hombre","00-04",{"$f":"'Pob x Genero'!#REF!","v":{"$error":"#REF!"}},1552]
[{"$f":"'Pob x Genero'!#REF!","v":{"$error":"#REF!"}},{"$f":"'Pob x Genero'!#REF!","v":{"$error":"#REF!"}},{"$f":"'Pob x Genero'!#REF!","v":{"$error":"#REF!"}},{"$f":"'Pob x Genero'!#REF!","v":{"$error":"#REF!"}},{"$f":"'Pob x Genero'!#REF!","v":{"$error":"#REF!"}},"Hombre","00-04",{"$f":"'Pob x Genero'!#REF!","v":{"$error":"#REF!"}},1553]
[{"$f":"'Pob x Genero'!#REF!","v":{"$error":"#REF!"}},{"$f":"'Pob x Genero'!#REF!","v":{"$error":"#REF!"}},{"$f":"'Pob x Genero'!#REF!","v":{"$error":"#REF!"}},{"$f":"'Pob x Genero'!#REF!","v":{"$error":"#REF!"}},{"$f":"'Pob x Genero'!#REF!","v":{"$error":"#REF!"}},"Hombre","00-04",{"$f":"'Pob x Genero'!#REF!","v":{"$error":"#REF!"}},1554]
[{"$f":"'Pob x Genero'!#REF!","v":{"$error":"#REF!"}},{"$f":"'Pob x Genero'!#REF!","v":{"$error":"#REF!"}},{"$f":"'Pob x Genero'!#REF!","v":{"$error":"#REF!"}},{"$f":"'Pob x Genero'!#REF!","v":{"$error":"#REF!"}},{"$f":"'Pob x Genero'!#REF!","v":{"$error":"#REF!"}},"Hombre","00-04",{"$f":"'Pob x Genero'!#REF!","v":{"$error":"#REF!"}},1555]
[{"$f":"'Pob x Genero'!#REF!","v":{"$error":"#REF!"}},{"$f":"'Pob x Genero'!#REF!","v":{"$error":"#REF!"}},{"$f":"'Pob x Genero'!#REF!","v":{"$error":"#REF!"}},{"$f":"'Pob x Genero'!#REF!","v":{"$error":"#REF!"}},{"$f":"'Pob x Genero'!#REF!","v":{"$error":"#REF!"}},"Hombre","00-04",{"$f":"'Pob x Genero'!#REF!","v":{"$error":"#REF!"}},1556]
[{"$f":"'Pob x Genero'!#REF!","v":{"$error":"#REF!"}},{"$f":"'Pob x Genero'!#REF!","v":{"$error":"#REF!"}},{"$f":"'Pob x Genero'!#REF!","v":{"$error":"#REF!"}},{"$f":"'Pob x Genero'!#REF!","v":{"$error":"#REF!"}},{"$f":"'Pob x Genero'!#REF!","v":{"$error":"#REF!"}},"Hombre","00-04",{"$f":"'Pob x Genero'!#REF!","v":{"$error":"#REF!"}},1557]
[{"$f":"'Pob x Genero'!#REF!","v":{"$error":"#REF!"}},{"$f":"'Pob x Genero'!#REF!","v":{"$error":"#REF!"}},{"$f":"'Pob x Genero'!#REF!","v":{"$error":"#REF!"}},{"$f":"'Pob x Genero'!#REF!","v":{"$error":"#REF!"}},{"$f":"'Pob x Genero'!#REF!","v":{"$error":"#REF!"}},"Hombre","00-04",{"$f":"'Pob x Genero'!#REF!","v":{"$error":"#REF!"}},1558]
[{"$f":"'Pob x Genero'!#REF!","v":{"$error":"#REF!"}},{"$f":"'Pob x Genero'!#REF!","v":{"$error":"#REF!"}},{"$f":"'Pob x Genero'!#REF!","v":{"$error":"#REF!"}},{"$f":"'Pob x Genero'!#REF!","v":{"$error":"#REF!"}},{"$f":"'Pob x Genero'!#REF!","v":{"$error":"#REF!"}},"Hombre","00-04",{"$f":"'Pob x Genero'!#REF!","v":{"$error":"#REF!"}},1559]
[{"$f":"'Pob x Genero'!#REF!","v":{"$error":"#REF!"}},{"$f":"'Pob x Genero'!#REF!","v":{"$error":"#REF!"}},{"$f":"'Pob x Genero'!#REF!","v":{"$error":"#REF!"}},{"$f":"'Pob x Genero'!#REF!","v":{"$error":"#REF!"}},{"$f":"'Pob x Genero'!#REF!","v":{"$error":"#REF!"}},"Hombre","00-04",{"$f":"'Pob x Genero'!#REF!","v":{"$error":"#REF!"}},1560]
[{"$f":"'Pob x Genero'!#REF!","v":{"$error":"#REF!"}},{"$f":"'Pob x Genero'!#REF!","v":{"$error":"#REF!"}},{"$f":"'Pob x Genero'!#REF!","v":{"$error":"#REF!"}},{"$f":"'Pob x Genero'!#REF!","v":{"$error":"#REF!"}},{"$f":"'Pob x Genero'!#REF!","v":{"$error":"#REF!"}},"Hombre","00-04",{"$f":"'Pob x Genero'!#REF!","v":{"$error":"#REF!"}},1561]
[{"$f":"'Pob x Genero'!#REF!","v":{"$error":"#REF!"}},{"$f":"'Pob x Genero'!#REF!","v":{"$error":"#REF!"}},{"$f":"'Pob x Genero'!#REF!","v":{"$error":"#REF!"}},{"$f":"'Pob x Genero'!#REF!","v":{"$error":"#REF!"}},{"$f":"'Pob x Genero'!#REF!","v":{"$error":"#REF!"}},"Hombre","00-04",{"$f":"'Pob x Genero'!#REF!","v":{"$error":"#REF!"}},1562]
[{"$f":"'Pob x Genero'!#REF!","v":{"$error":"#REF!"}},{"$f":"'Pob x Genero'!#REF!","v":{"$error":"#REF!"}},{"$f":"'Pob x Genero'!#REF!","v":{"$error":"#REF!"}},{"$f":"'Pob x Genero'!#REF!","v":{"$error":"#REF!"}},{"$f":"'Pob x Genero'!#REF!","v":{"$error":"#REF!"}},"Hombre","00-04",{"$f":"'Pob x Genero'!#REF!","v":{"$error":"#REF!"}},1563]
[{"$f":"'Pob x Genero'!#REF!","v":{"$error":"#REF!"}},{"$f":"'Pob x Genero'!#REF!","v":{"$error":"#REF!"}},{"$f":"'Pob x Genero'!#REF!","v":{"$error":"#REF!"}},{"$f":"'Pob x Genero'!#REF!","v":{"$error":"#REF!"}},{"$f":"'Pob x Genero'!#REF!","v":{"$error":"#REF!"}},"Hombre","00-04",{"$f":"'Pob x Genero'!#REF!","v":{"$error":"#REF!"}},1564]
[{"$f":"'Pob x Genero'!#REF!","v":{"$error":"#REF!"}},{"$f":"'Pob x Genero'!#REF!","v":{"$error":"#REF!"}},{"$f":"'Pob x Genero'!#REF!","v":{"$error":"#REF!"}},{"$f":"'Pob x Genero'!#REF!","v":{"$error":"#REF!"}},{"$f":"'Pob x Genero'!#REF!","v":{"$error":"#REF!"}},"Hombre","00-04",{"$f":"'Pob x Genero'!#REF!","v":{"$error":"#REF!"}},1565]
[{"$f":"'Pob x Genero'!#REF!","v":{"$error":"#REF!"}},{"$f":"'Pob x Genero'!#REF!","v":{"$error":"#REF!"}},{"$f":"'Pob x Genero'!#REF!","v":{"$error":"#REF!"}},{"$f":"'Pob x Genero'!#REF!","v":{"$error":"#REF!"}},{"$f":"'Pob x Genero'!#REF!","v":{"$error":"#REF!"}},"Hombre","00-04",{"$f":"'Pob x Genero'!#REF!","v":{"$error":"#REF!"}},1566]
[{"$f":"'Pob x Genero'!#REF!","v":{"$error":"#REF!"}},{"$f":"'Pob x Genero'!#REF!","v":{"$error":"#REF!"}},{"$f":"'Pob x Genero'!#REF!","v":{"$error":"#REF!"}},{"$f":"'Pob x Genero'!#REF!","v":{"$error":"#REF!"}},{"$f":"'Pob x Genero'!#REF!","v":{"$error":"#REF!"}},"Hombre","00-04",{"$f":"'Pob x Genero'!#REF!","v":{"$error":"#REF!"}},1567]
[{"$f":"'Pob x Genero'!#REF!","v":{"$error":"#REF!"}},{"$f":"'Pob x Genero'!#REF!","v":{"$error":"#REF!"}},{"$f":"'Pob x Genero'!#REF!","v":{"$error":"#REF!"}},{"$f":"'Pob x Genero'!#REF!","v":{"$error":"#REF!"}},{"$f":"'Pob x Genero'!#REF!","v":{"$error":"#REF!"}},"Hombre","00-04",{"$f":"'Pob x Genero'!#REF!","v":{"$error":"#REF!"}},1568]
[{"$f":"'Pob x Genero'!#REF!","v":{"$error":"#REF!"}},{"$f":"'Pob x Genero'!#REF!","v":{"$error":"#REF!"}},{"$f":"'Pob x Genero'!#REF!","v":{"$error":"#REF!"}},{"$f":"'Pob x Genero'!#REF!","v":{"$error":"#REF!"}},{"$f":"'Pob x Genero'!#REF!","v":{"$error":"#REF!"}},"Hombre","00-04",{"$f":"'Pob x Genero'!#REF!","v":{"$error":"#REF!"}},1569]
[{"$f":"'Pob x Genero'!#REF!","v":{"$error":"#REF!"}},{"$f":"'Pob x Genero'!#REF!","v":{"$error":"#REF!"}},{"$f":"'Pob x Genero'!#REF!","v":{"$error":"#REF!"}},{"$f":"'Pob x Genero'!#REF!","v":{"$error":"#REF!"}},{"$f":"'Pob x Genero'!#REF!","v":{"$error":"#REF!"}},"Hombre","00-04",{"$f":"'Pob x Genero'!#REF!","v":{"$error":"#REF!"}},1570]
[{"$f":"'Pob x Genero'!#REF!","v":{"$error":"#REF!"}},{"$f":"'Pob x Genero'!#REF!","v":{"$error":"#REF!"}},{"$f":"'Pob x Genero'!#REF!","v":{"$error":"#REF!"}},{"$f":"'Pob x Genero'!#REF!","v":{"$error":"#REF!"}},{"$f":"'Pob x Genero'!#REF!","v":{"$error":"#REF!"}},"Hombre","00-04",{"$f":"'Pob x Genero'!#REF!","v":{"$error":"#REF!"}},1571]
[{"$f":"'Pob x Genero'!#REF!","v":{"$error":"#REF!"}},{"$f":"'Pob x Genero'!#REF!","v":{"$error":"#REF!"}},{"$f":"'Pob x Genero'!#REF!","v":{"$error":"#REF!"}},{"$f":"'Pob x Genero'!#REF!","v":{"$error":"#REF!"}},{"$f":"'Pob x Genero'!#REF!","v":{"$error":"#REF!"}},"Hombre","00-04",{"$f":"'Pob x Genero'!#REF!","v":{"$error":"#REF!"}},1572]
[{"$f":"'Pob x Genero'!#REF!","v":{"$error":"#REF!"}},{"$f":"'Pob x Genero'!#REF!","v":{"$error":"#REF!"}},{"$f":"'Pob x Genero'!#REF!","v":{"$error":"#REF!"}},{"$f":"'Pob x Genero'!#REF!","v":{"$error":"#REF!"}},{"$f":"'Pob x Genero'!#REF!","v":{"$error":"#REF!"}},"Hombre","00-04",{"$f":"'Pob x Genero'!#REF!","v":{"$error":"#REF!"}},1573]
[{"$f":"'Pob x Genero'!#REF!","v":{"$error":"#REF!"}},{"$f":"'Pob x Genero'!#REF!","v":{"$error":"#REF!"}},{"$f":"'Pob x Genero'!#REF!","v":{"$error":"#REF!"}},{"$f":"'Pob x Genero'!#REF!","v":{"$error":"#REF!"}},{"$f":"'Pob x Genero'!#REF!","v":{"$error":"#REF!"}},"Hombre","00-04",{"$f":"'Pob x Genero'!#REF!","v":{"$error":"#REF!"}},1574]
[{"$f":"'Pob x Genero'!#REF!","v":{"$error":"#REF!"}},{"$f":"'Pob x Genero'!#REF!","v":{"$error":"#REF!"}},{"$f":"'Pob x Genero'!#REF!","v":{"$error":"#REF!"}},{"$f":"'Pob x Genero'!#REF!","v":{"$error":"#REF!"}},{"$f":"'Pob x Genero'!#REF!","v":{"$error":"#REF!"}},"Hombre","00-04",{"$f":"'Pob x Genero'!#REF!","v":{"$error":"#REF!"}},1575]
[{"$f":"'Pob x Genero'!#REF!","v":{"$error":"#REF!"}},{"$f":"'Pob x Genero'!#REF!","v":{"$error":"#REF!"}},{"$f":"'Pob x Genero'!#REF!","v":{"$error":"#REF!"}},{"$f":"'Pob x Genero'!#REF!","v":{"$error":"#REF!"}},{"$f":"'Pob x Genero'!#REF!","v":{"$error":"#REF!"}},"Hombre","00-04",{"$f":"'Pob x Genero'!#REF!","v":{"$error":"#REF!"}},1576]
[{"$f":"'Pob x Genero'!#REF!","v":{"$error":"#REF!"}},{"$f":"'Pob x Genero'!#REF!","v":{"$error":"#REF!"}},{"$f":"'Pob x Genero'!#REF!","v":{"$error":"#REF!"}},{"$f":"'Pob x Genero'!#REF!","v":{"$error":"#REF!"}},{"$f":"'Pob x Genero'!#REF!","v":{"$error":"#REF!"}},"Hombre","00-04",{"$f":"'Pob x Genero'!#REF!","v":{"$error":"#REF!"}},1577]
[{"$f":"'Pob x Genero'!#REF!","v":{"$error":"#REF!"}},{"$f":"'Pob x Genero'!#REF!","v":{"$error":"#REF!"}},{"$f":"'Pob x Genero'!#REF!","v":{"$error":"#REF!"}},{"$f":"'Pob x Genero'!#REF!","v":{"$error":"#REF!"}},{"$f":"'Pob x Genero'!#REF!","v":{"$error":"#REF!"}},"Hombre","00-04",{"$f":"'Pob x Genero'!#REF!","v":{"$error":"#REF!"}},1578]
[{"$f":"'Pob x Genero'!#REF!","v":{"$error":"#REF!"}},{"$f":"'Pob x Genero'!#REF!","v":{"$error":"#REF!"}},{"$f":"'Pob x Genero'!#REF!","v":{"$error":"#REF!"}},{"$f":"'Pob x Genero'!#REF!","v":{"$error":"#REF!"}},{"$f":"'Pob x Genero'!#REF!","v":{"$error":"#REF!"}},"Hombre","00-04",{"$f":"'Pob x Genero'!#REF!","v":{"$error":"#REF!"}},1579]
[{"$f":"'Pob x Genero'!#REF!","v":{"$error":"#REF!"}},{"$f":"'Pob x Genero'!#REF!","v":{"$error":"#REF!"}},{"$f":"'Pob x Genero'!#REF!","v":{"$error":"#REF!"}},{"$f":"'Pob x Genero'!#REF!","v":{"$error":"#REF!"}},{"$f":"'Pob x Genero'!#REF!","v":{"$error":"#REF!"}},"Hombre","00-04",{"$f":"'Pob x Genero'!#REF!","v":{"$error":"#REF!"}},1580]
[{"$f":"'Pob x Genero'!#REF!","v":{"$error":"#REF!"}},{"$f":"'Pob x Genero'!#REF!","v":{"$error":"#REF!"}},{"$f":"'Pob x Genero'!#REF!","v":{"$error":"#REF!"}},{"$f":"'Pob x Genero'!#REF!","v":{"$error":"#REF!"}},{"$f":"'Pob x Genero'!#REF!","v":{"$error":"#REF!"}},"Hombre","00-04",{"$f":"'Pob x Genero'!#REF!","v":{"$error":"#REF!"}},1581]
[{"$f":"'Pob x Genero'!#REF!","v":{"$error":"#REF!"}},{"$f":"'Pob x Genero'!#REF!","v":{"$error":"#REF!"}},{"$f":"'Pob x Genero'!#REF!","v":{"$error":"#REF!"}},{"$f":"'Pob x Genero'!#REF!","v":{"$error":"#REF!"}},{"$f":"'Pob x Genero'!#REF!","v":{"$error":"#REF!"}},"Hombre","00-04",{"$f":"'Pob x Genero'!#REF!","v":{"$error":"#REF!"}},1582]
[{"$f":"'Pob x Genero'!#REF!","v":{"$error":"#REF!"}},{"$f":"'Pob x Genero'!#REF!","v":{"$error":"#REF!"}},{"$f":"'Pob x Genero'!#REF!","v":{"$error":"#REF!"}},{"$f":"'Pob x Genero'!#REF!","v":{"$error":"#REF!"}},{"$f":"'Pob x Genero'!#REF!","v":{"$error":"#REF!"}},"Hombre","00-04",{"$f":"'Pob x Genero'!#REF!","v":{"$error":"#REF!"}},1583]
[{"$f":"'Pob x Genero'!#REF!","v":{"$error":"#REF!"}},{"$f":"'Pob x Genero'!#REF!","v":{"$error":"#REF!"}},{"$f":"'Pob x Genero'!#REF!","v":{"$error":"#REF!"}},{"$f":"'Pob x Genero'!#REF!","v":{"$error":"#REF!"}},{"$f":"'Pob x Genero'!#REF!","v":{"$error":"#REF!"}},"Hombre","00-04",{"$f":"'Pob x Genero'!#REF!","v":{"$error":"#REF!"}},1584]
[{"$f":"'Pob x Genero'!#REF!","v":{"$error":"#REF!"}},{"$f":"'Pob x Genero'!#REF!","v":{"$error":"#REF!"}},{"$f":"'Pob x Genero'!#REF!","v":{"$error":"#REF!"}},{"$f":"'Pob x Genero'!#REF!","v":{"$error":"#REF!"}},{"$f":"'Pob x Genero'!#REF!","v":{"$error":"#REF!"}},"Hombre","00-04",{"$f":"'Pob x Genero'!#REF!","v":{"$error":"#REF!"}},1585]
[{"$f":"'Pob x Genero'!#REF!","v":{"$error":"#REF!"}},{"$f":"'Pob x Genero'!#REF!","v":{"$error":"#REF!"}},{"$f":"'Pob x Genero'!#REF!","v":{"$error":"#REF!"}},{"$f":"'Pob x Genero'!#REF!","v":{"$error":"#REF!"}},{"$f":"'Pob x Genero'!#REF!","v":{"$error":"#REF!"}},"Hombre","00-04",{"$f":"'Pob x Genero'!#REF!","v":{"$error":"#REF!"}},1586]
[{"$f":"'Pob x Genero'!#REF!","v":{"$error":"#REF!"}},{"$f":"'Pob x Genero'!#REF!","v":{"$error":"#REF!"}},{"$f":"'Pob x Genero'!#REF!","v":{"$error":"#REF!"}},{"$f":"'Pob x Genero'!#REF!","v":{"$error":"#REF!"}},{"$f":"'Pob x Genero'!#REF!","v":{"$error":"#REF!"}},"Hombre","00-04",{"$f":"'Pob x Genero'!#REF!","v":{"$error":"#REF!"}},1587]
[{"$f":"'Pob x Genero'!#REF!","v":{"$error":"#REF!"}},{"$f":"'Pob x Genero'!#REF!","v":{"$error":"#REF!"}},{"$f":"'Pob x Genero'!#REF!","v":{"$error":"#REF!"}},{"$f":"'Pob x Genero'!#REF!","v":{"$error":"#REF!"}},{"$f":"'Pob x Genero'!#REF!","v":{"$error":"#REF!"}},"Hombre","00-04",{"$f":"'Pob x Genero'!#REF!","v":{"$error":"#REF!"}},1588]
[{"$f":"'Pob x Genero'!#REF!","v":{"$error":"#REF!"}},{"$f":"'Pob x Genero'!#REF!","v":{"$error":"#REF!"}},{"$f":"'Pob x Genero'!#REF!","v":{"$error":"#REF!"}},{"$f":"'Pob x Genero'!#REF!","v":{"$error":"#REF!"}},{"$f":"'Pob x Genero'!#REF!","v":{"$error":"#REF!"}},"Hombre","00-04",{"$f":"'Pob x Genero'!#REF!","v":{"$error":"#REF!"}},1589]
[{"$f":"'Pob x Genero'!#REF!","v":{"$error":"#REF!"}},{"$f":"'Pob x Genero'!#REF!","v":{"$error":"#REF!"}},{"$f":"'Pob x Genero'!#REF!","v":{"$error":"#REF!"}},{"$f":"'Pob x Genero'!#REF!","v":{"$error":"#REF!"}},{"$f":"'Pob x Genero'!#REF!","v":{"$error":"#REF!"}},"Hombre","00-04",{"$f":"'Pob x Genero'!#REF!","v":{"$error":"#REF!"}},1590]
[{"$f":"'Pob x Genero'!#REF!","v":{"$error":"#REF!"}},{"$f":"'Pob x Genero'!#REF!","v":{"$error":"#REF!"}},{"$f":"'Pob x Genero'!#REF!","v":{"$error":"#REF!"}},{"$f":"'Pob x Genero'!#REF!","v":{"$error":"#REF!"}},{"$f":"'Pob x Genero'!#REF!","v":{"$error":"#REF!"}},"Hombre","00-04",{"$f":"'Pob x Genero'!#REF!","v":{"$error":"#REF!"}},1591]
[{"$f":"'Pob x Genero'!#REF!","v":{"$error":"#REF!"}},{"$f":"'Pob x Genero'!#REF!","v":{"$error":"#REF!"}},{"$f":"'Pob x Genero'!#REF!","v":{"$error":"#REF!"}},{"$f":"'Pob x Genero'!#REF!","v":{"$error":"#REF!"}},{"$f":"'Pob x Genero'!#REF!","v":{"$error":"#REF!"}},"Hombre","00-04",{"$f":"'Pob x Genero'!#REF!","v":{"$error":"#REF!"}},1592]
[{"$f":"'Pob x Genero'!#REF!","v":{"$error":"#REF!"}},{"$f":"'Pob x Genero'!#REF!","v":{"$error":"#REF!"}},{"$f":"'Pob x Genero'!#REF!","v":{"$error":"#REF!"}},{"$f":"'Pob x Genero'!#REF!","v":{"$error":"#REF!"}},{"$f":"'Pob x Genero'!#REF!","v":{"$error":"#REF!"}},"Hombre","00-04",{"$f":"'Pob x Genero'!#REF!","v":{"$error":"#REF!"}},1593]
[{"$f":"'Pob x Genero'!#REF!","v":{"$error":"#REF!"}},{"$f":"'Pob x Genero'!#REF!","v":{"$error":"#REF!"}},{"$f":"'Pob x Genero'!#REF!","v":{"$error":"#REF!"}},{"$f":"'Pob x Genero'!#REF!","v":{"$error":"#REF!"}},{"$f":"'Pob x Genero'!#REF!","v":{"$error":"#REF!"}},"Hombre","00-04",{"$f":"'Pob x Genero'!#REF!","v":{"$error":"#REF!"}},1594]
[{"$f":"'Pob x Genero'!#REF!","v":{"$error":"#REF!"}},{"$f":"'Pob x Genero'!#REF!","v":{"$error":"#REF!"}},{"$f":"'Pob x Genero'!#REF!","v":{"$error":"#REF!"}},{"$f":"'Pob x Genero'!#REF!","v":{"$error":"#REF!"}},{"$f":"'Pob x Genero'!#REF!","v":{"$error":"#REF!"}},"Hombre","00-04",{"$f":"'Pob x Genero'!#REF!","v":{"$error":"#REF!"}},1595]
[{"$f":"'Pob x Genero'!#REF!","v":{"$error":"#REF!"}},{"$f":"'Pob x Genero'!#REF!","v":{"$error":"#REF!"}},{"$f":"'Pob x Genero'!#REF!","v":{"$error":"#REF!"}},{"$f":"'Pob x Genero'!#REF!","v":{"$error":"#REF!"}},{"$f":"'Pob x Genero'!#REF!","v":{"$error":"#REF!"}},"Hombre","00-04",{"$f":"'Pob x Genero'!#REF!","v":{"$error":"#REF!"}},1596]
[{"$f":"'Pob x Genero'!#REF!","v":{"$error":"#REF!"}},{"$f":"'Pob x Genero'!#REF!","v":{"$error":"#REF!"}},{"$f":"'Pob x Genero'!#REF!","v":{"$error":"#REF!"}},{"$f":"'Pob x Genero'!#REF!","v":{"$error":"#REF!"}},{"$f":"'Pob x Genero'!#REF!","v":{"$error":"#REF!"}},"Hombre","00-04",{"$f":"'Pob x Genero'!#REF!","v":{"$error":"#REF!"}},1597]
[{"$f":"'Pob x Genero'!#REF!","v":{"$error":"#REF!"}},{"$f":"'Pob x Genero'!#REF!","v":{"$error":"#REF!"}},{"$f":"'Pob x Genero'!#REF!","v":{"$error":"#REF!"}},{"$f":"'Pob x Genero'!#REF!","v":{"$error":"#REF!"}},{"$f":"'Pob x Genero'!#REF!","v":{"$error":"#REF!"}},"Hombre","00-04",{"$f":"'Pob x Genero'!#REF!","v":{"$error":"#REF!"}},1598]
[{"$f":"'Pob x Genero'!#REF!","v":{"$error":"#REF!"}},{"$f":"'Pob x Genero'!#REF!","v":{"$error":"#REF!"}},{"$f":"'Pob x Genero'!#REF!","v":{"$error":"#REF!"}},{"$f":"'Pob x Genero'!#REF!","v":{"$error":"#REF!"}},{"$f":"'Pob x Genero'!#REF!","v":{"$error":"#REF!"}},"Hombre","00-04",{"$f":"'Pob x Genero'!#REF!","v":{"$error":"#REF!"}},1599]
[{"$f":"'Pob x Genero'!#REF!","v":{"$error":"#REF!"}},{"$f":"'Pob x Genero'!#REF!","v":{"$error":"#REF!"}},{"$f":"'Pob x Genero'!#REF!","v":{"$error":"#REF!"}},{"$f":"'Pob x Genero'!#REF!","v":{"$error":"#REF!"}},{"$f":"'Pob x Genero'!#REF!","v":{"$error":"#REF!"}},"Hombre","00-04",{"$f":"'Pob x Genero'!#REF!","v":{"$error":"#REF!"}},1600]
[{"$f":"'Pob x Genero'!#REF!","v":{"$error":"#REF!"}},{"$f":"'Pob x Genero'!#REF!","v":{"$error":"#REF!"}},{"$f":"'Pob x Genero'!#REF!","v":{"$error":"#REF!"}},{"$f":"'Pob x Genero'!#REF!","v":{"$error":"#REF!"}},{"$f":"'Pob x Genero'!#REF!","v":{"$error":"#REF!"}},"Hombre","00-04",{"$f":"'Pob x Genero'!#REF!","v":{"$error":"#REF!"}},1601]
[{"$f":"'Pob x Genero'!#REF!","v":{"$error":"#REF!"}},{"$f":"'Pob x Genero'!#REF!","v":{"$error":"#REF!"}},{"$f":"'Pob x Genero'!#REF!","v":{"$error":"#REF!"}},{"$f":"'Pob x Genero'!#REF!","v":{"$error":"#REF!"}},{"$f":"'Pob x Genero'!#REF!","v":{"$error":"#REF!"}},{"$f":"F1602","v":"Hombre"},{"$f":"G1602","v":"00-04"},{"$f":"'Pob x Genero'!#REF!","v":{"$error":"#REF!"}},1602]
[{"$f":"'Pob x Genero'!#REF!","v":{"$error":"#REF!"}},{"$f":"'Pob x Genero'!#REF!","v":{"$error":"#REF!"}},{"$f":"'Pob x Genero'!#REF!","v":{"$error":"#REF!"}},{"$f":"'Pob x Genero'!#REF!","v":{"$error":"#REF!"}},{"$f":"'Pob x Genero'!#REF!","v":{"$error":"#REF!"}},"Hombre","00-04",{"$f":"'Pob x Genero'!#REF!","v":{"$error":"#REF!"}},1603]
[{"$f":"'Pob x Genero'!#REF!","v":{"$error":"#REF!"}},{"$f":"'Pob x Genero'!#REF!","v":{"$error":"#REF!"}},{"$f":"'Pob x Genero'!#REF!","v":{"$error":"#REF!"}},{"$f":"'Pob x Genero'!#REF!","v":{"$error":"#REF!"}},{"$f":"'Pob x Genero'!#REF!","v":{"$error":"#REF!"}},"Hombre","00-04",{"$f":"'Pob x Genero'!#REF!","v":{"$error":"#REF!"}},1604]
[{"$f":"'Pob x Genero'!#REF!","v":{"$error":"#REF!"}},{"$f":"'Pob x Genero'!#REF!","v":{"$error":"#REF!"}},{"$f":"'Pob x Genero'!#REF!","v":{"$error":"#REF!"}},{"$f":"'Pob x Genero'!#REF!","v":{"$error":"#REF!"}},{"$f":"'Pob x Genero'!#REF!","v":{"$error":"#REF!"}},"Hombre","00-04",{"$f":"'Pob x Genero'!#REF!","v":{"$error":"#REF!"}},1605]
[{"$f":"'Pob x Genero'!#REF!","v":{"$error":"#REF!"}},{"$f":"'Pob x Genero'!#REF!","v":{"$error":"#REF!"}},{"$f":"'Pob x Genero'!#REF!","v":{"$error":"#REF!"}},{"$f":"'Pob x Genero'!#REF!","v":{"$error":"#REF!"}},{"$f":"'Pob x Genero'!#REF!","v":{"$error":"#REF!"}},"Hombre","00-04",{"$f":"'Pob x Genero'!#REF!","v":{"$error":"#REF!"}},1606]
[{"$f":"'Pob x Genero'!#REF!","v":{"$error":"#REF!"}},{"$f":"'Pob x Genero'!#REF!","v":{"$error":"#REF!"}},{"$f":"'Pob x Genero'!#REF!","v":{"$error":"#REF!"}},{"$f":"'Pob x Genero'!#REF!","v":{"$error":"#REF!"}},{"$f":"'Pob x Genero'!#REF!","v":{"$error":"#REF!"}},"Hombre","00-04",{"$f":"'Pob x Genero'!#REF!","v":{"$error":"#REF!"}},1607]
[{"$f":"'Pob x Genero'!#REF!","v":{"$error":"#REF!"}},{"$f":"'Pob x Genero'!#REF!","v":{"$error":"#REF!"}},{"$f":"'Pob x Genero'!#REF!","v":{"$error":"#REF!"}},{"$f":"'Pob x Genero'!#REF!","v":{"$error":"#REF!"}},{"$f":"'Pob x Genero'!#REF!","v":{"$error":"#REF!"}},"Hombre","00-04",{"$f":"'Pob x Genero'!#REF!","v":{"$error":"#REF!"}},1608]
[{"$f":"'Pob x Genero'!#REF!","v":{"$error":"#REF!"}},{"$f":"'Pob x Genero'!#REF!","v":{"$error":"#REF!"}},{"$f":"'Pob x Genero'!#REF!","v":{"$error":"#REF!"}},{"$f":"'Pob x Genero'!#REF!","v":{"$error":"#REF!"}},{"$f":"'Pob x Genero'!#REF!","v":{"$error":"#REF!"}},"Hombre","00-04",{"$f":"'Pob x Genero'!#REF!","v":{"$error":"#REF!"}},1609]
[{"$f":"'Pob x Genero'!#REF!","v":{"$error":"#REF!"}},{"$f":"'Pob x Genero'!#REF!","v":{"$error":"#REF!"}},{"$f":"'Pob x Genero'!#REF!","v":{"$error":"#REF!"}},{"$f":"'Pob x Genero'!#REF!","v":{"$error":"#REF!"}},{"$f":"'Pob x Genero'!#REF!","v":{"$error":"#REF!"}},"Hombre","00-04",{"$f":"'Pob x Genero'!#REF!","v":{"$error":"#REF!"}},1610]
[{"$f":"'Pob x Genero'!#REF!","v":{"$error":"#REF!"}},{"$f":"'Pob x Genero'!#REF!","v":{"$error":"#REF!"}},{"$f":"'Pob x Genero'!#REF!","v":{"$error":"#REF!"}},{"$f":"'Pob x Genero'!#REF!","v":{"$error":"#REF!"}},{"$f":"'Pob x Genero'!#REF!","v":{"$error":"#REF!"}},"Hombre","00-04",{"$f":"'Pob x Genero'!#REF!","v":{"$error":"#REF!"}},1611]
[{"$f":"'Pob x Genero'!#REF!","v":{"$error":"#REF!"}},{"$f":"'Pob x Genero'!#REF!","v":{"$error":"#REF!"}},{"$f":"'Pob x Genero'!#REF!","v":{"$error":"#REF!"}},{"$f":"'Pob x Genero'!#REF!","v":{"$error":"#REF!"}},{"$f":"'Pob x Genero'!#REF!","v":{"$error":"#REF!"}},"Hombre","00-04",{"$f":"'Pob x Genero'!#REF!","v":{"$error":"#REF!"}},1612]
[{"$f":"'Pob x Genero'!#REF!","v":{"$error":"#REF!"}},{"$f":"'Pob x Genero'!#REF!","v":{"$error":"#REF!"}},{"$f":"'Pob x Genero'!#REF!","v":{"$error":"#REF!"}},{"$f":"'Pob x Genero'!#REF!","v":{"$error":"#REF!"}},{"$f":"'Pob x Genero'!#REF!","v":{"$error":"#REF!"}},"Hombre","00-04",{"$f":"'Pob x Genero'!#REF!","v":{"$error":"#REF!"}},1613]
[{"$f":"'Pob x Genero'!#REF!","v":{"$error":"#REF!"}},{"$f":"'Pob x Genero'!#REF!","v":{"$error":"#REF!"}},{"$f":"'Pob x Genero'!#REF!","v":{"$error":"#REF!"}},{"$f":"'Pob x Genero'!#REF!","v":{"$error":"#REF!"}},{"$f":"'Pob x Genero'!#REF!","v":{"$error":"#REF!"}},"Hombre","00-04",{"$f":"'Pob x Genero'!#REF!","v":{"$error":"#REF!"}},1614]
[{"$f":"'Pob x Genero'!#REF!","v":{"$error":"#REF!"}},{"$f":"'Pob x Genero'!#REF!","v":{"$error":"#REF!"}},{"$f":"'Pob x Genero'!#REF!","v":{"$error":"#REF!"}},{"$f":"'Pob x Genero'!#REF!","v":{"$error":"#REF!"}},{"$f":"'Pob x Genero'!#REF!","v":{"$error":"#REF!"}},"Hombre","00-04",{"$f":"'Pob x Genero'!#REF!","v":{"$error":"#REF!"}},1615]
[{"$f":"'Pob x Genero'!#REF!","v":{"$error":"#REF!"}},{"$f":"'Pob x Genero'!#REF!","v":{"$error":"#REF!"}},{"$f":"'Pob x Genero'!#REF!","v":{"$error":"#REF!"}},{"$f":"'Pob x Genero'!#REF!","v":{"$error":"#REF!"}},{"$f":"'Pob x Genero'!#REF!","v":{"$error":"#REF!"}},"Hombre","00-04",{"$f":"'Pob x Genero'!#REF!","v":{"$error":"#REF!"}},1616]
[{"$f":"'Pob x Genero'!#REF!","v":{"$error":"#REF!"}},{"$f":"'Pob x Genero'!#REF!","v":{"$error":"#REF!"}},{"$f":"'Pob x Genero'!#REF!","v":{"$error":"#REF!"}},{"$f":"'Pob x Genero'!#REF!","v":{"$error":"#REF!"}},{"$f":"'Pob x Genero'!#REF!","v":{"$error":"#REF!"}},"Hombre","00-04",{"$f":"'Pob x Genero'!#REF!","v":{"$error":"#REF!"}},1617]
[{"$f":"'Pob x Genero'!#REF!","v":{"$error":"#REF!"}},{"$f":"'Pob x Genero'!#REF!","v":{"$error":"#REF!"}},{"$f":"'Pob x Genero'!#REF!","v":{"$error":"#REF!"}},{"$f":"'Pob x Genero'!#REF!","v":{"$error":"#REF!"}},{"$f":"'Pob x Genero'!#REF!","v":{"$error":"#REF!"}},"Hombre","00-04",{"$f":"'Pob x Genero'!#REF!","v":{"$error":"#REF!"}},1618]
[{"$f":"'Pob x Genero'!#REF!","v":{"$error":"#REF!"}},{"$f":"'Pob x Genero'!#REF!","v":{"$error":"#REF!"}},{"$f":"'Pob x Genero'!#REF!","v":{"$error":"#REF!"}},{"$f":"'Pob x Genero'!#REF!","v":{"$error":"#REF!"}},{"$f":"'Pob x Genero'!#REF!","v":{"$error":"#REF!"}},"Hombre","00-04",{"$f":"'Pob x Genero'!#REF!","v":{"$error":"#REF!"}},1619]
[{"$f":"'Pob x Genero'!#REF!","v":{"$error":"#REF!"}},{"$f":"'Pob x Genero'!#REF!","v":{"$error":"#REF!"}},{"$f":"'Pob x Genero'!#REF!","v":{"$error":"#REF!"}},{"$f":"'Pob x Genero'!#REF!","v":{"$error":"#REF!"}},{"$f":"'Pob x Genero'!#REF!","v":{"$error":"#REF!"}},"Hombre","00-04",{"$f":"'Pob x Genero'!#REF!","v":{"$error":"#REF!"}},1620]
[{"$f":"'Pob x Genero'!#REF!","v":{"$error":"#REF!"}},{"$f":"'Pob x Genero'!#REF!","v":{"$error":"#REF!"}},{"$f":"'Pob x Genero'!#REF!","v":{"$error":"#REF!"}},{"$f":"'Pob x Genero'!#REF!","v":{"$error":"#REF!"}},{"$f":"'Pob x Genero'!#REF!","v":{"$error":"#REF!"}},"Hombre","00-04",{"$f":"'Pob x Genero'!#REF!","v":{"$error":"#REF!"}},1621]
[{"$f":"'Pob x Genero'!#REF!","v":{"$error":"#REF!"}},{"$f":"'Pob x Genero'!#REF!","v":{"$error":"#REF!"}},{"$f":"'Pob x Genero'!#REF!","v":{"$error":"#REF!"}},{"$f":"'Pob x Genero'!#REF!","v":{"$error":"#REF!"}},{"$f":"'Pob x Genero'!#REF!","v":{"$error":"#REF!"}},"Hombre","00-04",{"$f":"'Pob x Genero'!#REF!","v":{"$error":"#REF!"}},1622]
[{"$f":"'Pob x Genero'!#REF!","v":{"$error":"#REF!"}},{"$f":"'Pob x Genero'!#REF!","v":{"$error":"#REF!"}},{"$f":"'Pob x Genero'!#REF!","v":{"$error":"#REF!"}},{"$f":"'Pob x Genero'!#REF!","v":{"$error":"#REF!"}},{"$f":"'Pob x Genero'!#REF!","v":{"$error":"#REF!"}},"Hombre","00-04",{"$f":"'Pob x Genero'!#REF!","v":{"$error":"#REF!"}},1623]
[{"$f":"'Pob x Genero'!#REF!","v":{"$error":"#REF!"}},{"$f":"'Pob x Genero'!#REF!","v":{"$error":"#REF!"}},{"$f":"'Pob x Genero'!#REF!","v":{"$error":"#REF!"}},{"$f":"'Pob x Genero'!#REF!","v":{"$error":"#REF!"}},{"$f":"'Pob x Genero'!#REF!","v":{"$error":"#REF!"}},"Hombre","00-04",{"$f":"'Pob x Genero'!#REF!","v":{"$error":"#REF!"}},1624]
[{"$f":"'Pob x Genero'!#REF!","v":{"$error":"#REF!"}},{"$f":"'Pob x Genero'!#REF!","v":{"$error":"#REF!"}},{"$f":"'Pob x Genero'!#REF!","v":{"$error":"#REF!"}},{"$f":"'Pob x Genero'!#REF!","v":{"$error":"#REF!"}},{"$f":"'Pob x Genero'!#REF!","v":{"$error":"#REF!"}},"Hombre","00-04",{"$f":"'Pob x Genero'!#REF!","v":{"$error":"#REF!"}},1625]
[{"$f":"'Pob x Genero'!#REF!","v":{"$error":"#REF!"}},{"$f":"'Pob x Genero'!#REF!","v":{"$error":"#REF!"}},{"$f":"'Pob x Genero'!#REF!","v":{"$error":"#REF!"}},{"$f":"'Pob x Genero'!#REF!","v":{"$error":"#REF!"}},{"$f":"'Pob x Genero'!#REF!","v":{"$error":"#REF!"}},"Hombre","00-04",{"$f":"'Pob x Genero'!#REF!","v":{"$error":"#REF!"}},1626]
[{"$f":"'Pob x Genero'!#REF!","v":{"$error":"#REF!"}},{"$f":"'Pob x Genero'!#REF!","v":{"$error":"#REF!"}},{"$f":"'Pob x Genero'!#REF!","v":{"$error":"#REF!"}},{"$f":"'Pob x Genero'!#REF!","v":{"$error":"#REF!"}},{"$f":"'Pob x Genero'!#REF!","v":{"$error":"#REF!"}},"Hombre","00-04",{"$f":"'Pob x Genero'!#REF!","v":{"$error":"#REF!"}},1627]
[{"$f":"'Pob x Genero'!#REF!","v":{"$error":"#REF!"}},{"$f":"'Pob x Genero'!#REF!","v":{"$error":"#REF!"}},{"$f":"'Pob x Genero'!#REF!","v":{"$error":"#REF!"}},{"$f":"'Pob x Genero'!#REF!","v":{"$error":"#REF!"}},{"$f":"'Pob x Genero'!#REF!","v":{"$error":"#REF!"}},"Hombre","00-04",{"$f":"'Pob x Genero'!#REF!","v":{"$error":"#REF!"}},1628]
[{"$f":"'Pob x Genero'!#REF!","v":{"$error":"#REF!"}},{"$f":"'Pob x Genero'!#REF!","v":{"$error":"#REF!"}},{"$f":"'Pob x Genero'!#REF!","v":{"$error":"#REF!"}},{"$f":"'Pob x Genero'!#REF!","v":{"$error":"#REF!"}},{"$f":"'Pob x Genero'!#REF!","v":{"$error":"#REF!"}},"Hombre","00-04",{"$f":"'Pob x Genero'!#REF!","v":{"$error":"#REF!"}},1629]
[{"$f":"'Pob x Genero'!#REF!","v":{"$error":"#REF!"}},{"$f":"'Pob x Genero'!#REF!","v":{"$error":"#REF!"}},{"$f":"'Pob x Genero'!#REF!","v":{"$error":"#REF!"}},{"$f":"'Pob x Genero'!#REF!","v":{"$error":"#REF!"}},{"$f":"'Pob x Genero'!#REF!","v":{"$error":"#REF!"}},"Hombre","00-04",{"$f":"'Pob x Genero'!#REF!","v":{"$error":"#REF!"}},1630]
[{"$f":"'Pob x Genero'!#REF!","v":{"$error":"#REF!"}},{"$f":"'Pob x Genero'!#REF!","v":{"$error":"#REF!"}},{"$f":"'Pob x Genero'!#REF!","v":{"$error":"#REF!"}},{"$f":"'Pob x Genero'!#REF!","v":{"$error":"#REF!"}},{"$f":"'Pob x Genero'!#REF!","v":{"$error":"#REF!"}},"Hombre","00-04",{"$f":"'Pob x Genero'!#REF!","v":{"$error":"#REF!"}},1631]
[{"$f":"'Pob x Genero'!#REF!","v":{"$error":"#REF!"}},{"$f":"'Pob x Genero'!#REF!","v":{"$error":"#REF!"}},{"$f":"'Pob x Genero'!#REF!","v":{"$error":"#REF!"}},{"$f":"'Pob x Genero'!#REF!","v":{"$error":"#REF!"}},{"$f":"'Pob x Genero'!#REF!","v":{"$error":"#REF!"}},"Hombre","00-04",{"$f":"'Pob x Genero'!#REF!","v":{"$error":"#REF!"}},1632]
[{"$f":"'Pob x Genero'!#REF!","v":{"$error":"#REF!"}},{"$f":"'Pob x Genero'!#REF!","v":{"$error":"#REF!"}},{"$f":"'Pob x Genero'!#REF!","v":{"$error":"#REF!"}},{"$f":"'Pob x Genero'!#REF!","v":{"$error":"#REF!"}},{"$f":"'Pob x Genero'!#REF!","v":{"$error":"#REF!"}},"Hombre","00-04",{"$f":"'Pob x Genero'!#REF!","v":{"$error":"#REF!"}},1633]
[{"$f":"'Pob x Genero'!#REF!","v":{"$error":"#REF!"}},{"$f":"'Pob x Genero'!#REF!","v":{"$error":"#REF!"}},{"$f":"'Pob x Genero'!#REF!","v":{"$error":"#REF!"}},{"$f":"'Pob x Genero'!#REF!","v":{"$error":"#REF!"}},{"$f":"'Pob x Genero'!#REF!","v":{"$error":"#REF!"}},"Hombre","00-04",{"$f":"'Pob x Genero'!#REF!","v":{"$error":"#REF!"}},1634]
[{"$f":"'Pob x Genero'!#REF!","v":{"$error":"#REF!"}},{"$f":"'Pob x Genero'!#REF!","v":{"$error":"#REF!"}},{"$f":"'Pob x Genero'!#REF!","v":{"$error":"#REF!"}},{"$f":"'Pob x Genero'!#REF!","v":{"$error":"#REF!"}},{"$f":"'Pob x Genero'!#REF!","v":{"$error":"#REF!"}},"Hombre","00-04",{"$f":"'Pob x Genero'!#REF!","v":{"$error":"#REF!"}},1635]
[{"$f":"'Pob x Genero'!#REF!","v":{"$error":"#REF!"}},{"$f":"'Pob x Genero'!#REF!","v":{"$error":"#REF!"}},{"$f":"'Pob x Genero'!#REF!","v":{"$error":"#REF!"}},{"$f":"'Pob x Genero'!#REF!","v":{"$error":"#REF!"}},{"$f":"'Pob x Genero'!#REF!","v":{"$error":"#REF!"}},"Hombre","00-04",{"$f":"'Pob x Genero'!#REF!","v":{"$error":"#REF!"}},1636]
[{"$f":"'Pob x Genero'!#REF!","v":{"$error":"#REF!"}},{"$f":"'Pob x Genero'!#REF!","v":{"$error":"#REF!"}},{"$f":"'Pob x Genero'!#REF!","v":{"$error":"#REF!"}},{"$f":"'Pob x Genero'!#REF!","v":{"$error":"#REF!"}},{"$f":"'Pob x Genero'!#REF!","v":{"$error":"#REF!"}},"Hombre","00-04",{"$f":"'Pob x Genero'!#REF!","v":{"$error":"#REF!"}},1637]
[{"$f":"'Pob x Genero'!#REF!","v":{"$error":"#REF!"}},{"$f":"'Pob x Genero'!#REF!","v":{"$error":"#REF!"}},{"$f":"'Pob x Genero'!#REF!","v":{"$error":"#REF!"}},{"$f":"'Pob x Genero'!#REF!","v":{"$error":"#REF!"}},{"$f":"'Pob x Genero'!#REF!","v":{"$error":"#REF!"}},"Hombre","00-04",{"$f":"'Pob x Genero'!#REF!","v":{"$error":"#REF!"}},1638]
[{"$f":"'Pob x Genero'!#REF!","v":{"$error":"#REF!"}},{"$f":"'Pob x Genero'!#REF!","v":{"$error":"#REF!"}},{"$f":"'Pob x Genero'!#REF!","v":{"$error":"#REF!"}},{"$f":"'Pob x Genero'!#REF!","v":{"$error":"#REF!"}},{"$f":"'Pob x Genero'!#REF!","v":{"$error":"#REF!"}},"Hombre","00-04",{"$f":"'Pob x Genero'!#REF!","v":{"$error":"#REF!"}},1639]
[{"$f":"'Pob x Genero'!#REF!","v":{"$error":"#REF!"}},{"$f":"'Pob x Genero'!#REF!","v":{"$error":"#REF!"}},{"$f":"'Pob x Genero'!#REF!","v":{"$error":"#REF!"}},{"$f":"'Pob x Genero'!#REF!","v":{"$error":"#REF!"}},{"$f":"'Pob x Genero'!#REF!","v":{"$error":"#REF!"}},"Hombre","00-04",{"$f":"'Pob x Genero'!#REF!","v":{"$error":"#REF!"}},1640]
[{"$f":"'Pob x Genero'!#REF!","v":{"$error":"#REF!"}},{"$f":"'Pob x Genero'!#REF!","v":{"$error":"#REF!"}},{"$f":"'Pob x Genero'!#REF!","v":{"$error":"#REF!"}},{"$f":"'Pob x Genero'!#REF!","v":{"$error":"#REF!"}},{"$f":"'Pob x Genero'!#REF!","v":{"$error":"#REF!"}},"Hombre","00-04",{"$f":"'Pob x Genero'!#REF!","v":{"$error":"#REF!"}},1641]
[{"$f":"'Pob x Genero'!#REF!","v":{"$error":"#REF!"}},{"$f":"'Pob x Genero'!#REF!","v":{"$error":"#REF!"}},{"$f":"'Pob x Genero'!#REF!","v":{"$error":"#REF!"}},{"$f":"'Pob x Genero'!#REF!","v":{"$error":"#REF!"}},{"$f":"'Pob x Genero'!#REF!","v":{"$error":"#REF!"}},"Hombre","00-04",{"$f":"'Pob x Genero'!#REF!","v":{"$error":"#REF!"}},1642]
[{"$f":"'Pob x Genero'!#REF!","v":{"$error":"#REF!"}},{"$f":"'Pob x Genero'!#REF!","v":{"$error":"#REF!"}},{"$f":"'Pob x Genero'!#REF!","v":{"$error":"#REF!"}},{"$f":"'Pob x Genero'!#REF!","v":{"$error":"#REF!"}},{"$f":"'Pob x Genero'!#REF!","v":{"$error":"#REF!"}},"Hombre","00-04",{"$f":"'Pob x Genero'!#REF!","v":{"$error":"#REF!"}},1643]
[{"$f":"'Pob x Genero'!#REF!","v":{"$error":"#REF!"}},{"$f":"'Pob x Genero'!#REF!","v":{"$error":"#REF!"}},{"$f":"'Pob x Genero'!#REF!","v":{"$error":"#REF!"}},{"$f":"'Pob x Genero'!#REF!","v":{"$error":"#REF!"}},{"$f":"'Pob x Genero'!#REF!","v":{"$error":"#REF!"}},"Hombre","00-04",{"$f":"'Pob x Genero'!#REF!","v":{"$error":"#REF!"}},1644]
[{"$f":"'Pob x Genero'!#REF!","v":{"$error":"#REF!"}},{"$f":"'Pob x Genero'!#REF!","v":{"$error":"#REF!"}},{"$f":"'Pob x Genero'!#REF!","v":{"$error":"#REF!"}},{"$f":"'Pob x Genero'!#REF!","v":{"$error":"#REF!"}},{"$f":"'Pob x Genero'!#REF!","v":{"$error":"#REF!"}},"Hombre","00-04",{"$f":"'Pob x Genero'!#REF!","v":{"$error":"#REF!"}},1645]
[{"$f":"'Pob x Genero'!#REF!","v":{"$error":"#REF!"}},{"$f":"'Pob x Genero'!#REF!","v":{"$error":"#REF!"}},{"$f":"'Pob x Genero'!#REF!","v":{"$error":"#REF!"}},{"$f":"'Pob x Genero'!#REF!","v":{"$error":"#REF!"}},{"$f":"'Pob x Genero'!#REF!","v":{"$error":"#REF!"}},"Hombre","00-04",{"$f":"'Pob x Genero'!#REF!","v":{"$error":"#REF!"}},1646]
[{"$f":"'Pob x Genero'!#REF!","v":{"$error":"#REF!"}},{"$f":"'Pob x Genero'!#REF!","v":{"$error":"#REF!"}},{"$f":"'Pob x Genero'!#REF!","v":{"$error":"#REF!"}},{"$f":"'Pob x Genero'!#REF!","v":{"$error":"#REF!"}},{"$f":"'Pob x Genero'!#REF!","v":{"$error":"#REF!"}},"Hombre","00-04",{"$f":"'Pob x Genero'!#REF!","v":{"$error":"#REF!"}},1647]
[{"$f":"'Pob x Genero'!#REF!","v":{"$error":"#REF!"}},{"$f":"'Pob x Genero'!#REF!","v":{"$error":"#REF!"}},{"$f":"'Pob x Genero'!#REF!","v":{"$error":"#REF!"}},{"$f":"'Pob x Genero'!#REF!","v":{"$error":"#REF!"}},{"$f":"'Pob x Genero'!#REF!","v":{"$error":"#REF!"}},"Hombre","00-04",{"$f":"'Pob x Genero'!#REF!","v":{"$error":"#REF!"}},1648]
[{"$f":"'Pob x Genero'!#REF!","v":{"$error":"#REF!"}},{"$f":"'Pob x Genero'!#REF!","v":{"$error":"#REF!"}},{"$f":"'Pob x Genero'!#REF!","v":{"$error":"#REF!"}},{"$f":"'Pob x Genero'!#REF!","v":{"$error":"#REF!"}},{"$f":"'Pob x Genero'!#REF!","v":{"$error":"#REF!"}},"Hombre","00-04",{"$f":"'Pob x Genero'!#REF!","v":{"$error":"#REF!"}},1649]
[{"$f":"'Pob x Genero'!#REF!","v":{"$error":"#REF!"}},{"$f":"'Pob x Genero'!#REF!","v":{"$error":"#REF!"}},{"$f":"'Pob x Genero'!#REF!","v":{"$error":"#REF!"}},{"$f":"'Pob x Genero'!#REF!","v":{"$error":"#REF!"}},{"$f":"'Pob x Genero'!#REF!","v":{"$error":"#REF!"}},"Hombre","00-04",{"$f":"'Pob x Genero'!#REF!","v":{"$error":"#REF!"}},1650]
[{"$f":"'Pob x Genero'!#REF!","v":{"$error":"#REF!"}},{"$f":"'Pob x Genero'!#REF!","v":{"$error":"#REF!"}},{"$f":"'Pob x Genero'!#REF!","v":{"$error":"#REF!"}},{"$f":"'Pob x Genero'!#REF!","v":{"$error":"#REF!"}},{"$f":"'Pob x Genero'!#REF!","v":{"$error":"#REF!"}},"Hombre","00-04",{"$f":"'Pob x Genero'!#REF!","v":{"$error":"#REF!"}},1651]
[{"$f":"'Pob x Genero'!#REF!","v":{"$error":"#REF!"}},{"$f":"'Pob x Genero'!#REF!","v":{"$error":"#REF!"}},{"$f":"'Pob x Genero'!#REF!","v":{"$error":"#REF!"}},{"$f":"'Pob x Genero'!#REF!","v":{"$error":"#REF!"}},{"$f":"'Pob x Genero'!#REF!","v":{"$error":"#REF!"}},"Hombre","00-04",{"$f":"'Pob x Genero'!#REF!","v":{"$error":"#REF!"}},1652]
[{"$f":"'Pob x Genero'!#REF!","v":{"$error":"#REF!"}},{"$f":"'Pob x Genero'!#REF!","v":{"$error":"#REF!"}},{"$f":"'Pob x Genero'!#REF!","v":{"$error":"#REF!"}},{"$f":"'Pob x Genero'!#REF!","v":{"$error":"#REF!"}},{"$f":"'Pob x Genero'!#REF!","v":{"$error":"#REF!"}},"Hombre","00-04",{"$f":"'Pob x Genero'!#REF!","v":{"$error":"#REF!"}},1653]
[{"$f":"'Pob x Genero'!#REF!","v":{"$error":"#REF!"}},{"$f":"'Pob x Genero'!#REF!","v":{"$error":"#REF!"}},{"$f":"'Pob x Genero'!#REF!","v":{"$error":"#REF!"}},{"$f":"'Pob x Genero'!#REF!","v":{"$error":"#REF!"}},{"$f":"'Pob x Genero'!#REF!","v":{"$error":"#REF!"}},"Hombre","00-04",{"$f":"'Pob x Genero'!#REF!","v":{"$error":"#REF!"}},1654]
[{"$f":"'Pob x Genero'!#REF!","v":{"$error":"#REF!"}},{"$f":"'Pob x Genero'!#REF!","v":{"$error":"#REF!"}},{"$f":"'Pob x Genero'!#REF!","v":{"$error":"#REF!"}},{"$f":"'Pob x Genero'!#REF!","v":{"$error":"#REF!"}},{"$f":"'Pob x Genero'!#REF!","v":{"$error":"#REF!"}},"Hombre","00-04",{"$f":"'Pob x Genero'!#REF!","v":{"$error":"#REF!"}},1655]
[{"$f":"'Pob x Genero'!#REF!","v":{"$error":"#REF!"}},{"$f":"'Pob x Genero'!#REF!","v":{"$error":"#REF!"}},{"$f":"'Pob x Genero'!#REF!","v":{"$error":"#REF!"}},{"$f":"'Pob x Genero'!#REF!","v":{"$error":"#REF!"}},{"$f":"'Pob x Genero'!#REF!","v":{"$error":"#REF!"}},"Hombre","00-04",{"$f":"'Pob x Genero'!#REF!","v":{"$error":"#REF!"}},1656]
[{"$f":"'Pob x Genero'!#REF!","v":{"$error":"#REF!"}},{"$f":"'Pob x Genero'!#REF!","v":{"$error":"#REF!"}},{"$f":"'Pob x Genero'!#REF!","v":{"$error":"#REF!"}},{"$f":"'Pob x Genero'!#REF!","v":{"$error":"#REF!"}},{"$f":"'Pob x Genero'!#REF!","v":{"$error":"#REF!"}},"Hombre","00-04",{"$f":"'Pob x Genero'!#REF!","v":{"$error":"#REF!"}},1657]
[{"$f":"'Pob x Genero'!#REF!","v":{"$error":"#REF!"}},{"$f":"'Pob x Genero'!#REF!","v":{"$error":"#REF!"}},{"$f":"'Pob x Genero'!#REF!","v":{"$error":"#REF!"}},{"$f":"'Pob x Genero'!#REF!","v":{"$error":"#REF!"}},{"$f":"'Pob x Genero'!#REF!","v":{"$error":"#REF!"}},"Hombre","00-04",{"$f":"'Pob x Genero'!#REF!","v":{"$error":"#REF!"}},1658]
[{"$f":"'Pob x Genero'!#REF!","v":{"$error":"#REF!"}},{"$f":"'Pob x Genero'!#REF!","v":{"$error":"#REF!"}},{"$f":"'Pob x Genero'!#REF!","v":{"$error":"#REF!"}},{"$f":"'Pob x Genero'!#REF!","v":{"$error":"#REF!"}},{"$f":"'Pob x Genero'!#REF!","v":{"$error":"#REF!"}},"Hombre","00-04",{"$f":"'Pob x Genero'!#REF!","v":{"$error":"#REF!"}},1659]
[{"$f":"'Pob x Genero'!#REF!","v":{"$error":"#REF!"}},{"$f":"'Pob x Genero'!#REF!","v":{"$error":"#REF!"}},{"$f":"'Pob x Genero'!#REF!","v":{"$error":"#REF!"}},{"$f":"'Pob x Genero'!#REF!","v":{"$error":"#REF!"}},{"$f":"'Pob x Genero'!#REF!","v":{"$error":"#REF!"}},"Hombre","00-04",{"$f":"'Pob x Genero'!#REF!","v":{"$error":"#REF!"}},1660]
[{"$f":"'Pob x Genero'!#REF!","v":{"$error":"#REF!"}},{"$f":"'Pob x Genero'!#REF!","v":{"$error":"#REF!"}},{"$f":"'Pob x Genero'!#REF!","v":{"$error":"#REF!"}},{"$f":"'Pob x Genero'!#REF!","v":{"$error":"#REF!"}},{"$f":"'Pob x Genero'!#REF!","v":{"$error":"#REF!"}},"Hombre","00-04",{"$f":"'Pob x Genero'!#REF!","v":{"$error":"#REF!"}},1661]
[{"$f":"'Pob x Genero'!#REF!","v":{"$error":"#REF!"}},{"$f":"'Pob x Genero'!#REF!","v":{"$error":"#REF!"}},{"$f":"'Pob x Genero'!#REF!","v":{"$error":"#REF!"}},{"$f":"'Pob x Genero'!#REF!","v":{"$error":"#REF!"}},{"$f":"'Pob x Genero'!#REF!","v":{"$error":"#REF!"}},"Hombre","00-04",{"$f":"'Pob x Genero'!#REF!","v":{"$error":"#REF!"}},1662]
[{"$f":"'Pob x Genero'!#REF!","v":{"$error":"#REF!"}},{"$f":"'Pob x Genero'!#REF!","v":{"$error":"#REF!"}},{"$f":"'Pob x Genero'!#REF!","v":{"$error":"#REF!"}},{"$f":"'Pob x Genero'!#REF!","v":{"$error":"#REF!"}},{"$f":"'Pob x Genero'!#REF!","v":{"$error":"#REF!"}},"Hombre","00-04",{"$f":"'Pob x Genero'!#REF!","v":{"$error":"#REF!"}},1663]
[{"$f":"'Pob x Genero'!#REF!","v":{"$error":"#REF!"}},{"$f":"'Pob x Genero'!#REF!","v":{"$error":"#REF!"}},{"$f":"'Pob x Genero'!#REF!","v":{"$error":"#REF!"}},{"$f":"'Pob x Genero'!#REF!","v":{"$error":"#REF!"}},{"$f":"'Pob x Genero'!#REF!","v":{"$error":"#REF!"}},"Hombre","00-04",{"$f":"'Pob x Genero'!#REF!","v":{"$error":"#REF!"}},1664]
[{"$f":"'Pob x Genero'!#REF!","v":{"$error":"#REF!"}},{"$f":"'Pob x Genero'!#REF!","v":{"$error":"#REF!"}},{"$f":"'Pob x Genero'!#REF!","v":{"$error":"#REF!"}},{"$f":"'Pob x Genero'!#REF!","v":{"$error":"#REF!"}},{"$f":"'Pob x Genero'!#REF!","v":{"$error":"#REF!"}},"Hombre","00-04",{"$f":"'Pob x Genero'!#REF!","v":{"$error":"#REF!"}},1665]
[{"$f":"'Pob x Genero'!#REF!","v":{"$error":"#REF!"}},{"$f":"'Pob x Genero'!#REF!","v":{"$error":"#REF!"}},{"$f":"'Pob x Genero'!#REF!","v":{"$error":"#REF!"}},{"$f":"'Pob x Genero'!#REF!","v":{"$error":"#REF!"}},{"$f":"'Pob x Genero'!#REF!","v":{"$error":"#REF!"}},{"$f":"F1666","v":"Hombre"},{"$f":"G1666","v":"00-04"},{"$f":"'Pob x Genero'!#REF!","v":{"$error":"#REF!"}},1666]
[{"$f":"'Pob x Genero'!#REF!","v":{"$error":"#REF!"}},{"$f":"'Pob x Genero'!#REF!","v":{"$error":"#REF!"}},{"$f":"'Pob x Genero'!#REF!","v":{"$error":"#REF!"}},{"$f":"'Pob x Genero'!#REF!","v":{"$error":"#REF!"}},{"$f":"'Pob x Genero'!#REF!","v":{"$error":"#REF!"}},"Hombre","00-04",{"$f":"'Pob x Genero'!#REF!","v":{"$error":"#REF!"}},1667]
[{"$f":"'Pob x Genero'!#REF!","v":{"$error":"#REF!"}},{"$f":"'Pob x Genero'!#REF!","v":{"$error":"#REF!"}},{"$f":"'Pob x Genero'!#REF!","v":{"$error":"#REF!"}},{"$f":"'Pob x Genero'!#REF!","v":{"$error":"#REF!"}},{"$f":"'Pob x Genero'!#REF!","v":{"$error":"#REF!"}},"Hombre","00-04",{"$f":"'Pob x Genero'!#REF!","v":{"$error":"#REF!"}},1668]
[{"$f":"'Pob x Genero'!#REF!","v":{"$error":"#REF!"}},{"$f":"'Pob x Genero'!#REF!","v":{"$error":"#REF!"}},{"$f":"'Pob x Genero'!#REF!","v":{"$error":"#REF!"}},{"$f":"'Pob x Genero'!#REF!","v":{"$error":"#REF!"}},{"$f":"'Pob x Genero'!#REF!","v":{"$error":"#REF!"}},"Hombre","00-04",{"$f":"'Pob x Genero'!#REF!","v":{"$error":"#REF!"}},1669]
[{"$f":"'Pob x Genero'!#REF!","v":{"$error":"#REF!"}},{"$f":"'Pob x Genero'!#REF!","v":{"$error":"#REF!"}},{"$f":"'Pob x Genero'!#REF!","v":{"$error":"#REF!"}},{"$f":"'Pob x Genero'!#REF!","v":{"$error":"#REF!"}},{"$f":"'Pob x Genero'!#REF!","v":{"$error":"#REF!"}},"Hombre","00-04",{"$f":"'Pob x Genero'!#REF!","v":{"$error":"#REF!"}},1670]
[{"$f":"'Pob x Genero'!#REF!","v":{"$error":"#REF!"}},{"$f":"'Pob x Genero'!#REF!","v":{"$error":"#REF!"}},{"$f":"'Pob x Genero'!#REF!","v":{"$error":"#REF!"}},{"$f":"'Pob x Genero'!#REF!","v":{"$error":"#REF!"}},{"$f":"'Pob x Genero'!#REF!","v":{"$error":"#REF!"}},"Hombre","00-04",{"$f":"'Pob x Genero'!#REF!","v":{"$error":"#REF!"}},1671]
[{"$f":"'Pob x Genero'!#REF!","v":{"$error":"#REF!"}},{"$f":"'Pob x Genero'!#REF!","v":{"$error":"#REF!"}},{"$f":"'Pob x Genero'!#REF!","v":{"$error":"#REF!"}},{"$f":"'Pob x Genero'!#REF!","v":{"$error":"#REF!"}},{"$f":"'Pob x Genero'!#REF!","v":{"$error":"#REF!"}},"Hombre","00-04",{"$f":"'Pob x Genero'!#REF!","v":{"$error":"#REF!"}},1672]
[{"$f":"'Pob x Genero'!#REF!","v":{"$error":"#REF!"}},{"$f":"'Pob x Genero'!#REF!","v":{"$error":"#REF!"}},{"$f":"'Pob x Genero'!#REF!","v":{"$error":"#REF!"}},{"$f":"'Pob x Genero'!#REF!","v":{"$error":"#REF!"}},{"$f":"'Pob x Genero'!#REF!","v":{"$error":"#REF!"}},"Hombre","00-04",{"$f":"'Pob x Genero'!#REF!","v":{"$error":"#REF!"}},1673]
[{"$f":"'Pob x Genero'!#REF!","v":{"$error":"#REF!"}},{"$f":"'Pob x Genero'!#REF!","v":{"$error":"#REF!"}},{"$f":"'Pob x Genero'!#REF!","v":{"$error":"#REF!"}},{"$f":"'Pob x Genero'!#REF!","v":{"$error":"#REF!"}},{"$f":"'Pob x Genero'!#REF!","v":{"$error":"#REF!"}},"Hombre","00-04",{"$f":"'Pob x Genero'!#REF!","v":{"$error":"#REF!"}},1674]
[{"$f":"'Pob x Genero'!#REF!","v":{"$error":"#REF!"}},{"$f":"'Pob x Genero'!#REF!","v":{"$error":"#REF!"}},{"$f":"'Pob x Genero'!#REF!","v":{"$error":"#REF!"}},{"$f":"'Pob x Genero'!#REF!","v":{"$error":"#REF!"}},{"$f":"'Pob x Genero'!#REF!","v":{"$error":"#REF!"}},"Hombre","00-04",{"$f":"'Pob x Genero'!#REF!","v":{"$error":"#REF!"}},1675]
[{"$f":"'Pob x Genero'!#REF!","v":{"$error":"#REF!"}},{"$f":"'Pob x Genero'!#REF!","v":{"$error":"#REF!"}},{"$f":"'Pob x Genero'!#REF!","v":{"$error":"#REF!"}},{"$f":"'Pob x Genero'!#REF!","v":{"$error":"#REF!"}},{"$f":"'Pob x Genero'!#REF!","v":{"$error":"#REF!"}},"Hombre","00-04",{"$f":"'Pob x Genero'!#REF!","v":{"$error":"#REF!"}},1676]
[{"$f":"'Pob x Genero'!#REF!","v":{"$error":"#REF!"}},{"$f":"'Pob x Genero'!#REF!","v":{"$error":"#REF!"}},{"$f":"'Pob x Genero'!#REF!","v":{"$error":"#REF!"}},{"$f":"'Pob x Genero'!#REF!","v":{"$error":"#REF!"}},{"$f":"'Pob x Genero'!#REF!","v":{"$error":"#REF!"}},"Hombre","00-04",{"$f":"'Pob x Genero'!#REF!","v":{"$error":"#REF!"}},1677]
[{"$f":"'Pob x Genero'!#REF!","v":{"$error":"#REF!"}},{"$f":"'Pob x Genero'!#REF!","v":{"$error":"#REF!"}},{"$f":"'Pob x Genero'!#REF!","v":{"$error":"#REF!"}},{"$f":"'Pob x Genero'!#REF!","v":{"$error":"#REF!"}},{"$f":"'Pob x Genero'!#REF!","v":{"$error":"#REF!"}},"Hombre","00-04",{"$f":"'Pob x Genero'!#REF!","v":{"$error":"#REF!"}},1678]
[{"$f":"'Pob x Genero'!#REF!","v":{"$error":"#REF!"}},{"$f":"'Pob x Genero'!#REF!","v":{"$error":"#REF!"}},{"$f":"'Pob x Genero'!#REF!","v":{"$error":"#REF!"}},{"$f":"'Pob x Genero'!#REF!","v":{"$error":"#REF!"}},{"$f":"'Pob x Genero'!#REF!","v":{"$error":"#REF!"}},"Hombre","00-04",{"$f":"'Pob x Genero'!#REF!","v":{"$error":"#REF!"}},1679]
[{"$f":"'Pob x Genero'!#REF!","v":{"$error":"#REF!"}},{"$f":"'Pob x Genero'!#REF!","v":{"$error":"#REF!"}},{"$f":"'Pob x Genero'!#REF!","v":{"$error":"#REF!"}},{"$f":"'Pob x Genero'!#REF!","v":{"$error":"#REF!"}},{"$f":"'Pob x Genero'!#REF!","v":{"$error":"#REF!"}},"Hombre","00-04",{"$f":"'Pob x Genero'!#REF!","v":{"$error":"#REF!"}},1680]
[{"$f":"'Pob x Genero'!#REF!","v":{"$error":"#REF!"}},{"$f":"'Pob x Genero'!#REF!","v":{"$error":"#REF!"}},{"$f":"'Pob x Genero'!#REF!","v":{"$error":"#REF!"}},{"$f":"'Pob x Genero'!#REF!","v":{"$error":"#REF!"}},{"$f":"'Pob x Genero'!#REF!","v":{"$error":"#REF!"}},"Hombre","00-04",{"$f":"'Pob x Genero'!#REF!","v":{"$error":"#REF!"}},1681]
[{"$f":"'Pob x Genero'!#REF!","v":{"$error":"#REF!"}},{"$f":"'Pob x Genero'!#REF!","v":{"$error":"#REF!"}},{"$f":"'Pob x Genero'!#REF!","v":{"$error":"#REF!"}},{"$f":"'Pob x Genero'!#REF!","v":{"$error":"#REF!"}},{"$f":"'Pob x Genero'!#REF!","v":{"$error":"#REF!"}},"Hombre","00-04",{"$f":"'Pob x Genero'!#REF!","v":{"$error":"#REF!"}},1682]
[{"$f":"'Pob x Genero'!#REF!","v":{"$error":"#REF!"}},{"$f":"'Pob x Genero'!#REF!","v":{"$error":"#REF!"}},{"$f":"'Pob x Genero'!#REF!","v":{"$error":"#REF!"}},{"$f":"'Pob x Genero'!#REF!","v":{"$error":"#REF!"}},{"$f":"'Pob x Genero'!#REF!","v":{"$error":"#REF!"}},"Hombre","00-04",{"$f":"'Pob x Genero'!#REF!","v":{"$error":"#REF!"}},1683]
[{"$f":"'Pob x Genero'!#REF!","v":{"$error":"#REF!"}},{"$f":"'Pob x Genero'!#REF!","v":{"$error":"#REF!"}},{"$f":"'Pob x Genero'!#REF!","v":{"$error":"#REF!"}},{"$f":"'Pob x Genero'!#REF!","v":{"$error":"#REF!"}},{"$f":"'Pob x Genero'!#REF!","v":{"$error":"#REF!"}},"Hombre","00-04",{"$f":"'Pob x Genero'!#REF!","v":{"$error":"#REF!"}},1684]
[{"$f":"'Pob x Genero'!#REF!","v":{"$error":"#REF!"}},{"$f":"'Pob x Genero'!#REF!","v":{"$error":"#REF!"}},{"$f":"'Pob x Genero'!#REF!","v":{"$error":"#REF!"}},{"$f":"'Pob x Genero'!#REF!","v":{"$error":"#REF!"}},{"$f":"'Pob x Genero'!#REF!","v":{"$error":"#REF!"}},"Hombre","00-04",{"$f":"'Pob x Genero'!#REF!","v":{"$error":"#REF!"}},1685]
[{"$f":"'Pob x Genero'!#REF!","v":{"$error":"#REF!"}},{"$f":"'Pob x Genero'!#REF!","v":{"$error":"#REF!"}},{"$f":"'Pob x Genero'!#REF!","v":{"$error":"#REF!"}},{"$f":"'Pob x Genero'!#REF!","v":{"$error":"#REF!"}},{"$f":"'Pob x Genero'!#REF!","v":{"$error":"#REF!"}},"Hombre","00-04",{"$f":"'Pob x Genero'!#REF!","v":{"$error":"#REF!"}},1686]
[{"$f":"'Pob x Genero'!#REF!","v":{"$error":"#REF!"}},{"$f":"'Pob x Genero'!#REF!","v":{"$error":"#REF!"}},{"$f":"'Pob x Genero'!#REF!","v":{"$error":"#REF!"}},{"$f":"'Pob x Genero'!#REF!","v":{"$error":"#REF!"}},{"$f":"'Pob x Genero'!#REF!","v":{"$error":"#REF!"}},"Hombre","00-04",{"$f":"'Pob x Genero'!#REF!","v":{"$error":"#REF!"}},1687]
[{"$f":"'Pob x Genero'!#REF!","v":{"$error":"#REF!"}},{"$f":"'Pob x Genero'!#REF!","v":{"$error":"#REF!"}},{"$f":"'Pob x Genero'!#REF!","v":{"$error":"#REF!"}},{"$f":"'Pob x Genero'!#REF!","v":{"$error":"#REF!"}},{"$f":"'Pob x Genero'!#REF!","v":{"$error":"#REF!"}},"Hombre","00-04",{"$f":"'Pob x Genero'!#REF!","v":{"$error":"#REF!"}},1688]
[{"$f":"'Pob x Genero'!#REF!","v":{"$error":"#REF!"}},{"$f":"'Pob x Genero'!#REF!","v":{"$error":"#REF!"}},{"$f":"'Pob x Genero'!#REF!","v":{"$error":"#REF!"}},{"$f":"'Pob x Genero'!#REF!","v":{"$error":"#REF!"}},{"$f":"'Pob x Genero'!#REF!","v":{"$error":"#REF!"}},"Hombre","00-04",{"$f":"'Pob x Genero'!#REF!","v":{"$error":"#REF!"}},1689]
[{"$f":"'Pob x Genero'!#REF!","v":{"$error":"#REF!"}},{"$f":"'Pob x Genero'!#REF!","v":{"$error":"#REF!"}},{"$f":"'Pob x Genero'!#REF!","v":{"$error":"#REF!"}},{"$f":"'Pob x Genero'!#REF!","v":{"$error":"#REF!"}},{"$f":"'Pob x Genero'!#REF!","v":{"$error":"#REF!"}},"Hombre","00-04",{"$f":"'Pob x Genero'!#REF!","v":{"$error":"#REF!"}},1690]
[{"$f":"'Pob x Genero'!#REF!","v":{"$error":"#REF!"}},{"$f":"'Pob x Genero'!#REF!","v":{"$error":"#REF!"}},{"$f":"'Pob x Genero'!#REF!","v":{"$error":"#REF!"}},{"$f":"'Pob x Genero'!#REF!","v":{"$error":"#REF!"}},{"$f":"'Pob x Genero'!#REF!","v":{"$error":"#REF!"}},"Hombre","00-04",{"$f":"'Pob x Genero'!#REF!","v":{"$error":"#REF!"}},1691]
[{"$f":"'Pob x Genero'!#REF!","v":{"$error":"#REF!"}},{"$f":"'Pob x Genero'!#REF!","v":{"$error":"#REF!"}},{"$f":"'Pob x Genero'!#REF!","v":{"$error":"#REF!"}},{"$f":"'Pob x Genero'!#REF!","v":{"$error":"#REF!"}},{"$f":"'Pob x Genero'!#REF!","v":{"$error":"#REF!"}},"Hombre","00-04",{"$f":"'Pob x Genero'!#REF!","v":{"$error":"#REF!"}},1692]
[{"$f":"'Pob x Genero'!#REF!","v":{"$error":"#REF!"}},{"$f":"'Pob x Genero'!#REF!","v":{"$error":"#REF!"}},{"$f":"'Pob x Genero'!#REF!","v":{"$error":"#REF!"}},{"$f":"'Pob x Genero'!#REF!","v":{"$error":"#REF!"}},{"$f":"'Pob x Genero'!#REF!","v":{"$error":"#REF!"}},"Hombre","00-04",{"$f":"'Pob x Genero'!#REF!","v":{"$error":"#REF!"}},1693]
[{"$f":"'Pob x Genero'!#REF!","v":{"$error":"#REF!"}},{"$f":"'Pob x Genero'!#REF!","v":{"$error":"#REF!"}},{"$f":"'Pob x Genero'!#REF!","v":{"$error":"#REF!"}},{"$f":"'Pob x Genero'!#REF!","v":{"$error":"#REF!"}},{"$f":"'Pob x Genero'!#REF!","v":{"$error":"#REF!"}},"Hombre","00-04",{"$f":"'Pob x Genero'!#REF!","v":{"$error":"#REF!"}},1694]
[{"$f":"'Pob x Genero'!#REF!","v":{"$error":"#REF!"}},{"$f":"'Pob x Genero'!#REF!","v":{"$error":"#REF!"}},{"$f":"'Pob x Genero'!#REF!","v":{"$error":"#REF!"}},{"$f":"'Pob x Genero'!#REF!","v":{"$error":"#REF!"}},{"$f":"'Pob x Genero'!#REF!","v":{"$error":"#REF!"}},"Hombre","00-04",{"$f":"'Pob x Genero'!#REF!","v":{"$error":"#REF!"}},1695]
[{"$f":"'Pob x Genero'!#REF!","v":{"$error":"#REF!"}},{"$f":"'Pob x Genero'!#REF!","v":{"$error":"#REF!"}},{"$f":"'Pob x Genero'!#REF!","v":{"$error":"#REF!"}},{"$f":"'Pob x Genero'!#REF!","v":{"$error":"#REF!"}},{"$f":"'Pob x Genero'!#REF!","v":{"$error":"#REF!"}},"Hombre","00-04",{"$f":"'Pob x Genero'!#REF!","v":{"$error":"#REF!"}},1696]
[{"$f":"'Pob x Genero'!#REF!","v":{"$error":"#REF!"}},{"$f":"'Pob x Genero'!#REF!","v":{"$error":"#REF!"}},{"$f":"'Pob x Genero'!#REF!","v":{"$error":"#REF!"}},{"$f":"'Pob x Genero'!#REF!","v":{"$error":"#REF!"}},{"$f":"'Pob x Genero'!#REF!","v":{"$error":"#REF!"}},"Hombre","00-04",{"$f":"'Pob x Genero'!#REF!","v":{"$error":"#REF!"}},1697]
[{"$f":"'Pob x Genero'!#REF!","v":{"$error":"#REF!"}},{"$f":"'Pob x Genero'!#REF!","v":{"$error":"#REF!"}},{"$f":"'Pob x Genero'!#REF!","v":{"$error":"#REF!"}},{"$f":"'Pob x Genero'!#REF!","v":{"$error":"#REF!"}},{"$f":"'Pob x Genero'!#REF!","v":{"$error":"#REF!"}},"Hombre","00-04",{"$f":"'Pob x Genero'!#REF!","v":{"$error":"#REF!"}},1698]
[{"$f":"'Pob x Genero'!#REF!","v":{"$error":"#REF!"}},{"$f":"'Pob x Genero'!#REF!","v":{"$error":"#REF!"}},{"$f":"'Pob x Genero'!#REF!","v":{"$error":"#REF!"}},{"$f":"'Pob x Genero'!#REF!","v":{"$error":"#REF!"}},{"$f":"'Pob x Genero'!#REF!","v":{"$error":"#REF!"}},"Hombre","00-04",{"$f":"'Pob x Genero'!#REF!","v":{"$error":"#REF!"}},1699]
[{"$f":"'Pob x Genero'!#REF!","v":{"$error":"#REF!"}},{"$f":"'Pob x Genero'!#REF!","v":{"$error":"#REF!"}},{"$f":"'Pob x Genero'!#REF!","v":{"$error":"#REF!"}},{"$f":"'Pob x Genero'!#REF!","v":{"$error":"#REF!"}},{"$f":"'Pob x Genero'!#REF!","v":{"$error":"#REF!"}},"Hombre","00-04",{"$f":"'Pob x Genero'!#REF!","v":{"$error":"#REF!"}},1700]
[{"$f":"'Pob x Genero'!#REF!","v":{"$error":"#REF!"}},{"$f":"'Pob x Genero'!#REF!","v":{"$error":"#REF!"}},{"$f":"'Pob x Genero'!#REF!","v":{"$error":"#REF!"}},{"$f":"'Pob x Genero'!#REF!","v":{"$error":"#REF!"}},{"$f":"'Pob x Genero'!#REF!","v":{"$error":"#REF!"}},"Hombre","00-04",{"$f":"'Pob x Genero'!#REF!","v":{"$error":"#REF!"}},1701]
[{"$f":"'Pob x Genero'!#REF!","v":{"$error":"#REF!"}},{"$f":"'Pob x Genero'!#REF!","v":{"$error":"#REF!"}},{"$f":"'Pob x Genero'!#REF!","v":{"$error":"#REF!"}},{"$f":"'Pob x Genero'!#REF!","v":{"$error":"#REF!"}},{"$f":"'Pob x Genero'!#REF!","v":{"$error":"#REF!"}},"Hombre","00-04",{"$f":"'Pob x Genero'!#REF!","v":{"$error":"#REF!"}},1702]
[{"$f":"'Pob x Genero'!#REF!","v":{"$error":"#REF!"}},{"$f":"'Pob x Genero'!#REF!","v":{"$error":"#REF!"}},{"$f":"'Pob x Genero'!#REF!","v":{"$error":"#REF!"}},{"$f":"'Pob x Genero'!#REF!","v":{"$error":"#REF!"}},{"$f":"'Pob x Genero'!#REF!","v":{"$error":"#REF!"}},"Hombre","00-04",{"$f":"'Pob x Genero'!#REF!","v":{"$error":"#REF!"}},1703]
[{"$f":"'Pob x Genero'!#REF!","v":{"$error":"#REF!"}},{"$f":"'Pob x Genero'!#REF!","v":{"$error":"#REF!"}},{"$f":"'Pob x Genero'!#REF!","v":{"$error":"#REF!"}},{"$f":"'Pob x Genero'!#REF!","v":{"$error":"#REF!"}},{"$f":"'Pob x Genero'!#REF!","v":{"$error":"#REF!"}},"Hombre","00-04",{"$f":"'Pob x Genero'!#REF!","v":{"$error":"#REF!"}},1704]
[{"$f":"'Pob x Genero'!#REF!","v":{"$error":"#REF!"}},{"$f":"'Pob x Genero'!#REF!","v":{"$error":"#REF!"}},{"$f":"'Pob x Genero'!#REF!","v":{"$error":"#REF!"}},{"$f":"'Pob x Genero'!#REF!","v":{"$error":"#REF!"}},{"$f":"'Pob x Genero'!#REF!","v":{"$error":"#REF!"}},"Hombre","00-04",{"$f":"'Pob x Genero'!#REF!","v":{"$error":"#REF!"}},1705]
[{"$f":"'Pob x Genero'!#REF!","v":{"$error":"#REF!"}},{"$f":"'Pob x Genero'!#REF!","v":{"$error":"#REF!"}},{"$f":"'Pob x Genero'!#REF!","v":{"$error":"#REF!"}},{"$f":"'Pob x Genero'!#REF!","v":{"$error":"#REF!"}},{"$f":"'Pob x Genero'!#REF!","v":{"$error":"#REF!"}},"Hombre","00-04",{"$f":"'Pob x Genero'!#REF!","v":{"$error":"#REF!"}},1706]
[{"$f":"'Pob x Genero'!#REF!","v":{"$error":"#REF!"}},{"$f":"'Pob x Genero'!#REF!","v":{"$error":"#REF!"}},{"$f":"'Pob x Genero'!#REF!","v":{"$error":"#REF!"}},{"$f":"'Pob x Genero'!#REF!","v":{"$error":"#REF!"}},{"$f":"'Pob x Genero'!#REF!","v":{"$error":"#REF!"}},"Hombre","00-04",{"$f":"'Pob x Genero'!#REF!","v":{"$error":"#REF!"}},1707]
[{"$f":"'Pob x Genero'!#REF!","v":{"$error":"#REF!"}},{"$f":"'Pob x Genero'!#REF!","v":{"$error":"#REF!"}},{"$f":"'Pob x Genero'!#REF!","v":{"$error":"#REF!"}},{"$f":"'Pob x Genero'!#REF!","v":{"$error":"#REF!"}},{"$f":"'Pob x Genero'!#REF!","v":{"$error":"#REF!"}},"Hombre","00-04",{"$f":"'Pob x Genero'!#REF!","v":{"$error":"#REF!"}},1708]
[{"$f":"'Pob x Genero'!#REF!","v":{"$error":"#REF!"}},{"$f":"'Pob x Genero'!#REF!","v":{"$error":"#REF!"}},{"$f":"'Pob x Genero'!#REF!","v":{"$error":"#REF!"}},{"$f":"'Pob x Genero'!#REF!","v":{"$error":"#REF!"}},{"$f":"'Pob x Genero'!#REF!","v":{"$error":"#REF!"}},"Hombre","00-04",{"$f":"'Pob x Genero'!#REF!","v":{"$error":"#REF!"}},1709]
[{"$f":"'Pob x Genero'!#REF!","v":{"$error":"#REF!"}},{"$f":"'Pob x Genero'!#REF!","v":{"$error":"#REF!"}},{"$f":"'Pob x Genero'!#REF!","v":{"$error":"#REF!"}},{"$f":"'Pob x Genero'!#REF!","v":{"$error":"#REF!"}},{"$f":"'Pob x Genero'!#REF!","v":{"$error":"#REF!"}},"Hombre","00-04",{"$f":"'Pob x Genero'!#REF!","v":{"$error":"#REF!"}},1710]
[{"$f":"'Pob x Genero'!#REF!","v":{"$error":"#REF!"}},{"$f":"'Pob x Genero'!#REF!","v":{"$error":"#REF!"}},{"$f":"'Pob x Genero'!#REF!","v":{"$error":"#REF!"}},{"$f":"'Pob x Genero'!#REF!","v":{"$error":"#REF!"}},{"$f":"'Pob x Genero'!#REF!","v":{"$error":"#REF!"}},"Hombre","00-04",{"$f":"'Pob x Genero'!#REF!","v":{"$error":"#REF!"}},1711]
[{"$f":"'Pob x Genero'!#REF!","v":{"$error":"#REF!"}},{"$f":"'Pob x Genero'!#REF!","v":{"$error":"#REF!"}},{"$f":"'Pob x Genero'!#REF!","v":{"$error":"#REF!"}},{"$f":"'Pob x Genero'!#REF!","v":{"$error":"#REF!"}},{"$f":"'Pob x Genero'!#REF!","v":{"$error":"#REF!"}},"Hombre","00-04",{"$f":"'Pob x Genero'!#REF!","v":{"$error":"#REF!"}},1712]
[{"$f":"'Pob x Genero'!#REF!","v":{"$error":"#REF!"}},{"$f":"'Pob x Genero'!#REF!","v":{"$error":"#REF!"}},{"$f":"'Pob x Genero'!#REF!","v":{"$error":"#REF!"}},{"$f":"'Pob x Genero'!#REF!","v":{"$error":"#REF!"}},{"$f":"'Pob x Genero'!#REF!","v":{"$error":"#REF!"}},"Hombre","00-04",{"$f":"'Pob x Genero'!#REF!","v":{"$error":"#REF!"}},1713]
[{"$f":"'Pob x Genero'!#REF!","v":{"$error":"#REF!"}},{"$f":"'Pob x Genero'!#REF!","v":{"$error":"#REF!"}},{"$f":"'Pob x Genero'!#REF!","v":{"$error":"#REF!"}},{"$f":"'Pob x Genero'!#REF!","v":{"$error":"#REF!"}},{"$f":"'Pob x Genero'!#REF!","v":{"$error":"#REF!"}},"Hombre","00-04",{"$f":"'Pob x Genero'!#REF!","v":{"$error":"#REF!"}},1714]
[{"$f":"'Pob x Genero'!#REF!","v":{"$error":"#REF!"}},{"$f":"'Pob x Genero'!#REF!","v":{"$error":"#REF!"}},{"$f":"'Pob x Genero'!#REF!","v":{"$error":"#REF!"}},{"$f":"'Pob x Genero'!#REF!","v":{"$error":"#REF!"}},{"$f":"'Pob x Genero'!#REF!","v":{"$error":"#REF!"}},"Hombre","00-04",{"$f":"'Pob x Genero'!#REF!","v":{"$error":"#REF!"}},1715]
[{"$f":"'Pob x Genero'!#REF!","v":{"$error":"#REF!"}},{"$f":"'Pob x Genero'!#REF!","v":{"$error":"#REF!"}},{"$f":"'Pob x Genero'!#REF!","v":{"$error":"#REF!"}},{"$f":"'Pob x Genero'!#REF!","v":{"$error":"#REF!"}},{"$f":"'Pob x Genero'!#REF!","v":{"$error":"#REF!"}},"Hombre","00-04",{"$f":"'Pob x Genero'!#REF!","v":{"$error":"#REF!"}},1716]
[{"$f":"'Pob x Genero'!#REF!","v":{"$error":"#REF!"}},{"$f":"'Pob x Genero'!#REF!","v":{"$error":"#REF!"}},{"$f":"'Pob x Genero'!#REF!","v":{"$error":"#REF!"}},{"$f":"'Pob x Genero'!#REF!","v":{"$error":"#REF!"}},{"$f":"'Pob x Genero'!#REF!","v":{"$error":"#REF!"}},"Hombre","00-04",{"$f":"'Pob x Genero'!#REF!","v":{"$error":"#REF!"}},1717]
[{"$f":"'Pob x Genero'!#REF!","v":{"$error":"#REF!"}},{"$f":"'Pob x Genero'!#REF!","v":{"$error":"#REF!"}},{"$f":"'Pob x Genero'!#REF!","v":{"$error":"#REF!"}},{"$f":"'Pob x Genero'!#REF!","v":{"$error":"#REF!"}},{"$f":"'Pob x Genero'!#REF!","v":{"$error":"#REF!"}},"Hombre","00-04",{"$f":"'Pob x Genero'!#REF!","v":{"$error":"#REF!"}},1718]
[{"$f":"'Pob x Genero'!#REF!","v":{"$error":"#REF!"}},{"$f":"'Pob x Genero'!#REF!","v":{"$error":"#REF!"}},{"$f":"'Pob x Genero'!#REF!","v":{"$error":"#REF!"}},{"$f":"'Pob x Genero'!#REF!","v":{"$error":"#REF!"}},{"$f":"'Pob x Genero'!#REF!","v":{"$error":"#REF!"}},"Hombre","00-04",{"$f":"'Pob x Genero'!#REF!","v":{"$error":"#REF!"}},1719]
[{"$f":"'Pob x Genero'!#REF!","v":{"$error":"#REF!"}},{"$f":"'Pob x Genero'!#REF!","v":{"$error":"#REF!"}},{"$f":"'Pob x Genero'!#REF!","v":{"$error":"#REF!"}},{"$f":"'Pob x Genero'!#REF!","v":{"$error":"#REF!"}},{"$f":"'Pob x Genero'!#REF!","v":{"$error":"#REF!"}},"Hombre","00-04",{"$f":"'Pob x Genero'!#REF!","v":{"$error":"#REF!"}},1720]
[{"$f":"'Pob x Genero'!#REF!","v":{"$error":"#REF!"}},{"$f":"'Pob x Genero'!#REF!","v":{"$error":"#REF!"}},{"$f":"'Pob x Genero'!#REF!","v":{"$error":"#REF!"}},{"$f":"'Pob x Genero'!#REF!","v":{"$error":"#REF!"}},{"$f":"'Pob x Genero'!#REF!","v":{"$error":"#REF!"}},"Hombre","00-04",{"$f":"'Pob x Genero'!#REF!","v":{"$error":"#REF!"}},1721]
[{"$f":"'Pob x Genero'!#REF!","v":{"$error":"#REF!"}},{"$f":"'Pob x Genero'!#REF!","v":{"$error":"#REF!"}},{"$f":"'Pob x Genero'!#REF!","v":{"$error":"#REF!"}},{"$f":"'Pob x Genero'!#REF!","v":{"$error":"#REF!"}},{"$f":"'Pob x Genero'!#REF!","v":{"$error":"#REF!"}},"Hombre","00-04",{"$f":"'Pob x Genero'!#REF!","v":{"$error":"#REF!"}},1722]
[{"$f":"'Pob x Genero'!#REF!","v":{"$error":"#REF!"}},{"$f":"'Pob x Genero'!#REF!","v":{"$error":"#REF!"}},{"$f":"'Pob x Genero'!#REF!","v":{"$error":"#REF!"}},{"$f":"'Pob x Genero'!#REF!","v":{"$error":"#REF!"}},{"$f":"'Pob x Genero'!#REF!","v":{"$error":"#REF!"}},"Hombre","00-04",{"$f":"'Pob x Genero'!#REF!","v":{"$error":"#REF!"}},1723]
[{"$f":"'Pob x Genero'!#REF!","v":{"$error":"#REF!"}},{"$f":"'Pob x Genero'!#REF!","v":{"$error":"#REF!"}},{"$f":"'Pob x Genero'!#REF!","v":{"$error":"#REF!"}},{"$f":"'Pob x Genero'!#REF!","v":{"$error":"#REF!"}},{"$f":"'Pob x Genero'!#REF!","v":{"$error":"#REF!"}},"Hombre","00-04",{"$f":"'Pob x Genero'!#REF!","v":{"$error":"#REF!"}},1724]
[{"$f":"'Pob x Genero'!#REF!","v":{"$error":"#REF!"}},{"$f":"'Pob x Genero'!#REF!","v":{"$error":"#REF!"}},{"$f":"'Pob x Genero'!#REF!","v":{"$error":"#REF!"}},{"$f":"'Pob x Genero'!#REF!","v":{"$error":"#REF!"}},{"$f":"'Pob x Genero'!#REF!","v":{"$error":"#REF!"}},"Hombre","00-04",{"$f":"'Pob x Genero'!#REF!","v":{"$error":"#REF!"}},1725]
[{"$f":"'Pob x Genero'!#REF!","v":{"$error":"#REF!"}},{"$f":"'Pob x Genero'!#REF!","v":{"$error":"#REF!"}},{"$f":"'Pob x Genero'!#REF!","v":{"$error":"#REF!"}},{"$f":"'Pob x Genero'!#REF!","v":{"$error":"#REF!"}},{"$f":"'Pob x Genero'!#REF!","v":{"$error":"#REF!"}},"Hombre","00-04",{"$f":"'Pob x Genero'!#REF!","v":{"$error":"#REF!"}},1726]
[{"$f":"'Pob x Genero'!#REF!","v":{"$error":"#REF!"}},{"$f":"'Pob x Genero'!#REF!","v":{"$error":"#REF!"}},{"$f":"'Pob x Genero'!#REF!","v":{"$error":"#REF!"}},{"$f":"'Pob x Genero'!#REF!","v":{"$error":"#REF!"}},{"$f":"'Pob x Genero'!#REF!","v":{"$error":"#REF!"}},"Hombre","00-04",{"$f":"'Pob x Genero'!#REF!","v":{"$error":"#REF!"}},1727]
[{"$f":"'Pob x Genero'!#REF!","v":{"$error":"#REF!"}},{"$f":"'Pob x Genero'!#REF!","v":{"$error":"#REF!"}},{"$f":"'Pob x Genero'!#REF!","v":{"$error":"#REF!"}},{"$f":"'Pob x Genero'!#REF!","v":{"$error":"#REF!"}},{"$f":"'Pob x Genero'!#REF!","v":{"$error":"#REF!"}},"Hombre","00-04",{"$f":"'Pob x Genero'!#REF!","v":{"$error":"#REF!"}},1728]
[{"$f":"'Pob x Genero'!#REF!","v":{"$error":"#REF!"}},{"$f":"'Pob x Genero'!#REF!","v":{"$error":"#REF!"}},{"$f":"'Pob x Genero'!#REF!","v":{"$error":"#REF!"}},{"$f":"'Pob x Genero'!#REF!","v":{"$error":"#REF!"}},{"$f":"'Pob x Genero'!#REF!","v":{"$error":"#REF!"}},"Hombre","00-04",{"$f":"'Pob x Genero'!#REF!","v":{"$error":"#REF!"}},1729]
[{"$f":"'Pob x Genero'!#REF!","v":{"$error":"#REF!"}},{"$f":"'Pob x Genero'!#REF!","v":{"$error":"#REF!"}},{"$f":"'Pob x Genero'!#REF!","v":{"$error":"#REF!"}},{"$f":"'Pob x Genero'!#REF!","v":{"$error":"#REF!"}},{"$f":"'Pob x Genero'!#REF!","v":{"$error":"#REF!"}},{"$f":"F1730","v":"Hombre"},{"$f":"G1730","v":"00-04"},{"$f":"'Pob x Genero'!#REF!","v":{"$error":"#REF!"}},1730]
[{"$f":"'Pob x Genero'!#REF!","v":{"$error":"#REF!"}},{"$f":"'Pob x Genero'!#REF!","v":{"$error":"#REF!"}},{"$f":"'Pob x Genero'!#REF!","v":{"$error":"#REF!"}},{"$f":"'Pob x Genero'!#REF!","v":{"$error":"#REF!"}},{"$f":"'Pob x Genero'!#REF!","v":{"$error":"#REF!"}},"Hombre","00-04",{"$f":"'Pob x Genero'!#REF!","v":{"$error":"#REF!"}},1731]
[{"$f":"'Pob x Genero'!#REF!","v":{"$error":"#REF!"}},{"$f":"'Pob x Genero'!#REF!","v":{"$error":"#REF!"}},{"$f":"'Pob x Genero'!#REF!","v":{"$error":"#REF!"}},{"$f":"'Pob x Genero'!#REF!","v":{"$error":"#REF!"}},{"$f":"'Pob x Genero'!#REF!","v":{"$error":"#REF!"}},"Hombre","00-04",{"$f":"'Pob x Genero'!#REF!","v":{"$error":"#REF!"}},1732]
[{"$f":"'Pob x Genero'!#REF!","v":{"$error":"#REF!"}},{"$f":"'Pob x Genero'!#REF!","v":{"$error":"#REF!"}},{"$f":"'Pob x Genero'!#REF!","v":{"$error":"#REF!"}},{"$f":"'Pob x Genero'!#REF!","v":{"$error":"#REF!"}},{"$f":"'Pob x Genero'!#REF!","v":{"$error":"#REF!"}},"Hombre","00-04",{"$f":"'Pob x Genero'!#REF!","v":{"$error":"#REF!"}},1733]
[{"$f":"'Pob x Genero'!#REF!","v":{"$error":"#REF!"}},{"$f":"'Pob x Genero'!#REF!","v":{"$error":"#REF!"}},{"$f":"'Pob x Genero'!#REF!","v":{"$error":"#REF!"}},{"$f":"'Pob x Genero'!#REF!","v":{"$error":"#REF!"}},{"$f":"'Pob x Genero'!#REF!","v":{"$error":"#REF!"}},"Hombre","00-04",{"$f":"'Pob x Genero'!#REF!","v":{"$error":"#REF!"}},1734]
[{"$f":"'Pob x Genero'!#REF!","v":{"$error":"#REF!"}},{"$f":"'Pob x Genero'!#REF!","v":{"$error":"#REF!"}},{"$f":"'Pob x Genero'!#REF!","v":{"$error":"#REF!"}},{"$f":"'Pob x Genero'!#REF!","v":{"$error":"#REF!"}},{"$f":"'Pob x Genero'!#REF!","v":{"$error":"#REF!"}},"Hombre","00-04",{"$f":"'Pob x Genero'!#REF!","v":{"$error":"#REF!"}},1735]
[{"$f":"'Pob x Genero'!#REF!","v":{"$error":"#REF!"}},{"$f":"'Pob x Genero'!#REF!","v":{"$error":"#REF!"}},{"$f":"'Pob x Genero'!#REF!","v":{"$error":"#REF!"}},{"$f":"'Pob x Genero'!#REF!","v":{"$error":"#REF!"}},{"$f":"'Pob x Genero'!#REF!","v":{"$error":"#REF!"}},"Hombre","00-04",{"$f":"'Pob x Genero'!#REF!","v":{"$error":"#REF!"}},1736]
[{"$f":"'Pob x Genero'!#REF!","v":{"$error":"#REF!"}},{"$f":"'Pob x Genero'!#REF!","v":{"$error":"#REF!"}},{"$f":"'Pob x Genero'!#REF!","v":{"$error":"#REF!"}},{"$f":"'Pob x Genero'!#REF!","v":{"$error":"#REF!"}},{"$f":"'Pob x Genero'!#REF!","v":{"$error":"#REF!"}},"Hombre","00-04",{"$f":"'Pob x Genero'!#REF!","v":{"$error":"#REF!"}},1737]
[{"$f":"'Pob x Genero'!#REF!","v":{"$error":"#REF!"}},{"$f":"'Pob x Genero'!#REF!","v":{"$error":"#REF!"}},{"$f":"'Pob x Genero'!#REF!","v":{"$error":"#REF!"}},{"$f":"'Pob x Genero'!#REF!","v":{"$error":"#REF!"}},{"$f":"'Pob x Genero'!#REF!","v":{"$error":"#REF!"}},"Hombre","00-04",{"$f":"'Pob x Genero'!#REF!","v":{"$error":"#REF!"}},1738]
[{"$f":"'Pob x Genero'!#REF!","v":{"$error":"#REF!"}},{"$f":"'Pob x Genero'!#REF!","v":{"$error":"#REF!"}},{"$f":"'Pob x Genero'!#REF!","v":{"$error":"#REF!"}},{"$f":"'Pob x Genero'!#REF!","v":{"$error":"#REF!"}},{"$f":"'Pob x Genero'!#REF!","v":{"$error":"#REF!"}},"Hombre","00-04",{"$f":"'Pob x Genero'!#REF!","v":{"$error":"#REF!"}},1739]
[{"$f":"'Pob x Genero'!#REF!","v":{"$error":"#REF!"}},{"$f":"'Pob x Genero'!#REF!","v":{"$error":"#REF!"}},{"$f":"'Pob x Genero'!#REF!","v":{"$error":"#REF!"}},{"$f":"'Pob x Genero'!#REF!","v":{"$error":"#REF!"}},{"$f":"'Pob x Genero'!#REF!","v":{"$error":"#REF!"}},"Hombre","00-04",{"$f":"'Pob x Genero'!#REF!","v":{"$error":"#REF!"}},1740]
[{"$f":"'Pob x Genero'!#REF!","v":{"$error":"#REF!"}},{"$f":"'Pob x Genero'!#REF!","v":{"$error":"#REF!"}},{"$f":"'Pob x Genero'!#REF!","v":{"$error":"#REF!"}},{"$f":"'Pob x Genero'!#REF!","v":{"$error":"#REF!"}},{"$f":"'Pob x Genero'!#REF!","v":{"$error":"#REF!"}},"Hombre","00-04",{"$f":"'Pob x Genero'!#REF!","v":{"$error":"#REF!"}},1741]
[{"$f":"'Pob x Genero'!#REF!","v":{"$error":"#REF!"}},{"$f":"'Pob x Genero'!#REF!","v":{"$error":"#REF!"}},{"$f":"'Pob x Genero'!#REF!","v":{"$error":"#REF!"}},{"$f":"'Pob x Genero'!#REF!","v":{"$error":"#REF!"}},{"$f":"'Pob x Genero'!#REF!","v":{"$error":"#REF!"}},"Hombre","00-04",{"$f":"'Pob x Genero'!#REF!","v":{"$error":"#REF!"}},1742]
[{"$f":"'Pob x Genero'!#REF!","v":{"$error":"#REF!"}},{"$f":"'Pob x Genero'!#REF!","v":{"$error":"#REF!"}},{"$f":"'Pob x Genero'!#REF!","v":{"$error":"#REF!"}},{"$f":"'Pob x Genero'!#REF!","v":{"$error":"#REF!"}},{"$f":"'Pob x Genero'!#REF!","v":{"$error":"#REF!"}},"Hombre","00-04",{"$f":"'Pob x Genero'!#REF!","v":{"$error":"#REF!"}},1743]
[{"$f":"'Pob x Genero'!#REF!","v":{"$error":"#REF!"}},{"$f":"'Pob x Genero'!#REF!","v":{"$error":"#REF!"}},{"$f":"'Pob x Genero'!#REF!","v":{"$error":"#REF!"}},{"$f":"'Pob x Genero'!#REF!","v":{"$error":"#REF!"}},{"$f":"'Pob x Genero'!#REF!","v":{"$error":"#REF!"}},"Hombre","00-04",{"$f":"'Pob x Genero'!#REF!","v":{"$error":"#REF!"}},1744]
[{"$f":"'Pob x Genero'!#REF!","v":{"$error":"#REF!"}},{"$f":"'Pob x Genero'!#REF!","v":{"$error":"#REF!"}},{"$f":"'Pob x Genero'!#REF!","v":{"$error":"#REF!"}},{"$f":"'Pob x Genero'!#REF!","v":{"$error":"#REF!"}},{"$f":"'Pob x Genero'!#REF!","v":{"$error":"#REF!"}},"Hombre","00-04",{"$f":"'Pob x Genero'!#REF!","v":{"$error":"#REF!"}},1745]
[{"$f":"'Pob x Genero'!#REF!","v":{"$error":"#REF!"}},{"$f":"'Pob x Genero'!#REF!","v":{"$error":"#REF!"}},{"$f":"'Pob x Genero'!#REF!","v":{"$error":"#REF!"}},{"$f":"'Pob x Genero'!#REF!","v":{"$error":"#REF!"}},{"$f":"'Pob x Genero'!#REF!","v":{"$error":"#REF!"}},"Hombre","00-04",{"$f":"'Pob x Genero'!#REF!","v":{"$error":"#REF!"}},1746]
[{"$f":"'Pob x Genero'!#REF!","v":{"$error":"#REF!"}},{"$f":"'Pob x Genero'!#REF!","v":{"$error":"#REF!"}},{"$f":"'Pob x Genero'!#REF!","v":{"$error":"#REF!"}},{"$f":"'Pob x Genero'!#REF!","v":{"$error":"#REF!"}},{"$f":"'Pob x Genero'!#REF!","v":{"$error":"#REF!"}},"Hombre","00-04",{"$f":"'Pob x Genero'!#REF!","v":{"$error":"#REF!"}},1747]
[{"$f":"'Pob x Genero'!#REF!","v":{"$error":"#REF!"}},{"$f":"'Pob x Genero'!#REF!","v":{"$error":"#REF!"}},{"$f":"'Pob x Genero'!#REF!","v":{"$error":"#REF!"}},{"$f":"'Pob x Genero'!#REF!","v":{"$error":"#REF!"}},{"$f":"'Pob x Genero'!#REF!","v":{"$error":"#REF!"}},"Hombre","00-04",{"$f":"'Pob x Genero'!#REF!","v":{"$error":"#REF!"}},1748]
[{"$f":"'Pob x Genero'!#REF!","v":{"$error":"#REF!"}},{"$f":"'Pob x Genero'!#REF!","v":{"$error":"#REF!"}},{"$f":"'Pob x Genero'!#REF!","v":{"$error":"#REF!"}},{"$f":"'Pob x Genero'!#REF!","v":{"$error":"#REF!"}},{"$f":"'Pob x Genero'!#REF!","v":{"$error":"#REF!"}},"Hombre","00-04",{"$f":"'Pob x Genero'!#REF!","v":{"$error":"#REF!"}},1749]
[{"$f":"'Pob x Genero'!#REF!","v":{"$error":"#REF!"}},{"$f":"'Pob x Genero'!#REF!","v":{"$error":"#REF!"}},{"$f":"'Pob x Genero'!#REF!","v":{"$error":"#REF!"}},{"$f":"'Pob x Genero'!#REF!","v":{"$error":"#REF!"}},{"$f":"'Pob x Genero'!#REF!","v":{"$error":"#REF!"}},"Hombre","00-04",{"$f":"'Pob x Genero'!#REF!","v":{"$error":"#REF!"}},1750]
[{"$f":"'Pob x Genero'!#REF!","v":{"$error":"#REF!"}},{"$f":"'Pob x Genero'!#REF!","v":{"$error":"#REF!"}},{"$f":"'Pob x Genero'!#REF!","v":{"$error":"#REF!"}},{"$f":"'Pob x Genero'!#REF!","v":{"$error":"#REF!"}},{"$f":"'Pob x Genero'!#REF!","v":{"$error":"#REF!"}},"Hombre","00-04",{"$f":"'Pob x Genero'!#REF!","v":{"$error":"#REF!"}},1751]
[{"$f":"'Pob x Genero'!#REF!","v":{"$error":"#REF!"}},{"$f":"'Pob x Genero'!#REF!","v":{"$error":"#REF!"}},{"$f":"'Pob x Genero'!#REF!","v":{"$error":"#REF!"}},{"$f":"'Pob x Genero'!#REF!","v":{"$error":"#REF!"}},{"$f":"'Pob x Genero'!#REF!","v":{"$error":"#REF!"}},"Hombre","00-04",{"$f":"'Pob x Genero'!#REF!","v":{"$error":"#REF!"}},1752]
[{"$f":"'Pob x Genero'!#REF!","v":{"$error":"#REF!"}},{"$f":"'Pob x Genero'!#REF!","v":{"$error":"#REF!"}},{"$f":"'Pob x Genero'!#REF!","v":{"$error":"#REF!"}},{"$f":"'Pob x Genero'!#REF!","v":{"$error":"#REF!"}},{"$f":"'Pob x Genero'!#REF!","v":{"$error":"#REF!"}},"Hombre","00-04",{"$f":"'Pob x Genero'!#REF!","v":{"$error":"#REF!"}},1753]
[{"$f":"'Pob x Genero'!#REF!","v":{"$error":"#REF!"}},{"$f":"'Pob x Genero'!#REF!","v":{"$error":"#REF!"}},{"$f":"'Pob x Genero'!#REF!","v":{"$error":"#REF!"}},{"$f":"'Pob x Genero'!#REF!","v":{"$error":"#REF!"}},{"$f":"'Pob x Genero'!#REF!","v":{"$error":"#REF!"}},"Hombre","00-04",{"$f":"'Pob x Genero'!#REF!","v":{"$error":"#REF!"}},1754]
[{"$f":"'Pob x Genero'!#REF!","v":{"$error":"#REF!"}},{"$f":"'Pob x Genero'!#REF!","v":{"$error":"#REF!"}},{"$f":"'Pob x Genero'!#REF!","v":{"$error":"#REF!"}},{"$f":"'Pob x Genero'!#REF!","v":{"$error":"#REF!"}},{"$f":"'Pob x Genero'!#REF!","v":{"$error":"#REF!"}},"Hombre","00-04",{"$f":"'Pob x Genero'!#REF!","v":{"$error":"#REF!"}},1755]
[{"$f":"'Pob x Genero'!#REF!","v":{"$error":"#REF!"}},{"$f":"'Pob x Genero'!#REF!","v":{"$error":"#REF!"}},{"$f":"'Pob x Genero'!#REF!","v":{"$error":"#REF!"}},{"$f":"'Pob x Genero'!#REF!","v":{"$error":"#REF!"}},{"$f":"'Pob x Genero'!#REF!","v":{"$error":"#REF!"}},"Hombre","00-04",{"$f":"'Pob x Genero'!#REF!","v":{"$error":"#REF!"}},1756]
[{"$f":"'Pob x Genero'!#REF!","v":{"$error":"#REF!"}},{"$f":"'Pob x Genero'!#REF!","v":{"$error":"#REF!"}},{"$f":"'Pob x Genero'!#REF!","v":{"$error":"#REF!"}},{"$f":"'Pob x Genero'!#REF!","v":{"$error":"#REF!"}},{"$f":"'Pob x Genero'!#REF!","v":{"$error":"#REF!"}},"Hombre","00-04",{"$f":"'Pob x Genero'!#REF!","v":{"$error":"#REF!"}},1757]
[{"$f":"'Pob x Genero'!#REF!","v":{"$error":"#REF!"}},{"$f":"'Pob x Genero'!#REF!","v":{"$error":"#REF!"}},{"$f":"'Pob x Genero'!#REF!","v":{"$error":"#REF!"}},{"$f":"'Pob x Genero'!#REF!","v":{"$error":"#REF!"}},{"$f":"'Pob x Genero'!#REF!","v":{"$error":"#REF!"}},"Hombre","00-04",{"$f":"'Pob x Genero'!#REF!","v":{"$error":"#REF!"}},1758]
[{"$f":"'Pob x Genero'!#REF!","v":{"$error":"#REF!"}},{"$f":"'Pob x Genero'!#REF!","v":{"$error":"#REF!"}},{"$f":"'Pob x Genero'!#REF!","v":{"$error":"#REF!"}},{"$f":"'Pob x Genero'!#REF!","v":{"$error":"#REF!"}},{"$f":"'Pob x Genero'!#REF!","v":{"$error":"#REF!"}},"Hombre","00-04",{"$f":"'Pob x Genero'!#REF!","v":{"$error":"#REF!"}},1759]
[{"$f":"'Pob x Genero'!#REF!","v":{"$error":"#REF!"}},{"$f":"'Pob x Genero'!#REF!","v":{"$error":"#REF!"}},{"$f":"'Pob x Genero'!#REF!","v":{"$error":"#REF!"}},{"$f":"'Pob x Genero'!#REF!","v":{"$error":"#REF!"}},{"$f":"'Pob x Genero'!#REF!","v":{"$error":"#REF!"}},"Hombre","00-04",{"$f":"'Pob x Genero'!#REF!","v":{"$error":"#REF!"}},1760]
[{"$f":"'Pob x Genero'!#REF!","v":{"$error":"#REF!"}},{"$f":"'Pob x Genero'!#REF!","v":{"$error":"#REF!"}},{"$f":"'Pob x Genero'!#REF!","v":{"$error":"#REF!"}},{"$f":"'Pob x Genero'!#REF!","v":{"$error":"#REF!"}},{"$f":"'Pob x Genero'!#REF!","v":{"$error":"#REF!"}},"Hombre","00-04",{"$f":"'Pob x Genero'!#REF!","v":{"$error":"#REF!"}},1761]
[{"$f":"'Pob x Genero'!#REF!","v":{"$error":"#REF!"}},{"$f":"'Pob x Genero'!#REF!","v":{"$error":"#REF!"}},{"$f":"'Pob x Genero'!#REF!","v":{"$error":"#REF!"}},{"$f":"'Pob x Genero'!#REF!","v":{"$error":"#REF!"}},{"$f":"'Pob x Genero'!#REF!","v":{"$error":"#REF!"}},"Hombre","00-04",{"$f":"'Pob x Genero'!#REF!","v":{"$error":"#REF!"}},1762]
[{"$f":"'Pob x Genero'!#REF!","v":{"$error":"#REF!"}},{"$f":"'Pob x Genero'!#REF!","v":{"$error":"#REF!"}},{"$f":"'Pob x Genero'!#REF!","v":{"$error":"#REF!"}},{"$f":"'Pob x Genero'!#REF!","v":{"$error":"#REF!"}},{"$f":"'Pob x Genero'!#REF!","v":{"$error":"#REF!"}},"Hombre","00-04",{"$f":"'Pob x Genero'!#REF!","v":{"$error":"#REF!"}},1763]
[{"$f":"'Pob x Genero'!#REF!","v":{"$error":"#REF!"}},{"$f":"'Pob x Genero'!#REF!","v":{"$error":"#REF!"}},{"$f":"'Pob x Genero'!#REF!","v":{"$error":"#REF!"}},{"$f":"'Pob x Genero'!#REF!","v":{"$error":"#REF!"}},{"$f":"'Pob x Genero'!#REF!","v":{"$error":"#REF!"}},"Hombre","00-04",{"$f":"'Pob x Genero'!#REF!","v":{"$error":"#REF!"}},1764]
[{"$f":"'Pob x Genero'!#REF!","v":{"$error":"#REF!"}},{"$f":"'Pob x Genero'!#REF!","v":{"$error":"#REF!"}},{"$f":"'Pob x Genero'!#REF!","v":{"$error":"#REF!"}},{"$f":"'Pob x Genero'!#REF!","v":{"$error":"#REF!"}},{"$f":"'Pob x Genero'!#REF!","v":{"$error":"#REF!"}},"Hombre","00-04",{"$f":"'Pob x Genero'!#REF!","v":{"$error":"#REF!"}},1765]
[{"$f":"'Pob x Genero'!#REF!","v":{"$error":"#REF!"}},{"$f":"'Pob x Genero'!#REF!","v":{"$error":"#REF!"}},{"$f":"'Pob x Genero'!#REF!","v":{"$error":"#REF!"}},{"$f":"'Pob x Genero'!#REF!","v":{"$error":"#REF!"}},{"$f":"'Pob x Genero'!#REF!","v":{"$error":"#REF!"}},"Hombre","00-04",{"$f":"'Pob x Genero'!#REF!","v":{"$error":"#REF!"}},1766]
[{"$f":"'Pob x Genero'!#REF!","v":{"$error":"#REF!"}},{"$f":"'Pob x Genero'!#REF!","v":{"$error":"#REF!"}},{"$f":"'Pob x Genero'!#REF!","v":{"$error":"#REF!"}},{"$f":"'Pob x Genero'!#REF!","v":{"$error":"#REF!"}},{"$f":"'Pob x Genero'!#REF!","v":{"$error":"#REF!"}},"Hombre","00-04",{"$f":"'Pob x Genero'!#REF!","v":{"$error":"#REF!"}},1767]
[{"$f":"'Pob x Genero'!#REF!","v":{"$error":"#REF!"}},{"$f":"'Pob x Genero'!#REF!","v":{"$error":"#REF!"}},{"$f":"'Pob x Genero'!#REF!","v":{"$error":"#REF!"}},{"$f":"'Pob x Genero'!#REF!","v":{"$error":"#REF!"}},{"$f":"'Pob x Genero'!#REF!","v":{"$error":"#REF!"}},"Hombre","00-04",{"$f":"'Pob x Genero'!#REF!","v":{"$error":"#REF!"}},1768]
[{"$f":"'Pob x Genero'!#REF!","v":{"$error":"#REF!"}},{"$f":"'Pob x Genero'!#REF!","v":{"$error":"#REF!"}},{"$f":"'Pob x Genero'!#REF!","v":{"$error":"#REF!"}},{"$f":"'Pob x Genero'!#REF!","v":{"$error":"#REF!"}},{"$f":"'Pob x Genero'!#REF!","v":{"$error":"#REF!"}},"Hombre","00-04",{"$f":"'Pob x Genero'!#REF!","v":{"$error":"#REF!"}},1769]
[{"$f":"'Pob x Genero'!#REF!","v":{"$error":"#REF!"}},{"$f":"'Pob x Genero'!#REF!","v":{"$error":"#REF!"}},{"$f":"'Pob x Genero'!#REF!","v":{"$error":"#REF!"}},{"$f":"'Pob x Genero'!#REF!","v":{"$error":"#REF!"}},{"$f":"'Pob x Genero'!#REF!","v":{"$error":"#REF!"}},"Hombre","00-04",{"$f":"'Pob x Genero'!#REF!","v":{"$error":"#REF!"}},1770]
[{"$f":"'Pob x Genero'!#REF!","v":{"$error":"#REF!"}},{"$f":"'Pob x Genero'!#REF!","v":{"$error":"#REF!"}},{"$f":"'Pob x Genero'!#REF!","v":{"$error":"#REF!"}},{"$f":"'Pob x Genero'!#REF!","v":{"$error":"#REF!"}},{"$f":"'Pob x Genero'!#REF!","v":{"$error":"#REF!"}},"Hombre","00-04",{"$f":"'Pob x Genero'!#REF!","v":{"$error":"#REF!"}},1771]
[{"$f":"'Pob x Genero'!#REF!","v":{"$error":"#REF!"}},{"$f":"'Pob x Genero'!#REF!","v":{"$error":"#REF!"}},{"$f":"'Pob x Genero'!#REF!","v":{"$error":"#REF!"}},{"$f":"'Pob x Genero'!#REF!","v":{"$error":"#REF!"}},{"$f":"'Pob x Genero'!#REF!","v":{"$error":"#REF!"}},"Hombre","00-04",{"$f":"'Pob x Genero'!#REF!","v":{"$error":"#REF!"}},1772]
[{"$f":"'Pob x Genero'!#REF!","v":{"$error":"#REF!"}},{"$f":"'Pob x Genero'!#REF!","v":{"$error":"#REF!"}},{"$f":"'Pob x Genero'!#REF!","v":{"$error":"#REF!"}},{"$f":"'Pob x Genero'!#REF!","v":{"$error":"#REF!"}},{"$f":"'Pob x Genero'!#REF!","v":{"$error":"#REF!"}},"Hombre","00-04",{"$f":"'Pob x Genero'!#REF!","v":{"$error":"#REF!"}},1773]
[{"$f":"'Pob x Genero'!#REF!","v":{"$error":"#REF!"}},{"$f":"'Pob x Genero'!#REF!","v":{"$error":"#REF!"}},{"$f":"'Pob x Genero'!#REF!","v":{"$error":"#REF!"}},{"$f":"'Pob x Genero'!#REF!","v":{"$error":"#REF!"}},{"$f":"'Pob x Genero'!#REF!","v":{"$error":"#REF!"}},"Hombre","00-04",{"$f":"'Pob x Genero'!#REF!","v":{"$error":"#REF!"}},1774]
[{"$f":"'Pob x Genero'!#REF!","v":{"$error":"#REF!"}},{"$f":"'Pob x Genero'!#REF!","v":{"$error":"#REF!"}},{"$f":"'Pob x Genero'!#REF!","v":{"$error":"#REF!"}},{"$f":"'Pob x Genero'!#REF!","v":{"$error":"#REF!"}},{"$f":"'Pob x Genero'!#REF!","v":{"$error":"#REF!"}},"Hombre","00-04",{"$f":"'Pob x Genero'!#REF!","v":{"$error":"#REF!"}},1775]
[{"$f":"'Pob x Genero'!#REF!","v":{"$error":"#REF!"}},{"$f":"'Pob x Genero'!#REF!","v":{"$error":"#REF!"}},{"$f":"'Pob x Genero'!#REF!","v":{"$error":"#REF!"}},{"$f":"'Pob x Genero'!#REF!","v":{"$error":"#REF!"}},{"$f":"'Pob x Genero'!#REF!","v":{"$error":"#REF!"}},"Hombre","00-04",{"$f":"'Pob x Genero'!#REF!","v":{"$error":"#REF!"}},1776]
[{"$f":"'Pob x Genero'!#REF!","v":{"$error":"#REF!"}},{"$f":"'Pob x Genero'!#REF!","v":{"$error":"#REF!"}},{"$f":"'Pob x Genero'!#REF!","v":{"$error":"#REF!"}},{"$f":"'Pob x Genero'!#REF!","v":{"$error":"#REF!"}},{"$f":"'Pob x Genero'!#REF!","v":{"$error":"#REF!"}},"Hombre","00-04",{"$f":"'Pob x Genero'!#REF!","v":{"$error":"#REF!"}},1777]
[{"$f":"'Pob x Genero'!#REF!","v":{"$error":"#REF!"}},{"$f":"'Pob x Genero'!#REF!","v":{"$error":"#REF!"}},{"$f":"'Pob x Genero'!#REF!","v":{"$error":"#REF!"}},{"$f":"'Pob x Genero'!#REF!","v":{"$error":"#REF!"}},{"$f":"'Pob x Genero'!#REF!","v":{"$error":"#REF!"}},"Hombre","00-04",{"$f":"'Pob x Genero'!#REF!","v":{"$error":"#REF!"}},1778]
[{"$f":"'Pob x Genero'!#REF!","v":{"$error":"#REF!"}},{"$f":"'Pob x Genero'!#REF!","v":{"$error":"#REF!"}},{"$f":"'Pob x Genero'!#REF!","v":{"$error":"#REF!"}},{"$f":"'Pob x Genero'!#REF!","v":{"$error":"#REF!"}},{"$f":"'Pob x Genero'!#REF!","v":{"$error":"#REF!"}},"Hombre","00-04",{"$f":"'Pob x Genero'!#REF!","v":{"$error":"#REF!"}},1779]
[{"$f":"'Pob x Genero'!#REF!","v":{"$error":"#REF!"}},{"$f":"'Pob x Genero'!#REF!","v":{"$error":"#REF!"}},{"$f":"'Pob x Genero'!#REF!","v":{"$error":"#REF!"}},{"$f":"'Pob x Genero'!#REF!","v":{"$error":"#REF!"}},{"$f":"'Pob x Genero'!#REF!","v":{"$error":"#REF!"}},"Hombre","00-04",{"$f":"'Pob x Genero'!#REF!","v":{"$error":"#REF!"}},1780]
[{"$f":"'Pob x Genero'!#REF!","v":{"$error":"#REF!"}},{"$f":"'Pob x Genero'!#REF!","v":{"$error":"#REF!"}},{"$f":"'Pob x Genero'!#REF!","v":{"$error":"#REF!"}},{"$f":"'Pob x Genero'!#REF!","v":{"$error":"#REF!"}},{"$f":"'Pob x Genero'!#REF!","v":{"$error":"#REF!"}},"Hombre","00-04",{"$f":"'Pob x Genero'!#REF!","v":{"$error":"#REF!"}},1781]
[{"$f":"'Pob x Genero'!#REF!","v":{"$error":"#REF!"}},{"$f":"'Pob x Genero'!#REF!","v":{"$error":"#REF!"}},{"$f":"'Pob x Genero'!#REF!","v":{"$error":"#REF!"}},{"$f":"'Pob x Genero'!#REF!","v":{"$error":"#REF!"}},{"$f":"'Pob x Genero'!#REF!","v":{"$error":"#REF!"}},"Hombre","00-04",{"$f":"'Pob x Genero'!#REF!","v":{"$error":"#REF!"}},1782]
[{"$f":"'Pob x Genero'!#REF!","v":{"$error":"#REF!"}},{"$f":"'Pob x Genero'!#REF!","v":{"$error":"#REF!"}},{"$f":"'Pob x Genero'!#REF!","v":{"$error":"#REF!"}},{"$f":"'Pob x Genero'!#REF!","v":{"$error":"#REF!"}},{"$f":"'Pob x Genero'!#REF!","v":{"$error":"#REF!"}},"Hombre","00-04",{"$f":"'Pob x Genero'!#REF!","v":{"$error":"#REF!"}},1783]
[{"$f":"'Pob x Genero'!#REF!","v":{"$error":"#REF!"}},{"$f":"'Pob x Genero'!#REF!","v":{"$error":"#REF!"}},{"$f":"'Pob x Genero'!#REF!","v":{"$error":"#REF!"}},{"$f":"'Pob x Genero'!#REF!","v":{"$error":"#REF!"}},{"$f":"'Pob x Genero'!#REF!","v":{"$error":"#REF!"}},"Hombre","00-04",{"$f":"'Pob x Genero'!#REF!","v":{"$error":"#REF!"}},1784]
[{"$f":"'Pob x Genero'!#REF!","v":{"$error":"#REF!"}},{"$f":"'Pob x Genero'!#REF!","v":{"$error":"#REF!"}},{"$f":"'Pob x Genero'!#REF!","v":{"$error":"#REF!"}},{"$f":"'Pob x Genero'!#REF!","v":{"$error":"#REF!"}},{"$f":"'Pob x Genero'!#REF!","v":{"$error":"#REF!"}},"Hombre","00-04",{"$f":"'Pob x Genero'!#REF!","v":{"$error":"#REF!"}},1785]
[{"$f":"'Pob x Genero'!#REF!","v":{"$error":"#REF!"}},{"$f":"'Pob x Genero'!#REF!","v":{"$error":"#REF!"}},{"$f":"'Pob x Genero'!#REF!","v":{"$error":"#REF!"}},{"$f":"'Pob x Genero'!#REF!","v":{"$error":"#REF!"}},{"$f":"'Pob x Genero'!#REF!","v":{"$error":"#REF!"}},"Hombre","00-04",{"$f":"'Pob x Genero'!#REF!","v":{"$error":"#REF!"}},1786]
[{"$f":"'Pob x Genero'!#REF!","v":{"$error":"#REF!"}},{"$f":"'Pob x Genero'!#REF!","v":{"$error":"#REF!"}},{"$f":"'Pob x Genero'!#REF!","v":{"$error":"#REF!"}},{"$f":"'Pob x Genero'!#REF!","v":{"$error":"#REF!"}},{"$f":"'Pob x Genero'!#REF!","v":{"$error":"#REF!"}},"Hombre","00-04",{"$f":"'Pob x Genero'!#REF!","v":{"$error":"#REF!"}},1787]
[{"$f":"'Pob x Genero'!#REF!","v":{"$error":"#REF!"}},{"$f":"'Pob x Genero'!#REF!","v":{"$error":"#REF!"}},{"$f":"'Pob x Genero'!#REF!","v":{"$error":"#REF!"}},{"$f":"'Pob x Genero'!#REF!","v":{"$error":"#REF!"}},{"$f":"'Pob x Genero'!#REF!","v":{"$error":"#REF!"}},"Hombre","00-04",{"$f":"'Pob x Genero'!#REF!","v":{"$error":"#REF!"}},1788]
[{"$f":"'Pob x Genero'!#REF!","v":{"$error":"#REF!"}},{"$f":"'Pob x Genero'!#REF!","v":{"$error":"#REF!"}},{"$f":"'Pob x Genero'!#REF!","v":{"$error":"#REF!"}},{"$f":"'Pob x Genero'!#REF!","v":{"$error":"#REF!"}},{"$f":"'Pob x Genero'!#REF!","v":{"$error":"#REF!"}},"Hombre","00-04",{"$f":"'Pob x Genero'!#REF!","v":{"$error":"#REF!"}},1789]
[{"$f":"'Pob x Genero'!#REF!","v":{"$error":"#REF!"}},{"$f":"'Pob x Genero'!#REF!","v":{"$error":"#REF!"}},{"$f":"'Pob x Genero'!#REF!","v":{"$error":"#REF!"}},{"$f":"'Pob x Genero'!#REF!","v":{"$error":"#REF!"}},{"$f":"'Pob x Genero'!#REF!","v":{"$error":"#REF!"}},"Hombre","00-04",{"$f":"'Pob x Genero'!#REF!","v":{"$error":"#REF!"}},1790]
[{"$f":"'Pob x Genero'!#REF!","v":{"$error":"#REF!"}},{"$f":"'Pob x Genero'!#REF!","v":{"$error":"#REF!"}},{"$f":"'Pob x Genero'!#REF!","v":{"$error":"#REF!"}},{"$f":"'Pob x Genero'!#REF!","v":{"$error":"#REF!"}},{"$f":"'Pob x Genero'!#REF!","v":{"$error":"#REF!"}},"Hombre","00-04",{"$f":"'Pob x Genero'!#REF!","v":{"$error":"#REF!"}},1791]
[{"$f":"'Pob x Genero'!#REF!","v":{"$error":"#REF!"}},{"$f":"'Pob x Genero'!#REF!","v":{"$error":"#REF!"}},{"$f":"'Pob x Genero'!#REF!","v":{"$error":"#REF!"}},{"$f":"'Pob x Genero'!#REF!","v":{"$error":"#REF!"}},{"$f":"'Pob x Genero'!#REF!","v":{"$error":"#REF!"}},"Hombre","00-04",{"$f":"'Pob x Genero'!#REF!","v":{"$error":"#REF!"}},1792]
[{"$f":"'Pob x Genero'!#REF!","v":{"$error":"#REF!"}},{"$f":"'Pob x Genero'!#REF!","v":{"$error":"#REF!"}},{"$f":"'Pob x Genero'!#REF!","v":{"$error":"#REF!"}},{"$f":"'Pob x Genero'!#REF!","v":{"$error":"#REF!"}},{"$f":"'Pob x Genero'!#REF!","v":{"$error":"#REF!"}},"Hombre","00-04",{"$f":"'Pob x Genero'!#REF!","v":{"$error":"#REF!"}},1793]
[{"$f":"'Pob x Genero'!#REF!","v":{"$error":"#REF!"}},{"$f":"'Pob x Genero'!#REF!","v":{"$error":"#REF!"}},{"$f":"'Pob x Genero'!#REF!","v":{"$error":"#REF!"}},{"$f":"'Pob x Genero'!#REF!","v":{"$error":"#REF!"}},{"$f":"'Pob x Genero'!#REF!","v":{"$error":"#REF!"}},{"$f":"F1794","v":"Hombre"},{"$f":"G1794","v":"00-04"},{"$f":"'Pob x Genero'!#REF!","v":{"$error":"#REF!"}},1794]
[{"$f":"'Pob x Genero'!#REF!","v":{"$error":"#REF!"}},{"$f":"'Pob x Genero'!#REF!","v":{"$error":"#REF!"}},{"$f":"'Pob x Genero'!#REF!","v":{"$error":"#REF!"}},{"$f":"'Pob x Genero'!#REF!","v":{"$error":"#REF!"}},{"$f":"'Pob x Genero'!#REF!","v":{"$error":"#REF!"}},"Hombre","00-04",{"$f":"'Pob x Genero'!#REF!","v":{"$error":"#REF!"}},1795]
[{"$f":"'Pob x Genero'!#REF!","v":{"$error":"#REF!"}},{"$f":"'Pob x Genero'!#REF!","v":{"$error":"#REF!"}},{"$f":"'Pob x Genero'!#REF!","v":{"$error":"#REF!"}},{"$f":"'Pob x Genero'!#REF!","v":{"$error":"#REF!"}},{"$f":"'Pob x Genero'!#REF!","v":{"$error":"#REF!"}},"Hombre","00-04",{"$f":"'Pob x Genero'!#REF!","v":{"$error":"#REF!"}},1796]
[{"$f":"'Pob x Genero'!#REF!","v":{"$error":"#REF!"}},{"$f":"'Pob x Genero'!#REF!","v":{"$error":"#REF!"}},{"$f":"'Pob x Genero'!#REF!","v":{"$error":"#REF!"}},{"$f":"'Pob x Genero'!#REF!","v":{"$error":"#REF!"}},{"$f":"'Pob x Genero'!#REF!","v":{"$error":"#REF!"}},"Hombre","00-04",{"$f":"'Pob x Genero'!#REF!","v":{"$error":"#REF!"}},1797]
[{"$f":"'Pob x Genero'!#REF!","v":{"$error":"#REF!"}},{"$f":"'Pob x Genero'!#REF!","v":{"$error":"#REF!"}},{"$f":"'Pob x Genero'!#REF!","v":{"$error":"#REF!"}},{"$f":"'Pob x Genero'!#REF!","v":{"$error":"#REF!"}},{"$f":"'Pob x Genero'!#REF!","v":{"$error":"#REF!"}},"Hombre","00-04",{"$f":"'Pob x Genero'!#REF!","v":{"$error":"#REF!"}},1798]
[{"$f":"'Pob x Genero'!#REF!","v":{"$error":"#REF!"}},{"$f":"'Pob x Genero'!#REF!","v":{"$error":"#REF!"}},{"$f":"'Pob x Genero'!#REF!","v":{"$error":"#REF!"}},{"$f":"'Pob x Genero'!#REF!","v":{"$error":"#REF!"}},{"$f":"'Pob x Genero'!#REF!","v":{"$error":"#REF!"}},"Hombre","00-04",{"$f":"'Pob x Genero'!#REF!","v":{"$error":"#REF!"}},1799]
[{"$f":"'Pob x Genero'!#REF!","v":{"$error":"#REF!"}},{"$f":"'Pob x Genero'!#REF!","v":{"$error":"#REF!"}},{"$f":"'Pob x Genero'!#REF!","v":{"$error":"#REF!"}},{"$f":"'Pob x Genero'!#REF!","v":{"$error":"#REF!"}},{"$f":"'Pob x Genero'!#REF!","v":{"$error":"#REF!"}},"Hombre","00-04",{"$f":"'Pob x Genero'!#REF!","v":{"$error":"#REF!"}},1800]
[{"$f":"'Pob x Genero'!#REF!","v":{"$error":"#REF!"}},{"$f":"'Pob x Genero'!#REF!","v":{"$error":"#REF!"}},{"$f":"'Pob x Genero'!#REF!","v":{"$error":"#REF!"}},{"$f":"'Pob x Genero'!#REF!","v":{"$error":"#REF!"}},{"$f":"'Pob x Genero'!#REF!","v":{"$error":"#REF!"}},"Hombre","00-04",{"$f":"'Pob x Genero'!#REF!","v":{"$error":"#REF!"}},1801]
[{"$f":"'Pob x Genero'!#REF!","v":{"$error":"#REF!"}},{"$f":"'Pob x Genero'!#REF!","v":{"$error":"#REF!"}},{"$f":"'Pob x Genero'!#REF!","v":{"$error":"#REF!"}},{"$f":"'Pob x Genero'!#REF!","v":{"$error":"#REF!"}},{"$f":"'Pob x Genero'!#REF!","v":{"$error":"#REF!"}},"Hombre","00-04",{"$f":"'Pob x Genero'!#REF!","v":{"$error":"#REF!"}},1802]
[{"$f":"'Pob x Genero'!#REF!","v":{"$error":"#REF!"}},{"$f":"'Pob x Genero'!#REF!","v":{"$error":"#REF!"}},{"$f":"'Pob x Genero'!#REF!","v":{"$error":"#REF!"}},{"$f":"'Pob x Genero'!#REF!","v":{"$error":"#REF!"}},{"$f":"'Pob x Genero'!#REF!","v":{"$error":"#REF!"}},"Hombre","00-04",{"$f":"'Pob x Genero'!#REF!","v":{"$error":"#REF!"}},1803]
[{"$f":"'Pob x Genero'!#REF!","v":{"$error":"#REF!"}},{"$f":"'Pob x Genero'!#REF!","v":{"$error":"#REF!"}},{"$f":"'Pob x Genero'!#REF!","v":{"$error":"#REF!"}},{"$f":"'Pob x Genero'!#REF!","v":{"$error":"#REF!"}},{"$f":"'Pob x Genero'!#REF!","v":{"$error":"#REF!"}},"Hombre","00-04",{"$f":"'Pob x Genero'!#REF!","v":{"$error":"#REF!"}},1804]
[{"$f":"'Pob x Genero'!#REF!","v":{"$error":"#REF!"}},{"$f":"'Pob x Genero'!#REF!","v":{"$error":"#REF!"}},{"$f":"'Pob x Genero'!#REF!","v":{"$error":"#REF!"}},{"$f":"'Pob x Genero'!#REF!","v":{"$error":"#REF!"}},{"$f":"'Pob x Genero'!#REF!","v":{"$error":"#REF!"}},"Hombre","00-04",{"$f":"'Pob x Genero'!#REF!","v":{"$error":"#REF!"}},1805]
[{"$f":"'Pob x Genero'!#REF!","v":{"$error":"#REF!"}},{"$f":"'Pob x Genero'!#REF!","v":{"$error":"#REF!"}},{"$f":"'Pob x Genero'!#REF!","v":{"$error":"#REF!"}},{"$f":"'Pob x Genero'!#REF!","v":{"$error":"#REF!"}},{"$f":"'Pob x Genero'!#REF!","v":{"$error":"#REF!"}},"Hombre","00-04",{"$f":"'Pob x Genero'!#REF!","v":{"$error":"#REF!"}},1806]
[{"$f":"'Pob x Genero'!#REF!","v":{"$error":"#REF!"}},{"$f":"'Pob x Genero'!#REF!","v":{"$error":"#REF!"}},{"$f":"'Pob x Genero'!#REF!","v":{"$error":"#REF!"}},{"$f":"'Pob x Genero'!#REF!","v":{"$error":"#REF!"}},{"$f":"'Pob x Genero'!#REF!","v":{"$error":"#REF!"}},"Hombre","00-04",{"$f":"'Pob x Genero'!#REF!","v":{"$error":"#REF!"}},1807]
[{"$f":"'Pob x Genero'!#REF!","v":{"$error":"#REF!"}},{"$f":"'Pob x Genero'!#REF!","v":{"$error":"#REF!"}},{"$f":"'Pob x Genero'!#REF!","v":{"$error":"#REF!"}},{"$f":"'Pob x Genero'!#REF!","v":{"$error":"#REF!"}},{"$f":"'Pob x Genero'!#REF!","v":{"$error":"#REF!"}},"Hombre","00-04",{"$f":"'Pob x Genero'!#REF!","v":{"$error":"#REF!"}},1808]
[{"$f":"'Pob x Genero'!#REF!","v":{"$error":"#REF!"}},{"$f":"'Pob x Genero'!#REF!","v":{"$error":"#REF!"}},{"$f":"'Pob x Genero'!#REF!","v":{"$error":"#REF!"}},{"$f":"'Pob x Genero'!#REF!","v":{"$error":"#REF!"}},{"$f":"'Pob x Genero'!#REF!","v":{"$error":"#REF!"}},"Hombre","00-04",{"$f":"'Pob x Genero'!#REF!","v":{"$error":"#REF!"}},1809]
[{"$f":"'Pob x Genero'!#REF!","v":{"$error":"#REF!"}},{"$f":"'Pob x Genero'!#REF!","v":{"$error":"#REF!"}},{"$f":"'Pob x Genero'!#REF!","v":{"$error":"#REF!"}},{"$f":"'Pob x Genero'!#REF!","v":{"$error":"#REF!"}},{"$f":"'Pob x Genero'!#REF!","v":{"$error":"#REF!"}},"Hombre","00-04",{"$f":"'Pob x Genero'!#REF!","v":{"$error":"#REF!"}},1810]
[{"$f":"'Pob x Genero'!#REF!","v":{"$error":"#REF!"}},{"$f":"'Pob x Genero'!#REF!","v":{"$error":"#REF!"}},{"$f":"'Pob x Genero'!#REF!","v":{"$error":"#REF!"}},{"$f":"'Pob x Genero'!#REF!","v":{"$error":"#REF!"}},{"$f":"'Pob x Genero'!#REF!","v":{"$error":"#REF!"}},"Hombre","00-04",{"$f":"'Pob x Genero'!#REF!","v":{"$error":"#REF!"}},1811]
[{"$f":"'Pob x Genero'!#REF!","v":{"$error":"#REF!"}},{"$f":"'Pob x Genero'!#REF!","v":{"$error":"#REF!"}},{"$f":"'Pob x Genero'!#REF!","v":{"$error":"#REF!"}},{"$f":"'Pob x Genero'!#REF!","v":{"$error":"#REF!"}},{"$f":"'Pob x Genero'!#REF!","v":{"$error":"#REF!"}},"Hombre","00-04",{"$f":"'Pob x Genero'!#REF!","v":{"$error":"#REF!"}},1812]
[{"$f":"'Pob x Genero'!#REF!","v":{"$error":"#REF!"}},{"$f":"'Pob x Genero'!#REF!","v":{"$error":"#REF!"}},{"$f":"'Pob x Genero'!#REF!","v":{"$error":"#REF!"}},{"$f":"'Pob x Genero'!#REF!","v":{"$error":"#REF!"}},{"$f":"'Pob x Genero'!#REF!","v":{"$error":"#REF!"}},"Hombre","00-04",{"$f":"'Pob x Genero'!#REF!","v":{"$error":"#REF!"}},1813]
[{"$f":"'Pob x Genero'!#REF!","v":{"$error":"#REF!"}},{"$f":"'Pob x Genero'!#REF!","v":{"$error":"#REF!"}},{"$f":"'Pob x Genero'!#REF!","v":{"$error":"#REF!"}},{"$f":"'Pob x Genero'!#REF!","v":{"$error":"#REF!"}},{"$f":"'Pob x Genero'!#REF!","v":{"$error":"#REF!"}},"Hombre","00-04",{"$f":"'Pob x Genero'!#REF!","v":{"$error":"#REF!"}},1814]
[{"$f":"'Pob x Genero'!#REF!","v":{"$error":"#REF!"}},{"$f":"'Pob x Genero'!#REF!","v":{"$error":"#REF!"}},{"$f":"'Pob x Genero'!#REF!","v":{"$error":"#REF!"}},{"$f":"'Pob x Genero'!#REF!","v":{"$error":"#REF!"}},{"$f":"'Pob x Genero'!#REF!","v":{"$error":"#REF!"}},"Hombre","00-04",{"$f":"'Pob x Genero'!#REF!","v":{"$error":"#REF!"}},1815]
[{"$f":"'Pob x Genero'!#REF!","v":{"$error":"#REF!"}},{"$f":"'Pob x Genero'!#REF!","v":{"$error":"#REF!"}},{"$f":"'Pob x Genero'!#REF!","v":{"$error":"#REF!"}},{"$f":"'Pob x Genero'!#REF!","v":{"$error":"#REF!"}},{"$f":"'Pob x Genero'!#REF!","v":{"$error":"#REF!"}},"Hombre","00-04",{"$f":"'Pob x Genero'!#REF!","v":{"$error":"#REF!"}},1816]
[{"$f":"'Pob x Genero'!#REF!","v":{"$error":"#REF!"}},{"$f":"'Pob x Genero'!#REF!","v":{"$error":"#REF!"}},{"$f":"'Pob x Genero'!#REF!","v":{"$error":"#REF!"}},{"$f":"'Pob x Genero'!#REF!","v":{"$error":"#REF!"}},{"$f":"'Pob x Genero'!#REF!","v":{"$error":"#REF!"}},"Hombre","00-04",{"$f":"'Pob x Genero'!#REF!","v":{"$error":"#REF!"}},1817]
[{"$f":"'Pob x Genero'!#REF!","v":{"$error":"#REF!"}},{"$f":"'Pob x Genero'!#REF!","v":{"$error":"#REF!"}},{"$f":"'Pob x Genero'!#REF!","v":{"$error":"#REF!"}},{"$f":"'Pob x Genero'!#REF!","v":{"$error":"#REF!"}},{"$f":"'Pob x Genero'!#REF!","v":{"$error":"#REF!"}},"Hombre","00-04",{"$f":"'Pob x Genero'!#REF!","v":{"$error":"#REF!"}},1818]
[{"$f":"'Pob x Genero'!#REF!","v":{"$error":"#REF!"}},{"$f":"'Pob x Genero'!#REF!","v":{"$error":"#REF!"}},{"$f":"'Pob x Genero'!#REF!","v":{"$error":"#REF!"}},{"$f":"'Pob x Genero'!#REF!","v":{"$error":"#REF!"}},{"$f":"'Pob x Genero'!#REF!","v":{"$error":"#REF!"}},"Hombre","00-04",{"$f":"'Pob x Genero'!#REF!","v":{"$error":"#REF!"}},1819]
[{"$f":"'Pob x Genero'!#REF!","v":{"$error":"#REF!"}},{"$f":"'Pob x Genero'!#REF!","v":{"$error":"#REF!"}},{"$f":"'Pob x Genero'!#REF!","v":{"$error":"#REF!"}},{"$f":"'Pob x Genero'!#REF!","v":{"$error":"#REF!"}},{"$f":"'Pob x Genero'!#REF!","v":{"$error":"#REF!"}},"Hombre","00-04",{"$f":"'Pob x Genero'!#REF!","v":{"$error":"#REF!"}},1820]
[{"$f":"'Pob x Genero'!#REF!","v":{"$error":"#REF!"}},{"$f":"'Pob x Genero'!#REF!","v":{"$error":"#REF!"}},{"$f":"'Pob x Genero'!#REF!","v":{"$error":"#REF!"}},{"$f":"'Pob x Genero'!#REF!","v":{"$error":"#REF!"}},{"$f":"'Pob x Genero'!#REF!","v":{"$error":"#REF!"}},"Hombre","00-04",{"$f":"'Pob x Genero'!#REF!","v":{"$error":"#REF!"}},1821]
[{"$f":"'Pob x Genero'!#REF!","v":{"$error":"#REF!"}},{"$f":"'Pob x Genero'!#REF!","v":{"$error":"#REF!"}},{"$f":"'Pob x Genero'!#REF!","v":{"$error":"#REF!"}},{"$f":"'Pob x Genero'!#REF!","v":{"$error":"#REF!"}},{"$f":"'Pob x Genero'!#REF!","v":{"$error":"#REF!"}},"Hombre","00-04",{"$f":"'Pob x Genero'!#REF!","v":{"$error":"#REF!"}},1822]
[{"$f":"'Pob x Genero'!#REF!","v":{"$error":"#REF!"}},{"$f":"'Pob x Genero'!#REF!","v":{"$error":"#REF!"}},{"$f":"'Pob x Genero'!#REF!","v":{"$error":"#REF!"}},{"$f":"'Pob x Genero'!#REF!","v":{"$error":"#REF!"}},{"$f":"'Pob x Genero'!#REF!","v":{"$error":"#REF!"}},"Hombre","00-04",{"$f":"'Pob x Genero'!#REF!","v":{"$error":"#REF!"}},1823]
[{"$f":"'Pob x Genero'!#REF!","v":{"$error":"#REF!"}},{"$f":"'Pob x Genero'!#REF!","v":{"$error":"#REF!"}},{"$f":"'Pob x Genero'!#REF!","v":{"$error":"#REF!"}},{"$f":"'Pob x Genero'!#REF!","v":{"$error":"#REF!"}},{"$f":"'Pob x Genero'!#REF!","v":{"$error":"#REF!"}},"Hombre","00-04",{"$f":"'Pob x Genero'!#REF!","v":{"$error":"#REF!"}},1824]
[{"$f":"'Pob x Genero'!#REF!","v":{"$error":"#REF!"}},{"$f":"'Pob x Genero'!#REF!","v":{"$error":"#REF!"}},{"$f":"'Pob x Genero'!#REF!","v":{"$error":"#REF!"}},{"$f":"'Pob x Genero'!#REF!","v":{"$error":"#REF!"}},{"$f":"'Pob x Genero'!#REF!","v":{"$error":"#REF!"}},"Hombre","00-04",{"$f":"'Pob x Genero'!#REF!","v":{"$error":"#REF!"}},1825]
[{"$f":"'Pob x Genero'!#REF!","v":{"$error":"#REF!"}},{"$f":"'Pob x Genero'!#REF!","v":{"$error":"#REF!"}},{"$f":"'Pob x Genero'!#REF!","v":{"$error":"#REF!"}},{"$f":"'Pob x Genero'!#REF!","v":{"$error":"#REF!"}},{"$f":"'Pob x Genero'!#REF!","v":{"$error":"#REF!"}},"Hombre","00-04",{"$f":"'Pob x Genero'!#REF!","v":{"$error":"#REF!"}},1826]
[{"$f":"'Pob x Genero'!#REF!","v":{"$error":"#REF!"}},{"$f":"'Pob x Genero'!#REF!","v":{"$error":"#REF!"}},{"$f":"'Pob x Genero'!#REF!","v":{"$error":"#REF!"}},{"$f":"'Pob x Genero'!#REF!","v":{"$error":"#REF!"}},{"$f":"'Pob x Genero'!#REF!","v":{"$error":"#REF!"}},"Hombre","00-04",{"$f":"'Pob x Genero'!#REF!","v":{"$error":"#REF!"}},1827]
[{"$f":"'Pob x Genero'!#REF!","v":{"$error":"#REF!"}},{"$f":"'Pob x Genero'!#REF!","v":{"$error":"#REF!"}},{"$f":"'Pob x Genero'!#REF!","v":{"$error":"#REF!"}},{"$f":"'Pob x Genero'!#REF!","v":{"$error":"#REF!"}},{"$f":"'Pob x Genero'!#REF!","v":{"$error":"#REF!"}},"Hombre","00-04",{"$f":"'Pob x Genero'!#REF!","v":{"$error":"#REF!"}},1828]
[{"$f":"'Pob x Genero'!#REF!","v":{"$error":"#REF!"}},{"$f":"'Pob x Genero'!#REF!","v":{"$error":"#REF!"}},{"$f":"'Pob x Genero'!#REF!","v":{"$error":"#REF!"}},{"$f":"'Pob x Genero'!#REF!","v":{"$error":"#REF!"}},{"$f":"'Pob x Genero'!#REF!","v":{"$error":"#REF!"}},"Hombre","00-04",{"$f":"'Pob x Genero'!#REF!","v":{"$error":"#REF!"}},1829]
[{"$f":"'Pob x Genero'!#REF!","v":{"$error":"#REF!"}},{"$f":"'Pob x Genero'!#REF!","v":{"$error":"#REF!"}},{"$f":"'Pob x Genero'!#REF!","v":{"$error":"#REF!"}},{"$f":"'Pob x Genero'!#REF!","v":{"$error":"#REF!"}},{"$f":"'Pob x Genero'!#REF!","v":{"$error":"#REF!"}},"Hombre","00-04",{"$f":"'Pob x Genero'!#REF!","v":{"$error":"#REF!"}},1830]
[{"$f":"'Pob x Genero'!#REF!","v":{"$error":"#REF!"}},{"$f":"'Pob x Genero'!#REF!","v":{"$error":"#REF!"}},{"$f":"'Pob x Genero'!#REF!","v":{"$error":"#REF!"}},{"$f":"'Pob x Genero'!#REF!","v":{"$error":"#REF!"}},{"$f":"'Pob x Genero'!#REF!","v":{"$error":"#REF!"}},"Hombre","00-04",{"$f":"'Pob x Genero'!#REF!","v":{"$error":"#REF!"}},1831]
[{"$f":"'Pob x Genero'!#REF!","v":{"$error":"#REF!"}},{"$f":"'Pob x Genero'!#REF!","v":{"$error":"#REF!"}},{"$f":"'Pob x Genero'!#REF!","v":{"$error":"#REF!"}},{"$f":"'Pob x Genero'!#REF!","v":{"$error":"#REF!"}},{"$f":"'Pob x Genero'!#REF!","v":{"$error":"#REF!"}},"Hombre","00-04",{"$f":"'Pob x Genero'!#REF!","v":{"$error":"#REF!"}},1832]
[{"$f":"'Pob x Genero'!#REF!","v":{"$error":"#REF!"}},{"$f":"'Pob x Genero'!#REF!","v":{"$error":"#REF!"}},{"$f":"'Pob x Genero'!#REF!","v":{"$error":"#REF!"}},{"$f":"'Pob x Genero'!#REF!","v":{"$error":"#REF!"}},{"$f":"'Pob x Genero'!#REF!","v":{"$error":"#REF!"}},"Hombre","00-04",{"$f":"'Pob x Genero'!#REF!","v":{"$error":"#REF!"}},1833]
[{"$f":"'Pob x Genero'!#REF!","v":{"$error":"#REF!"}},{"$f":"'Pob x Genero'!#REF!","v":{"$error":"#REF!"}},{"$f":"'Pob x Genero'!#REF!","v":{"$error":"#REF!"}},{"$f":"'Pob x Genero'!#REF!","v":{"$error":"#REF!"}},{"$f":"'Pob x Genero'!#REF!","v":{"$error":"#REF!"}},"Hombre","00-04",{"$f":"'Pob x Genero'!#REF!","v":{"$error":"#REF!"}},1834]
[{"$f":"'Pob x Genero'!#REF!","v":{"$error":"#REF!"}},{"$f":"'Pob x Genero'!#REF!","v":{"$error":"#REF!"}},{"$f":"'Pob x Genero'!#REF!","v":{"$error":"#REF!"}},{"$f":"'Pob x Genero'!#REF!","v":{"$error":"#REF!"}},{"$f":"'Pob x Genero'!#REF!","v":{"$error":"#REF!"}},"Hombre","00-04",{"$f":"'Pob x Genero'!#REF!","v":{"$error":"#REF!"}},1835]
[{"$f":"'Pob x Genero'!#REF!","v":{"$error":"#REF!"}},{"$f":"'Pob x Genero'!#REF!","v":{"$error":"#REF!"}},{"$f":"'Pob x Genero'!#REF!","v":{"$error":"#REF!"}},{"$f":"'Pob x Genero'!#REF!","v":{"$error":"#REF!"}},{"$f":"'Pob x Genero'!#REF!","v":{"$error":"#REF!"}},"Hombre","00-04",{"$f":"'Pob x Genero'!#REF!","v":{"$error":"#REF!"}},1836]
[{"$f":"'Pob x Genero'!#REF!","v":{"$error":"#REF!"}},{"$f":"'Pob x Genero'!#REF!","v":{"$error":"#REF!"}},{"$f":"'Pob x Genero'!#REF!","v":{"$error":"#REF!"}},{"$f":"'Pob x Genero'!#REF!","v":{"$error":"#REF!"}},{"$f":"'Pob x Genero'!#REF!","v":{"$error":"#REF!"}},"Hombre","00-04",{"$f":"'Pob x Genero'!#REF!","v":{"$error":"#REF!"}},1837]
[{"$f":"'Pob x Genero'!#REF!","v":{"$error":"#REF!"}},{"$f":"'Pob x Genero'!#REF!","v":{"$error":"#REF!"}},{"$f":"'Pob x Genero'!#REF!","v":{"$error":"#REF!"}},{"$f":"'Pob x Genero'!#REF!","v":{"$error":"#REF!"}},{"$f":"'Pob x Genero'!#REF!","v":{"$error":"#REF!"}},"Hombre","00-04",{"$f":"'Pob x Genero'!#REF!","v":{"$error":"#REF!"}},1838]
[{"$f":"'Pob x Genero'!#REF!","v":{"$error":"#REF!"}},{"$f":"'Pob x Genero'!#REF!","v":{"$error":"#REF!"}},{"$f":"'Pob x Genero'!#REF!","v":{"$error":"#REF!"}},{"$f":"'Pob x Genero'!#REF!","v":{"$error":"#REF!"}},{"$f":"'Pob x Genero'!#REF!","v":{"$error":"#REF!"}},"Hombre","00-04",{"$f":"'Pob x Genero'!#REF!","v":{"$error":"#REF!"}},1839]
[{"$f":"'Pob x Genero'!#REF!","v":{"$error":"#REF!"}},{"$f":"'Pob x Genero'!#REF!","v":{"$error":"#REF!"}},{"$f":"'Pob x Genero'!#REF!","v":{"$error":"#REF!"}},{"$f":"'Pob x Genero'!#REF!","v":{"$error":"#REF!"}},{"$f":"'Pob x Genero'!#REF!","v":{"$error":"#REF!"}},"Hombre","00-04",{"$f":"'Pob x Genero'!#REF!","v":{"$error":"#REF!"}},1840]
[{"$f":"'Pob x Genero'!#REF!","v":{"$error":"#REF!"}},{"$f":"'Pob x Genero'!#REF!","v":{"$error":"#REF!"}},{"$f":"'Pob x Genero'!#REF!","v":{"$error":"#REF!"}},{"$f":"'Pob x Genero'!#REF!","v":{"$error":"#REF!"}},{"$f":"'Pob x Genero'!#REF!","v":{"$error":"#REF!"}},"Hombre","00-04",{"$f":"'Pob x Genero'!#REF!","v":{"$error":"#REF!"}},1841]
[{"$f":"'Pob x Genero'!#REF!","v":{"$error":"#REF!"}},{"$f":"'Pob x Genero'!#REF!","v":{"$error":"#REF!"}},{"$f":"'Pob x Genero'!#REF!","v":{"$error":"#REF!"}},{"$f":"'Pob x Genero'!#REF!","v":{"$error":"#REF!"}},{"$f":"'Pob x Genero'!#REF!","v":{"$error":"#REF!"}},"Hombre","00-04",{"$f":"'Pob x Genero'!#REF!","v":{"$error":"#REF!"}},1842]
[{"$f":"'Pob x Genero'!#REF!","v":{"$error":"#REF!"}},{"$f":"'Pob x Genero'!#REF!","v":{"$error":"#REF!"}},{"$f":"'Pob x Genero'!#REF!","v":{"$error":"#REF!"}},{"$f":"'Pob x Genero'!#REF!","v":{"$error":"#REF!"}},{"$f":"'Pob x Genero'!#REF!","v":{"$error":"#REF!"}},"Hombre","00-04",{"$f":"'Pob x Genero'!#REF!","v":{"$error":"#REF!"}},1843]
[{"$f":"'Pob x Genero'!#REF!","v":{"$error":"#REF!"}},{"$f":"'Pob x Genero'!#REF!","v":{"$error":"#REF!"}},{"$f":"'Pob x Genero'!#REF!","v":{"$error":"#REF!"}},{"$f":"'Pob x Genero'!#REF!","v":{"$error":"#REF!"}},{"$f":"'Pob x Genero'!#REF!","v":{"$error":"#REF!"}},"Hombre","00-04",{"$f":"'Pob x Genero'!#REF!","v":{"$error":"#REF!"}},1844]
[{"$f":"'Pob x Genero'!#REF!","v":{"$error":"#REF!"}},{"$f":"'Pob x Genero'!#REF!","v":{"$error":"#REF!"}},{"$f":"'Pob x Genero'!#REF!","v":{"$error":"#REF!"}},{"$f":"'Pob x Genero'!#REF!","v":{"$error":"#REF!"}},{"$f":"'Pob x Genero'!#REF!","v":{"$error":"#REF!"}},"Hombre","00-04",{"$f":"'Pob x Genero'!#REF!","v":{"$error":"#REF!"}},1845]
[{"$f":"'Pob x Genero'!#REF!","v":{"$error":"#REF!"}},{"$f":"'Pob x Genero'!#REF!","v":{"$error":"#REF!"}},{"$f":"'Pob x Genero'!#REF!","v":{"$error":"#REF!"}},{"$f":"'Pob x Genero'!#REF!","v":{"$error":"#REF!"}},{"$f":"'Pob x Genero'!#REF!","v":{"$error":"#REF!"}},"Hombre","00-04",{"$f":"'Pob x Genero'!#REF!","v":{"$error":"#REF!"}},1846]
[{"$f":"'Pob x Genero'!#REF!","v":{"$error":"#REF!"}},{"$f":"'Pob x Genero'!#REF!","v":{"$error":"#REF!"}},{"$f":"'Pob x Genero'!#REF!","v":{"$error":"#REF!"}},{"$f":"'Pob x Genero'!#REF!","v":{"$error":"#REF!"}},{"$f":"'Pob x Genero'!#REF!","v":{"$error":"#REF!"}},"Hombre","00-04",{"$f":"'Pob x Genero'!#REF!","v":{"$error":"#REF!"}},1847]
[{"$f":"'Pob x Genero'!#REF!","v":{"$error":"#REF!"}},{"$f":"'Pob x Genero'!#REF!","v":{"$error":"#REF!"}},{"$f":"'Pob x Genero'!#REF!","v":{"$error":"#REF!"}},{"$f":"'Pob x Genero'!#REF!","v":{"$error":"#REF!"}},{"$f":"'Pob x Genero'!#REF!","v":{"$error":"#REF!"}},"Hombre","00-04",{"$f":"'Pob x Genero'!#REF!","v":{"$error":"#REF!"}},1848]
[{"$f":"'Pob x Genero'!#REF!","v":{"$error":"#REF!"}},{"$f":"'Pob x Genero'!#REF!","v":{"$error":"#REF!"}},{"$f":"'Pob x Genero'!#REF!","v":{"$error":"#REF!"}},{"$f":"'Pob x Genero'!#REF!","v":{"$error":"#REF!"}},{"$f":"'Pob x Genero'!#REF!","v":{"$error":"#REF!"}},"Hombre","00-04",{"$f":"'Pob x Genero'!#REF!","v":{"$error":"#REF!"}},1849]
[{"$f":"'Pob x Genero'!#REF!","v":{"$error":"#REF!"}},{"$f":"'Pob x Genero'!#REF!","v":{"$error":"#REF!"}},{"$f":"'Pob x Genero'!#REF!","v":{"$error":"#REF!"}},{"$f":"'Pob x Genero'!#REF!","v":{"$error":"#REF!"}},{"$f":"'Pob x Genero'!#REF!","v":{"$error":"#REF!"}},"Hombre","00-04",{"$f":"'Pob x Genero'!#REF!","v":{"$error":"#REF!"}},1850]
[{"$f":"'Pob x Genero'!#REF!","v":{"$error":"#REF!"}},{"$f":"'Pob x Genero'!#REF!","v":{"$error":"#REF!"}},{"$f":"'Pob x Genero'!#REF!","v":{"$error":"#REF!"}},{"$f":"'Pob x Genero'!#REF!","v":{"$error":"#REF!"}},{"$f":"'Pob x Genero'!#REF!","v":{"$error":"#REF!"}},"Hombre","00-04",{"$f":"'Pob x Genero'!#REF!","v":{"$error":"#REF!"}},1851]
[{"$f":"'Pob x Genero'!#REF!","v":{"$error":"#REF!"}},{"$f":"'Pob x Genero'!#REF!","v":{"$error":"#REF!"}},{"$f":"'Pob x Genero'!#REF!","v":{"$error":"#REF!"}},{"$f":"'Pob x Genero'!#REF!","v":{"$error":"#REF!"}},{"$f":"'Pob x Genero'!#REF!","v":{"$error":"#REF!"}},"Hombre","00-04",{"$f":"'Pob x Genero'!#REF!","v":{"$error":"#REF!"}},1852]
[{"$f":"'Pob x Genero'!#REF!","v":{"$error":"#REF!"}},{"$f":"'Pob x Genero'!#REF!","v":{"$error":"#REF!"}},{"$f":"'Pob x Genero'!#REF!","v":{"$error":"#REF!"}},{"$f":"'Pob x Genero'!#REF!","v":{"$error":"#REF!"}},{"$f":"'Pob x Genero'!#REF!","v":{"$error":"#REF!"}},"Hombre","00-04",{"$f":"'Pob x Genero'!#REF!","v":{"$error":"#REF!"}},1853]
[{"$f":"'Pob x Genero'!#REF!","v":{"$error":"#REF!"}},{"$f":"'Pob x Genero'!#REF!","v":{"$error":"#REF!"}},{"$f":"'Pob x Genero'!#REF!","v":{"$error":"#REF!"}},{"$f":"'Pob x Genero'!#REF!","v":{"$error":"#REF!"}},{"$f":"'Pob x Genero'!#REF!","v":{"$error":"#REF!"}},"Hombre","00-04",{"$f":"'Pob x Genero'!#REF!","v":{"$error":"#REF!"}},1854]
[{"$f":"'Pob x Genero'!#REF!","v":{"$error":"#REF!"}},{"$f":"'Pob x Genero'!#REF!","v":{"$error":"#REF!"}},{"$f":"'Pob x Genero'!#REF!","v":{"$error":"#REF!"}},{"$f":"'Pob x Genero'!#REF!","v":{"$error":"#REF!"}},{"$f":"'Pob x Genero'!#REF!","v":{"$error":"#REF!"}},"Hombre","00-04",{"$f":"'Pob x Genero'!#REF!","v":{"$error":"#REF!"}},1855]
[{"$f":"'Pob x Genero'!#REF!","v":{"$error":"#REF!"}},{"$f":"'Pob x Genero'!#REF!","v":{"$error":"#REF!"}},{"$f":"'Pob x Genero'!#REF!","v":{"$error":"#REF!"}},{"$f":"'Pob x Genero'!#REF!","v":{"$error":"#REF!"}},{"$f":"'Pob x Genero'!#REF!","v":{"$error":"#REF!"}},"Hombre","00-04",{"$f":"'Pob x Genero'!#REF!","v":{"$error":"#REF!"}},1856]
[{"$f":"'Pob x Genero'!#REF!","v":{"$error":"#REF!"}},{"$f":"'Pob x Genero'!#REF!","v":{"$error":"#REF!"}},{"$f":"'Pob x Genero'!#REF!","v":{"$error":"#REF!"}},{"$f":"'Pob x Genero'!#REF!","v":{"$error":"#REF!"}},{"$f":"'Pob x Genero'!#REF!","v":{"$error":"#REF!"}},"Hombre","00-04",{"$f":"'Pob x Genero'!#REF!","v":{"$error":"#REF!"}},1857]
[{"$f":"'Pob x Genero'!#REF!","v":{"$error":"#REF!"}},{"$f":"'Pob x Genero'!#REF!","v":{"$error":"#REF!"}},{"$f":"'Pob x Genero'!#REF!","v":{"$error":"#REF!"}},{"$f":"'Pob x Genero'!#REF!","v":{"$error":"#REF!"}},{"$f":"'Pob x Genero'!#REF!","v":{"$error":"#REF!"}},{"$f":"F1858","v":"Hombre"},{"$f":"G1858","v":"00-04"},{"$f":"'Pob x Genero'!#REF!","v":{"$error":"#REF!"}},1858]
[{"$f":"'Pob x Genero'!#REF!","v":{"$error":"#REF!"}},{"$f":"'Pob x Genero'!#REF!","v":{"$error":"#REF!"}},{"$f":"'Pob x Genero'!#REF!","v":{"$error":"#REF!"}},{"$f":"'Pob x Genero'!#REF!","v":{"$error":"#REF!"}},{"$f":"'Pob x Genero'!#REF!","v":{"$error":"#REF!"}},"Hombre","00-04",{"$f":"'Pob x Genero'!#REF!","v":{"$error":"#REF!"}},1859]
[{"$f":"'Pob x Genero'!#REF!","v":{"$error":"#REF!"}},{"$f":"'Pob x Genero'!#REF!","v":{"$error":"#REF!"}},{"$f":"'Pob x Genero'!#REF!","v":{"$error":"#REF!"}},{"$f":"'Pob x Genero'!#REF!","v":{"$error":"#REF!"}},{"$f":"'Pob x Genero'!#REF!","v":{"$error":"#REF!"}},"Hombre","00-04",{"$f":"'Pob x Genero'!#REF!","v":{"$error":"#REF!"}},1860]
[{"$f":"'Pob x Genero'!#REF!","v":{"$error":"#REF!"}},{"$f":"'Pob x Genero'!#REF!","v":{"$error":"#REF!"}},{"$f":"'Pob x Genero'!#REF!","v":{"$error":"#REF!"}},{"$f":"'Pob x Genero'!#REF!","v":{"$error":"#REF!"}},{"$f":"'Pob x Genero'!#REF!","v":{"$error":"#REF!"}},"Hombre","00-04",{"$f":"'Pob x Genero'!#REF!","v":{"$error":"#REF!"}},1861]
[{"$f":"'Pob x Genero'!#REF!","v":{"$error":"#REF!"}},{"$f":"'Pob x Genero'!#REF!","v":{"$error":"#REF!"}},{"$f":"'Pob x Genero'!#REF!","v":{"$error":"#REF!"}},{"$f":"'Pob x Genero'!#REF!","v":{"$error":"#REF!"}},{"$f":"'Pob x Genero'!#REF!","v":{"$error":"#REF!"}},"Hombre","00-04",{"$f":"'Pob x Genero'!#REF!","v":{"$error":"#REF!"}},1862]
[{"$f":"'Pob x Genero'!#REF!","v":{"$error":"#REF!"}},{"$f":"'Pob x Genero'!#REF!","v":{"$error":"#REF!"}},{"$f":"'Pob x Genero'!#REF!","v":{"$error":"#REF!"}},{"$f":"'Pob x Genero'!#REF!","v":{"$error":"#REF!"}},{"$f":"'Pob x Genero'!#REF!","v":{"$error":"#REF!"}},"Hombre","00-04",{"$f":"'Pob x Genero'!#REF!","v":{"$error":"#REF!"}},1863]
[{"$f":"'Pob x Genero'!#REF!","v":{"$error":"#REF!"}},{"$f":"'Pob x Genero'!#REF!","v":{"$error":"#REF!"}},{"$f":"'Pob x Genero'!#REF!","v":{"$error":"#REF!"}},{"$f":"'Pob x Genero'!#REF!","v":{"$error":"#REF!"}},{"$f":"'Pob x Genero'!#REF!","v":{"$error":"#REF!"}},"Hombre","00-04",{"$f":"'Pob x Genero'!#REF!","v":{"$error":"#REF!"}},1864]
[{"$f":"'Pob x Genero'!#REF!","v":{"$error":"#REF!"}},{"$f":"'Pob x Genero'!#REF!","v":{"$error":"#REF!"}},{"$f":"'Pob x Genero'!#REF!","v":{"$error":"#REF!"}},{"$f":"'Pob x Genero'!#REF!","v":{"$error":"#REF!"}},{"$f":"'Pob x Genero'!#REF!","v":{"$error":"#REF!"}},"Hombre","00-04",{"$f":"'Pob x Genero'!#REF!","v":{"$error":"#REF!"}},1865]
[{"$f":"'Pob x Genero'!#REF!","v":{"$error":"#REF!"}},{"$f":"'Pob x Genero'!#REF!","v":{"$error":"#REF!"}},{"$f":"'Pob x Genero'!#REF!","v":{"$error":"#REF!"}},{"$f":"'Pob x Genero'!#REF!","v":{"$error":"#REF!"}},{"$f":"'Pob x Genero'!#REF!","v":{"$error":"#REF!"}},"Hombre","00-04",{"$f":"'Pob x Genero'!#REF!","v":{"$error":"#REF!"}},1866]
[{"$f":"'Pob x Genero'!#REF!","v":{"$error":"#REF!"}},{"$f":"'Pob x Genero'!#REF!","v":{"$error":"#REF!"}},{"$f":"'Pob x Genero'!#REF!","v":{"$error":"#REF!"}},{"$f":"'Pob x Genero'!#REF!","v":{"$error":"#REF!"}},{"$f":"'Pob x Genero'!#REF!","v":{"$error":"#REF!"}},"Hombre","00-04",{"$f":"'Pob x Genero'!#REF!","v":{"$error":"#REF!"}},1867]
[{"$f":"'Pob x Genero'!#REF!","v":{"$error":"#REF!"}},{"$f":"'Pob x Genero'!#REF!","v":{"$error":"#REF!"}},{"$f":"'Pob x Genero'!#REF!","v":{"$error":"#REF!"}},{"$f":"'Pob x Genero'!#REF!","v":{"$error":"#REF!"}},{"$f":"'Pob x Genero'!#REF!","v":{"$error":"#REF!"}},"Hombre","00-04",{"$f":"'Pob x Genero'!#REF!","v":{"$error":"#REF!"}},1868]
[{"$f":"'Pob x Genero'!#REF!","v":{"$error":"#REF!"}},{"$f":"'Pob x Genero'!#REF!","v":{"$error":"#REF!"}},{"$f":"'Pob x Genero'!#REF!","v":{"$error":"#REF!"}},{"$f":"'Pob x Genero'!#REF!","v":{"$error":"#REF!"}},{"$f":"'Pob x Genero'!#REF!","v":{"$error":"#REF!"}},"Hombre","00-04",{"$f":"'Pob x Genero'!#REF!","v":{"$error":"#REF!"}},1869]
[{"$f":"'Pob x Genero'!#REF!","v":{"$error":"#REF!"}},{"$f":"'Pob x Genero'!#REF!","v":{"$error":"#REF!"}},{"$f":"'Pob x Genero'!#REF!","v":{"$error":"#REF!"}},{"$f":"'Pob x Genero'!#REF!","v":{"$error":"#REF!"}},{"$f":"'Pob x Genero'!#REF!","v":{"$error":"#REF!"}},"Hombre","00-04",{"$f":"'Pob x Genero'!#REF!","v":{"$error":"#REF!"}},1870]
[{"$f":"'Pob x Genero'!#REF!","v":{"$error":"#REF!"}},{"$f":"'Pob x Genero'!#REF!","v":{"$error":"#REF!"}},{"$f":"'Pob x Genero'!#REF!","v":{"$error":"#REF!"}},{"$f":"'Pob x Genero'!#REF!","v":{"$error":"#REF!"}},{"$f":"'Pob x Genero'!#REF!","v":{"$error":"#REF!"}},"Hombre","00-04",{"$f":"'Pob x Genero'!#REF!","v":{"$error":"#REF!"}},1871]
[{"$f":"'Pob x Genero'!#REF!","v":{"$error":"#REF!"}},{"$f":"'Pob x Genero'!#REF!","v":{"$error":"#REF!"}},{"$f":"'Pob x Genero'!#REF!","v":{"$error":"#REF!"}},{"$f":"'Pob x Genero'!#REF!","v":{"$error":"#REF!"}},{"$f":"'Pob x Genero'!#REF!","v":{"$error":"#REF!"}},"Hombre","00-04",{"$f":"'Pob x Genero'!#REF!","v":{"$error":"#REF!"}},1872]
[{"$f":"'Pob x Genero'!#REF!","v":{"$error":"#REF!"}},{"$f":"'Pob x Genero'!#REF!","v":{"$error":"#REF!"}},{"$f":"'Pob x Genero'!#REF!","v":{"$error":"#REF!"}},{"$f":"'Pob x Genero'!#REF!","v":{"$error":"#REF!"}},{"$f":"'Pob x Genero'!#REF!","v":{"$error":"#REF!"}},"Hombre","00-04",{"$f":"'Pob x Genero'!#REF!","v":{"$error":"#REF!"}},1873]
[{"$f":"'Pob x Genero'!#REF!","v":{"$error":"#REF!"}},{"$f":"'Pob x Genero'!#REF!","v":{"$error":"#REF!"}},{"$f":"'Pob x Genero'!#REF!","v":{"$error":"#REF!"}},{"$f":"'Pob x Genero'!#REF!","v":{"$error":"#REF!"}},{"$f":"'Pob x Genero'!#REF!","v":{"$error":"#REF!"}},"Hombre","00-04",{"$f":"'Pob x Genero'!#REF!","v":{"$error":"#REF!"}},1874]
[{"$f":"'Pob x Genero'!#REF!","v":{"$error":"#REF!"}},{"$f":"'Pob x Genero'!#REF!","v":{"$error":"#REF!"}},{"$f":"'Pob x Genero'!#REF!","v":{"$error":"#REF!"}},{"$f":"'Pob x Genero'!#REF!","v":{"$error":"#REF!"}},{"$f":"'Pob x Genero'!#REF!","v":{"$error":"#REF!"}},"Hombre","00-04",{"$f":"'Pob x Genero'!#REF!","v":{"$error":"#REF!"}},1875]
[{"$f":"'Pob x Genero'!#REF!","v":{"$error":"#REF!"}},{"$f":"'Pob x Genero'!#REF!","v":{"$error":"#REF!"}},{"$f":"'Pob x Genero'!#REF!","v":{"$error":"#REF!"}},{"$f":"'Pob x Genero'!#REF!","v":{"$error":"#REF!"}},{"$f":"'Pob x Genero'!#REF!","v":{"$error":"#REF!"}},"Hombre","00-04",{"$f":"'Pob x Genero'!#REF!","v":{"$error":"#REF!"}},1876]
[{"$f":"'Pob x Genero'!#REF!","v":{"$error":"#REF!"}},{"$f":"'Pob x Genero'!#REF!","v":{"$error":"#REF!"}},{"$f":"'Pob x Genero'!#REF!","v":{"$error":"#REF!"}},{"$f":"'Pob x Genero'!#REF!","v":{"$error":"#REF!"}},{"$f":"'Pob x Genero'!#REF!","v":{"$error":"#REF!"}},"Hombre","00-04",{"$f":"'Pob x Genero'!#REF!","v":{"$error":"#REF!"}},1877]
[{"$f":"'Pob x Genero'!#REF!","v":{"$error":"#REF!"}},{"$f":"'Pob x Genero'!#REF!","v":{"$error":"#REF!"}},{"$f":"'Pob x Genero'!#REF!","v":{"$error":"#REF!"}},{"$f":"'Pob x Genero'!#REF!","v":{"$error":"#REF!"}},{"$f":"'Pob x Genero'!#REF!","v":{"$error":"#REF!"}},"Hombre","00-04",{"$f":"'Pob x Genero'!#REF!","v":{"$error":"#REF!"}},1878]
[{"$f":"'Pob x Genero'!#REF!","v":{"$error":"#REF!"}},{"$f":"'Pob x Genero'!#REF!","v":{"$error":"#REF!"}},{"$f":"'Pob x Genero'!#REF!","v":{"$error":"#REF!"}},{"$f":"'Pob x Genero'!#REF!","v":{"$error":"#REF!"}},{"$f":"'Pob x Genero'!#REF!","v":{"$error":"#REF!"}},"Hombre","00-04",{"$f":"'Pob x Genero'!#REF!","v":{"$error":"#REF!"}},1879]
[{"$f":"'Pob x Genero'!#REF!","v":{"$error":"#REF!"}},{"$f":"'Pob x Genero'!#REF!","v":{"$error":"#REF!"}},{"$f":"'Pob x Genero'!#REF!","v":{"$error":"#REF!"}},{"$f":"'Pob x Genero'!#REF!","v":{"$error":"#REF!"}},{"$f":"'Pob x Genero'!#REF!","v":{"$error":"#REF!"}},"Hombre","00-04",{"$f":"'Pob x Genero'!#REF!","v":{"$error":"#REF!"}},1880]
[{"$f":"'Pob x Genero'!#REF!","v":{"$error":"#REF!"}},{"$f":"'Pob x Genero'!#REF!","v":{"$error":"#REF!"}},{"$f":"'Pob x Genero'!#REF!","v":{"$error":"#REF!"}},{"$f":"'Pob x Genero'!#REF!","v":{"$error":"#REF!"}},{"$f":"'Pob x Genero'!#REF!","v":{"$error":"#REF!"}},"Hombre","00-04",{"$f":"'Pob x Genero'!#REF!","v":{"$error":"#REF!"}},1881]
[{"$f":"'Pob x Genero'!#REF!","v":{"$error":"#REF!"}},{"$f":"'Pob x Genero'!#REF!","v":{"$error":"#REF!"}},{"$f":"'Pob x Genero'!#REF!","v":{"$error":"#REF!"}},{"$f":"'Pob x Genero'!#REF!","v":{"$error":"#REF!"}},{"$f":"'Pob x Genero'!#REF!","v":{"$error":"#REF!"}},"Hombre","00-04",{"$f":"'Pob x Genero'!#REF!","v":{"$error":"#REF!"}},1882]
[{"$f":"'Pob x Genero'!#REF!","v":{"$error":"#REF!"}},{"$f":"'Pob x Genero'!#REF!","v":{"$error":"#REF!"}},{"$f":"'Pob x Genero'!#REF!","v":{"$error":"#REF!"}},{"$f":"'Pob x Genero'!#REF!","v":{"$error":"#REF!"}},{"$f":"'Pob x Genero'!#REF!","v":{"$error":"#REF!"}},"Hombre","00-04",{"$f":"'Pob x Genero'!#REF!","v":{"$error":"#REF!"}},1883]
[{"$f":"'Pob x Genero'!#REF!","v":{"$error":"#REF!"}},{"$f":"'Pob x Genero'!#REF!","v":{"$error":"#REF!"}},{"$f":"'Pob x Genero'!#REF!","v":{"$error":"#REF!"}},{"$f":"'Pob x Genero'!#REF!","v":{"$error":"#REF!"}},{"$f":"'Pob x Genero'!#REF!","v":{"$error":"#REF!"}},"Hombre","00-04",{"$f":"'Pob x Genero'!#REF!","v":{"$error":"#REF!"}},1884]
[{"$f":"'Pob x Genero'!#REF!","v":{"$error":"#REF!"}},{"$f":"'Pob x Genero'!#REF!","v":{"$error":"#REF!"}},{"$f":"'Pob x Genero'!#REF!","v":{"$error":"#REF!"}},{"$f":"'Pob x Genero'!#REF!","v":{"$error":"#REF!"}},{"$f":"'Pob x Genero'!#REF!","v":{"$error":"#REF!"}},"Hombre","00-04",{"$f":"'Pob x Genero'!#REF!","v":{"$error":"#REF!"}},1885]
[{"$f":"'Pob x Genero'!#REF!","v":{"$error":"#REF!"}},{"$f":"'Pob x Genero'!#REF!","v":{"$error":"#REF!"}},{"$f":"'Pob x Genero'!#REF!","v":{"$error":"#REF!"}},{"$f":"'Pob x Genero'!#REF!","v":{"$error":"#REF!"}},{"$f":"'Pob x Genero'!#REF!","v":{"$error":"#REF!"}},"Hombre","00-04",{"$f":"'Pob x Genero'!#REF!","v":{"$error":"#REF!"}},1886]
[{"$f":"'Pob x Genero'!#REF!","v":{"$error":"#REF!"}},{"$f":"'Pob x Genero'!#REF!","v":{"$error":"#REF!"}},{"$f":"'Pob x Genero'!#REF!","v":{"$error":"#REF!"}},{"$f":"'Pob x Genero'!#REF!","v":{"$error":"#REF!"}},{"$f":"'Pob x Genero'!#REF!","v":{"$error":"#REF!"}},"Hombre","00-04",{"$f":"'Pob x Genero'!#REF!","v":{"$error":"#REF!"}},1887]
[{"$f":"'Pob x Genero'!#REF!","v":{"$error":"#REF!"}},{"$f":"'Pob x Genero'!#REF!","v":{"$error":"#REF!"}},{"$f":"'Pob x Genero'!#REF!","v":{"$error":"#REF!"}},{"$f":"'Pob x Genero'!#REF!","v":{"$error":"#REF!"}},{"$f":"'Pob x Genero'!#REF!","v":{"$error":"#REF!"}},"Hombre","00-04",{"$f":"'Pob x Genero'!#REF!","v":{"$error":"#REF!"}},1888]
[{"$f":"'Pob x Genero'!#REF!","v":{"$error":"#REF!"}},{"$f":"'Pob x Genero'!#REF!","v":{"$error":"#REF!"}},{"$f":"'Pob x Genero'!#REF!","v":{"$error":"#REF!"}},{"$f":"'Pob x Genero'!#REF!","v":{"$error":"#REF!"}},{"$f":"'Pob x Genero'!#REF!","v":{"$error":"#REF!"}},"Hombre","00-04",{"$f":"'Pob x Genero'!#REF!","v":{"$error":"#REF!"}},1889]
[{"$f":"'Pob x Genero'!#REF!","v":{"$error":"#REF!"}},{"$f":"'Pob x Genero'!#REF!","v":{"$error":"#REF!"}},{"$f":"'Pob x Genero'!#REF!","v":{"$error":"#REF!"}},{"$f":"'Pob x Genero'!#REF!","v":{"$error":"#REF!"}},{"$f":"'Pob x Genero'!#REF!","v":{"$error":"#REF!"}},"Hombre","00-04",{"$f":"'Pob x Genero'!#REF!","v":{"$error":"#REF!"}},1890]
[{"$f":"'Pob x Genero'!#REF!","v":{"$error":"#REF!"}},{"$f":"'Pob x Genero'!#REF!","v":{"$error":"#REF!"}},{"$f":"'Pob x Genero'!#REF!","v":{"$error":"#REF!"}},{"$f":"'Pob x Genero'!#REF!","v":{"$error":"#REF!"}},{"$f":"'Pob x Genero'!#REF!","v":{"$error":"#REF!"}},"Hombre","00-04",{"$f":"'Pob x Genero'!#REF!","v":{"$error":"#REF!"}},1891]
["010101","AMAZONAS","AMAZONAS","CHACHAPOYAS","CHACHAPOYAS","Hombre",{"$f":"'Pob x Genero'!CU7","v":"05-09"},{"$f":"'Pob x Genero'!#REF!","v":{"$error":"#REF!"}},1]
["010102","AMAZONAS","AMAZONAS","CHACHAPOYAS","ASUNCION","Hombre",{"$f":"G1893","v":"05-09"},{"$f":"'Pob x Genero'!#REF!","v":{"$error":"#REF!"}},2]
["010103","AMAZONAS","AMAZONAS","CHACHAPOYAS","BALSAS","Hombre","05-09",{"$f":"'Pob x Genero'!#REF!","v":{"$error":"#REF!"}},3]
["010104","AMAZONAS","AMAZONAS","CHACHAPOYAS","CHETO","Hombre","05-09",{"$f":"'Pob x Genero'!#REF!","v":{"$error":"#REF!"}},4]
["010105","AMAZONAS","AMAZONAS","CHACHAPOYAS","CHILIQUIN","Hombre","05-09",{"$f":"'Pob x Genero'!#REF!","v":{"$error":"#REF!"}},5]
["010106","AMAZONAS","AMAZONAS","CHACHAPOYAS","CHUQUIBAMBA","Hombre","05-09",{"$f":"'Pob x Genero'!#REF!","v":{"$error":"#REF!"}},6]
["010107","AMAZONAS","AMAZONAS","CHACHAPOYAS","GRANADA","Hombre","05-09",{"$f":"'Pob x Genero'!#REF!","v":{"$error":"#REF!"}},7]
["010108","AMAZONAS","AMAZONAS","CHACHAPOYAS","HUANCAS","Hombre","05-09",{"$f":"'Pob x Genero'!#REF!","v":{"$error":"#REF!"}},8]
["010109","AMAZONAS","AMAZONAS","CHACHAPOYAS","LA JALCA","Hombre","05-09",{"$f":"'Pob x Genero'!#REF!","v":{"$error":"#REF!"}},9]
["010110","AMAZONAS","AMAZONAS","CHACHAPOYAS","LEIMEBAMBA","Hombre","05-09",{"$f":"'Pob x Genero'!#REF!","v":{"$error":"#REF!"}},10]
["010111","AMAZONAS","AMAZONAS","CHACHAPOYAS","LEVANTO","Hombre","05-09",{"$f":"'Pob x Genero'!#REF!","v":{"$error":"#REF!"}},11]
["010112","AMAZONAS","AMAZONAS","CHACHAPOYAS","MAGDALENA","Hombre","05-09",{"$f":"'Pob x Genero'!#REF!","v":{"$error":"#REF!"}},12]
["010113","AMAZONAS","AMAZONAS","CHACHAPOYAS","MARISCAL CASTILLA","Hombre","05-09",{"$f":"'Pob x Genero'!#REF!","v":{"$error":"#REF!"}},13]
["010114","AMAZONAS","AMAZONAS","CHACHAPOYAS","MOLINOPAMPA","Hombre","05-09",{"$f":"'Pob x Genero'!#REF!","v":{"$error":"#REF!"}},14]
["010115","AMAZONAS","AMAZONAS","CHACHAPOYAS","MONTEVIDEO","Hombre","05-09",{"$f":"'Pob x Genero'!#REF!","v":{"$error":"#REF!"}},15]
["010116","AMAZONAS","AMAZONAS","CHACHAPOYAS","OLLEROS","Hombre","05-09",{"$f":"'Pob x Genero'!#REF!","v":{"$error":"#REF!"}},16]
["010117","AMAZONAS","AMAZONAS","CHACHAPOYAS","QUINJALCA","Hombre","05-09",{"$f":"'Pob x Genero'!#REF!","v":{"$error":"#REF!"}},17]
["010118","AMAZONAS","AMAZONAS","CHACHAPOYAS","SAN FRANCISCO DE DAGUAS","Hombre","05-09",{"$f":"'Pob x Genero'!#REF!","v":{"$error":"#REF!"}},18]
["010119","AMAZONAS","AMAZONAS","CHACHAPOYAS","SAN ISIDRO DE MAINO","Hombre","05-09",{"$f":"'Pob x Genero'!#REF!","v":{"$error":"#REF!"}},19]
["010120","AMAZONAS","AMAZONAS","CHACHAPOYAS","SOLOCO","Hombre","05-09",{"$f":"'Pob x Genero'!#REF!","v":{"$error":"#REF!"}},20]
["010121","AMAZONAS","AMAZONAS","CHACHAPOYAS","SONCHE","Hombre","05-09",{"$f":"'Pob x Genero'!#REF!","v":{"$error":"#REF!"}},21]
["010201","AMAZONAS","AMAZONAS","BAGUA","BAGUA","Hombre","05-09",{"$f":"'Pob x Genero'!#REF!","v":{"$error":"#REF!"}},22]
["010202","AMAZONAS","AMAZONAS","BAGUA","ARAMANGO","Hombre","05-09",{"$f":"'Pob x Genero'!#REF!","v":{"$error":"#REF!"}},23]
["010203","AMAZONAS","AMAZONAS","BAGUA","COPALLIN","Hombre","05-09",{"$f":"'Pob x Genero'!#REF!","v":{"$error":"#REF!"}},24]
["010204","AMAZONAS","AMAZONAS","BAGUA","EL PARCO","Hombre","05-09",{"$f":"'Pob x Genero'!#REF!","v":{"$error":"#REF!"}},25]
["010205","AMAZONAS","AMAZONAS","BAGUA","IMAZA","Hombre","05-09",{"$f":"'Pob x Genero'!#REF!","v":{"$error":"#REF!"}},26]
["010206","AMAZONAS","AMAZONAS","BAGUA","LA PECA","Hombre","05-09",{"$f":"'Pob x Genero'!#REF!","v":{"$error":"#REF!"}},27]
["010301","AMAZONAS","AMAZONAS","BONGARA","JUMBILLA","Hombre","05-09",{"$f":"'Pob x Genero'!#REF!","v":{"$error":"#REF!"}},28]
["010302","AMAZONAS","AMAZONAS","BONGARA","CHISQUILLA","Hombre","05-09",{"$f":"'Pob x Genero'!#REF!","v":{"$error":"#REF!"}},29]
["010303","AMAZONAS","AMAZONAS","BONGARA","CHURUJA","Hombre","05-09",{"$f":"'Pob x Genero'!#REF!","v":{"$error":"#REF!"}},30]
["010304","AMAZONAS","AMAZONAS","BONGARA","COROSHA","Hombre","05-09",{"$f":"'Pob x Genero'!#REF!","v":{"$error":"#REF!"}},31]
["010305","AMAZONAS","AMAZONAS","BONGARA","CUISPES","Hombre","05-09",{"$f":"'Pob x Genero'!#REF!","v":{"$error":"#REF!"}},32]
["010306","AMAZONAS","AMAZONAS","BONGARA","FLORIDA","Hombre","05-09",{"$f":"'Pob x Genero'!#REF!","v":{"$error":"#REF!"}},33]
["010307","AMAZONAS","AMAZONAS","BONGARA","JAZAN","Hombre","05-09",{"$f":"'Pob x Genero'!#REF!","v":{"$error":"#REF!"}},34]
["010308","AMAZONAS","AMAZONAS","BONGARA","RECTA","Hombre","05-09",{"$f":"'Pob x Genero'!#REF!","v":{"$error":"#REF!"}},35]
["010309","AMAZONAS","AMAZONAS","BONGARA","SAN CARLOS","Hombre","05-09",{"$f":"'Pob x Genero'!#REF!","v":{"$error":"#REF!"}},36]
["010310","AMAZONAS","AMAZONAS","BONGARA","SHIPASBAMBA","Hombre","05-09",{"$f":"'Pob x Genero'!#REF!","v":{"$error":"#REF!"}},37]
["010311","AMAZONAS","AMAZONAS","BONGARA","VALERA","Hombre","05-09",{"$f":"'Pob x Genero'!#REF!","v":{"$error":"#REF!"}},38]
["010312","AMAZONAS","AMAZONAS","BONGARA","YAMBRASBAMBA","Hombre","05-09",{"$f":"'Pob x Genero'!#REF!","v":{"$error":"#REF!"}},39]
["010401","AMAZONAS","AMAZONAS","CONDORCANQUI","NIEVA","Hombre","05-09",{"$f":"'Pob x Genero'!#REF!","v":{"$error":"#REF!"}},40]
["010402","AMAZONAS","AMAZONAS","CONDORCANQUI","EL CENEPA","Hombre","05-09",{"$f":"'Pob x Genero'!#REF!","v":{"$error":"#REF!"}},41]
["010403","AMAZONAS","AMAZONAS","CONDORCANQUI","RIO SANTIAGO","Hombre","05-09",{"$f":"'Pob x Genero'!#REF!","v":{"$error":"#REF!"}},42]
["010501","AMAZONAS","AMAZONAS","LUYA","LAMUD","Hombre","05-09",{"$f":"'Pob x Genero'!#REF!","v":{"$error":"#REF!"}},43]
["010502","AMAZONAS","AMAZONAS","LUYA","CAMPORREDONDO","Hombre","05-09",{"$f":"'Pob x Genero'!#REF!","v":{"$error":"#REF!"}},44]
["010503","AMAZONAS","AMAZONAS","LUYA","COCABAMBA","Hombre","05-09",{"$f":"'Pob x Genero'!#REF!","v":{"$error":"#REF!"}},45]
["010504","AMAZONAS","AMAZONAS","LUYA","COLCAMAR","Hombre","05-09",{"$f":"'Pob x Genero'!#REF!","v":{"$error":"#REF!"}},46]
["010505","AMAZONAS","AMAZONAS","LUYA","CONILA","Hombre","05-09",{"$f":"'Pob x Genero'!#REF!","v":{"$error":"#REF!"}},47]
["010506","AMAZONAS","AMAZONAS","LUYA","INGUILPATA","Hombre","05-09",{"$f":"'Pob x Genero'!#REF!","v":{"$error":"#REF!"}},48]
["010507","AMAZONAS","AMAZONAS","LUYA","LONGUITA","Hombre","05-09",{"$f":"'Pob x Genero'!#REF!","v":{"$error":"#REF!"}},49]
["010508","AMAZONAS","AMAZONAS","LUYA","LONYA CHICO","Hombre","05-09",{"$f":"'Pob x Genero'!#REF!","v":{"$error":"#REF!"}},50]
["010509","AMAZONAS","AMAZONAS","LUYA","LUYA","Hombre","05-09",{"$f":"'Pob x Genero'!#REF!","v":{"$error":"#REF!"}},51]
["010510","AMAZONAS","AMAZONAS","LUYA","LUYA VIEJO","Hombre","05-09",{"$f":"'Pob x Genero'!#REF!","v":{"$error":"#REF!"}},52]
["010511","AMAZONAS","AMAZONAS","LUYA","MARIA","Hombre","05-09",{"$f":"'Pob x Genero'!#REF!","v":{"$error":"#REF!"}},53]
["010512","AMAZONAS","AMAZONAS","LUYA","OCALLI","Hombre","05-09",{"$f":"'Pob x Genero'!#REF!","v":{"$error":"#REF!"}},54]
["010513","AMAZONAS","AMAZONAS","LUYA","OCUMAL","Hombre","05-09",{"$f":"'Pob x Genero'!#REF!","v":{"$error":"#REF!"}},55]
["010514","AMAZONAS","AMAZONAS","LUYA","PISUQUIA","Hombre","05-09",{"$f":"'Pob x Genero'!#REF!","v":{"$error":"#REF!"}},56]
["010515","AMAZONAS","AMAZONAS","LUYA","PROVIDENCIA","Hombre","05-09",{"$f":"'Pob x Genero'!#REF!","v":{"$error":"#REF!"}},57]
["010516","AMAZONAS","AMAZONAS","LUYA","SAN CRISTOBAL","Hombre","05-09",{"$f":"'Pob x Genero'!#REF!","v":{"$error":"#REF!"}},58]
["010517","AMAZONAS","AMAZONAS","LUYA","SAN FRANCISCO DEL YESO","Hombre","05-09",{"$f":"'Pob x Genero'!#REF!","v":{"$error":"#REF!"}},59]
["010518","AMAZONAS","AMAZONAS","LUYA","SAN JERONIMO","Hombre","05-09",{"$f":"'Pob x Genero'!#REF!","v":{"$error":"#REF!"}},60]
["010519","AMAZONAS","AMAZONAS","LUYA","SAN JUAN DE LOPECANCHA","Hombre","05-09",{"$f":"'Pob x Genero'!#REF!","v":{"$error":"#REF!"}},61]
["010520","AMAZONAS","AMAZONAS","LUYA","SANTA CATALINA","Hombre","05-09",{"$f":"'Pob x Genero'!#REF!","v":{"$error":"#REF!"}},62]
["010521","AMAZONAS","AMAZONAS","LUYA","SANTO TOMAS","Hombre","05-09",{"$f":"'Pob x Genero'!#REF!","v":{"$error":"#REF!"}},63]
["010522","AMAZONAS","AMAZONAS","LUYA","TINGO","Hombre","05-09",{"$f":"'Pob x Genero'!#REF!","v":{"$error":"#REF!"}},64]
["010523","AMAZONAS","AMAZONAS","LUYA","TRITA","Hombre","05-09",{"$f":"'Pob x Genero'!#REF!","v":{"$error":"#REF!"}},65]
["010601","AMAZONAS","AMAZONAS","RODRIGUEZ DE MENDOZA","SAN NICOLAS","Hombre",{"$f":"G1957","v":"05-09"},{"$f":"'Pob x Genero'!#REF!","v":{"$error":"#REF!"}},66]
["010602","AMAZONAS","AMAZONAS","RODRIGUEZ DE MENDOZA","CHIRIMOTO","Hombre","05-09",{"$f":"'Pob x Genero'!#REF!","v":{"$error":"#REF!"}},67]
["010603","AMAZONAS","AMAZONAS","RODRIGUEZ DE MENDOZA","COCHAMAL","Hombre","05-09",{"$f":"'Pob x Genero'!#REF!","v":{"$error":"#REF!"}},68]
["010604","AMAZONAS","AMAZONAS","RODRIGUEZ DE MENDOZA","HUAMBO","Hombre","05-09",{"$f":"'Pob x Genero'!#REF!","v":{"$error":"#REF!"}},69]
["010605","AMAZONAS","AMAZONAS","RODRIGUEZ DE MENDOZA","LIMABAMBA","Hombre","05-09",{"$f":"'Pob x Genero'!#REF!","v":{"$error":"#REF!"}},70]
["010606","AMAZONAS","AMAZONAS","RODRIGUEZ DE MENDOZA","LONGAR","Hombre","05-09",{"$f":"'Pob x Genero'!#REF!","v":{"$error":"#REF!"}},71]
["010607","AMAZONAS","AMAZONAS","RODRIGUEZ DE MENDOZA","MARISCAL BENAVIDES","Hombre","05-09",{"$f":"'Pob x Genero'!#REF!","v":{"$error":"#REF!"}},72]
["010608","AMAZONAS","AMAZONAS","RODRIGUEZ DE MENDOZA","MILPUC","Hombre","05-09",{"$f":"'Pob x Genero'!#REF!","v":{"$error":"#REF!"}},73]
["010609","AMAZONAS","AMAZONAS","RODRIGUEZ DE MENDOZA","OMIA","Hombre","05-09",{"$f":"'Pob x Genero'!#REF!","v":{"$error":"#REF!"}},74]
["010610","AMAZONAS","AMAZONAS","RODRIGUEZ DE MENDOZA","SANTA ROSA","Hombre","05-09",{"$f":"'Pob x Genero'!#REF!","v":{"$error":"#REF!"}},75]
["010611","AMAZONAS","AMAZONAS","RODRIGUEZ DE MENDOZA","TOTORA","Hombre","05-09",{"$f":"'Pob x Genero'!#REF!","v":{"$error":"#REF!"}},76]
["010612","AMAZONAS","AMAZONAS","RODRIGUEZ DE MENDOZA","VISTA ALEGRE","Hombre","05-09",{"$f":"'Pob x Genero'!#REF!","v":{"$error":"#REF!"}},77]
["010701","AMAZONAS","AMAZONAS","UTCUBAMBA","BAGUA GRANDE","Hombre","05-09",{"$f":"'Pob x Genero'!#REF!","v":{"$error":"#REF!"}},78]
["010702","AMAZONAS","AMAZONAS","UTCUBAMBA","CAJARURO","Hombre","05-09",{"$f":"'Pob x Genero'!#REF!","v":{"$error":"#REF!"}},79]
["010703","AMAZONAS","AMAZONAS","UTCUBAMBA","CUMBA","Hombre","05-09",{"$f":"'Pob x Genero'!#REF!","v":{"$error":"#REF!"}},80]
["010704","AMAZONAS","AMAZONAS","UTCUBAMBA","EL MILAGRO","Hombre","05-09",{"$f":"'Pob x Genero'!#REF!","v":{"$error":"#REF!"}},81]
["010705","AMAZONAS","AMAZONAS","UTCUBAMBA","JAMALCA","Hombre","05-09",{"$f":"'Pob x Genero'!#REF!","v":{"$error":"#REF!"}},82]
["010706","AMAZONAS","AMAZONAS","UTCUBAMBA","LONYA GRANDE","Hombre","05-09",{"$f":"'Pob x Genero'!#REF!","v":{"$error":"#REF!"}},83]
["010707","AMAZONAS","AMAZONAS","UTCUBAMBA","YAMON","Hombre","05-09",{"$f":"'Pob x Genero'!#REF!","v":{"$error":"#REF!"}},84]
["020101","ANCASH","ANCASH","HUARAZ","HUARAZ","Hombre","05-09",{"$f":"'Pob x Genero'!#REF!","v":{"$error":"#REF!"}},85]
["020102","ANCASH","ANCASH","HUARAZ","COCHABAMBA","Hombre","05-09",{"$f":"'Pob x Genero'!#REF!","v":{"$error":"#REF!"}},86]
["020103","ANCASH","ANCASH","HUARAZ","COLCABAMBA","Hombre","05-09",{"$f":"'Pob x Genero'!#REF!","v":{"$error":"#REF!"}},87]
["020104","ANCASH","ANCASH","HUARAZ","HUANCHAY","Hombre","05-09",{"$f":"'Pob x Genero'!#REF!","v":{"$error":"#REF!"}},88]
["020105","ANCASH","ANCASH","HUARAZ","INDEPENDENCIA","Hombre","05-09",{"$f":"'Pob x Genero'!#REF!","v":{"$error":"#REF!"}},89]
["020106","ANCASH","ANCASH","HUARAZ","JANGAS","Hombre","05-09",{"$f":"'Pob x Genero'!#REF!","v":{"$error":"#REF!"}},90]
["020107","ANCASH","ANCASH","HUARAZ","LA LIBERTAD","Hombre","05-09",{"$f":"'Pob x Genero'!#REF!","v":{"$error":"#REF!"}},91]
["020108","ANCASH","ANCASH","HUARAZ","OLLEROS","Hombre","05-09",{"$f":"'Pob x Genero'!#REF!","v":{"$error":"#REF!"}},92]
["020109","ANCASH","ANCASH","HUARAZ","PAMPAS","Hombre","05-09",{"$f":"'Pob x Genero'!#REF!","v":{"$error":"#REF!"}},93]
["020110","ANCASH","ANCASH","HUARAZ","PARIACOTO","Hombre","05-09",{"$f":"'Pob x Genero'!#REF!","v":{"$error":"#REF!"}},94]
["020111","ANCASH","ANCASH","HUARAZ","PIRA","Hombre","05-09",{"$f":"'Pob x Genero'!#REF!","v":{"$error":"#REF!"}},95]
["020112","ANCASH","ANCASH","HUARAZ","TARICA","Hombre","05-09",{"$f":"'Pob x Genero'!#REF!","v":{"$error":"#REF!"}},96]
["020201","ANCASH","ANCASH","AIJA","AIJA","Hombre","05-09",{"$f":"'Pob x Genero'!#REF!","v":{"$error":"#REF!"}},97]
["020202","ANCASH","ANCASH","AIJA","CORIS","Hombre","05-09",{"$f":"'Pob x Genero'!#REF!","v":{"$error":"#REF!"}},98]
["020203","ANCASH","ANCASH","AIJA","HUACLLAN","Hombre","05-09",{"$f":"'Pob x Genero'!#REF!","v":{"$error":"#REF!"}},99]
["020204","ANCASH","ANCASH","AIJA","LA MERCED","Hombre","05-09",{"$f":"'Pob x Genero'!#REF!","v":{"$error":"#REF!"}},100]
["020205","ANCASH","ANCASH","AIJA","SUCCHA","Hombre","05-09",{"$f":"'Pob x Genero'!#REF!","v":{"$error":"#REF!"}},101]
["020301","ANCASH","ANCASH","ANTONIO RAYMONDI","LLAMELLIN","Hombre","05-09",{"$f":"'Pob x Genero'!#REF!","v":{"$error":"#REF!"}},102]
["020302","ANCASH","ANCASH","ANTONIO RAYMONDI","ACZO","Hombre","05-09",{"$f":"'Pob x Genero'!#REF!","v":{"$error":"#REF!"}},103]
["020303","ANCASH","ANCASH","ANTONIO RAYMONDI","CHACCHO","Hombre","05-09",{"$f":"'Pob x Genero'!#REF!","v":{"$error":"#REF!"}},104]
["020304","ANCASH","ANCASH","ANTONIO RAYMONDI","CHINGAS","Hombre","05-09",{"$f":"'Pob x Genero'!#REF!","v":{"$error":"#REF!"}},105]
["020305","ANCASH","ANCASH","ANTONIO RAYMONDI","MIRGAS","Hombre","05-09",{"$f":"'Pob x Genero'!#REF!","v":{"$error":"#REF!"}},106]
["020306","ANCASH","ANCASH","ANTONIO RAYMONDI","SAN JUAN DE RONTOY","Hombre","05-09",{"$f":"'Pob x Genero'!#REF!","v":{"$error":"#REF!"}},107]
["020401","ANCASH","ANCASH","ASUNCION","CHACAS","Hombre","05-09",{"$f":"'Pob x Genero'!#REF!","v":{"$error":"#REF!"}},108]
["020610","ANCASH","ANCASH","CARHUAZ","TINCO","Hombre","05-09",{"$f":"'Pob x Genero'!#REF!","v":{"$error":"#REF!"}},134]
["021005","ANCASH","ANCASH","HUARI","HUACACHI","Hombre","05-09",{"$f":"'Pob x Genero'!#REF!","v":{"$error":"#REF!"}},154]
["021405","ANCASH","ANCASH","OCROS","COCHAS","Hombre","05-09",{"$f":"'Pob x Genero'!#REF!","v":{"$error":"#REF!"}},193]
["021904","ANCASH","ANCASH","SIHUAS","CASHAPAMPA","Hombre","05-09",{"$f":"'Pob x Genero'!#REF!","v":{"$error":"#REF!"}},236]
["030210","APURIMAC","APURIMAC","ANDAHUAYLAS","PAMPACHIRI","Hombre","05-09",{"$f":"'Pob x Genero'!#REF!","v":{"$error":"#REF!"}},269]
["030301","APURIMAC","APURIMAC","ANTABAMBA","ANTABAMBA","Hombre","05-09",{"$f":"'Pob x Genero'!#REF!","v":{"$error":"#REF!"}},280]
["030702","APURIMAC","APURIMAC","GRAU","CURPAHUASI","Hombre","05-09",{"$f":"'Pob x Genero'!#REF!","v":{"$error":"#REF!"}},323]
["040127","AREQUIPA","AREQUIPA","AREQUIPA","YARABAMBA","Hombre","05-09",{"$f":"'Pob x Genero'!CU35","v":39},362]
["040208","AREQUIPA","AREQUIPA","CAMANA","SAMUEL PASTOR","Hombre","05-09",{"$f":"'Pob x Genero'!CU45","v":815},372]
["040603","AREQUIPA","AREQUIPA","CONDESUYOS","CAYARANI","Hombre","05-09",{"$f":"'Pob x Genero'!CU95","v":115},422]
["050105","AYACUCHO","AYACUCHO","HUAMANGA","CHIARA","Hombre","05-09",{"$f":"'Pob x Genero'!#REF!","v":{"$error":"#REF!"}},449]
["050509","AYACUCHO","AYACUCHO","LA MAR","SAMUGARI","Hombre","05-09",{"$f":"'Pob x Genero'!#REF!","v":{"$error":"#REF!"}},492]
["050804","AYACUCHO","AYACUCHO","PAUCAR DEL SARA SARA","LAMPA","Hombre","05-09",{"$f":"'Pob x Genero'!#REF!","v":{"$error":"#REF!"}},531]
["050810","AYACUCHO","AYACUCHO","PAUCAR DEL SARA SARA","SARA SARA","Hombre","05-09",{"$f":"'Pob x Genero'!#REF!","v":{"$error":"#REF!"}},537]
["060107","CAJAMARCA","CAJAMARCA","CAJAMARCA","LLACANORA","Hombre","05-09",{"$f":"'Pob x Genero'!#REF!","v":{"$error":"#REF!"}},575]
["060503","CAJAMARCA","CAJAMARCA","CONTUMAZA","CUPISNIQUE","Hombre","05-09",{"$f":"'Pob x Genero'!#REF!","v":{"$error":"#REF!"}},618]
["061001","CAJAMARCA","CAJAMARCA","SAN MARCOS","PEDRO GALVEZ","Hombre","05-09",{"$f":"'Pob x Genero'!#REF!","v":{"$error":"#REF!"}},661]
["061007","CAJAMARCA","CAJAMARCA","SAN MARCOS","JOSE SABOGAL","Hombre","05-09",{"$f":"'Pob x Genero'!#REF!","v":{"$error":"#REF!"}},667]
["080108","CUSCO","CUSCO","CUSCO","WANCHAQ","Hombre","05-09",{"$f":"'Pob x Genero'!#REF!","v":{"$error":"#REF!"}},710]
["080606","CUSCO","CUSCO","CANCHIS","SAN PABLO","Hombre","05-09",{"$f":"'Pob x Genero'!#REF!","v":{"$error":"#REF!"}},748]
["081003","CUSCO","CUSCO","PARURO","CCAPI","Hombre","05-09",{"$f":"'Pob x Genero'!#REF!","v":{"$error":"#REF!"}},787]
["081104","CUSCO","CUSCO","PAUCARTAMBO","COLQUEPATA","Hombre","05-09",{"$f":"'Pob x Genero'!#REF!","v":{"$error":"#REF!"}},797]
["090118","HUANCAVELICA","HUANCAVELICA","HUANCAVELICA","ASCENSION","Hombre","05-09",{"$f":"'Pob x Genero'!#REF!","v":{"$error":"#REF!"}},836]
["090406","HUANCAVELICA","HUANCAVELICA","CASTROVIRREYNA","COCAS","Hombre","05-09",{"$f":"'Pob x Genero'!#REF!","v":{"$error":"#REF!"}},863]
["090722","HUANCAVELICA","HUANCAVELICA","TAYACAJA","PICHOS","Hombre","05-09",{"$f":"'Pob x Genero'!#REF!","v":{"$error":"#REF!"}},917]
["100502","HUANUCO","HUANUCO","HUAMALIES","ARANCAY","Hombre","05-09",{"$f":"'Pob x Genero'!#REF!","v":{"$error":"#REF!"}},956]
["100508","HUANUCO","HUANUCO","HUAMALIES","PUNCHAO","Hombre",{"$f":"G2853","v":"05-09"},{"$f":"'Pob x Genero'!#REF!","v":{"$error":"#REF!"}},962]
["110101","ICA","ICA","ICA","ICA","Hombre","05-09",{"$f":"'Pob x Genero'!#REF!","v":{"$error":"#REF!"}},1005]
["120101","JUNIN","JUNIN","HUANCAYO","HUANCAYO","Hombre","05-09",{"$f":"'Pob x Genero'!#REF!","v":{"$error":"#REF!"}},1048]
["120211","JUNIN","JUNIN","CONCEPCION","MITO","Hombre","05-09",{"$f":"'Pob x Genero'!#REF!","v":{"$error":"#REF!"}},1086]
["120302","JUNIN","JUNIN","CHANCHAMAYO","PERENE","Hombre","05-09",{"$f":"'Pob x Genero'!#REF!","v":{"$error":"#REF!"}},1092]
["120501","JUNIN","JUNIN","JUNIN","JUNIN","Hombre","05-09",{"$f":"'Pob x Genero'!#REF!","v":{"$error":"#REF!"}},1131]
["130103","LA LIBERTAD","LA LIBERTAD","TRUJILLO","FLORENCIA DE MORA","Hombre","05-09",{"$f":"'Pob x Genero'!#REF!","v":{"$error":"#REF!"}},1174]
["130501","LA LIBERTAD","LA LIBERTAD","JULCAN","JULCAN","Hombre","05-09",{"$f":"'Pob x Genero'!#REF!","v":{"$error":"#REF!"}},1201]
["131103","LA LIBERTAD","LA LIBERTAD","GRAN CHIMU","MARMOT","Hombre","05-09",{"$f":"'Pob x Genero'!#REF!","v":{"$error":"#REF!"}},1251]
["140106","LAMBAYEQUE","LAMBAYEQUE","CHICLAYO","LA VICTORIA","Hombre","05-09",{"$f":"'Pob x Genero'!#REF!","v":{"$error":"#REF!"}},1261]
["150107","DIRIS ESTE","LIMA","LIMA","CHACLACAYO","Hombre","05-09",{"$f":"'Pob x Genero'!#REF!","v":{"$error":"#REF!"}},1300]
["150143","DIRIS SUR","LIMA","LIMA","VILLA MARIA DEL TRIUNFO","Hombre","05-09",{"$f":"'Pob x Genero'!#REF!","v":{"$error":"#REF!"}},1336]
["150612","LIMA","LIMA","HUARAL","VEINTISIETE DE NOVIEMBRE","Hombre","05-09",{"$f":"'Pob x Genero'!#REF!","v":{"$error":"#REF!"}},1381]
["150706","LIMA","LIMA","HUAROCHIRI","CUENCA","Hombre","05-09",{"$f":"'Pob x Genero'!#REF!","v":{"$error":"#REF!"}},1387]
["150905","LIMA","LIMA","OYON","NAVAN","Hombre","05-09",{"$f":"'Pob x Genero'!#REF!","v":{"$error":"#REF!"}},1430]
["160105","LORETO","LORETO","MAYNAS","LAS AMAZONAS","Hombre","05-09",{"$f":"'Pob x Genero'!#REF!","v":{"$error":"#REF!"}},1469]
["160403","LORETO","LORETO","MARISCAL RAMON CASTILLA","YAVARI","Hombre","05-09",{"$f":"'Pob x Genero'!#REF!","v":{"$error":"#REF!"}},1489]
["190101","PASCO","PASCO","PASCO","CHAUPIMARCA","Hombre","05-09",{"$f":"'Pob x Genero'!#REF!","v":{"$error":"#REF!"}},1550]
["190107","PASCO","PASCO","PASCO","PAUCARTAMBO","Hombre","05-09",{"$f":"'Pob x Genero'!#REF!","v":{"$error":"#REF!"}},1556]
["200301","PIURA","PIURA","HUANCABAMBA","HUANCABAMBA","Hombre","05-09",{"$f":"'Pob x Genero'!#REF!","v":{"$error":"#REF!"}},1599]
["200801","PIURA","PIURA","SECHURA","SECHURA","Hombre","05-09",{"$f":"'Pob x Genero'!#REF!","v":{"$error":"#REF!"}},1638]
["210301","PUNO","PUNO","CARABAYA","MACUSANI","Hombre","05-09",{"$f":"'Pob x Genero'!#REF!","v":{"$error":"#REF!"}},1674]
["210403","PUNO","PUNO","CHUCUITO","HUACULLANI","Hombre","05-09",{"$f":"'Pob x Genero'!#REF!","v":{"$error":"#REF!"}},1686]
["210903","PUNO","PUNO","MOHO","HUAYRAPATA","Hombre","05-09",{"$f":"'Pob x Genero'!#REF!","v":{"$error":"#REF!"}},1725]
["220303","SAN MARTIN","SAN MARTIN","EL DORADO","SAN MARTIN","Hombre","05-09",{"$f":"'Pob x Genero'!#REF!","v":{"$error":"#REF!"}},1768]
["220805","SAN MARTIN","SAN MARTIN","RIOJA","PARDO MIGUEL","Hombre","05-09",{"$f":"'Pob x Genero'!#REF!","v":{"$error":"#REF!"}},1807]
["221002","SAN MARTIN","SAN MARTIN","TOCACHE","NUEVO PROGRESO","Hombre","05-09",{"$f":"'Pob x Genero'!#REF!","v":{"$error":"#REF!"}},1827]
["230404","TACNA","TACNA","TARATA","ESTIQUE-PAMPA","Hombre","05-09",{"$f":"'Pob x Genero'!#REF!","v":{"$error":"#REF!"}},1855]
["010103","AMAZONAS","AMAZONAS","CHACHAPOYAS","BALSAS","Hombre","10-14",{"$f":"'Pob x Genero'!#REF!","v":{"$error":"#REF!"}},3]
["010504","AMAZONAS","AMAZONAS","LUYA","COLCAMAR","Hombre","10-14",{"$f":"'Pob x Genero'!#REF!","v":{"$error":"#REF!"}},46]
["010606","AMAZONAS","AMAZONAS","RODRIGUEZ DE MENDOZA","LONGAR","Hombre","10-14",{"$f":"'Pob x Genero'!#REF!","v":{"$error":"#REF!"}},71]
["020106","ANCASH","ANCASH","HUARAZ","JANGAS","Hombre","10-14",{"$f":"'Pob x Genero'!#REF!","v":{"$error":"#REF!"}},90]
["020609","ANCASH","ANCASH","CARHUAZ","SHILLA","Hombre","10-14",{"$f":"'Pob x Genero'!#REF!","v":{"$error":"#REF!"}},133]
["021202","ANCASH","ANCASH","HUAYLAS","HUALLANCA","Hombre","10-14",{"$f":"'Pob x Genero'!#REF!","v":{"$error":"#REF!"}},172]
["021602","ANCASH","ANCASH","POMABAMBA","HUAYLLAN","Hombre","10-14",{"$f":"'Pob x Genero'!#REF!","v":{"$error":"#REF!"}},211]
["021801","ANCASH","ANCASH","SANTA","CHIMBOTE","Hombre","10-14",{"$f":"'Pob x Genero'!#REF!","v":{"$error":"#REF!"}},224]
["030109","APURIMAC","APURIMAC","ABANCAY","TAMBURCO","Hombre","10-14",{"$f":"'Pob x Genero'!#REF!","v":{"$error":"#REF!"}},259]
["030416","APURIMAC","APURIMAC","AYMARAES","TORAYA","Hombre","10-14",{"$f":"'Pob x Genero'!#REF!","v":{"$error":"#REF!"}},302]
["040106","AREQUIPA","AREQUIPA","AREQUIPA","CHIGUATA","Hombre","10-14",{"$f":"'Pob x Genero'!CV14","v":103},341]
["040308","AREQUIPA","AREQUIPA","CARAVELI","CHAPARRA","Hombre","10-14",{"$f":"'Pob x Genero'!CV53","v":116},380]
["040510","AREQUIPA","AREQUIPA","CAYLLOMA","LARI","Hombre","10-14",{"$f":"'Pob x Genero'!CV82","v":41},409]
["040701","AREQUIPA","AREQUIPA","ISLAY","MOLLENDO","Hombre","10-14",{"$f":"'Pob x Genero'!CV101","v":872},428]
["050301","AYACUCHO","AYACUCHO","HUANCA SANCOS","SANCOS","Hombre","10-14",{"$f":"'Pob x Genero'!#REF!","v":{"$error":"#REF!"}},467]
["050612","AYACUCHO","AYACUCHO","LUCANAS","OCAÑA","Hombre","10-14",{"$f":"'Pob x Genero'!#REF!","v":{"$error":"#REF!"}},510]
["050907","AYACUCHO","AYACUCHO","SUCRE","PAICO","Hombre","10-14",{"$f":"'Pob x Genero'!#REF!","v":{"$error":"#REF!"}},544]
["051010","AYACUCHO","AYACUCHO","VICTOR FAJARDO","HUAYA","Hombre","10-14",{"$f":"'Pob x Genero'!#REF!","v":{"$error":"#REF!"}},558]
["060401","CAJAMARCA","CAJAMARCA","CHOTA","CHOTA","Hombre","10-14",{"$f":"'Pob x Genero'!#REF!","v":{"$error":"#REF!"}},597]
["060613","CAJAMARCA","CAJAMARCA","CUTERVO","SANTO TOMAS","Hombre","10-14",{"$f":"'Pob x Genero'!#REF!","v":{"$error":"#REF!"}},636]
["060805","CAJAMARCA","CAJAMARCA","JAEN","HUABAL","Hombre","10-14",{"$f":"'Pob x Genero'!#REF!","v":{"$error":"#REF!"}},646]
["070102","CALLAO","CALLAO","CALLAO","BELLAVISTA","Hombre","10-14",{"$f":"'Pob x Genero'!#REF!","v":{"$error":"#REF!"}},697]
["080401","CUSCO","CUSCO","CALCA","CALCA","Hombre","10-14",{"$f":"'Pob x Genero'!#REF!","v":{"$error":"#REF!"}},727]
["080808","CUSCO","CUSCO","ESPINAR","ALTO PICHIGUA","Hombre","10-14",{"$f":"'Pob x Genero'!#REF!","v":{"$error":"#REF!"}},766]
["081206","CUSCO","CUSCO","QUISPICANCHI","CUSIPATA","Hombre","10-14",{"$f":"'Pob x Genero'!#REF!","v":{"$error":"#REF!"}},805]
["081304","CUSCO","CUSCO","URUBAMBA","MACHUPICCHU","Hombre","10-14",{"$f":"'Pob x Genero'!#REF!","v":{"$error":"#REF!"}},815]
["090305","HUANCAVELICA","HUANCAVELICA","ANGARAES","CHINCHO","Hombre","10-14",{"$f":"'Pob x Genero'!#REF!","v":{"$error":"#REF!"}},850]
["090611","HUANCAVELICA","HUANCAVELICA","HUAYTARA","SAN FRANCISCO DE SANGAYAICO","Hombre","10-14",{"$f":"'Pob x Genero'!#REF!","v":{"$error":"#REF!"}},892]
["100202","HUANUCO","HUANUCO","AMBO","CAYNA","Hombre","10-14",{"$f":"'Pob x Genero'!#REF!","v":{"$error":"#REF!"}},935]
["100208","HUANUCO","HUANUCO","AMBO","TOMAY KICHWA","Hombre","10-14",{"$f":"'Pob x Genero'!#REF!","v":{"$error":"#REF!"}},941]
["100804","HUANUCO","HUANUCO","PACHITEA","UMARI","Hombre","10-14",{"$f":"'Pob x Genero'!#REF!","v":{"$error":"#REF!"}},984]
["110401","ICA","ICA","PALPA","PALPA","Hombre","10-14",{"$f":"'Pob x Genero'!#REF!","v":{"$error":"#REF!"}},1035]
["120120","JUNIN","JUNIN","HUANCAYO","HUASICANCHA","Hombre","10-14",{"$f":"'Pob x Genero'!#REF!","v":{"$error":"#REF!"}},1061]
["120132","JUNIN","JUNIN","HUANCAYO","SAÑO","Hombre","10-14",{"$f":"'Pob x Genero'!#REF!","v":{"$error":"#REF!"}},1071]
["120414","JUNIN","JUNIN","JAUJA","LLOCLLAPAMPA","Hombre","10-14",{"$f":"'Pob x Genero'!#REF!","v":{"$error":"#REF!"}},1110]
["120604","JUNIN","JUNIN","SATIPO","MAZAMARI","Hombre","10-14",{"$f":"'Pob x Genero'!#REF!","v":{"$error":"#REF!"}},1138]
["130208","LA LIBERTAD","LA LIBERTAD","ASCOPE","CASA GRANDE","Hombre","10-14",{"$f":"'Pob x Genero'!#REF!","v":{"$error":"#REF!"}},1191]
["130811","LA LIBERTAD","LA LIBERTAD","PATAZ","SANTIAGO DE CHALLAS","Hombre","10-14",{"$f":"'Pob x Genero'!#REF!","v":{"$error":"#REF!"}},1230]
["130908","LA LIBERTAD","LA LIBERTAD","SANCHEZ CARRION","SARTIMBAMBA","Hombre","10-14",{"$f":"'Pob x Genero'!#REF!","v":{"$error":"#REF!"}},1240]
["140204","LAMBAYEQUE","LAMBAYEQUE","FERREÑAFE","MANUEL ANTONIO MESONES MURO","Hombre","10-14",{"$f":"'Pob x Genero'!#REF!","v":{"$error":"#REF!"}},1279]
["150130","DIRIS CENTRO","LIMA","LIMA","SAN BORJA","Hombre","10-14",{"$f":"'Pob x Genero'!#REF!","v":{"$error":"#REF!"}},1323]
["150507","LIMA","LIMA","CAÑETE","IMPERIAL","Hombre","10-14",{"$f":"'Pob x Genero'!#REF!","v":{"$error":"#REF!"}},1360]
["150513","LIMA","LIMA","CAÑETE","SAN ANTONIO","Hombre","10-14",{"$f":"'Pob x Genero'!#REF!","v":{"$error":"#REF!"}},1366]
["150728","LIMA","LIMA","HUAROCHIRI","SANTA EULALIA","Hombre","10-14",{"$f":"'Pob x Genero'!#REF!","v":{"$error":"#REF!"}},1409]
["151017","LIMA","LIMA","YAUYOS","HUAÑEC","Hombre","10-14",{"$f":"'Pob x Genero'!#REF!","v":{"$error":"#REF!"}},1448]
["160201","LORETO","LORETO","ALTO AMAZONAS","YURIMAGUAS","Hombre","10-14",{"$f":"'Pob x Genero'!#REF!","v":{"$error":"#REF!"}},1476]
["160506","LORETO","LORETO","REQUENA","PUINAHUA","Hombre","10-14",{"$f":"'Pob x Genero'!#REF!","v":{"$error":"#REF!"}},1496]
["180107","MOQUEGUA","MOQUEGUA","MARISCAL NIETO","SAN ANTONIO","Hombre","10-14",{"$f":"'Pob x Genero'!#REF!","v":{"$error":"#REF!"}},1535]
["190304","PASCO","PASCO","OXAPAMPA","PALCAZU","Hombre","10-14",{"$f":"'Pob x Genero'!#REF!","v":{"$error":"#REF!"}},1574]
["200501","PIURA","PIURA","PAITA","PAITA","Hombre","10-14",{"$f":"'Pob x Genero'!#REF!","v":{"$error":"#REF!"}},1617]
["200606","PIURA","PIURA","SULLANA","MIGUEL CHECA","Hombre","10-14",{"$f":"'Pob x Genero'!#REF!","v":{"$error":"#REF!"}},1629]
["210207","PUNO","PUNO","AZANGARO","JOSE DOMINGO CHOQUEHUANCA","Hombre","10-14",{"$f":"'Pob x Genero'!#REF!","v":{"$error":"#REF!"}},1665]
["210701","PUNO","PUNO","LAMPA","LAMPA","Hombre","10-14",{"$f":"'Pob x Genero'!#REF!","v":{"$error":"#REF!"}},1704]
["211207","PUNO","PUNO","SANDIA","SAN JUAN DEL ORO","Hombre","10-14",{"$f":"'Pob x Genero'!#REF!","v":{"$error":"#REF!"}},1743]
["220205","SAN MARTIN","SAN MARTIN","BELLAVISTA","SAN PABLO","Hombre","10-14",{"$f":"'Pob x Genero'!#REF!","v":{"$error":"#REF!"}},1764]
["220604","SAN MARTIN","SAN MARTIN","MARISCAL CACERES","PACHIZA","Hombre","10-14",{"$f":"'Pob x Genero'!#REF!","v":{"$error":"#REF!"}},1791]
["230103","TACNA","TACNA","TACNA","CALANA","Hombre","10-14",{"$f":"'Pob x Genero'!#REF!","v":{"$error":"#REF!"}},1834]
["250101","UCAYALI","UCAYALI","CORONEL PORTILLO","CALLERIA","Hombre","10-14",{"$f":"'Pob x Genero'!#REF!","v":{"$error":"#REF!"}},1873]
["010121","AMAZONAS","AMAZONAS","CHACHAPOYAS","SONCHE","Hombre","15-19",{"$f":"'Pob x Genero'!#REF!","v":{"$error":"#REF!"}},21]
["010516","AMAZONAS","AMAZONAS","LUYA","SAN CRISTOBAL","Hombre","15-19",{"$f":"'Pob x Genero'!#REF!","v":{"$error":"#REF!"}},58]
["010604","AMAZONAS","AMAZONAS","RODRIGUEZ DE MENDOZA","HUAMBO","Hombre","15-19",{"$f":"'Pob x Genero'!#REF!","v":{"$error":"#REF!"}},69]
["020401","ANCASH","ANCASH","ASUNCION","CHACAS","Hombre","15-19",{"$f":"'Pob x Genero'!#REF!","v":{"$error":"#REF!"}},108]
["021002","ANCASH","ANCASH","HUARI","ANRA","Hombre","15-19",{"$f":"'Pob x Genero'!#REF!","v":{"$error":"#REF!"}},151]
["021402","ANCASH","ANCASH","OCROS","ACAS","Hombre","15-19",{"$f":"'Pob x Genero'!#REF!","v":{"$error":"#REF!"}},190]
["021602","ANCASH","ANCASH","POMABAMBA","HUAYLLAN","Hombre","15-19",{"$f":"'Pob x Genero'!#REF!","v":{"$error":"#REF!"}},211]
["021906","ANCASH","ANCASH","SIHUAS","HUAYLLABAMBA","Hombre","15-19",{"$f":"'Pob x Genero'!#REF!","v":{"$error":"#REF!"}},238]
["030218","APURIMAC","APURIMAC","ANDAHUAYLAS","TURPO","Hombre","15-19",{"$f":"'Pob x Genero'!#REF!","v":{"$error":"#REF!"}},277]
["030611","APURIMAC","APURIMAC","CHINCHEROS","LOS CHANKAS","Hombre","15-19",{"$f":"'Pob x Genero'!#REF!","v":{"$error":"#REF!"}},320]
["040111","AREQUIPA","AREQUIPA","AREQUIPA","MOLLEBAYA","Hombre","15-19",{"$f":"'Pob x Genero'!CW19","v":317},346]
["040129","AREQUIPA","AREQUIPA","AREQUIPA","JOSE LUIS BUSTAMANTE Y RIVERO","Hombre","15-19",{"$f":"'Pob x Genero'!CW37","v":3198},364]
["040508","AREQUIPA","AREQUIPA","CAYLLOMA","HUANCA","Hombre","15-19",{"$f":"'Pob x Genero'!CW80","v":33},407]
["050102","AYACUCHO","AYACUCHO","HUAMANGA","ACOCRO","Hombre","15-19",{"$f":"'Pob x Genero'!#REF!","v":{"$error":"#REF!"}},446]
["050506","AYACUCHO","AYACUCHO","LA MAR","LUIS CARRANZA","Hombre","15-19",{"$f":"'Pob x Genero'!#REF!","v":{"$error":"#REF!"}},489]
["050601","AYACUCHO","AYACUCHO","LUCANAS","PUQUIO","Hombre","15-19",{"$f":"'Pob x Genero'!#REF!","v":{"$error":"#REF!"}},499]
["050806","AYACUCHO","AYACUCHO","PAUCAR DEL SARA SARA","OYOLO","Hombre","15-19",{"$f":"'Pob x Genero'!#REF!","v":{"$error":"#REF!"}},533]
["060108","CAJAMARCA","CAJAMARCA","CAJAMARCA","LOS BAÑOS DEL INCA","Hombre","15-19",{"$f":"'Pob x Genero'!#REF!","v":{"$error":"#REF!"}},576]
["060419","CAJAMARCA","CAJAMARCA","CHOTA","CHALAMARCA","Hombre","15-19",{"$f":"'Pob x Genero'!#REF!","v":{"$error":"#REF!"}},615]
["060602","CAJAMARCA","CAJAMARCA","CUTERVO","CALLAYUC","Hombre","15-19",{"$f":"'Pob x Genero'!#REF!","v":{"$error":"#REF!"}},625]
["061204","CAJAMARCA","CAJAMARCA","SAN PABLO","TUMBADEN","Hombre","15-19",{"$f":"'Pob x Genero'!#REF!","v":{"$error":"#REF!"}},684]
["070107","CALLAO","CALLAO","CALLAO                        ","MI PERU","Hombre","15-19",{"$f":"'Pob x Genero'!#REF!","v":{"$error":"#REF!"}},702]
["080603","CUSCO","CUSCO","CANCHIS","COMBAPATA","Hombre","15-19",{"$f":"'Pob x Genero'!#REF!","v":{"$error":"#REF!"}},745]
["080918","CUSCO","CUSCO","LA CONVENCION","UNION ASHÁNINKA","Hombre","15-19",{"$f":"'Pob x Genero'!#REF!","v":{"$error":"#REF!"}},784]
["081006","CUSCO","CUSCO","PARURO","OMACHA","Hombre","15-19",{"$f":"'Pob x Genero'!#REF!","v":{"$error":"#REF!"}},790]
["090119","HUANCAVELICA","HUANCAVELICA","HUANCAVELICA","HUANDO","Hombre","15-19",{"$f":"'Pob x Genero'!#REF!","v":{"$error":"#REF!"}},837]
["090501","HUANCAVELICA","HUANCAVELICA","CHURCAMPA","CHURCAMPA","Hombre","15-19",{"$f":"'Pob x Genero'!#REF!","v":{"$error":"#REF!"}},871]
["090719","HUANCAVELICA","HUANCAVELICA","TAYACAJA","QUICHUAS","Hombre","15-19",{"$f":"'Pob x Genero'!#REF!","v":{"$error":"#REF!"}},914]
["090725","HUANCAVELICA","HUANCAVELICA","TAYACAJA","COCHABAMBA","Hombre","15-19",{"$f":"'Pob x Genero'!#REF!","v":{"$error":"#REF!"}},920]
["100607","HUANUCO","HUANUCO","LEONCIO PRADO","PUCAYACU","Hombre","15-19",{"$f":"'Pob x Genero'!#REF!","v":{"$error":"#REF!"}},972]
["101105","HUANUCO","HUANUCO","YAROWILCA","JACAS CHICO","Hombre","15-19",{"$f":"'Pob x Genero'!#REF!","v":{"$error":"#REF!"}},1001]
["110501","ICA","ICA","PISCO","PISCO","Hombre","15-19",{"$f":"'Pob x Genero'!#REF!","v":{"$error":"#REF!"}},1040]
["120105","JUNIN","JUNIN","HUANCAYO","CHACAPAMPA","Hombre","15-19",{"$f":"'Pob x Genero'!#REF!","v":{"$error":"#REF!"}},1050]
["120214","JUNIN","JUNIN","CONCEPCION","SAN JOSE DE QUERO","Hombre","15-19",{"$f":"'Pob x Genero'!#REF!","v":{"$error":"#REF!"}},1089]
["120429","JUNIN","JUNIN","JAUJA","SAN PEDRO DE CHUNAN","Hombre","15-19",{"$f":"'Pob x Genero'!#REF!","v":{"$error":"#REF!"}},1125]
["120908","JUNIN","JUNIN","CHUPACA","TRES DE DICIEMBRE","Hombre","15-19",{"$f":"'Pob x Genero'!#REF!","v":{"$error":"#REF!"}},1170]
["130606","LA LIBERTAD","LA LIBERTAD","OTUZCO","LA CUESTA","Hombre","15-19",{"$f":"'Pob x Genero'!#REF!","v":{"$error":"#REF!"}},1209]
["130701","LA LIBERTAD","LA LIBERTAD","PACASMAYO","SAN PEDRO DE LLOC","Hombre","15-19",{"$f":"'Pob x Genero'!#REF!","v":{"$error":"#REF!"}},1215]
["140103","LAMBAYEQUE","LAMBAYEQUE","CHICLAYO","ETEN","Hombre","15-19",{"$f":"'Pob x Genero'!#REF!","v":{"$error":"#REF!"}},1258]
["140203","LAMBAYEQUE","LAMBAYEQUE","FERREÑAFE","INCAHUASI","Hombre","15-19",{"$f":"'Pob x Genero'!#REF!","v":{"$error":"#REF!"}},1278]
["150203","LIMA","LIMA","BARRANCA","PATIVILCA","Hombre","15-19",{"$f":"'Pob x Genero'!#REF!","v":{"$error":"#REF!"}},1339]
["150304","LIMA","LIMA","CAJATAMBO","HUANCAPON","Hombre","15-19",{"$f":"'Pob x Genero'!#REF!","v":{"$error":"#REF!"}},1345]
["150703","LIMA","LIMA","HUAROCHIRI","CALLAHUANCA","Hombre","15-19",{"$f":"'Pob x Genero'!#REF!","v":{"$error":"#REF!"}},1384]
["150902","LIMA","LIMA","OYON","ANDAJES","Hombre","15-19",{"$f":"'Pob x Genero'!#REF!","v":{"$error":"#REF!"}},1427]
["151032","LIMA","LIMA","YAUYOS","VIÑAC","Hombre","15-19",{"$f":"'Pob x Genero'!#REF!","v":{"$error":"#REF!"}},1463]
["160603","LORETO","LORETO","UCAYALI","PADRE MARQUEZ","Hombre","15-19",{"$f":"'Pob x Genero'!#REF!","v":{"$error":"#REF!"}},1504]
["160801","LORETO","LORETO","PUTUMAYO","PUTUMAYO","Hombre","15-19",{"$f":"'Pob x Genero'!#REF!","v":{"$error":"#REF!"}},1514]
["190104","PASCO","PASCO","PASCO","HUAYLLAY","Hombre","15-19",{"$f":"'Pob x Genero'!#REF!","v":{"$error":"#REF!"}},1553]
["200210","PIURA","PIURA","AYABACA","SUYO","Hombre","15-19",{"$f":"'Pob x Genero'!#REF!","v":{"$error":"#REF!"}},1598]
["200703","PIURA","PIURA","TALARA","LA BREA","Hombre","15-19",{"$f":"'Pob x Genero'!#REF!","v":{"$error":"#REF!"}},1634]
["200803","PIURA","PIURA","SECHURA","BERNAL","Hombre","15-19",{"$f":"'Pob x Genero'!#REF!","v":{"$error":"#REF!"}},1640]
["210310","PUNO","PUNO","CARABAYA","USICAYOS","Hombre","15-19",{"$f":"'Pob x Genero'!#REF!","v":{"$error":"#REF!"}},1683]
["210809","PUNO","PUNO","MELGAR","UMACHIRI","Hombre","15-19",{"$f":"'Pob x Genero'!#REF!","v":{"$error":"#REF!"}},1722]
["211305","PUNO","PUNO","YUNGUYO","OLLARAYA","Hombre","15-19",{"$f":"'Pob x Genero'!#REF!","v":{"$error":"#REF!"}},1751]
["220305","SAN MARTIN","SAN MARTIN","EL DORADO","SHATOJA","Hombre","15-19",{"$f":"'Pob x Genero'!#REF!","v":{"$error":"#REF!"}},1770]
["220807","SAN MARTIN","SAN MARTIN","RIOJA","SAN FERNANDO","Hombre","15-19",{"$f":"'Pob x Genero'!#REF!","v":{"$error":"#REF!"}},1809]
["230401","TACNA","TACNA","TARATA","TARATA","Hombre","15-19",{"$f":"'Pob x Genero'!#REF!","v":{"$error":"#REF!"}},1852]
["250401","UCAYALI","UCAYALI","PURUS","PURUS","Hombre","15-19",{"$f":"'Pob x Genero'!#REF!","v":{"$error":"#REF!"}},1891]
["010113","AMAZONAS","AMAZONAS","CHACHAPOYAS","MARISCAL CASTILLA","Hombre","20-24",{"$f":"'Pob x Genero'!#REF!","v":{"$error":"#REF!"}},13]
["010506","AMAZONAS","AMAZONAS","LUYA","INGUILPATA","Hombre","20-24",{"$f":"'Pob x Genero'!#REF!","v":{"$error":"#REF!"}},48]
["020103","ANCASH","ANCASH","HUARAZ","COLCABAMBA","Hombre","20-24",{"$f":"'Pob x Genero'!#REF!","v":{"$error":"#REF!"}},87]
["020606","ANCASH","ANCASH","CARHUAZ","MARCARA","Hombre",{"$f":"G7694","v":"20-24"},{"$f":"'Pob x Genero'!#REF!","v":{"$error":"#REF!"}},130]
["020906","ANCASH","ANCASH","CORONGO","YANAC","Hombre","20-24",{"$f":"'Pob x Genero'!#REF!","v":{"$error":"#REF!"}},148]
["021204","ANCASH","ANCASH","HUAYLAS","HUAYLAS","Hombre","20-24",{"$f":"'Pob x Genero'!#REF!","v":{"$error":"#REF!"}},174]
["021704","ANCASH","ANCASH","RECUAY","HUAYLLAPAMPA","Hombre","20-24",{"$f":"'Pob x Genero'!#REF!","v":{"$error":"#REF!"}},217]
["030106","APURIMAC","APURIMAC","ABANCAY","LAMBRAMA","Hombre","20-24",{"$f":"'Pob x Genero'!#REF!","v":{"$error":"#REF!"}},256]
["030409","APURIMAC","APURIMAC","AYMARAES","LUCRE","Hombre","20-24",{"$f":"'Pob x Genero'!#REF!","v":{"$error":"#REF!"}},295]
["030712","APURIMAC","APURIMAC","GRAU","VILCABAMBA","Hombre","20-24",{"$f":"'Pob x Genero'!#REF!","v":{"$error":"#REF!"}},333]
["040108","AREQUIPA","AREQUIPA","AREQUIPA","LA JOYA","Hombre","20-24",{"$f":"'Pob x Genero'!CX16","v":1720},343]
["040401","AREQUIPA","AREQUIPA","CASTILLA","APLAO","Hombre",{"$f":"G7950","v":"20-24"},{"$f":"'Pob x Genero'!CX59","v":326},386]
["040606","AREQUIPA","AREQUIPA","CONDESUYOS","RIO GRANDE","Hombre","20-24",{"$f":"'Pob x Genero'!CX98","v":117},425]
["050204","AYACUCHO","AYACUCHO","CANGALLO","MARIA PARADO DE BELLIDO","Hombre","20-24",{"$f":"'Pob x Genero'!#REF!","v":{"$error":"#REF!"}},464]
["050503","AYACUCHO","AYACUCHO","LA MAR","AYNA","Hombre","20-24",{"$f":"'Pob x Genero'!#REF!","v":{"$error":"#REF!"}},486]
["050614","AYACUCHO","AYACUCHO","LUCANAS","SAISA","Hombre","20-24",{"$f":"'Pob x Genero'!#REF!","v":{"$error":"#REF!"}},512]
["051007","AYACUCHO","AYACUCHO","VICTOR FAJARDO","COLCA","Hombre","20-24",{"$f":"'Pob x Genero'!#REF!","v":{"$error":"#REF!"}},555]
["060310","CAJAMARCA","CAJAMARCA","CELENDIN","SUCRE","Hombre","20-24",{"$f":"'Pob x Genero'!#REF!","v":{"$error":"#REF!"}},594]
["060404","CAJAMARCA","CAJAMARCA","CHOTA","CHIGUIRIP","Hombre","20-24",{"$f":"'Pob x Genero'!#REF!","v":{"$error":"#REF!"}},600]
["060701","CAJAMARCA","CAJAMARCA","HUALGAYOC","BAMBAMARCA","Hombre","20-24",{"$f":"'Pob x Genero'!#REF!","v":{"$error":"#REF!"}},639]
["061201","CAJAMARCA","CAJAMARCA","SAN PABLO","SAN PABLO","Hombre","20-24",{"$f":"'Pob x Genero'!#REF!","v":{"$error":"#REF!"}},681]
["080303","CUSCO","CUSCO","ANTA","CACHIMAYO","Hombre","20-24",{"$f":"'Pob x Genero'!#REF!","v":{"$error":"#REF!"}},720]
["080805","CUSCO","CUSCO","ESPINAR","PALLPATA","Hombre","20-24",{"$f":"'Pob x Genero'!#REF!","v":{"$error":"#REF!"}},763]
["080908","CUSCO","CUSCO","LA CONVENCION","SANTA TERESA","Hombre","20-24",{"$f":"'Pob x Genero'!#REF!","v":{"$error":"#REF!"}},774]
["081212","CUSCO","CUSCO","QUISPICANCHI","QUIQUIJANA","Hombre","20-24",{"$f":"'Pob x Genero'!#REF!","v":{"$error":"#REF!"}},811]
["090305","HUANCAVELICA","HUANCAVELICA","ANGARAES","CHINCHO","Hombre","20-24",{"$f":"'Pob x Genero'!#REF!","v":{"$error":"#REF!"}},850]
["090608","HUANCAVELICA","HUANCAVELICA","HUAYTARA","QUERCO","Hombre","20-24",{"$f":"'Pob x Genero'!#REF!","v":{"$error":"#REF!"}},889]
["090702","HUANCAVELICA","HUANCAVELICA","TAYACAJA","ACOSTAMBO","Hombre","20-24",{"$f":"'Pob x Genero'!#REF!","v":{"$error":"#REF!"}},899]
["100505","HUANUCO","HUANUCO","HUAMALIES","JIRCAN","Hombre","20-24",{"$f":"'Pob x Genero'!#REF!","v":{"$error":"#REF!"}},959]
["100705","HUANUCO","HUANUCO","MARAÑON","SANTA ROSA DE ALTO YANAJANCA","Hombre","20-24",{"$f":"'Pob x Genero'!#REF!","v":{"$error":"#REF!"}},980]
["110201","ICA","ICA","CHINCHA","CHINCHA ALTA","Hombre","20-24",{"$f":"'Pob x Genero'!#REF!","v":{"$error":"#REF!"}},1019]
["120116","JUNIN","JUNIN","HUANCAYO","HUACRAPUQUIO","Hombre","20-24",{"$f":"'Pob x Genero'!#REF!","v":{"$error":"#REF!"}},1058]
["120128","JUNIN","JUNIN","HUANCAYO","QUILCAS","Hombre","20-24",{"$f":"'Pob x Genero'!#REF!","v":{"$error":"#REF!"}},1068]
["120416","JUNIN","JUNIN","JAUJA","MASMA","Hombre","20-24",{"$f":"'Pob x Genero'!#REF!","v":{"$error":"#REF!"}},1112]
["120702","JUNIN","JUNIN","TARMA","ACOBAMBA","Hombre","20-24",{"$f":"'Pob x Genero'!#REF!","v":{"$error":"#REF!"}},1145]
["130205","LA LIBERTAD","LA LIBERTAD","ASCOPE","PAIJAN","Hombre","20-24",{"$f":"'Pob x Genero'!#REF!","v":{"$error":"#REF!"}},1188]
["130303","LA LIBERTAD","LA LIBERTAD","BOLIVAR","CONDORMARCA","Hombre","20-24",{"$f":"'Pob x Genero'!#REF!","v":{"$error":"#REF!"}},1194]
["130905","LA LIBERTAD","LA LIBERTAD","SANCHEZ CARRION","MARCABAL","Hombre","20-24",{"$f":"'Pob x Genero'!#REF!","v":{"$error":"#REF!"}},1237]
["140110","LAMBAYEQUE","LAMBAYEQUE","CHICLAYO","OYOTUN","Hombre","20-24",{"$f":"'Pob x Genero'!#REF!","v":{"$error":"#REF!"}},1265]
["150121","DIRIS CENTRO","LIMA","LIMA","PUEBLO LIBRE","Hombre","20-24",{"$f":"'Pob x Genero'!#REF!","v":{"$error":"#REF!"}},1314]
["150131","DIRIS CENTRO","LIMA","LIMA","SAN ISIDRO","Hombre","20-24",{"$f":"'Pob x Genero'!#REF!","v":{"$error":"#REF!"}},1324]
["150510","LIMA","LIMA","CAÑETE","NUEVO IMPERIAL","Hombre","20-24",{"$f":"'Pob x Genero'!#REF!","v":{"$error":"#REF!"}},1363]
["150719","LIMA","LIMA","HUAROCHIRI","SAN JUAN DE IRIS","Hombre","20-24",{"$f":"'Pob x Genero'!#REF!","v":{"$error":"#REF!"}},1400]
["151013","LIMA","LIMA","YAUYOS","HUAMPARA","Hombre","20-24",{"$f":"'Pob x Genero'!#REF!","v":{"$error":"#REF!"}},1444]
["160302","LORETO","LORETO","LORETO","PARINARI","Hombre","20-24",{"$f":"'Pob x Genero'!#REF!","v":{"$error":"#REF!"}},1483]
["160503","LORETO","LORETO","REQUENA","CAPELO","Hombre","20-24",{"$f":"'Pob x Genero'!#REF!","v":{"$error":"#REF!"}},1493]
["180104","MOQUEGUA","MOQUEGUA","MARISCAL NIETO","SAMEGUA","Hombre","20-24",{"$f":"'Pob x Genero'!#REF!","v":{"$error":"#REF!"}},1532]
["190104","PASCO","PASCO","PASCO","HUAYLLAY","Hombre","20-24",{"$f":"'Pob x Genero'!#REF!","v":{"$error":"#REF!"}},1553]
["200407","PIURA","PIURA","MORROPON","SAN JUAN DE BIGOTE","Hombre","20-24",{"$f":"'Pob x Genero'!#REF!","v":{"$error":"#REF!"}},1613]
["200503","PIURA","PIURA","PAITA","ARENAL","Hombre","20-24",{"$f":"'Pob x Genero'!#REF!","v":{"$error":"#REF!"}},1619]
["210204","PUNO","PUNO","AZANGARO","ASILLO","Hombre","20-24",{"$f":"'Pob x Genero'!#REF!","v":{"$error":"#REF!"}},1662]
["210606","PUNO","PUNO","HUANCANE","ROSASPATA","Hombre","20-24",{"$f":"'Pob x Genero'!#REF!","v":{"$error":"#REF!"}},1701]
["211202","PUNO","PUNO","SANDIA","CUYOCUYO","Hombre","20-24",{"$f":"'Pob x Genero'!#REF!","v":{"$error":"#REF!"}},1738]
["211303","PUNO","PUNO","YUNGUYO","COPANI","Hombre","20-24",{"$f":"'Pob x Genero'!#REF!","v":{"$error":"#REF!"}},1749]
["220601","SAN MARTIN","SAN MARTIN","MARISCAL CACERES","JUANJUI","Hombre","20-24",{"$f":"'Pob x Genero'!#REF!","v":{"$error":"#REF!"}},1788]
["221002","SAN MARTIN","SAN MARTIN","TOCACHE","NUEVO PROGRESO","Hombre","20-24",{"$f":"'Pob x Genero'!#REF!","v":{"$error":"#REF!"}},1827]
["250101","UCAYALI","UCAYALI","CORONEL PORTILLO","CALLERIA","Hombre","20-24",{"$f":"'Pob x Genero'!#REF!","v":{"$error":"#REF!"}},1873]
["010117","AMAZONAS","AMAZONAS","CHACHAPOYAS","QUINJALCA","Hombre","25-29",{"$f":"'Pob x Genero'!#REF!","v":{"$error":"#REF!"}},17]
["010206","AMAZONAS","AMAZONAS","BAGUA","LA PECA","Hombre","25-29",{"$f":"'Pob x Genero'!#REF!","v":{"$error":"#REF!"}},27]
["010601","AMAZONAS","AMAZONAS","RODRIGUEZ DE MENDOZA","SAN NICOLAS","Hombre",{"$f":"G9521","v":"25-29"},{"$f":"'Pob x Genero'!#REF!","v":{"$error":"#REF!"}},66]
["020304","ANCASH","ANCASH","ANTONIO RAYMONDI","CHINGAS","Hombre","25-29",{"$f":"'Pob x Genero'!#REF!","v":{"$error":"#REF!"}},105]
["020611","ANCASH","ANCASH","CARHUAZ","YUNGAR","Hombre","25-29",{"$f":"'Pob x Genero'!#REF!","v":{"$error":"#REF!"}},135]
["021004","ANCASH","ANCASH","HUARI","CHAVIN DE HUANTAR","Hombre","25-29",{"$f":"'Pob x Genero'!#REF!","v":{"$error":"#REF!"}},153]
["021404","ANCASH","ANCASH","OCROS","CARHUAPAMPA","Hombre","25-29",{"$f":"'Pob x Genero'!#REF!","v":{"$error":"#REF!"}},192]
["021903","ANCASH","ANCASH","SIHUAS","ALFONSO UGARTE","Hombre","25-29",{"$f":"'Pob x Genero'!#REF!","v":{"$error":"#REF!"}},235]
["030215","APURIMAC","APURIMAC","ANDAHUAYLAS","SANTA MARIA DE CHICMO","Hombre","25-29",{"$f":"'Pob x Genero'!#REF!","v":{"$error":"#REF!"}},274]
["030402","APURIMAC","APURIMAC","AYMARAES","CAPAYA","Hombre","25-29",{"$f":"'Pob x Genero'!#REF!","v":{"$error":"#REF!"}},288]
["030701","APURIMAC","APURIMAC","GRAU","CHUQUIBAMBILLA","Hombre",{"$f":"G9777","v":"25-29"},{"$f":"'Pob x Genero'!#REF!","v":{"$error":"#REF!"}},322]
["040126","AREQUIPA","AREQUIPA","AREQUIPA","YANAHUARA","Hombre","25-29",{"$f":"'Pob x Genero'!CY34","v":959},361]
["040505","AREQUIPA","AREQUIPA","CAYLLOMA","CAYLLOMA","Hombre","25-29",{"$f":"'Pob x Genero'!CY77","v":211},404]
["040810","AREQUIPA","AREQUIPA","LA UNION","TOMEPAMPA","Hombre","25-29",{"$f":"'Pob x Genero'!CY116","v":14},443]
["050403","AYACUCHO","AYACUCHO","HUANTA","HUAMANGUILLA","Hombre","25-29",{"$f":"'Pob x Genero'!#REF!","v":{"$error":"#REF!"}},473]
["050508","AYACUCHO","AYACUCHO","LA MAR","TAMBO","Hombre","25-29",{"$f":"'Pob x Genero'!#REF!","v":{"$error":"#REF!"}},491]
["050803","AYACUCHO","AYACUCHO","PAUCAR DEL SARA SARA","CORCULLA","Hombre","25-29",{"$f":"'Pob x Genero'!#REF!","v":{"$error":"#REF!"}},530]
["060105","CAJAMARCA","CAJAMARCA","CAJAMARCA","ENCAÑADA","Hombre","25-29",{"$f":"'Pob x Genero'!#REF!","v":{"$error":"#REF!"}},573]
["060412","CAJAMARCA","CAJAMARCA","CHOTA","MIRACOSTA","Hombre","25-29",{"$f":"'Pob x Genero'!#REF!","v":{"$error":"#REF!"}},608]
["060502","CAJAMARCA","CAJAMARCA","CONTUMAZA","CHILETE","Hombre","25-29",{"$f":"'Pob x Genero'!#REF!","v":{"$error":"#REF!"}},617]
["060907","CAJAMARCA","CAJAMARCA","SAN IGNACIO","TABACONAS","Hombre","25-29",{"$f":"'Pob x Genero'!#REF!","v":{"$error":"#REF!"}},660]
["070104","CALLAO","CALLAO","CALLAO","LA PERLA","Hombre","25-29",{"$f":"'Pob x Genero'!#REF!","v":{"$error":"#REF!"}},699]
["080107","CUSCO","CUSCO","CUSCO","SAYLLA","Hombre","25-29",{"$f":"'Pob x Genero'!#REF!","v":{"$error":"#REF!"}},709]
["080803","CUSCO","CUSCO","ESPINAR","COPORAQUE","Hombre","25-29",{"$f":"'Pob x Genero'!#REF!","v":{"$error":"#REF!"}},761]
["081002","CUSCO","CUSCO","PARURO","ACCHA","Hombre","25-29",{"$f":"'Pob x Genero'!#REF!","v":{"$error":"#REF!"}},786]
["090111","HUANCAVELICA","HUANCAVELICA","HUANCAVELICA","MARISCAL CACERES","Hombre","25-29",{"$f":"'Pob x Genero'!#REF!","v":{"$error":"#REF!"}},829]
["090411","HUANCAVELICA","HUANCAVELICA","CASTROVIRREYNA","SANTA ANA","Hombre","25-29",{"$f":"'Pob x Genero'!#REF!","v":{"$error":"#REF!"}},868]
["090508","HUANCAVELICA","HUANCAVELICA","CHURCAMPA","SAN MIGUEL DE MAYOCC","Hombre","25-29",{"$f":"'Pob x Genero'!#REF!","v":{"$error":"#REF!"}},878]
["090719","HUANCAVELICA","HUANCAVELICA","TAYACAJA","QUICHUAS","Hombre","25-29",{"$f":"'Pob x Genero'!#REF!","v":{"$error":"#REF!"}},914]
["100501","HUANUCO","HUANUCO","HUAMALIES","LLATA","Hombre","25-29",{"$f":"'Pob x Genero'!#REF!","v":{"$error":"#REF!"}},955]
["101102","HUANUCO","HUANUCO","YAROWILCA","CAHUAC","Hombre","25-29",{"$f":"'Pob x Genero'!#REF!","v":{"$error":"#REF!"}},998]
["101108","HUANUCO","HUANUCO","YAROWILCA","CHORAS","Hombre","25-29",{"$f":"'Pob x Genero'!#REF!","v":{"$error":"#REF!"}},1004]
["110504","ICA","ICA","PISCO","INDEPENDENCIA","Hombre","25-29",{"$f":"'Pob x Genero'!#REF!","v":{"$error":"#REF!"}},1043]
["120403","JUNIN","JUNIN","JAUJA","APATA","Hombre","25-29",{"$f":"'Pob x Genero'!#REF!","v":{"$error":"#REF!"}},1099]
["120428","JUNIN","JUNIN","JAUJA","SAN LORENZO","Hombre","25-29",{"$f":"'Pob x Genero'!#REF!","v":{"$error":"#REF!"}},1124]
["120905","JUNIN","JUNIN","CHUPACA","HUAMANCACA CHICO","Hombre","25-29",{"$f":"'Pob x Genero'!#REF!","v":{"$error":"#REF!"}},1167]
["130102","LA LIBERTAD","LA LIBERTAD","TRUJILLO","EL PORVENIR","Hombre","25-29",{"$f":"'Pob x Genero'!#REF!","v":{"$error":"#REF!"}},1173]
["130502","LA LIBERTAD","LA LIBERTAD","JULCAN","CALAMARCA","Hombre","25-29",{"$f":"'Pob x Genero'!#REF!","v":{"$error":"#REF!"}},1202]
["131202","LA LIBERTAD","LA LIBERTAD","VIRU","CHAO","Hombre","25-29",{"$f":"'Pob x Genero'!#REF!","v":{"$error":"#REF!"}},1254]
["140312","LAMBAYEQUE","LAMBAYEQUE","LAMBAYEQUE","TUCUME","Hombre","25-29",{"$f":"'Pob x Genero'!#REF!","v":{"$error":"#REF!"}},1293]
["150106","DIRIS NORTE","LIMA","LIMA","CARABAYLLO","Hombre","25-29",{"$f":"'Pob x Genero'!#REF!","v":{"$error":"#REF!"}},1299]
["150301","LIMA","LIMA","CAJATAMBO","CAJATAMBO","Hombre","25-29",{"$f":"'Pob x Genero'!#REF!","v":{"$error":"#REF!"}},1342]
["150706","LIMA","LIMA","HUAROCHIRI","CUENCA","Hombre","25-29",{"$f":"'Pob x Genero'!#REF!","v":{"$error":"#REF!"}},1387]
["150810","LIMA","LIMA","HUAURA","SANTA MARIA","Hombre","25-29",{"$f":"'Pob x Genero'!#REF!","v":{"$error":"#REF!"}},1423]
["151031","LIMA","LIMA","YAUYOS","TUPE","Hombre","25-29",{"$f":"'Pob x Genero'!#REF!","v":{"$error":"#REF!"}},1462]
["160104","LORETO","LORETO","MAYNAS","INDIANA","Hombre","25-29",{"$f":"'Pob x Genero'!#REF!","v":{"$error":"#REF!"}},1468]
["160704","LORETO","LORETO","DATEM DEL MARAÑON","MORONA","Hombre","25-29",{"$f":"'Pob x Genero'!#REF!","v":{"$error":"#REF!"}},1511]
["180205","MOQUEGUA","MOQUEGUA","GENERAL SANCHEZ CERRO","LA CAPILLA","Hombre","25-29",{"$f":"'Pob x Genero'!#REF!","v":{"$error":"#REF!"}},1540]
["200204","PIURA","PIURA","AYABACA","LAGUNAS","Hombre","25-29",{"$f":"'Pob x Genero'!#REF!","v":{"$error":"#REF!"}},1592]
["200210","PIURA","PIURA","AYABACA","SUYO","Hombre","25-29",{"$f":"'Pob x Genero'!#REF!","v":{"$error":"#REF!"}},1598]
["200706","PIURA","PIURA","TALARA","MANCORA","Hombre","25-29",{"$f":"'Pob x Genero'!#REF!","v":{"$error":"#REF!"}},1637]
["210302","PUNO","PUNO","CARABAYA","AJOYANI","Hombre","25-29",{"$f":"'Pob x Genero'!#REF!","v":{"$error":"#REF!"}},1675]
["210805","PUNO","PUNO","MELGAR","MACARI","Hombre","25-29",{"$f":"'Pob x Genero'!#REF!","v":{"$error":"#REF!"}},1718]
["220104","SAN MARTIN","SAN MARTIN","MOYOBAMBA","JEPELACIO","Hombre","25-29",{"$f":"'Pob x Genero'!#REF!","v":{"$error":"#REF!"}},1757]
["220302","SAN MARTIN","SAN MARTIN","EL DORADO","AGUA BLANCA","Hombre","25-29",{"$f":"'Pob x Genero'!#REF!","v":{"$error":"#REF!"}},1767]
["220804","SAN MARTIN","SAN MARTIN","RIOJA","NUEVA CAJAMARCA","Hombre","25-29",{"$f":"'Pob x Genero'!#REF!","v":{"$error":"#REF!"}},1806]
["221003","SAN MARTIN","SAN MARTIN","TOCACHE","POLVORA","Hombre","25-29",{"$f":"'Pob x Genero'!#REF!","v":{"$error":"#REF!"}},1828]
["250304","UCAYALI","UCAYALI","PADRE ABAD","NESHUYA","Hombre","25-29",{"$f":"'Pob x Genero'!#REF!","v":{"$error":"#REF!"}},1887]
["010102","AMAZONAS","AMAZONAS","CHACHAPOYAS","ASUNCION","Hombre",{"$f":"G11348","v":"30-34"},{"$f":"'Pob x Genero'!#REF!","v":{"$error":"#REF!"}},2]
["010503","AMAZONAS","AMAZONAS","LUYA","COCABAMBA","Hombre","30-34",{"$f":"'Pob x Genero'!#REF!","v":{"$error":"#REF!"}},45]
["010707","AMAZONAS","AMAZONAS","UTCUBAMBA","YAMON","Hombre","30-34",{"$f":"'Pob x Genero'!#REF!","v":{"$error":"#REF!"}},84]
["020513","ANCASH","ANCASH","BOLOGNESI","PACLLON","Hombre","30-34",{"$f":"'Pob x Genero'!#REF!","v":{"$error":"#REF!"}},122]
["020608","ANCASH","ANCASH","CARHUAZ","SAN MIGUEL DE ACO","Hombre","30-34",{"$f":"'Pob x Genero'!#REF!","v":{"$error":"#REF!"}},132]
["021201","ANCASH","ANCASH","HUAYLAS","CARAZ","Hombre","30-34",{"$f":"'Pob x Genero'!#REF!","v":{"$error":"#REF!"}},171]
["021701","ANCASH","ANCASH","RECUAY","RECUAY","Hombre","30-34",{"$f":"'Pob x Genero'!#REF!","v":{"$error":"#REF!"}},214]
["030103","APURIMAC","APURIMAC","ABANCAY","CIRCA","Hombre","30-34",{"$f":"'Pob x Genero'!#REF!","v":{"$error":"#REF!"}},253]
["030216","APURIMAC","APURIMAC","ANDAHUAYLAS","TALAVERA","Hombre","30-34",{"$f":"'Pob x Genero'!#REF!","v":{"$error":"#REF!"}},275]
["030415","APURIMAC","APURIMAC","AYMARAES","TINTAY","Hombre","30-34",{"$f":"'Pob x Genero'!#REF!","v":{"$error":"#REF!"}},301]
["040105","AREQUIPA","AREQUIPA","AREQUIPA","CHARACATO","Hombre","30-34",{"$f":"'Pob x Genero'!CZ13","v":761},340]
["040311","AREQUIPA","AREQUIPA","CARAVELI","LOMAS","Hombre","30-34",{"$f":"'Pob x Genero'!CZ56","v":64},383]
["040511","AREQUIPA","AREQUIPA","CAYLLOMA","LLUTA","Hombre","30-34",{"$f":"'Pob x Genero'!CZ83","v":35},410]
["040608","AREQUIPA","AREQUIPA","CONDESUYOS","YANAQUIHUA","Hombre","30-34",{"$f":"'Pob x Genero'!CZ100","v":151},427]
["050304","AYACUCHO","AYACUCHO","HUANCA SANCOS","SANTIAGO DE LUCANAMARCA","Hombre","30-34",{"$f":"'Pob x Genero'!#REF!","v":{"$error":"#REF!"}},470]
["050611","AYACUCHO","AYACUCHO","LUCANAS","LUCANAS","Hombre","30-34",{"$f":"'Pob x Genero'!#REF!","v":{"$error":"#REF!"}},509]
["050911","AYACUCHO","AYACUCHO","SUCRE","SORAS","Hombre","30-34",{"$f":"'Pob x Genero'!#REF!","v":{"$error":"#REF!"}},548]
["051103","AYACUCHO","AYACUCHO","VILCAS HUAMAN","CARHUANCA","Hombre","30-34",{"$f":"'Pob x Genero'!#REF!","v":{"$error":"#REF!"}},563]
["060312","CAJAMARCA","CAJAMARCA","CELENDIN","LA LIBERTAD DE PALLAN","Hombre","30-34",{"$f":"'Pob x Genero'!#REF!","v":{"$error":"#REF!"}},596]
["060701","CAJAMARCA","CAJAMARCA","HUALGAYOC","BAMBAMARCA","Hombre","30-34",{"$f":"'Pob x Genero'!#REF!","v":{"$error":"#REF!"}},639]
["061111","CAJAMARCA","CAJAMARCA","SAN MIGUEL","SAN SILVESTRE DE COCHAN","Hombre","30-34",{"$f":"'Pob x Genero'!#REF!","v":{"$error":"#REF!"}},678]
["080207","CUSCO","CUSCO","ACOMAYO","SANGARARA","Hombre","30-34",{"$f":"'Pob x Genero'!#REF!","v":{"$error":"#REF!"}},717]
["080606","CUSCO","CUSCO","CANCHIS","SAN PABLO","Hombre","30-34",{"$f":"'Pob x Genero'!#REF!","v":{"$error":"#REF!"}},748]
["080807","CUSCO","CUSCO","ESPINAR","SUYCKUTAMBO","Hombre","30-34",{"$f":"'Pob x Genero'!#REF!","v":{"$error":"#REF!"}},765]
["081209","CUSCO","CUSCO","QUISPICANCHI","MARCAPATA","Hombre","30-34",{"$f":"'Pob x Genero'!#REF!","v":{"$error":"#REF!"}},808]
["090302","HUANCAVELICA","HUANCAVELICA","ANGARAES","ANCHONGA","Hombre","30-34",{"$f":"'Pob x Genero'!#REF!","v":{"$error":"#REF!"}},847]
["090308","HUANCAVELICA","HUANCAVELICA","ANGARAES","HUAYLLAY GRANDE","Hombre","30-34",{"$f":"'Pob x Genero'!#REF!","v":{"$error":"#REF!"}},853]
["090704","HUANCAVELICA","HUANCAVELICA","TAYACAJA","AHUAYCHA","Hombre","30-34",{"$f":"'Pob x Genero'!#REF!","v":{"$error":"#REF!"}},901]
["100201","HUANUCO","HUANUCO","AMBO","AMBO","Hombre","30-34",{"$f":"'Pob x Genero'!#REF!","v":{"$error":"#REF!"}},934]
["100608","HUANUCO","HUANUCO","LEONCIO PRADO","CASTILLO GRANDE","Hombre","30-34",{"$f":"'Pob x Genero'!#REF!","v":{"$error":"#REF!"}},973]
["100803","HUANUCO","HUANUCO","PACHITEA","MOLINO","Hombre","30-34",{"$f":"'Pob x Genero'!#REF!","v":{"$error":"#REF!"}},983]
["110402","ICA","ICA","PALPA","LLIPATA","Hombre","30-34",{"$f":"'Pob x Genero'!#REF!","v":{"$error":"#REF!"}},1036]
["120124","JUNIN","JUNIN","HUANCAYO","PARIAHUANCA","Hombre","30-34",{"$f":"'Pob x Genero'!#REF!","v":{"$error":"#REF!"}},1064]
["120407","JUNIN","JUNIN","JAUJA","EL MANTARO","Hombre","30-34",{"$f":"'Pob x Genero'!#REF!","v":{"$error":"#REF!"}},1103]
["120608","JUNIN","JUNIN","SATIPO","RIO TAMBO","Hombre","30-34",{"$f":"'Pob x Genero'!#REF!","v":{"$error":"#REF!"}},1142]
["120709","JUNIN","JUNIN","TARMA","TAPO","Hombre","30-34",{"$f":"'Pob x Genero'!#REF!","v":{"$error":"#REF!"}},1152]
["130206","LA LIBERTAD","LA LIBERTAD","ASCOPE","RAZURI","Hombre","30-34",{"$f":"'Pob x Genero'!#REF!","v":{"$error":"#REF!"}},1189]
["130810","LA LIBERTAD","LA LIBERTAD","PATAZ","PIAS","Hombre","30-34",{"$f":"'Pob x Genero'!#REF!","v":{"$error":"#REF!"}},1229]
["140117","LAMBAYEQUE","LAMBAYEQUE","CHICLAYO","PATAPO","Hombre","30-34",{"$f":"'Pob x Genero'!#REF!","v":{"$error":"#REF!"}},1272]
["140203","LAMBAYEQUE","LAMBAYEQUE","FERREÑAFE","INCAHUASI","Hombre","30-34",{"$f":"'Pob x Genero'!#REF!","v":{"$error":"#REF!"}},1278]
["150128","DIRIS NORTE","LIMA","LIMA","RIMAC","Hombre","30-34",{"$f":"'Pob x Genero'!#REF!","v":{"$error":"#REF!"}},1321]
["150605","LIMA","LIMA","HUARAL","CHANCAY","Hombre","30-34",{"$f":"'Pob x Genero'!#REF!","v":{"$error":"#REF!"}},1374]
["150717","LIMA","LIMA","HUAROCHIRI","SAN BARTOLOME","Hombre","30-34",{"$f":"'Pob x Genero'!#REF!","v":{"$error":"#REF!"}},1398]
["150727","LIMA","LIMA","HUAROCHIRI","SANTA CRUZ DE COCACHACRA","Hombre","30-34",{"$f":"'Pob x Genero'!#REF!","v":{"$error":"#REF!"}},1408]
["151016","LIMA","LIMA","YAUYOS","HUANTAN","Hombre","30-34",{"$f":"'Pob x Genero'!#REF!","v":{"$error":"#REF!"}},1447]
["160202","LORETO","LORETO","ALTO AMAZONAS","BALSAPUERTO","Hombre","30-34",{"$f":"'Pob x Genero'!#REF!","v":{"$error":"#REF!"}},1477]
["170303","MADRE DE DIOS","MADRE DE DIOS","TAHUAMANU","TAHUAMANU","Hombre","30-34",{"$f":"'Pob x Genero'!#REF!","v":{"$error":"#REF!"}},1528]
["190205","PASCO","PASCO","DANIEL ALCIDES CARRION","SAN PEDRO DE PILLAO","Hombre","30-34",{"$f":"'Pob x Genero'!#REF!","v":{"$error":"#REF!"}},1567]
["190307","PASCO","PASCO","OXAPAMPA","VILLA RICA","Hombre","30-34",{"$f":"'Pob x Genero'!#REF!","v":{"$error":"#REF!"}},1577]
["200410","PIURA","PIURA","MORROPON","YAMANGO","Hombre","30-34",{"$f":"'Pob x Genero'!#REF!","v":{"$error":"#REF!"}},1616]
["210204","PUNO","PUNO","AZANGARO","ASILLO","Hombre","30-34",{"$f":"'Pob x Genero'!#REF!","v":{"$error":"#REF!"}},1662]
["210602","PUNO","PUNO","HUANCANE","COJATA","Hombre","30-34",{"$f":"'Pob x Genero'!#REF!","v":{"$error":"#REF!"}},1697]
["210608","PUNO","PUNO","HUANCANE","VILQUE CHICO","Hombre","30-34",{"$f":"'Pob x Genero'!#REF!","v":{"$error":"#REF!"}},1703]
["211210","PUNO","PUNO","SANDIA","SAN PEDRO DE PUTINA PUNCO","Hombre","30-34",{"$f":"'Pob x Genero'!#REF!","v":{"$error":"#REF!"}},1746]
["220509","SAN MARTIN","SAN MARTIN","LAMAS","SHANAO","Hombre","30-34",{"$f":"'Pob x Genero'!#REF!","v":{"$error":"#REF!"}},1785]
["220904","SAN MARTIN","SAN MARTIN","SAN MARTIN","CHAZUTA","Hombre","30-34",{"$f":"'Pob x Genero'!#REF!","v":{"$error":"#REF!"}},1815]
["240201","TUMBES","TUMBES","CONTRALMIRANTE VILLAR","ZORRITOS","Hombre","30-34",{"$f":"'Pob x Genero'!#REF!","v":{"$error":"#REF!"}},1866]
["240304","TUMBES","TUMBES","ZARUMILLA","PAPAYAL","Hombre","30-34",{"$f":"'Pob x Genero'!#REF!","v":{"$error":"#REF!"}},1872]
["010203","AMAZONAS","AMAZONAS","BAGUA","COPALLIN","Hombre","35-39",{"$f":"'Pob x Genero'!#REF!","v":{"$error":"#REF!"}},24]
["010521","AMAZONAS","AMAZONAS","LUYA","SANTO TOMAS","Hombre","35-39",{"$f":"'Pob x Genero'!#REF!","v":{"$error":"#REF!"}},63]
["010612","AMAZONAS","AMAZONAS","RODRIGUEZ DE MENDOZA","VISTA ALEGRE","Hombre","35-39",{"$f":"'Pob x Genero'!#REF!","v":{"$error":"#REF!"}},77]
["020502","ANCASH","ANCASH","BOLOGNESI","ABELARDO PARDO LEZAMETA","Hombre","35-39",{"$f":"'Pob x Genero'!#REF!","v":{"$error":"#REF!"}},111]
["021001","ANCASH","ANCASH","HUARI","HUARI","Hombre","35-39",{"$f":"'Pob x Genero'!#REF!","v":{"$error":"#REF!"}},150]
["021401","ANCASH","ANCASH","OCROS","OCROS","Hombre","35-39",{"$f":"'Pob x Genero'!#REF!","v":{"$error":"#REF!"}},189]
["021603","ANCASH","ANCASH","POMABAMBA","PAROBAMBA","Hombre","35-39",{"$f":"'Pob x Genero'!#REF!","v":{"$error":"#REF!"}},212]
["030211","APURIMAC","APURIMAC","ANDAHUAYLAS","POMACOCHA","Hombre","35-39",{"$f":"'Pob x Genero'!#REF!","v":{"$error":"#REF!"}},270]
["030301","APURIMAC","APURIMAC","ANTABAMBA","ANTABAMBA","Hombre","35-39",{"$f":"'Pob x Genero'!#REF!","v":{"$error":"#REF!"}},280]
["030610","APURIMAC","APURIMAC","CHINCHEROS","EL PORVENIR","Hombre","35-39",{"$f":"'Pob x Genero'!#REF!","v":{"$error":"#REF!"}},319]
["040123","AREQUIPA","AREQUIPA","AREQUIPA","TIABAYA","Hombre","35-39",{"$f":"'Pob x Genero'!DA31","v":758},358]
["040412","AREQUIPA","AREQUIPA","CASTILLA","UÑON","Hombre","35-39",{"$f":"'Pob x Genero'!DA70","v":12},397]
["040507","AREQUIPA","AREQUIPA","CAYLLOMA","HUAMBO","Hombre","35-39",{"$f":"'Pob x Genero'!DA79","v":22},406]
["050101","AYACUCHO","AYACUCHO","HUAMANGA","AYACUCHO","Hombre","35-39",{"$f":"'Pob x Genero'!#REF!","v":{"$error":"#REF!"}},445]
["050505","AYACUCHO","AYACUCHO","LA MAR","CHUNGUI","Hombre","35-39",{"$f":"'Pob x Genero'!#REF!","v":{"$error":"#REF!"}},488]
["050708","AYACUCHO","AYACUCHO","PARINACOCHAS","UPAHUACHO","Hombre","35-39",{"$f":"'Pob x Genero'!#REF!","v":{"$error":"#REF!"}},527]
["051002","AYACUCHO","AYACUCHO","VICTOR FAJARDO","ALCAMENCA","Hombre","35-39",{"$f":"'Pob x Genero'!#REF!","v":{"$error":"#REF!"}},550]
["060107","CAJAMARCA","CAJAMARCA","CAJAMARCA","LLACANORA","Hombre","35-39",{"$f":"'Pob x Genero'!#REF!","v":{"$error":"#REF!"}},575]
["060418","CAJAMARCA","CAJAMARCA","CHOTA","TOCMOCHE","Hombre","35-39",{"$f":"'Pob x Genero'!#REF!","v":{"$error":"#REF!"}},614]
["060904","CAJAMARCA","CAJAMARCA","SAN IGNACIO","LA COIPA","Hombre","35-39",{"$f":"'Pob x Genero'!#REF!","v":{"$error":"#REF!"}},657]
["070101","CALLAO","CALLAO","CALLAO","CALLAO","Hombre","35-39",{"$f":"'Pob x Genero'!#REF!","v":{"$error":"#REF!"}},696]
["080101","CUSCO","CUSCO","CUSCO","CUSCO","Hombre","35-39",{"$f":"'Pob x Genero'!#REF!","v":{"$error":"#REF!"}},703]
["080602","CUSCO","CUSCO","CANCHIS","CHECACUPE","Hombre","35-39",{"$f":"'Pob x Genero'!#REF!","v":{"$error":"#REF!"}},744]
["080917","CUSCO","CUSCO","LA CONVENCION","MANITEA","Hombre","35-39",{"$f":"'Pob x Genero'!#REF!","v":{"$error":"#REF!"}},783]
["090108","HUANCAVELICA","HUANCAVELICA","HUANCAVELICA","IZCUCHACA","Hombre","35-39",{"$f":"'Pob x Genero'!#REF!","v":{"$error":"#REF!"}},826]
["090201","HUANCAVELICA","HUANCAVELICA","ACOBAMBA","ACOBAMBA","Hombre","35-39",{"$f":"'Pob x Genero'!#REF!","v":{"$error":"#REF!"}},838]
["090413","HUANCAVELICA","HUANCAVELICA","CASTROVIRREYNA","TICRAPO","Hombre","35-39",{"$f":"'Pob x Genero'!#REF!","v":{"$error":"#REF!"}},870]
["090718","HUANCAVELICA","HUANCAVELICA","TAYACAJA","TINTAY PUNCU","Hombre","35-39",{"$f":"'Pob x Genero'!#REF!","v":{"$error":"#REF!"}},913]
["100402","HUANUCO","HUANUCO","HUACAYBAMBA","CANCHABAMBA","Hombre","35-39",{"$f":"'Pob x Genero'!#REF!","v":{"$error":"#REF!"}},952]
["100508","HUANUCO","HUANUCO","HUAMALIES","PUNCHAO","Hombre",{"$f":"G14199","v":"35-39"},{"$f":"'Pob x Genero'!#REF!","v":{"$error":"#REF!"}},962]
["110205","ICA","ICA","CHINCHA","EL CARMEN","Hombre","35-39",{"$f":"'Pob x Genero'!#REF!","v":{"$error":"#REF!"}},1023]
["110405","ICA","ICA","PALPA","TIBILLO","Hombre","35-39",{"$f":"'Pob x Genero'!#REF!","v":{"$error":"#REF!"}},1039]
["120207","JUNIN","JUNIN","CONCEPCION","HEROINAS TOLEDO","Hombre","35-39",{"$f":"'Pob x Genero'!#REF!","v":{"$error":"#REF!"}},1082]
["120425","JUNIN","JUNIN","JAUJA","PARCO","Hombre","35-39",{"$f":"'Pob x Genero'!#REF!","v":{"$error":"#REF!"}},1121]
["120501","JUNIN","JUNIN","JUNIN","JUNIN","Hombre","35-39",{"$f":"'Pob x Genero'!#REF!","v":{"$error":"#REF!"}},1131]
["130105","LA LIBERTAD","LA LIBERTAD","TRUJILLO","LA ESPERANZA","Hombre","35-39",{"$f":"'Pob x Genero'!#REF!","v":{"$error":"#REF!"}},1176]
["130605","LA LIBERTAD","LA LIBERTAD","OTUZCO","HUARANCHAL","Hombre","35-39",{"$f":"'Pob x Genero'!#REF!","v":{"$error":"#REF!"}},1208]
["131103","LA LIBERTAD","LA LIBERTAD","GRAN CHIMU","MARMOT","Hombre","35-39",{"$f":"'Pob x Genero'!#REF!","v":{"$error":"#REF!"}},1251]
["140102","LAMBAYEQUE","LAMBAYEQUE","CHICLAYO","CHONGOYAPE","Hombre","35-39",{"$f":"'Pob x Genero'!#REF!","v":{"$error":"#REF!"}},1257]
["150118","DIRIS ESTE","LIMA","LIMA","LURIGANCHO","Hombre","35-39",{"$f":"'Pob x Genero'!#REF!","v":{"$error":"#REF!"}},1311]
["150202","LIMA","LIMA","BARRANCA","PARAMONGA","Hombre","35-39",{"$f":"'Pob x Genero'!#REF!","v":{"$error":"#REF!"}},1338]
["150608","LIMA","LIMA","HUARAL","PACARAOS","Hombre","35-39",{"$f":"'Pob x Genero'!#REF!","v":{"$error":"#REF!"}},1377]
["150706","LIMA","LIMA","HUAROCHIRI","CUENCA","Hombre","35-39",{"$f":"'Pob x Genero'!#REF!","v":{"$error":"#REF!"}},1387]
["150901","LIMA","LIMA","OYON","OYON","Hombre","35-39",{"$f":"'Pob x Genero'!#REF!","v":{"$error":"#REF!"}},1426]
["151033","LIMA","LIMA","YAUYOS","VITIS","Hombre","35-39",{"$f":"'Pob x Genero'!#REF!","v":{"$error":"#REF!"}},1464]
["160606","LORETO","LORETO","UCAYALI","VARGAS GUERRA","Hombre","35-39",{"$f":"'Pob x Genero'!#REF!","v":{"$error":"#REF!"}},1507]
["180211","MOQUEGUA","MOQUEGUA","GENERAL SANCHEZ CERRO","YUNGA","Hombre","35-39",{"$f":"'Pob x Genero'!#REF!","v":{"$error":"#REF!"}},1546]
["190103","PASCO","PASCO","PASCO","HUARIACA","Hombre","35-39",{"$f":"'Pob x Genero'!#REF!","v":{"$error":"#REF!"}},1552]
["200207","PIURA","PIURA","AYABACA","PAIMAS","Hombre","35-39",{"$f":"'Pob x Genero'!#REF!","v":{"$error":"#REF!"}},1595]
["200501","PIURA","PIURA","PAITA","PAITA","Hombre","35-39",{"$f":"'Pob x Genero'!#REF!","v":{"$error":"#REF!"}},1617]
["210303","PUNO","PUNO","CARABAYA","AYAPATA","Hombre","35-39",{"$f":"'Pob x Genero'!#REF!","v":{"$error":"#REF!"}},1676]
["210309","PUNO","PUNO","CARABAYA","SAN GABAN","Hombre","35-39",{"$f":"'Pob x Genero'!#REF!","v":{"$error":"#REF!"}},1682]
["210808","PUNO","PUNO","MELGAR","SANTA ROSA","Hombre","35-39",{"$f":"'Pob x Genero'!#REF!","v":{"$error":"#REF!"}},1721]
["220205","SAN MARTIN","SAN MARTIN","BELLAVISTA","SAN PABLO","Hombre","35-39",{"$f":"'Pob x Genero'!#REF!","v":{"$error":"#REF!"}},1764]
["220710","SAN MARTIN","SAN MARTIN","PICOTA","TRES UNIDOS","Hombre","35-39",{"$f":"'Pob x Genero'!#REF!","v":{"$error":"#REF!"}},1802]
["220901","SAN MARTIN","SAN MARTIN","SAN MARTIN","TARAPOTO","Hombre","35-39",{"$f":"'Pob x Genero'!#REF!","v":{"$error":"#REF!"}},1812]
["230303","TACNA","TACNA","JORGE BASADRE","ITE","Hombre","35-39",{"$f":"'Pob x Genero'!#REF!","v":{"$error":"#REF!"}},1851]
["250307","UCAYALI","UCAYALI","PADRE ABAD","BOQUERON","Hombre","35-39",{"$f":"'Pob x Genero'!#REF!","v":{"$error":"#REF!"}},1890]
["010504","AMAZONAS","AMAZONAS","LUYA","COLCAMAR","Hombre","40-44",{"$f":"'Pob x Genero'!#REF!","v":{"$error":"#REF!"}},46]
["010703","AMAZONAS","AMAZONAS","UTCUBAMBA","CUMBA","Hombre","40-44",{"$f":"'Pob x Genero'!#REF!","v":{"$error":"#REF!"}},80]
["020102","ANCASH","ANCASH","HUARAZ","COCHABAMBA","Hombre","40-44",{"$f":"'Pob x Genero'!#REF!","v":{"$error":"#REF!"}},86]
["020605","ANCASH","ANCASH","CARHUAZ","ATAQUERO","Hombre","40-44",{"$f":"'Pob x Genero'!#REF!","v":{"$error":"#REF!"}},129]
["021103","ANCASH","ANCASH","HUARMEY","CULEBRAS","Hombre","40-44",{"$f":"'Pob x Genero'!#REF!","v":{"$error":"#REF!"}},168]
["021501","ANCASH","ANCASH","PALLASCA","CABANA","Hombre","40-44",{"$f":"'Pob x Genero'!#REF!","v":{"$error":"#REF!"}},199]
["021703","ANCASH","ANCASH","RECUAY","COTAPARACO","Hombre","40-44",{"$f":"'Pob x Genero'!#REF!","v":{"$error":"#REF!"}},216]
["030105","APURIMAC","APURIMAC","ABANCAY","HUANIPACA","Hombre","40-44",{"$f":"'Pob x Genero'!#REF!","v":{"$error":"#REF!"}},255]
["030412","APURIMAC","APURIMAC","AYMARAES","SAÑAYCA","Hombre","40-44",{"$f":"'Pob x Genero'!#REF!","v":{"$error":"#REF!"}},298]
["040102","AREQUIPA","AREQUIPA","AREQUIPA","ALTO SELVA ALEGRE","Hombre","40-44",{"$f":"'Pob x Genero'!DB10","v":3487},337]
["040117","AREQUIPA","AREQUIPA","AREQUIPA","SACHACA","Hombre","40-44",{"$f":"'Pob x Genero'!DB25","v":1114},352]
["040313","AREQUIPA","AREQUIPA","CARAVELI","YAUCA","Hombre","40-44",{"$f":"'Pob x Genero'!DB58","v":96},385]
["040605","AREQUIPA","AREQUIPA","CONDESUYOS","IRAY","Hombre","40-44",{"$f":"'Pob x Genero'!DB97","v":20},424]
["050301","AYACUCHO","AYACUCHO","HUANCA SANCOS","SANCOS","Hombre","40-44",{"$f":"'Pob x Genero'!#REF!","v":{"$error":"#REF!"}},467]
["050608","AYACUCHO","AYACUCHO","LUCANAS","LARAMATE","Hombre","40-44",{"$f":"'Pob x Genero'!#REF!","v":{"$error":"#REF!"}},506]
["050810","AYACUCHO","AYACUCHO","PAUCAR DEL SARA SARA","SARA SARA","Hombre","40-44",{"$f":"'Pob x Genero'!#REF!","v":{"$error":"#REF!"}},537]
["051006","AYACUCHO","AYACUCHO","VICTOR FAJARDO","CAYARA","Hombre","40-44",{"$f":"'Pob x Genero'!#REF!","v":{"$error":"#REF!"}},554]
["060309","CAJAMARCA","CAJAMARCA","CELENDIN","SOROCHUCO","Hombre","40-44",{"$f":"'Pob x Genero'!#REF!","v":{"$error":"#REF!"}},593]
["060613","CAJAMARCA","CAJAMARCA","CUTERVO","SANTO TOMAS","Hombre","40-44",{"$f":"'Pob x Genero'!#REF!","v":{"$error":"#REF!"}},636]
["061105","CAJAMARCA","CAJAMARCA","SAN MIGUEL","EL PRADO","Hombre","40-44",{"$f":"'Pob x Genero'!#REF!","v":{"$error":"#REF!"}},672]
["061113","CAJAMARCA","CAJAMARCA","SAN MIGUEL","UNION AGUA BLANCA","Hombre","40-44",{"$f":"'Pob x Genero'!#REF!","v":{"$error":"#REF!"}},680]
["080306","CUSCO","CUSCO","ANTA","LIMATAMBO","Hombre","40-44",{"$f":"'Pob x Genero'!#REF!","v":{"$error":"#REF!"}},723]
["080804","CUSCO","CUSCO","ESPINAR","OCORURO","Hombre","40-44",{"$f":"'Pob x Genero'!#REF!","v":{"$error":"#REF!"}},762]
["081202","CUSCO","CUSCO","QUISPICANCHI","ANDAHUAYLILLAS","Hombre","40-44",{"$f":"'Pob x Genero'!#REF!","v":{"$error":"#REF!"}},801]
["090107","HUANCAVELICA","HUANCAVELICA","HUANCAVELICA","HUAYLLAHUARA","Hombre","40-44",{"$f":"'Pob x Genero'!#REF!","v":{"$error":"#REF!"}},825]
["090304","HUANCAVELICA","HUANCAVELICA","ANGARAES","CCOCHACCASA","Hombre","40-44",{"$f":"'Pob x Genero'!#REF!","v":{"$error":"#REF!"}},849]
["090611","HUANCAVELICA","HUANCAVELICA","HUAYTARA","SAN FRANCISCO DE SANGAYAICO","Hombre","40-44",{"$f":"'Pob x Genero'!#REF!","v":{"$error":"#REF!"}},892]
["100111","HUANUCO","HUANUCO","HUANUCO","PILLCO MARCA","Hombre","40-44",{"$f":"'Pob x Genero'!#REF!","v":{"$error":"#REF!"}},931]
["100605","HUANUCO","HUANUCO","LEONCIO PRADO","LUYANDO","Hombre","40-44",{"$f":"'Pob x Genero'!#REF!","v":{"$error":"#REF!"}},970]
["100703","HUANUCO","HUANUCO","MARAÑON","SAN BUENAVENTURA","Hombre","40-44",{"$f":"'Pob x Genero'!#REF!","v":{"$error":"#REF!"}},978]
["110114","ICA","ICA","ICA","YAUCA DEL ROSARIO","Hombre","40-44",{"$f":"'Pob x Genero'!#REF!","v":{"$error":"#REF!"}},1018]
["120120","JUNIN","JUNIN","HUANCAYO","HUASICANCHA","Hombre","40-44",{"$f":"'Pob x Genero'!#REF!","v":{"$error":"#REF!"}},1061]
["120404","JUNIN","JUNIN","JAUJA","ATAURA","Hombre","40-44",{"$f":"'Pob x Genero'!#REF!","v":{"$error":"#REF!"}},1100]
["120417","JUNIN","JUNIN","JAUJA","MASMA CHICCHE","Hombre","40-44",{"$f":"'Pob x Genero'!#REF!","v":{"$error":"#REF!"}},1113]
["120705","JUNIN","JUNIN","TARMA","LA UNION","Hombre","40-44",{"$f":"'Pob x Genero'!#REF!","v":{"$error":"#REF!"}},1148]
["130204","LA LIBERTAD","LA LIBERTAD","ASCOPE","MAGDALENA DE CAO","Hombre","40-44",{"$f":"'Pob x Genero'!#REF!","v":{"$error":"#REF!"}},1187]
["130807","LA LIBERTAD","LA LIBERTAD","PATAZ","ONGON","Hombre","40-44",{"$f":"'Pob x Genero'!#REF!","v":{"$error":"#REF!"}},1226]
["130904","LA LIBERTAD","LA LIBERTAD","SANCHEZ CARRION","CURGOS","Hombre","40-44",{"$f":"'Pob x Genero'!#REF!","v":{"$error":"#REF!"}},1236]
["140111","LAMBAYEQUE","LAMBAYEQUE","CHICLAYO","PICSI","Hombre","40-44",{"$f":"'Pob x Genero'!#REF!","v":{"$error":"#REF!"}},1266]
["150124","DIRIS SUR","LIMA","LIMA","PUCUSANA","Hombre","40-44",{"$f":"'Pob x Genero'!#REF!","v":{"$error":"#REF!"}},1317]
["150503","LIMA","LIMA","CAÑETE","CALANGO","Hombre","40-44",{"$f":"'Pob x Genero'!#REF!","v":{"$error":"#REF!"}},1356]
["150714","LIMA","LIMA","HUAROCHIRI","RICARDO PALMA","Hombre","40-44",{"$f":"'Pob x Genero'!#REF!","v":{"$error":"#REF!"}},1395]
["150724","LIMA","LIMA","HUAROCHIRI","SAN PEDRO DE CASTA","Hombre","40-44",{"$f":"'Pob x Genero'!#REF!","v":{"$error":"#REF!"}},1405]
["151020","LIMA","LIMA","YAUYOS","MADEAN","Hombre","40-44",{"$f":"'Pob x Genero'!#REF!","v":{"$error":"#REF!"}},1451]
["160301","LORETO","LORETO","LORETO","NAUTA","Hombre","40-44",{"$f":"'Pob x Genero'!#REF!","v":{"$error":"#REF!"}},1482]
["170204","MADRE DE DIOS","MADRE DE DIOS","MANU","HUEPETUHE","Hombre","40-44",{"$f":"'Pob x Genero'!#REF!","v":{"$error":"#REF!"}},1525]
["180103","MOQUEGUA","MOQUEGUA","MARISCAL NIETO","CUCHUMBAYA","Hombre","40-44",{"$f":"'Pob x Genero'!#REF!","v":{"$error":"#REF!"}},1531]
["190304","PASCO","PASCO","OXAPAMPA","PALCAZU","Hombre","40-44",{"$f":"'Pob x Genero'!#REF!","v":{"$error":"#REF!"}},1574]
["200306","PIURA","PIURA","HUANCABAMBA","SAN MIGUEL DE EL FAIQUE","Hombre","40-44",{"$f":"'Pob x Genero'!#REF!","v":{"$error":"#REF!"}},1604]
["210108","PUNO","PUNO","PUNO","HUATA","Hombre","40-44",{"$f":"'Pob x Genero'!#REF!","v":{"$error":"#REF!"}},1651]
["210203","PUNO","PUNO","AZANGARO","ARAPA","Hombre","40-44",{"$f":"'Pob x Genero'!#REF!","v":{"$error":"#REF!"}},1661]
["210605","PUNO","PUNO","HUANCANE","PUSI","Hombre","40-44",{"$f":"'Pob x Genero'!#REF!","v":{"$error":"#REF!"}},1700]
["211203","PUNO","PUNO","SANDIA","LIMBANI","Hombre","40-44",{"$f":"'Pob x Genero'!#REF!","v":{"$error":"#REF!"}},1739]
["220505","SAN MARTIN","SAN MARTIN","LAMAS","CUÑUMBUQUI","Hombre","40-44",{"$f":"'Pob x Genero'!#REF!","v":{"$error":"#REF!"}},1781]
["220909","SAN MARTIN","SAN MARTIN","SAN MARTIN","LA BANDA DE SHILCAYO","Hombre","40-44",{"$f":"'Pob x Genero'!#REF!","v":{"$error":"#REF!"}},1820]
["221005","SAN MARTIN","SAN MARTIN","TOCACHE","UCHIZA","Hombre","40-44",{"$f":"'Pob x Genero'!#REF!","v":{"$error":"#REF!"}},1830]
["240301","TUMBES","TUMBES","ZARUMILLA","ZARUMILLA","Hombre","40-44",{"$f":"'Pob x Genero'!#REF!","v":{"$error":"#REF!"}},1869]
["010101","AMAZONAS","AMAZONAS","CHACHAPOYAS","CHACHAPOYAS","Hombre",{"$f":"'Pob x Genero'!DC7","v":"45-49"},{"$f":"'Pob x Genero'!#REF!","v":{"$error":"#REF!"}},1]
["010517","AMAZONAS","AMAZONAS","LUYA","SAN FRANCISCO DEL YESO","Hombre","45-49",{"$f":"'Pob x Genero'!#REF!","v":{"$error":"#REF!"}},59]
["010523","AMAZONAS","AMAZONAS","LUYA","TRITA","Hombre","45-49",{"$f":"'Pob x Genero'!#REF!","v":{"$error":"#REF!"}},65]
["020401","ANCASH","ANCASH","ASUNCION","CHACAS","Hombre","45-49",{"$f":"'Pob x Genero'!#REF!","v":{"$error":"#REF!"}},108]
["020905","ANCASH","ANCASH","CORONGO","LA PAMPA","Hombre","45-49",{"$f":"'Pob x Genero'!#REF!","v":{"$error":"#REF!"}},147]
["021306","ANCASH","ANCASH","MARISCAL LUZURIAGA","LLUMPA","Hombre","45-49",{"$f":"'Pob x Genero'!#REF!","v":{"$error":"#REF!"}},186]
["021407","ANCASH","ANCASH","OCROS","LLIPA","Hombre","45-49",{"$f":"'Pob x Genero'!#REF!","v":{"$error":"#REF!"}},195]
["021902","ANCASH","ANCASH","SIHUAS","ACOBAMBA","Hombre","45-49",{"$f":"'Pob x Genero'!#REF!","v":{"$error":"#REF!"}},234]
["030214","APURIMAC","APURIMAC","ANDAHUAYLAS","SAN MIGUEL DE CHACCRAMPA","Hombre","45-49",{"$f":"'Pob x Genero'!#REF!","v":{"$error":"#REF!"}},273]
["030607","APURIMAC","APURIMAC","CHINCHEROS","URANMARCA","Hombre","45-49",{"$f":"'Pob x Genero'!#REF!","v":{"$error":"#REF!"}},316]
["040104","AREQUIPA","AREQUIPA","AREQUIPA","CERRO COLORADO","Hombre","45-49",{"$f":"'Pob x Genero'!DC12","v":7756},339]
["040129","AREQUIPA","AREQUIPA","AREQUIPA","JOSE LUIS BUSTAMANTE Y RIVERO","Hombre","45-49",{"$f":"'Pob x Genero'!DC37","v":3217},364]
["040504","AREQUIPA","AREQUIPA","CAYLLOMA","CALLALLI","Hombre","45-49",{"$f":"'Pob x Genero'!DC76","v":85},403]
["040809","AREQUIPA","AREQUIPA","LA UNION","TAURIA","Hombre","45-49",{"$f":"'Pob x Genero'!DC115","v":9},442]
["050404","AYACUCHO","AYACUCHO","HUANTA","IGUAIN","Hombre","45-49",{"$f":"'Pob x Genero'!#REF!","v":{"$error":"#REF!"}},474]
["050507","AYACUCHO","AYACUCHO","LA MAR","SANTA ROSA","Hombre","45-49",{"$f":"'Pob x Genero'!#REF!","v":{"$error":"#REF!"}},490]
["050806","AYACUCHO","AYACUCHO","PAUCAR DEL SARA SARA","OYOLO","Hombre","45-49",{"$f":"'Pob x Genero'!#REF!","v":{"$error":"#REF!"}},533]
["060104","CAJAMARCA","CAJAMARCA","CAJAMARCA","COSPAN","Hombre","45-49",{"$f":"'Pob x Genero'!#REF!","v":{"$error":"#REF!"}},572]
["060415","CAJAMARCA","CAJAMARCA","CHOTA","QUEROCOTO","Hombre","45-49",{"$f":"'Pob x Genero'!#REF!","v":{"$error":"#REF!"}},611]
["060604","CAJAMARCA","CAJAMARCA","CUTERVO","CUJILLO","Hombre","45-49",{"$f":"'Pob x Genero'!#REF!","v":{"$error":"#REF!"}},627]
["060906","CAJAMARCA","CAJAMARCA","SAN IGNACIO","SAN JOSE DE LOURDES","Hombre","45-49",{"$f":"'Pob x Genero'!#REF!","v":{"$error":"#REF!"}},659]
["070103","CALLAO","CALLAO","CALLAO","CARMEN DE LA LEGUA REYNOSO","Hombre","45-49",{"$f":"'Pob x Genero'!#REF!","v":{"$error":"#REF!"}},698]
["080507","CUSCO","CUSCO","CANAS","QUEHUE","Hombre","45-49",{"$f":"'Pob x Genero'!#REF!","v":{"$error":"#REF!"}},741]
["080914","CUSCO","CUSCO","LA CONVENCION","MEGANTONI","Hombre","45-49",{"$f":"'Pob x Genero'!#REF!","v":{"$error":"#REF!"}},780]
["081301","CUSCO","CUSCO","URUBAMBA","URUBAMBA","Hombre","45-49",{"$f":"'Pob x Genero'!#REF!","v":{"$error":"#REF!"}},812]
["090110","HUANCAVELICA","HUANCAVELICA","HUANCAVELICA","MANTA","Hombre","45-49",{"$f":"'Pob x Genero'!#REF!","v":{"$error":"#REF!"}},828]
["090410","HUANCAVELICA","HUANCAVELICA","CASTROVIRREYNA","SAN JUAN","Hombre","45-49",{"$f":"'Pob x Genero'!#REF!","v":{"$error":"#REF!"}},867]
["090715","HUANCAVELICA","HUANCAVELICA","TAYACAJA","SALCAHUASI","Hombre","45-49",{"$f":"'Pob x Genero'!#REF!","v":{"$error":"#REF!"}},910]
["100317","HUANUCO","HUANUCO","DOS DE MAYO","RIPAN","Hombre","45-49",{"$f":"'Pob x Genero'!#REF!","v":{"$error":"#REF!"}},947]
["100504","HUANUCO","HUANUCO","HUAMALIES","JACAS GRANDE","Hombre","45-49",{"$f":"'Pob x Genero'!#REF!","v":{"$error":"#REF!"}},958]
["101101","HUANUCO","HUANUCO","YAROWILCA","CHAVINILLO","Hombre","45-49",{"$f":"'Pob x Genero'!#REF!","v":{"$error":"#REF!"}},997]
["110402","ICA","ICA","PALPA","LLIPATA","Hombre","45-49",{"$f":"'Pob x Genero'!#REF!","v":{"$error":"#REF!"}},1036]
["120204","JUNIN","JUNIN","CONCEPCION","CHAMBARA","Hombre","45-49",{"$f":"'Pob x Genero'!#REF!","v":{"$error":"#REF!"}},1079]
["120404","JUNIN","JUNIN","JAUJA","ATAURA","Hombre","45-49",{"$f":"'Pob x Genero'!#REF!","v":{"$error":"#REF!"}},1100]
["120427","JUNIN","JUNIN","JAUJA","RICRAN","Hombre","45-49",{"$f":"'Pob x Genero'!#REF!","v":{"$error":"#REF!"}},1123]
["120904","JUNIN","JUNIN","CHUPACA","HUACHAC","Hombre","45-49",{"$f":"'Pob x Genero'!#REF!","v":{"$error":"#REF!"}},1166]
["130601","LA LIBERTAD","LA LIBERTAD","OTUZCO","OTUZCO","Hombre","45-49",{"$f":"'Pob x Genero'!#REF!","v":{"$error":"#REF!"}},1205]
["130701","LA LIBERTAD","LA LIBERTAD","PACASMAYO","SAN PEDRO DE LLOC","Hombre","45-49",{"$f":"'Pob x Genero'!#REF!","v":{"$error":"#REF!"}},1215]
["131201","LA LIBERTAD","LA LIBERTAD","VIRU","VIRU","Hombre","45-49",{"$f":"'Pob x Genero'!#REF!","v":{"$error":"#REF!"}},1253]
["140311","LAMBAYEQUE","LAMBAYEQUE","LAMBAYEQUE","SAN JOSE","Hombre","45-49",{"$f":"'Pob x Genero'!#REF!","v":{"$error":"#REF!"}},1292]
["150142","DIRIS SUR","LIMA","LIMA","VILLA EL SALVADOR","Hombre","45-49",{"$f":"'Pob x Genero'!#REF!","v":{"$error":"#REF!"}},1335]
["150605","LIMA","LIMA","HUARAL","CHANCAY","Hombre","45-49",{"$f":"'Pob x Genero'!#REF!","v":{"$error":"#REF!"}},1374]
["150611","LIMA","LIMA","HUARAL","SUMBILCA","Hombre","45-49",{"$f":"'Pob x Genero'!#REF!","v":{"$error":"#REF!"}},1380]
["151007","LIMA","LIMA","YAUYOS","CARANIA","Hombre","45-49",{"$f":"'Pob x Genero'!#REF!","v":{"$error":"#REF!"}},1438]
["151030","LIMA","LIMA","YAUYOS","TOMAS","Hombre","45-49",{"$f":"'Pob x Genero'!#REF!","v":{"$error":"#REF!"}},1461]
["160603","LORETO","LORETO","UCAYALI","PADRE MARQUEZ","Hombre","45-49",{"$f":"'Pob x Genero'!#REF!","v":{"$error":"#REF!"}},1504]
["160703","LORETO","LORETO","DATEM DEL MARAÑON","MANSERICHE","Hombre","45-49",{"$f":"'Pob x Genero'!#REF!","v":{"$error":"#REF!"}},1510]
["180206","MOQUEGUA","MOQUEGUA","GENERAL SANCHEZ CERRO","LLOQUE","Hombre","45-49",{"$f":"'Pob x Genero'!#REF!","v":{"$error":"#REF!"}},1541]
["200203","PIURA","PIURA","AYABACA","JILILI","Hombre","45-49",{"$f":"'Pob x Genero'!#REF!","v":{"$error":"#REF!"}},1591]
["200607","PIURA","PIURA","SULLANA","QUERECOTILLO","Hombre","45-49",{"$f":"'Pob x Genero'!#REF!","v":{"$error":"#REF!"}},1630]
["200803","PIURA","PIURA","SECHURA","BERNAL","Hombre","45-49",{"$f":"'Pob x Genero'!#REF!","v":{"$error":"#REF!"}},1640]
["210306","PUNO","PUNO","CARABAYA","CRUCERO","Hombre","45-49",{"$f":"'Pob x Genero'!#REF!","v":{"$error":"#REF!"}},1679]
["210904","PUNO","PUNO","MOHO","TILALI","Hombre","45-49",{"$f":"'Pob x Genero'!#REF!","v":{"$error":"#REF!"}},1726]
["220201","SAN MARTIN","SAN MARTIN","BELLAVISTA","BELLAVISTA","Hombre","45-49",{"$f":"'Pob x Genero'!#REF!","v":{"$error":"#REF!"}},1760]
["220707","SAN MARTIN","SAN MARTIN","PICOTA","SAN HILARION","Hombre","45-49",{"$f":"'Pob x Genero'!#REF!","v":{"$error":"#REF!"}},1799]
["220803","SAN MARTIN","SAN MARTIN","RIOJA","ELIAS SOPLIN VARGAS","Hombre","45-49",{"$f":"'Pob x Genero'!#REF!","v":{"$error":"#REF!"}},1805]
["230206","TACNA","TACNA","CANDARAVE","QUILAHUANI","Hombre","45-49",{"$f":"'Pob x Genero'!#REF!","v":{"$error":"#REF!"}},1848]
["250107","UCAYALI","UCAYALI","CORONEL PORTILLO","MANANTAY","Hombre","45-49",{"$f":"'Pob x Genero'!#REF!","v":{"$error":"#REF!"}},1879]
["010311","AMAZONAS","AMAZONAS","BONGARA","VALERA","Hombre","50-54",{"$f":"'Pob x Genero'!#REF!","v":{"$error":"#REF!"}},38]
["010502","AMAZONAS","AMAZONAS","LUYA","CAMPORREDONDO","Hombre","50-54",{"$f":"'Pob x Genero'!#REF!","v":{"$error":"#REF!"}},44]
["010706","AMAZONAS","AMAZONAS","UTCUBAMBA","LONYA GRANDE","Hombre","50-54",{"$f":"'Pob x Genero'!#REF!","v":{"$error":"#REF!"}},83]
["020602","ANCASH","ANCASH","CARHUAZ","ACOPAMPA","Hombre","50-54",{"$f":"'Pob x Genero'!#REF!","v":{"$error":"#REF!"}},126]
["020803","ANCASH","ANCASH","CASMA","COMANDANTE NOEL","Hombre","50-54",{"$f":"'Pob x Genero'!#REF!","v":{"$error":"#REF!"}},141]
["021204","ANCASH","ANCASH","HUAYLAS","HUAYLAS","Hombre","50-54",{"$f":"'Pob x Genero'!#REF!","v":{"$error":"#REF!"}},174]
["021604","ANCASH","ANCASH","POMABAMBA","QUINUABAMBA","Hombre","50-54",{"$f":"'Pob x Genero'!#REF!","v":{"$error":"#REF!"}},213]
["030102","APURIMAC","APURIMAC","ABANCAY","CHACOCHE","Hombre","50-54",{"$f":"'Pob x Genero'!#REF!","v":{"$error":"#REF!"}},252]
["030217","APURIMAC","APURIMAC","ANDAHUAYLAS","TUMAY HUARACA","Hombre","50-54",{"$f":"'Pob x Genero'!#REF!","v":{"$error":"#REF!"}},276]
["030712","APURIMAC","APURIMAC","GRAU","VILCABAMBA","Hombre","50-54",{"$f":"'Pob x Genero'!#REF!","v":{"$error":"#REF!"}},333]
["040104","AREQUIPA","AREQUIPA","AREQUIPA","CERRO COLORADO","Hombre","50-54",{"$f":"'Pob x Genero'!DD12","v":6417},339]
["040310","AREQUIPA","AREQUIPA","CARAVELI","JAQUI","Hombre","50-54",{"$f":"'Pob x Genero'!DD55","v":65},382]
["040602","AREQUIPA","AREQUIPA","CONDESUYOS","ANDARAY","Hombre","50-54",{"$f":"'Pob x Genero'!DD94","v":26},421]
["050201","AYACUCHO","AYACUCHO","CANGALLO","CANGALLO","Hombre","50-54",{"$f":"'Pob x Genero'!#REF!","v":{"$error":"#REF!"}},461]
["050303","AYACUCHO","AYACUCHO","HUANCA SANCOS","SACSAMARCA","Hombre","50-54",{"$f":"'Pob x Genero'!#REF!","v":{"$error":"#REF!"}},469]
["050610","AYACUCHO","AYACUCHO","LUCANAS","LLAUTA","Hombre","50-54",{"$f":"'Pob x Genero'!#REF!","v":{"$error":"#REF!"}},508]
["051003","AYACUCHO","AYACUCHO","VICTOR FAJARDO","APONGO","Hombre","50-54",{"$f":"'Pob x Genero'!#REF!","v":{"$error":"#REF!"}},551]
["060306","CAJAMARCA","CAJAMARCA","CELENDIN","JOSE GALVEZ","Hombre","50-54",{"$f":"'Pob x Genero'!#REF!","v":{"$error":"#REF!"}},590]
["060418","CAJAMARCA","CAJAMARCA","CHOTA","TOCMOCHE","Hombre","50-54",{"$f":"'Pob x Genero'!#REF!","v":{"$error":"#REF!"}},614]
["060615","CAJAMARCA","CAJAMARCA","CUTERVO","TORIBIO CASANOVA","Hombre","50-54",{"$f":"'Pob x Genero'!#REF!","v":{"$error":"#REF!"}},638]
["061110","CAJAMARCA","CAJAMARCA","SAN MIGUEL","SAN GREGORIO","Hombre","50-54",{"$f":"'Pob x Genero'!#REF!","v":{"$error":"#REF!"}},677]
["080303","CUSCO","CUSCO","ANTA","CACHIMAYO","Hombre","50-54",{"$f":"'Pob x Genero'!#REF!","v":{"$error":"#REF!"}},720]
["080801","CUSCO","CUSCO","ESPINAR","ESPINAR","Hombre","50-54",{"$f":"'Pob x Genero'!#REF!","v":{"$error":"#REF!"}},759]
["080901","CUSCO","CUSCO","LA CONVENCION","SANTA ANA","Hombre","50-54",{"$f":"'Pob x Genero'!#REF!","v":{"$error":"#REF!"}},767]
["081208","CUSCO","CUSCO","QUISPICANCHI","LUCRE","Hombre","50-54",{"$f":"'Pob x Genero'!#REF!","v":{"$error":"#REF!"}},807]
["090301","HUANCAVELICA","HUANCAVELICA","ANGARAES","LIRCAY","Hombre","50-54",{"$f":"'Pob x Genero'!#REF!","v":{"$error":"#REF!"}},846]
["090608","HUANCAVELICA","HUANCAVELICA","HUAYTARA","QUERCO","Hombre","50-54",{"$f":"'Pob x Genero'!#REF!","v":{"$error":"#REF!"}},889]
["090705","HUANCAVELICA","HUANCAVELICA","TAYACAJA","COLCABAMBA","Hombre","50-54",{"$f":"'Pob x Genero'!#REF!","v":{"$error":"#REF!"}},902]
["100113","HUANUCO","HUANUCO","HUANUCO","SAN PABLO DE PILLAO","Hombre","50-54",{"$f":"'Pob x Genero'!#REF!","v":{"$error":"#REF!"}},933]
["100701","HUANUCO","HUANUCO","MARAÑON","HUACRACHUCO","Hombre","50-54",{"$f":"'Pob x Genero'!#REF!","v":{"$error":"#REF!"}},976]
["110111","ICA","ICA","ICA","SANTIAGO","Hombre","50-54",{"$f":"'Pob x Genero'!#REF!","v":{"$error":"#REF!"}},1015]
["120111","JUNIN","JUNIN","HUANCAYO","CHUPURO","Hombre","50-54",{"$f":"'Pob x Genero'!#REF!","v":{"$error":"#REF!"}},1054]
["120212","JUNIN","JUNIN","CONCEPCION","NUEVE DE JULIO","Hombre","50-54",{"$f":"'Pob x Genero'!#REF!","v":{"$error":"#REF!"}},1087]
["120406","JUNIN","JUNIN","JAUJA","CURICACA","Hombre","50-54",{"$f":"'Pob x Genero'!#REF!","v":{"$error":"#REF!"}},1102]
["120702","JUNIN","JUNIN","TARMA","ACOBAMBA","Hombre","50-54",{"$f":"'Pob x Genero'!#REF!","v":{"$error":"#REF!"}},1145]
["130201","LA LIBERTAD","LA LIBERTAD","ASCOPE","ASCOPE","Hombre",{"$f":"G20093","v":"50-54"},{"$f":"'Pob x Genero'!#REF!","v":{"$error":"#REF!"}},1184]
["130207","LA LIBERTAD","LA LIBERTAD","ASCOPE","SANTIAGO DE CAO","Hombre","50-54",{"$f":"'Pob x Genero'!#REF!","v":{"$error":"#REF!"}},1190]
["130908","LA LIBERTAD","LA LIBERTAD","SANCHEZ CARRION","SARTIMBAMBA","Hombre","50-54",{"$f":"'Pob x Genero'!#REF!","v":{"$error":"#REF!"}},1240]
["140116","LAMBAYEQUE","LAMBAYEQUE","CHICLAYO","CAYALTI","Hombre","50-54",{"$f":"'Pob x Genero'!#REF!","v":{"$error":"#REF!"}},1271]
["150117","DIRIS NORTE","LIMA","LIMA","LOS OLIVOS","Hombre","50-54",{"$f":"'Pob x Genero'!#REF!","v":{"$error":"#REF!"}},1310]
["150127","DIRIS SUR","LIMA","LIMA","PUNTA NEGRA","Hombre","50-54",{"$f":"'Pob x Genero'!#REF!","v":{"$error":"#REF!"}},1320]
["150606","LIMA","LIMA","HUARAL","IHUARI","Hombre","50-54",{"$f":"'Pob x Genero'!#REF!","v":{"$error":"#REF!"}},1375]
["150720","LIMA","LIMA","HUAROCHIRI","SAN JUAN DE TANTARANCHE","Hombre","50-54",{"$f":"'Pob x Genero'!#REF!","v":{"$error":"#REF!"}},1401]
["151009","LIMA","LIMA","YAUYOS","CHOCOS","Hombre","50-54",{"$f":"'Pob x Genero'!#REF!","v":{"$error":"#REF!"}},1440]
["160206","LORETO","LORETO","ALTO AMAZONAS","LAGUNAS","Hombre","50-54",{"$f":"'Pob x Genero'!#REF!","v":{"$error":"#REF!"}},1479]
["160403","LORETO","LORETO","MARISCAL RAMON CASTILLA","YAVARI","Hombre","50-54",{"$f":"'Pob x Genero'!#REF!","v":{"$error":"#REF!"}},1489]
["170303","MADRE DE DIOS","MADRE DE DIOS","TAHUAMANU","TAHUAMANU","Hombre","50-54",{"$f":"'Pob x Genero'!#REF!","v":{"$error":"#REF!"}},1528]
["190208","PASCO","PASCO","DANIEL ALCIDES CARRION","VILCABAMBA","Hombre","50-54",{"$f":"'Pob x Genero'!#REF!","v":{"$error":"#REF!"}},1570]
["200403","PIURA","PIURA","MORROPON","CHALACO","Hombre","50-54",{"$f":"'Pob x Genero'!#REF!","v":{"$error":"#REF!"}},1609]
["200409","PIURA","PIURA","MORROPON","SANTO DOMINGO","Hombre","50-54",{"$f":"'Pob x Genero'!#REF!","v":{"$error":"#REF!"}},1615]
["210115","PUNO","PUNO","PUNO","VILQUE","Hombre","50-54",{"$f":"'Pob x Genero'!#REF!","v":{"$error":"#REF!"}},1658]
["210308","PUNO","PUNO","CARABAYA","OLLACHEA","Hombre","50-54",{"$f":"'Pob x Genero'!#REF!","v":{"$error":"#REF!"}},1681]
["211104","PUNO","PUNO","SAN ROMAN","CARACOTO","Hombre","50-54",{"$f":"'Pob x Genero'!#REF!","v":{"$error":"#REF!"}},1735]
["220502","SAN MARTIN","SAN MARTIN","LAMAS","ALONSO DE ALVARADO","Hombre","50-54",{"$f":"'Pob x Genero'!#REF!","v":{"$error":"#REF!"}},1778]
["220508","SAN MARTIN","SAN MARTIN","LAMAS","SAN ROQUE DE CUMBAZA","Hombre","50-54",{"$f":"'Pob x Genero'!#REF!","v":{"$error":"#REF!"}},1784]
["221002","SAN MARTIN","SAN MARTIN","TOCACHE","NUEVO PROGRESO","Hombre","50-54",{"$f":"'Pob x Genero'!#REF!","v":{"$error":"#REF!"}},1827]
["240201","TUMBES","TUMBES","CONTRALMIRANTE VILLAR","ZORRITOS","Hombre","50-54",{"$f":"'Pob x Genero'!#REF!","v":{"$error":"#REF!"}},1866]
["010113","AMAZONAS","AMAZONAS","CHACHAPOYAS","MARISCAL CASTILLA","Hombre","55-59",{"$f":"'Pob x Genero'!#REF!","v":{"$error":"#REF!"}},13]
["010202","AMAZONAS","AMAZONAS","BAGUA","ARAMANGO","Hombre","55-59",{"$f":"'Pob x Genero'!#REF!","v":{"$error":"#REF!"}},23]
["010520","AMAZONAS","AMAZONAS","LUYA","SANTA CATALINA","Hombre","55-59",{"$f":"'Pob x Genero'!#REF!","v":{"$error":"#REF!"}},62]
["020501","ANCASH","ANCASH","BOLOGNESI","CHIQUIAN","Hombre","55-59",{"$f":"'Pob x Genero'!#REF!","v":{"$error":"#REF!"}},110]
["020901","ANCASH","ANCASH","CORONGO","CORONGO","Hombre","55-59",{"$f":"'Pob x Genero'!#REF!","v":{"$error":"#REF!"}},143]
["021302","ANCASH","ANCASH","MARISCAL LUZURIAGA","CASCA","Hombre","55-59",{"$f":"'Pob x Genero'!#REF!","v":{"$error":"#REF!"}},182]
["021404","ANCASH","ANCASH","OCROS","CARHUAPAMPA","Hombre","55-59",{"$f":"'Pob x Genero'!#REF!","v":{"$error":"#REF!"}},192]
["021808","ANCASH","ANCASH","SANTA","SANTA","Hombre","55-59",{"$f":"'Pob x Genero'!#REF!","v":{"$error":"#REF!"}},231]
["030204","APURIMAC","APURIMAC","ANDAHUAYLAS","HUANCARAMA","Hombre","55-59",{"$f":"'Pob x Genero'!#REF!","v":{"$error":"#REF!"}},263]
["030603","APURIMAC","APURIMAC","CHINCHEROS","COCHARCAS","Hombre","55-59",{"$f":"'Pob x Genero'!#REF!","v":{"$error":"#REF!"}},312]
["030609","APURIMAC","APURIMAC","CHINCHEROS","ROCCHACC","Hombre","55-59",{"$f":"'Pob x Genero'!#REF!","v":{"$error":"#REF!"}},318]
["040126","AREQUIPA","AREQUIPA","AREQUIPA","YANAHUARA","Hombre","55-59",{"$f":"'Pob x Genero'!DE34","v":985},361]
["040501","AREQUIPA","AREQUIPA","CAYLLOMA","CHIVAY","Hombre","55-59",{"$f":"'Pob x Genero'!DE73","v":207},400]
["040517","AREQUIPA","AREQUIPA","CAYLLOMA","TISCO","Hombre","55-59",{"$f":"'Pob x Genero'!DE89","v":74},416]
["050104","AYACUCHO","AYACUCHO","HUAMANGA","CARMEN ALTO","Hombre","55-59",{"$f":"'Pob x Genero'!#REF!","v":{"$error":"#REF!"}},448]
["050504","AYACUCHO","AYACUCHO","LA MAR","CHILCAS","Hombre","55-59",{"$f":"'Pob x Genero'!#REF!","v":{"$error":"#REF!"}},487]
["050707","AYACUCHO","AYACUCHO","PARINACOCHAS","SAN FRANCISCO DE RAVACAYCO","Hombre","55-59",{"$f":"'Pob x Genero'!#REF!","v":{"$error":"#REF!"}},526]
["060101","CAJAMARCA","CAJAMARCA","CAJAMARCA","CAJAMARCA","Hombre","55-59",{"$f":"'Pob x Genero'!#REF!","v":{"$error":"#REF!"}},569]
["060405","CAJAMARCA","CAJAMARCA","CHOTA","CHIMBAN","Hombre","55-59",{"$f":"'Pob x Genero'!#REF!","v":{"$error":"#REF!"}},601]
["060502","CAJAMARCA","CAJAMARCA","CONTUMAZA","CHILETE","Hombre","55-59",{"$f":"'Pob x Genero'!#REF!","v":{"$error":"#REF!"}},617]
["060903","CAJAMARCA","CAJAMARCA","SAN IGNACIO","HUARANGO","Hombre","55-59",{"$f":"'Pob x Genero'!#REF!","v":{"$error":"#REF!"}},656]
["061311","CAJAMARCA","CAJAMARCA","SANTA CRUZ","YAUYUCAN","Hombre","55-59",{"$f":"'Pob x Genero'!#REF!","v":{"$error":"#REF!"}},695]
["080502","CUSCO","CUSCO","CANAS","CHECCA","Hombre","55-59",{"$f":"'Pob x Genero'!#REF!","v":{"$error":"#REF!"}},736]
["080601","CUSCO","CUSCO","CANCHIS","SICUANI","Hombre","55-59",{"$f":"'Pob x Genero'!#REF!","v":{"$error":"#REF!"}},743]
["081002","CUSCO","CUSCO","PARURO","ACCHA","Hombre","55-59",{"$f":"'Pob x Genero'!#REF!","v":{"$error":"#REF!"}},786]
["090107","HUANCAVELICA","HUANCAVELICA","HUANCAVELICA","HUAYLLAHUARA","Hombre","55-59",{"$f":"'Pob x Genero'!#REF!","v":{"$error":"#REF!"}},825]
["090407","HUANCAVELICA","HUANCAVELICA","CASTROVIRREYNA","HUACHOS","Hombre","55-59",{"$f":"'Pob x Genero'!#REF!","v":{"$error":"#REF!"}},864]
["090608","HUANCAVELICA","HUANCAVELICA","HUAYTARA","QUERCO","Hombre","55-59",{"$f":"'Pob x Genero'!#REF!","v":{"$error":"#REF!"}},889]
["090717","HUANCAVELICA","HUANCAVELICA","TAYACAJA","SURCUBAMBA","Hombre","55-59",{"$f":"'Pob x Genero'!#REF!","v":{"$error":"#REF!"}},912]
["100401","HUANUCO","HUANUCO","HUACAYBAMBA","HUACAYBAMBA","Hombre","55-59",{"$f":"'Pob x Genero'!#REF!","v":{"$error":"#REF!"}},951]
["101005","HUANUCO","HUANUCO","LAURICOCHA","RONDOS","Hombre","55-59",{"$f":"'Pob x Genero'!#REF!","v":{"$error":"#REF!"}},994]
["110304","ICA","ICA","NAZCA","MARCONA","Hombre","55-59",{"$f":"'Pob x Genero'!#REF!","v":{"$error":"#REF!"}},1033]
["110503","ICA","ICA","PISCO","HUMAY","Hombre","55-59",{"$f":"'Pob x Genero'!#REF!","v":{"$error":"#REF!"}},1042]
["120206","JUNIN","JUNIN","CONCEPCION","COMAS","Hombre","55-59",{"$f":"'Pob x Genero'!#REF!","v":{"$error":"#REF!"}},1081]
["120424","JUNIN","JUNIN","JAUJA","PANCAN","Hombre","55-59",{"$f":"'Pob x Genero'!#REF!","v":{"$error":"#REF!"}},1120]
["120901","JUNIN","JUNIN","CHUPACA","CHUPACA","Hombre","55-59",{"$f":"'Pob x Genero'!#REF!","v":{"$error":"#REF!"}},1163]
["130106","LA LIBERTAD","LA LIBERTAD","TRUJILLO","LAREDO","Hombre","55-59",{"$f":"'Pob x Genero'!#REF!","v":{"$error":"#REF!"}},1177]
["130604","LA LIBERTAD","LA LIBERTAD","OTUZCO","CHARAT","Hombre","55-59",{"$f":"'Pob x Genero'!#REF!","v":{"$error":"#REF!"}},1207]
["131102","LA LIBERTAD","LA LIBERTAD","GRAN CHIMU","LUCMA","Hombre","55-59",{"$f":"'Pob x Genero'!#REF!","v":{"$error":"#REF!"}},1250]
["140308","LAMBAYEQUE","LAMBAYEQUE","LAMBAYEQUE","OLMOS","Hombre","55-59",{"$f":"'Pob x Genero'!#REF!","v":{"$error":"#REF!"}},1289]
["150106","DIRIS NORTE","LIMA","LIMA","CARABAYLLO","Hombre","55-59",{"$f":"'Pob x Genero'!#REF!","v":{"$error":"#REF!"}},1299]
["150509","LIMA","LIMA","CAÑETE","MALA","Hombre","55-59",{"$f":"'Pob x Genero'!#REF!","v":{"$error":"#REF!"}},1362]
["150607","LIMA","LIMA","HUARAL","LAMPIAN","Hombre","55-59",{"$f":"'Pob x Genero'!#REF!","v":{"$error":"#REF!"}},1376]
["150806","LIMA","LIMA","HUAURA","HUAURA","Hombre","55-59",{"$f":"'Pob x Genero'!#REF!","v":{"$error":"#REF!"}},1419]
["151027","LIMA","LIMA","YAUYOS","SAN PEDRO DE PILAS","Hombre","55-59",{"$f":"'Pob x Genero'!#REF!","v":{"$error":"#REF!"}},1458]
["160104","LORETO","LORETO","MAYNAS","INDIANA","Hombre","55-59",{"$f":"'Pob x Genero'!#REF!","v":{"$error":"#REF!"}},1468]
["160802","LORETO","LORETO","PUTUMAYO","ROSA PANDURO","Hombre","55-59",{"$f":"'Pob x Genero'!#REF!","v":{"$error":"#REF!"}},1515]
["180210","MOQUEGUA","MOQUEGUA","GENERAL SANCHEZ CERRO","UBINAS","Hombre","55-59",{"$f":"'Pob x Genero'!#REF!","v":{"$error":"#REF!"}},1545]
["200115","PIURA","PIURA","PIURA","VEINTISEIS DE OCTUBRE","Hombre","55-59",{"$f":"'Pob x Genero'!#REF!","v":{"$error":"#REF!"}},1588]
["200206","PIURA","PIURA","AYABACA","PACAIPAMPA","Hombre","55-59",{"$f":"'Pob x Genero'!#REF!","v":{"$error":"#REF!"}},1594]
["200702","PIURA","PIURA","TALARA","EL ALTO","Hombre","55-59",{"$f":"'Pob x Genero'!#REF!","v":{"$error":"#REF!"}},1633]
["210210","PUNO","PUNO","AZANGARO","SAMAN","Hombre","55-59",{"$f":"'Pob x Genero'!#REF!","v":{"$error":"#REF!"}},1668]
["210801","PUNO","PUNO","MELGAR","AYAVIRI","Hombre","55-59",{"$f":"'Pob x Genero'!#REF!","v":{"$error":"#REF!"}},1714]
["210902","PUNO","PUNO","MOHO","CONIMA","Hombre","55-59",{"$f":"'Pob x Genero'!#REF!","v":{"$error":"#REF!"}},1724]
["220204","SAN MARTIN","SAN MARTIN","BELLAVISTA","HUALLAGA","Hombre","55-59",{"$f":"'Pob x Genero'!#REF!","v":{"$error":"#REF!"}},1763]
["220801","SAN MARTIN","SAN MARTIN","RIOJA","RIOJA","Hombre","55-59",{"$f":"'Pob x Genero'!#REF!","v":{"$error":"#REF!"}},1803]
["230202","TACNA","TACNA","CANDARAVE","CAIRANI","Hombre","55-59",{"$f":"'Pob x Genero'!#REF!","v":{"$error":"#REF!"}},1844]
["250204","UCAYALI","UCAYALI","ATALAYA","YURUA","Hombre","55-59",{"$f":"'Pob x Genero'!#REF!","v":{"$error":"#REF!"}},1883]
["010102","AMAZONAS","AMAZONAS","CHACHAPOYAS","ASUNCION","Hombre",{"$f":"G22694","v":"60-64"},{"$f":"'Pob x Genero'!#REF!","v":{"$error":"#REF!"}},2]
["010402","AMAZONAS","AMAZONAS","CONDORCANQUI","EL CENEPA","Hombre","60-64",{"$f":"'Pob x Genero'!#REF!","v":{"$error":"#REF!"}},41]
["010523","AMAZONAS","AMAZONAS","LUYA","TRITA","Hombre","60-64",{"$f":"'Pob x Genero'!#REF!","v":{"$error":"#REF!"}},65]
["020513","ANCASH","ANCASH","BOLOGNESI","PACLLON","Hombre","60-64",{"$f":"'Pob x Genero'!#REF!","v":{"$error":"#REF!"}},122]
["020604","ANCASH","ANCASH","CARHUAZ","ANTA","Hombre","60-64",{"$f":"'Pob x Genero'!#REF!","v":{"$error":"#REF!"}},128]
["021102","ANCASH","ANCASH","HUARMEY","COCHAPETI","Hombre","60-64",{"$f":"'Pob x Genero'!#REF!","v":{"$error":"#REF!"}},167]
["021601","ANCASH","ANCASH","POMABAMBA","POMABAMBA","Hombre","60-64",{"$f":"'Pob x Genero'!#REF!","v":{"$error":"#REF!"}},210]
["022008","ANCASH","ANCASH","YUNGAY","YANAMA","Hombre","60-64",{"$f":"'Pob x Genero'!#REF!","v":{"$error":"#REF!"}},250]
["030405","APURIMAC","APURIMAC","AYMARAES","COLCABAMBA","Hombre","60-64",{"$f":"'Pob x Genero'!#REF!","v":{"$error":"#REF!"}},291]
["030411","APURIMAC","APURIMAC","AYMARAES","SAN JUAN DE CHACÑA","Hombre","60-64",{"$f":"'Pob x Genero'!#REF!","v":{"$error":"#REF!"}},297]
["040101","AREQUIPA","AREQUIPA","AREQUIPA","AREQUIPA","Hombre","60-64",{"$f":"'Pob x Genero'!DF9","v":2149},336]
["040307","AREQUIPA","AREQUIPA","CARAVELI","CHALA","Hombre","60-64",{"$f":"'Pob x Genero'!DF52","v":214},379]
["040504","AREQUIPA","AREQUIPA","CAYLLOMA","CALLALLI","Hombre","60-64",{"$f":"'Pob x Genero'!DF76","v":77},403]
["040604","AREQUIPA","AREQUIPA","CONDESUYOS","CHICHAS","Hombre","60-64",{"$f":"'Pob x Genero'!DF96","v":27},423]
["050206","AYACUCHO","AYACUCHO","CANGALLO","TOTOS","Hombre","60-64",{"$f":"'Pob x Genero'!#REF!","v":{"$error":"#REF!"}},466]
["050607","AYACUCHO","AYACUCHO","LUCANAS","HUAC-HUAS","Hombre","60-64",{"$f":"'Pob x Genero'!#REF!","v":{"$error":"#REF!"}},505]
["050901","AYACUCHO","AYACUCHO","SUCRE","QUEROBAMBA","Hombre","60-64",{"$f":"'Pob x Genero'!#REF!","v":{"$error":"#REF!"}},538]
["060302","CAJAMARCA","CAJAMARCA","CELENDIN","CHUMUCH","Hombre","60-64",{"$f":"'Pob x Genero'!#REF!","v":{"$error":"#REF!"}},586]
["060308","CAJAMARCA","CAJAMARCA","CELENDIN","OXAMARCA","Hombre","60-64",{"$f":"'Pob x Genero'!#REF!","v":{"$error":"#REF!"}},592]
["060612","CAJAMARCA","CAJAMARCA","CUTERVO","SANTO DOMINGO DE LA CAPILLA","Hombre","60-64",{"$f":"'Pob x Genero'!#REF!","v":{"$error":"#REF!"}},635]
["061107","CAJAMARCA","CAJAMARCA","SAN MIGUEL","LLAPA","Hombre","60-64",{"$f":"'Pob x Genero'!#REF!","v":{"$error":"#REF!"}},674]
["061307","CAJAMARCA","CAJAMARCA","SANTA CRUZ","PULAN","Hombre","60-64",{"$f":"'Pob x Genero'!#REF!","v":{"$error":"#REF!"}},691]
["080305","CUSCO","CUSCO","ANTA","HUAROCONDO","Hombre","60-64",{"$f":"'Pob x Genero'!#REF!","v":{"$error":"#REF!"}},722]
["080803","CUSCO","CUSCO","ESPINAR","COPORAQUE","Hombre","60-64",{"$f":"'Pob x Genero'!#REF!","v":{"$error":"#REF!"}},761]
["081205","CUSCO","CUSCO","QUISPICANCHI","CCATCA","Hombre","60-64",{"$f":"'Pob x Genero'!#REF!","v":{"$error":"#REF!"}},804]
["090206","HUANCAVELICA","HUANCAVELICA","ACOBAMBA","PAUCARA","Hombre","60-64",{"$f":"'Pob x Genero'!#REF!","v":{"$error":"#REF!"}},843]
["090506","HUANCAVELICA","HUANCAVELICA","CHURCAMPA","LOCROJA","Hombre","60-64",{"$f":"'Pob x Genero'!#REF!","v":{"$error":"#REF!"}},876]
["090610","HUANCAVELICA","HUANCAVELICA","HUAYTARA","SAN ANTONIO DE CUSICANCHA","Hombre","60-64",{"$f":"'Pob x Genero'!#REF!","v":{"$error":"#REF!"}},891]
["100110","HUANUCO","HUANUCO","HUANUCO","YARUMAYO","Hombre","60-64",{"$f":"'Pob x Genero'!#REF!","v":{"$error":"#REF!"}},930]
["100608","HUANUCO","HUANUCO","LEONCIO PRADO","CASTILLO GRANDE","Hombre","60-64",{"$f":"'Pob x Genero'!#REF!","v":{"$error":"#REF!"}},973]
["110107","ICA","ICA","ICA","PUEBLO NUEVO","Hombre","60-64",{"$f":"'Pob x Genero'!#REF!","v":{"$error":"#REF!"}},1011]
["110113","ICA","ICA","ICA","TATE","Hombre","60-64",{"$f":"'Pob x Genero'!#REF!","v":{"$error":"#REF!"}},1017]
["120119","JUNIN","JUNIN","HUANCAYO","HUANCAN","Hombre","60-64",{"$f":"'Pob x Genero'!#REF!","v":{"$error":"#REF!"}},1060]
["120403","JUNIN","JUNIN","JAUJA","APATA","Hombre","60-64",{"$f":"'Pob x Genero'!#REF!","v":{"$error":"#REF!"}},1099]
["120608","JUNIN","JUNIN","SATIPO","RIO TAMBO","Hombre","60-64",{"$f":"'Pob x Genero'!#REF!","v":{"$error":"#REF!"}},1142]
["120902","JUNIN","JUNIN","CHUPACA","AHUAC","Hombre","60-64",{"$f":"'Pob x Genero'!#REF!","v":{"$error":"#REF!"}},1164]
["130203","LA LIBERTAD","LA LIBERTAD","ASCOPE","CHOCOPE","Hombre","60-64",{"$f":"'Pob x Genero'!#REF!","v":{"$error":"#REF!"}},1186]
["130810","LA LIBERTAD","LA LIBERTAD","PATAZ","PIAS","Hombre","60-64",{"$f":"'Pob x Genero'!#REF!","v":{"$error":"#REF!"}},1229]
["140113","LAMBAYEQUE","LAMBAYEQUE","CHICLAYO","REQUE","Hombre","60-64",{"$f":"'Pob x Genero'!#REF!","v":{"$error":"#REF!"}},1268]
["150114","DIRIS ESTE","LIMA","LIMA","LA MOLINA","Hombre","60-64",{"$f":"'Pob x Genero'!#REF!","v":{"$error":"#REF!"}},1307]
["150124","DIRIS SUR","LIMA","LIMA","PUCUSANA","Hombre","60-64",{"$f":"'Pob x Genero'!#REF!","v":{"$error":"#REF!"}},1317]
["150502","LIMA","LIMA","CAÑETE","ASIA","Hombre","60-64",{"$f":"'Pob x Genero'!#REF!","v":{"$error":"#REF!"}},1355]
["150717","LIMA","LIMA","HUAROCHIRI","SAN BARTOLOME","Hombre","60-64",{"$f":"'Pob x Genero'!#REF!","v":{"$error":"#REF!"}},1398]
["151006","LIMA","LIMA","YAUYOS","CACRA","Hombre","60-64",{"$f":"'Pob x Genero'!#REF!","v":{"$error":"#REF!"}},1437]
["151012","LIMA","LIMA","YAUYOS","HONGOS","Hombre","60-64",{"$f":"'Pob x Genero'!#REF!","v":{"$error":"#REF!"}},1443]
["160601","LORETO","LORETO","UCAYALI","CONTAMANA","Hombre","60-64",{"$f":"'Pob x Genero'!#REF!","v":{"$error":"#REF!"}},1502]
["170203","MADRE DE DIOS","MADRE DE DIOS","MANU","MADRE DE DIOS","Hombre","60-64",{"$f":"'Pob x Genero'!#REF!","v":{"$error":"#REF!"}},1524]
["190201","PASCO","PASCO","DANIEL ALCIDES CARRION","YANAHUANCA","Hombre","60-64",{"$f":"'Pob x Genero'!#REF!","v":{"$error":"#REF!"}},1563]
["190303","PASCO","PASCO","OXAPAMPA","HUANCABAMBA","Hombre","60-64",{"$f":"'Pob x Genero'!#REF!","v":{"$error":"#REF!"}},1573]
["200307","PIURA","PIURA","HUANCABAMBA","SONDOR","Hombre","60-64",{"$f":"'Pob x Genero'!#REF!","v":{"$error":"#REF!"}},1605]
["210111","PUNO","PUNO","PUNO","PICHACANI","Hombre","60-64",{"$f":"'Pob x Genero'!#REF!","v":{"$error":"#REF!"}},1654]
["210503","PUNO","PUNO","EL COLLAO","PILCUYO","Hombre","60-64",{"$f":"'Pob x Genero'!#REF!","v":{"$error":"#REF!"}},1693]
["211101","PUNO","PUNO","SAN ROMAN","JULIACA","Hombre","60-64",{"$f":"'Pob x Genero'!#REF!","v":{"$error":"#REF!"}},1732]
["211206","PUNO","PUNO","SANDIA","QUIACA","Hombre","60-64",{"$f":"'Pob x Genero'!#REF!","v":{"$error":"#REF!"}},1742]
["220603","SAN MARTIN","SAN MARTIN","MARISCAL CACERES","HUICUNGO","Hombre","60-64",{"$f":"'Pob x Genero'!#REF!","v":{"$error":"#REF!"}},1790]
["220912","SAN MARTIN","SAN MARTIN","SAN MARTIN","SAN ANTONIO","Hombre","60-64",{"$f":"'Pob x Genero'!#REF!","v":{"$error":"#REF!"}},1823]
["240103","TUMBES","TUMBES","TUMBES","LA CRUZ","Hombre","60-64",{"$f":"'Pob x Genero'!#REF!","v":{"$error":"#REF!"}},1862]
["240203","TUMBES","TUMBES","CONTRALMIRANTE VILLAR","CANOAS DE PUNTA SAL","Hombre","60-64",{"$f":"'Pob x Genero'!#REF!","v":{"$error":"#REF!"}},1868]
["010120","AMAZONAS","AMAZONAS","CHACHAPOYAS","SOLOCO","Hombre","65-69",{"$f":"'Pob x Genero'!#REF!","v":{"$error":"#REF!"}},20]
["010510","AMAZONAS","AMAZONAS","LUYA","LUYA VIEJO","Hombre","65-69",{"$f":"'Pob x Genero'!#REF!","v":{"$error":"#REF!"}},52]
["020201","ANCASH","ANCASH","AIJA","AIJA","Hombre","65-69",{"$f":"'Pob x Genero'!#REF!","v":{"$error":"#REF!"}},97]
["020306","ANCASH","ANCASH","ANTONIO RAYMONDI","SAN JUAN DE RONTOY","Hombre","65-69",{"$f":"'Pob x Genero'!#REF!","v":{"$error":"#REF!"}},107]
["020904","ANCASH","ANCASH","CORONGO","CUSCA","Hombre","65-69",{"$f":"'Pob x Genero'!#REF!","v":{"$error":"#REF!"}},146]
["021401","ANCASH","ANCASH","OCROS","OCROS","Hombre","65-69",{"$f":"'Pob x Genero'!#REF!","v":{"$error":"#REF!"}},189]
["021507","ANCASH","ANCASH","PALLASCA","LLAPO","Hombre","65-69",{"$f":"'Pob x Genero'!#REF!","v":{"$error":"#REF!"}},205]
["030207","APURIMAC","APURIMAC","ANDAHUAYLAS","KISHUARA","Hombre","65-69",{"$f":"'Pob x Genero'!#REF!","v":{"$error":"#REF!"}},266]
["030217","APURIMAC","APURIMAC","ANDAHUAYLAS","TUMAY HUARACA","Hombre","65-69",{"$f":"'Pob x Genero'!#REF!","v":{"$error":"#REF!"}},276]
["030606","APURIMAC","APURIMAC","CHINCHEROS","ONGOY","Hombre","65-69",{"$f":"'Pob x Genero'!#REF!","v":{"$error":"#REF!"}},315]
["040105","AREQUIPA","AREQUIPA","AREQUIPA","CHARACATO","Hombre","65-69",{"$f":"'Pob x Genero'!DG13","v":341},340]
["040411","AREQUIPA","AREQUIPA","CASTILLA","TIPAN","Hombre","65-69",{"$f":"'Pob x Genero'!DG69","v":11},396]
["040503","AREQUIPA","AREQUIPA","CAYLLOMA","CABANACONDE","Hombre","65-69",{"$f":"'Pob x Genero'!DG75","v":91},402]
["050101","AYACUCHO","AYACUCHO","HUAMANGA","AYACUCHO","Hombre","65-69",{"$f":"'Pob x Genero'!#REF!","v":{"$error":"#REF!"}},445]
["050501","AYACUCHO","AYACUCHO","LA MAR","SAN MIGUEL","Hombre","65-69",{"$f":"'Pob x Genero'!#REF!","v":{"$error":"#REF!"}},484]
["050706","AYACUCHO","AYACUCHO","PARINACOCHAS","PUYUSCA","Hombre","65-69",{"$f":"'Pob x Genero'!#REF!","v":{"$error":"#REF!"}},525]
["050805","AYACUCHO","AYACUCHO","PAUCAR DEL SARA SARA","MARCABAMBA","Hombre","65-69",{"$f":"'Pob x Genero'!#REF!","v":{"$error":"#REF!"}},532]
["060103","CAJAMARCA","CAJAMARCA","CAJAMARCA","CHETILLA","Hombre","65-69",{"$f":"'Pob x Genero'!#REF!","v":{"$error":"#REF!"}},571]
["060418","CAJAMARCA","CAJAMARCA","CHOTA","TOCMOCHE","Hombre","65-69",{"$f":"'Pob x Genero'!#REF!","v":{"$error":"#REF!"}},614]
["060812","CAJAMARCA","CAJAMARCA","JAEN","SANTA ROSA","Hombre","65-69",{"$f":"'Pob x Genero'!#REF!","v":{"$error":"#REF!"}},653]
["061111","CAJAMARCA","CAJAMARCA","SAN MIGUEL","SAN SILVESTRE DE COCHAN","Hombre","65-69",{"$f":"'Pob x Genero'!#REF!","v":{"$error":"#REF!"}},678]
["070106","CALLAO","CALLAO","CALLAO","VENTANILLA","Hombre","65-69",{"$f":"'Pob x Genero'!#REF!","v":{"$error":"#REF!"}},701]
["080506","CUSCO","CUSCO","CANAS","PAMPAMARCA","Hombre","65-69",{"$f":"'Pob x Genero'!#REF!","v":{"$error":"#REF!"}},740]
["080913","CUSCO","CUSCO","LA CONVENCION","VILLA KINTIARINA","Hombre","65-69",{"$f":"'Pob x Genero'!#REF!","v":{"$error":"#REF!"}},779]
["081302","CUSCO","CUSCO","URUBAMBA","CHINCHERO","Hombre","65-69",{"$f":"'Pob x Genero'!#REF!","v":{"$error":"#REF!"}},813]
["090109","HUANCAVELICA","HUANCAVELICA","HUANCAVELICA","LARIA","Hombre","65-69",{"$f":"'Pob x Genero'!#REF!","v":{"$error":"#REF!"}},827]
["090413","HUANCAVELICA","HUANCAVELICA","CASTROVIRREYNA","TICRAPO","Hombre","65-69",{"$f":"'Pob x Genero'!#REF!","v":{"$error":"#REF!"}},870]
["090714","HUANCAVELICA","HUANCAVELICA","TAYACAJA","SALCABAMBA","Hombre","65-69",{"$f":"'Pob x Genero'!#REF!","v":{"$error":"#REF!"}},909]
["100321","HUANUCO","HUANUCO","DOS DE MAYO","SHUNQUI","Hombre","65-69",{"$f":"'Pob x Genero'!#REF!","v":{"$error":"#REF!"}},948]
["100601","HUANUCO","HUANUCO","LEONCIO PRADO","RUPA-RUPA","Hombre","65-69",{"$f":"'Pob x Genero'!#REF!","v":{"$error":"#REF!"}},966]
["101007","HUANUCO","HUANUCO","LAURICOCHA","SAN MIGUEL DE CAURI","Hombre","65-69",{"$f":"'Pob x Genero'!#REF!","v":{"$error":"#REF!"}},996]
["110405","ICA","ICA","PALPA","TIBILLO","Hombre","65-69",{"$f":"'Pob x Genero'!#REF!","v":{"$error":"#REF!"}},1039]
["120203","JUNIN","JUNIN","CONCEPCION","ANDAMARCA","Hombre","65-69",{"$f":"'Pob x Genero'!#REF!","v":{"$error":"#REF!"}},1078]
["120421","JUNIN","JUNIN","JAUJA","MUQUIYAUYO","Hombre","65-69",{"$f":"'Pob x Genero'!#REF!","v":{"$error":"#REF!"}},1117]
["120708","JUNIN","JUNIN","TARMA","SAN PEDRO DE CAJAS","Hombre","65-69",{"$f":"'Pob x Genero'!#REF!","v":{"$error":"#REF!"}},1151]
["120903","JUNIN","JUNIN","CHUPACA","CHONGOS BAJO","Hombre","65-69",{"$f":"'Pob x Genero'!#REF!","v":{"$error":"#REF!"}},1165]
["130504","LA LIBERTAD","LA LIBERTAD","JULCAN","HUASO","Hombre","65-69",{"$f":"'Pob x Genero'!#REF!","v":{"$error":"#REF!"}},1204]
["131007","LA LIBERTAD","LA LIBERTAD","SANTIAGO DE CHUCO","SANTA CRUZ DE CHUCA","Hombre","65-69",{"$f":"'Pob x Genero'!#REF!","v":{"$error":"#REF!"}},1247]
["140305","LAMBAYEQUE","LAMBAYEQUE","LAMBAYEQUE","MOCHUMI","Hombre","65-69",{"$f":"'Pob x Genero'!#REF!","v":{"$error":"#REF!"}},1286]
["150111","DIRIS ESTE","LIMA","LIMA","EL AGUSTINO","Hombre","65-69",{"$f":"'Pob x Genero'!#REF!","v":{"$error":"#REF!"}},1304]
["150141","DIRIS CENTRO","LIMA","LIMA","SURQUILLO","Hombre","65-69",{"$f":"'Pob x Genero'!#REF!","v":{"$error":"#REF!"}},1334]
["150604","LIMA","LIMA","HUARAL","AUCALLAMA","Hombre","65-69",{"$f":"'Pob x Genero'!#REF!","v":{"$error":"#REF!"}},1373]
["150803","LIMA","LIMA","HUAURA","CALETA DE CARQUIN","Hombre","65-69",{"$f":"'Pob x Genero'!#REF!","v":{"$error":"#REF!"}},1416]
["151008","LIMA","LIMA","YAUYOS","CATAHUASI","Hombre","65-69",{"$f":"'Pob x Genero'!#REF!","v":{"$error":"#REF!"}},1439]
["151029","LIMA","LIMA","YAUYOS","TAURIPAMPA","Hombre","65-69",{"$f":"'Pob x Genero'!#REF!","v":{"$error":"#REF!"}},1460]
["160602","LORETO","LORETO","UCAYALI","INAHUAYA","Hombre","65-69",{"$f":"'Pob x Genero'!#REF!","v":{"$error":"#REF!"}},1503]
["180207","MOQUEGUA","MOQUEGUA","GENERAL SANCHEZ CERRO","MATALAQUE","Hombre","65-69",{"$f":"'Pob x Genero'!#REF!","v":{"$error":"#REF!"}},1542]
["190103","PASCO","PASCO","PASCO","HUARIACA","Hombre","65-69",{"$f":"'Pob x Genero'!#REF!","v":{"$error":"#REF!"}},1552]
["200204","PIURA","PIURA","AYABACA","LAGUNAS","Hombre","65-69",{"$f":"'Pob x Genero'!#REF!","v":{"$error":"#REF!"}},1592]
["200606","PIURA","PIURA","SULLANA","MIGUEL CHECA","Hombre","65-69",{"$f":"'Pob x Genero'!#REF!","v":{"$error":"#REF!"}},1629]
["210214","PUNO","PUNO","AZANGARO","SANTIAGO DE PUPUJA","Hombre","65-69",{"$f":"'Pob x Genero'!#REF!","v":{"$error":"#REF!"}},1672]
["210708","PUNO","PUNO","LAMPA","PUCARA","Hombre","65-69",{"$f":"'Pob x Genero'!#REF!","v":{"$error":"#REF!"}},1711]
["210808","PUNO","PUNO","MELGAR","SANTA ROSA","Hombre","65-69",{"$f":"'Pob x Genero'!#REF!","v":{"$error":"#REF!"}},1721]
["220501","SAN MARTIN","SAN MARTIN","LAMAS","LAMAS","Hombre","65-69",{"$f":"'Pob x Genero'!#REF!","v":{"$error":"#REF!"}},1777]
["220706","SAN MARTIN","SAN MARTIN","PICOTA","SAN CRISTOBAL","Hombre","65-69",{"$f":"'Pob x Genero'!#REF!","v":{"$error":"#REF!"}},1798]
["230110","TACNA","TACNA","TACNA","CORONEL GREGORIO ALBARRACIN LANCHIPA","Hombre","65-69",{"$f":"'Pob x Genero'!#REF!","v":{"$error":"#REF!"}},1841]
["230205","TACNA","TACNA","CANDARAVE","HUANUARA","Hombre","65-69",{"$f":"'Pob x Genero'!#REF!","v":{"$error":"#REF!"}},1847]
["250303","UCAYALI","UCAYALI","PADRE ABAD","CURIMANA","Hombre","65-69",{"$f":"'Pob x Genero'!#REF!","v":{"$error":"#REF!"}},1886]
["010312","AMAZONAS","AMAZONAS","BONGARA","YAMBRASBAMBA","Hombre","70-74",{"$f":"'Pob x Genero'!#REF!","v":{"$error":"#REF!"}},39]
["010611","AMAZONAS","AMAZONAS","RODRIGUEZ DE MENDOZA","TOTORA","Hombre","70-74",{"$f":"'Pob x Genero'!#REF!","v":{"$error":"#REF!"}},76]
["020102","ANCASH","ANCASH","HUARAZ","COCHABAMBA","Hombre","70-74",{"$f":"'Pob x Genero'!#REF!","v":{"$error":"#REF!"}},86]
["020601","ANCASH","ANCASH","CARHUAZ","CARHUAZ","Hombre","70-74",{"$f":"'Pob x Genero'!#REF!","v":{"$error":"#REF!"}},125]
["021204","ANCASH","ANCASH","HUAYLAS","HUAYLAS","Hombre","70-74",{"$f":"'Pob x Genero'!#REF!","v":{"$error":"#REF!"}},174]
["021508","ANCASH","ANCASH","PALLASCA","PALLASCA","Hombre","70-74",{"$f":"'Pob x Genero'!#REF!","v":{"$error":"#REF!"}},206]
["022003","ANCASH","ANCASH","YUNGAY","MANCOS","Hombre","70-74",{"$f":"'Pob x Genero'!#REF!","v":{"$error":"#REF!"}},245]
["030105","APURIMAC","APURIMAC","ABANCAY","HUANIPACA","Hombre","70-74",{"$f":"'Pob x Genero'!#REF!","v":{"$error":"#REF!"}},255]
["030408","APURIMAC","APURIMAC","AYMARAES","JUSTO APU SAHUARAURA","Hombre","70-74",{"$f":"'Pob x Genero'!#REF!","v":{"$error":"#REF!"}},294]
["030706","APURIMAC","APURIMAC","GRAU","MICAELA BASTIDAS","Hombre","70-74",{"$f":"'Pob x Genero'!#REF!","v":{"$error":"#REF!"}},327]
["040303","AREQUIPA","AREQUIPA","CARAVELI","ATICO","Hombre","70-74",{"$f":"'Pob x Genero'!DH48","v":84},375]
["040309","AREQUIPA","AREQUIPA","CARAVELI","HUANUHUANU","Hombre","70-74",{"$f":"'Pob x Genero'!DH54","v":16},381]
["040601","AREQUIPA","AREQUIPA","CONDESUYOS","CHUQUIBAMBA","Hombre","70-74",{"$f":"'Pob x Genero'!DH93","v":85},420]
["050203","AYACUCHO","AYACUCHO","CANGALLO","LOS MOROCHUCOS","Hombre","70-74",{"$f":"'Pob x Genero'!#REF!","v":{"$error":"#REF!"}},463]
["050410","AYACUCHO","AYACUCHO","HUANTA","UCHURACCAY","Hombre","70-74",{"$f":"'Pob x Genero'!#REF!","v":{"$error":"#REF!"}},480]
["050613","AYACUCHO","AYACUCHO","LUCANAS","OTOCA","Hombre","70-74",{"$f":"'Pob x Genero'!#REF!","v":{"$error":"#REF!"}},511]
["051002","AYACUCHO","AYACUCHO","VICTOR FAJARDO","ALCAMENCA","Hombre","70-74",{"$f":"'Pob x Genero'!#REF!","v":{"$error":"#REF!"}},550]
["060305","CAJAMARCA","CAJAMARCA","CELENDIN","JORGE CHAVEZ","Hombre","70-74",{"$f":"'Pob x Genero'!#REF!","v":{"$error":"#REF!"}},589]
["060419","CAJAMARCA","CAJAMARCA","CHOTA","CHALAMARCA","Hombre","70-74",{"$f":"'Pob x Genero'!#REF!","v":{"$error":"#REF!"}},615]
["061103","CAJAMARCA","CAJAMARCA","SAN MIGUEL","CALQUIS","Hombre","70-74",{"$f":"'Pob x Genero'!#REF!","v":{"$error":"#REF!"}},670]
["061109","CAJAMARCA","CAJAMARCA","SAN MIGUEL","NIEPOS","Hombre","70-74",{"$f":"'Pob x Genero'!#REF!","v":{"$error":"#REF!"}},676]
["080302","CUSCO","CUSCO","ANTA","ANCAHUASI","Hombre","70-74",{"$f":"'Pob x Genero'!#REF!","v":{"$error":"#REF!"}},719]
["080708","CUSCO","CUSCO","CHUMBIVILCAS","VELILLE","Hombre","70-74",{"$f":"'Pob x Genero'!#REF!","v":{"$error":"#REF!"}},758]
["081201","CUSCO","CUSCO","QUISPICANCHI","URCOS","Hombre","70-74",{"$f":"'Pob x Genero'!#REF!","v":{"$error":"#REF!"}},800]
["081207","CUSCO","CUSCO","QUISPICANCHI","HUARO","Hombre","70-74",{"$f":"'Pob x Genero'!#REF!","v":{"$error":"#REF!"}},806]
["090208","HUANCAVELICA","HUANCAVELICA","ACOBAMBA","ROSARIO","Hombre","70-74",{"$f":"'Pob x Genero'!#REF!","v":{"$error":"#REF!"}},845]
["090607","HUANCAVELICA","HUANCAVELICA","HUAYTARA","PILPICHACA","Hombre","70-74",{"$f":"'Pob x Genero'!#REF!","v":{"$error":"#REF!"}},888]
["100107","HUANUCO","HUANUCO","HUANUCO","SAN FRANCISCO DE CAYRAN","Hombre","70-74",{"$f":"'Pob x Genero'!#REF!","v":{"$error":"#REF!"}},927]
["100403","HUANUCO","HUANUCO","HUACAYBAMBA","COCHABAMBA","Hombre","70-74",{"$f":"'Pob x Genero'!#REF!","v":{"$error":"#REF!"}},953]
["100610","HUANUCO","HUANUCO","LEONCIO PRADO","SANTO DOMINGO DE ANDA","Hombre","70-74",{"$f":"'Pob x Genero'!#REF!","v":{"$error":"#REF!"}},975]
["110110","ICA","ICA","ICA","SAN JUAN BAUTISTA","Hombre","70-74",{"$f":"'Pob x Genero'!#REF!","v":{"$error":"#REF!"}},1014]
["120114","JUNIN","JUNIN","HUANCAYO","EL TAMBO","Hombre","70-74",{"$f":"'Pob x Genero'!#REF!","v":{"$error":"#REF!"}},1057]
["120306","JUNIN","JUNIN","CHANCHAMAYO","VITOC","Hombre","70-74",{"$f":"'Pob x Genero'!#REF!","v":{"$error":"#REF!"}},1096]
["120410","JUNIN","JUNIN","JAUJA","HUERTAS","Hombre","70-74",{"$f":"'Pob x Genero'!#REF!","v":{"$error":"#REF!"}},1106]
["120701","JUNIN","JUNIN","TARMA","TARMA","Hombre","70-74",{"$f":"'Pob x Genero'!#REF!","v":{"$error":"#REF!"}},1144]
["130112","LA LIBERTAD","LA LIBERTAD","TRUJILLO","ALTO TRUJILLO","Hombre","70-74",{"$f":"'Pob x Genero'!#REF!","v":{"$error":"#REF!"}},1183]
["130807","LA LIBERTAD","LA LIBERTAD","PATAZ","ONGON","Hombre","70-74",{"$f":"'Pob x Genero'!#REF!","v":{"$error":"#REF!"}},1226]
["131001","LA LIBERTAD","LA LIBERTAD","SANTIAGO DE CHUCO","SANTIAGO DE CHUCO","Hombre","70-74",{"$f":"'Pob x Genero'!#REF!","v":{"$error":"#REF!"}},1241]
["140115","LAMBAYEQUE","LAMBAYEQUE","CHICLAYO","SAÑA","Hombre","70-74",{"$f":"'Pob x Genero'!#REF!","v":{"$error":"#REF!"}},1270]
["150120","DIRIS CENTRO","LIMA","LIMA","MAGDALENA DEL MAR","Hombre","70-74",{"$f":"'Pob x Genero'!#REF!","v":{"$error":"#REF!"}},1313]
["150406","LIMA","LIMA","CANTA","SAN BUENAVENTURA","Hombre","70-74",{"$f":"'Pob x Genero'!#REF!","v":{"$error":"#REF!"}},1352]
["150710","LIMA","LIMA","HUAROCHIRI","LAHUAYTAMBO","Hombre","70-74",{"$f":"'Pob x Genero'!#REF!","v":{"$error":"#REF!"}},1391]
["150901","LIMA","LIMA","OYON","OYON","Hombre","70-74",{"$f":"'Pob x Genero'!#REF!","v":{"$error":"#REF!"}},1426]
["151008","LIMA","LIMA","YAUYOS","CATAHUASI","Hombre","70-74",{"$f":"'Pob x Genero'!#REF!","v":{"$error":"#REF!"}},1439]
["160301","LORETO","LORETO","LORETO","NAUTA","Hombre","70-74",{"$f":"'Pob x Genero'!#REF!","v":{"$error":"#REF!"}},1482]
["170104","MADRE DE DIOS","MADRE DE DIOS","TAMBOPATA","LABERINTO","Hombre","70-74",{"$f":"'Pob x Genero'!#REF!","v":{"$error":"#REF!"}},1521]
["170302","MADRE DE DIOS","MADRE DE DIOS","TAHUAMANU","IBERIA","Hombre","70-74",{"$f":"'Pob x Genero'!#REF!","v":{"$error":"#REF!"}},1527]
["200101","PIURA","PIURA","PIURA","PIURA","Hombre","70-74",{"$f":"'Pob x Genero'!#REF!","v":{"$error":"#REF!"}},1579]
["200402","PIURA","PIURA","MORROPON","BUENOS AIRES","Hombre","70-74",{"$f":"'Pob x Genero'!#REF!","v":{"$error":"#REF!"}},1608]
["210108","PUNO","PUNO","PUNO","HUATA","Hombre","70-74",{"$f":"'Pob x Genero'!#REF!","v":{"$error":"#REF!"}},1651]
["210407","PUNO","PUNO","CHUCUITO","ZEPITA","Hombre","70-74",{"$f":"'Pob x Genero'!#REF!","v":{"$error":"#REF!"}},1690]
["210601","PUNO","PUNO","HUANCANE","HUANCANE","Hombre","70-74",{"$f":"'Pob x Genero'!#REF!","v":{"$error":"#REF!"}},1696]
["211101","PUNO","PUNO","SAN ROMAN","JULIACA","Hombre","70-74",{"$f":"'Pob x Genero'!#REF!","v":{"$error":"#REF!"}},1732]
["220501","SAN MARTIN","SAN MARTIN","LAMAS","LAMAS","Hombre","70-74",{"$f":"'Pob x Genero'!#REF!","v":{"$error":"#REF!"}},1777]
["220905","SAN MARTIN","SAN MARTIN","SAN MARTIN","CHIPURANA","Hombre","70-74",{"$f":"'Pob x Genero'!#REF!","v":{"$error":"#REF!"}},1816]
["221001","SAN MARTIN","SAN MARTIN","TOCACHE","TOCACHE","Hombre","70-74",{"$f":"'Pob x Genero'!#REF!","v":{"$error":"#REF!"}},1826]
["240202","TUMBES","TUMBES","CONTRALMIRANTE VILLAR","CASITAS","Hombre","70-74",{"$f":"'Pob x Genero'!#REF!","v":{"$error":"#REF!"}},1867]
["010116","AMAZONAS","AMAZONAS","CHACHAPOYAS","OLLEROS","Hombre","75-79",{"$f":"'Pob x Genero'!#REF!","v":{"$error":"#REF!"}},16]
["010513","AMAZONAS","AMAZONAS","LUYA","OCUMAL","Hombre","75-79",{"$f":"'Pob x Genero'!#REF!","v":{"$error":"#REF!"}},55]
["020110","ANCASH","ANCASH","HUARAZ","PARIACOTO","Hombre","75-79",{"$f":"'Pob x Genero'!#REF!","v":{"$error":"#REF!"}},94]
["020303","ANCASH","ANCASH","ANTONIO RAYMONDI","CHACCHO","Hombre","75-79",{"$f":"'Pob x Genero'!#REF!","v":{"$error":"#REF!"}},104]
["020605","ANCASH","ANCASH","CARHUAZ","ATAQUERO","Hombre","75-79",{"$f":"'Pob x Genero'!#REF!","v":{"$error":"#REF!"}},129]
["021305","ANCASH","ANCASH","MARISCAL LUZURIAGA","LLAMA","Hombre","75-79",{"$f":"'Pob x Genero'!#REF!","v":{"$error":"#REF!"}},185]
["021801","ANCASH","ANCASH","SANTA","CHIMBOTE","Hombre","75-79",{"$f":"'Pob x Genero'!#REF!","v":{"$error":"#REF!"}},224]
["021807","ANCASH","ANCASH","SANTA","SAMANCO","Hombre","75-79",{"$f":"'Pob x Genero'!#REF!","v":{"$error":"#REF!"}},230]
["030214","APURIMAC","APURIMAC","ANDAHUAYLAS","SAN MIGUEL DE CHACCRAMPA","Hombre","75-79",{"$f":"'Pob x Genero'!#REF!","v":{"$error":"#REF!"}},273]
["030605","APURIMAC","APURIMAC","CHINCHEROS","OCOBAMBA","Hombre","75-79",{"$f":"'Pob x Genero'!#REF!","v":{"$error":"#REF!"}},314]
["040115","AREQUIPA","AREQUIPA","AREQUIPA","QUEQUEÑA","Hombre","75-79",{"$f":"'Pob x Genero'!DI23","v":119},350]
["040125","AREQUIPA","AREQUIPA","AREQUIPA","VITOR","Hombre","75-79",{"$f":"'Pob x Genero'!DI33","v":56},360]
["040414","AREQUIPA","AREQUIPA","CASTILLA","VIRACO","Hombre","75-79",{"$f":"'Pob x Genero'!DI72","v":40},399]
["050105","AYACUCHO","AYACUCHO","HUAMANGA","CHIARA","Hombre","75-79",{"$f":"'Pob x Genero'!#REF!","v":{"$error":"#REF!"}},449]
["050410","AYACUCHO","AYACUCHO","HUANTA","UCHURACCAY","Hombre","75-79",{"$f":"'Pob x Genero'!#REF!","v":{"$error":"#REF!"}},480]
["050621","AYACUCHO","AYACUCHO","LUCANAS","SANTA LUCIA","Hombre","75-79",{"$f":"'Pob x Genero'!#REF!","v":{"$error":"#REF!"}},519]
["050802","AYACUCHO","AYACUCHO","PAUCAR DEL SARA SARA","COLTA","Hombre","75-79",{"$f":"'Pob x Genero'!#REF!","v":{"$error":"#REF!"}},529]
["051108","AYACUCHO","AYACUCHO","VILCAS HUAMAN","VISCHONGO","Hombre","75-79",{"$f":"'Pob x Genero'!#REF!","v":{"$error":"#REF!"}},568]
["060406","CAJAMARCA","CAJAMARCA","CHOTA","CHOROPAMPA","Hombre","75-79",{"$f":"'Pob x Genero'!#REF!","v":{"$error":"#REF!"}},602]
["060808","CAJAMARCA","CAJAMARCA","JAEN","PUCARA","Hombre","75-79",{"$f":"'Pob x Genero'!#REF!","v":{"$error":"#REF!"}},649]
["060902","CAJAMARCA","CAJAMARCA","SAN IGNACIO","CHIRINOS","Hombre","75-79",{"$f":"'Pob x Genero'!#REF!","v":{"$error":"#REF!"}},655]
["070103","CALLAO","CALLAO","CALLAO","CARMEN DE LA LEGUA REYNOSO","Hombre","75-79",{"$f":"'Pob x Genero'!#REF!","v":{"$error":"#REF!"}},698]
["080503","CUSCO","CUSCO","CANAS","KUNTURKANKI","Hombre","75-79",{"$f":"'Pob x Genero'!#REF!","v":{"$error":"#REF!"}},737]
["080705","CUSCO","CUSCO","CHUMBIVILCAS","LIVITACA","Hombre","75-79",{"$f":"'Pob x Genero'!#REF!","v":{"$error":"#REF!"}},755]
["081001","CUSCO","CUSCO","PARURO","PARURO","Hombre","75-79",{"$f":"'Pob x Genero'!#REF!","v":{"$error":"#REF!"}},785]
["090106","HUANCAVELICA","HUANCAVELICA","HUANCAVELICA","HUACHOCOLPA","Hombre","75-79",{"$f":"'Pob x Genero'!#REF!","v":{"$error":"#REF!"}},824]
["090410","HUANCAVELICA","HUANCAVELICA","CASTROVIRREYNA","SAN JUAN","Hombre","75-79",{"$f":"'Pob x Genero'!#REF!","v":{"$error":"#REF!"}},867]
["090710","HUANCAVELICA","HUANCAVELICA","TAYACAJA","ÑAHUIMPUQUIO","Hombre","75-79",{"$f":"'Pob x Genero'!#REF!","v":{"$error":"#REF!"}},906]
["100207","HUANUCO","HUANUCO","AMBO","SAN RAFAEL","Hombre","75-79",{"$f":"'Pob x Genero'!#REF!","v":{"$error":"#REF!"}},940]
["100404","HUANUCO","HUANUCO","HUACAYBAMBA","PINRA","Hombre","75-79",{"$f":"'Pob x Genero'!#REF!","v":{"$error":"#REF!"}},954]
["101004","HUANUCO","HUANUCO","LAURICOCHA","QUEROPALCA","Hombre","75-79",{"$f":"'Pob x Genero'!#REF!","v":{"$error":"#REF!"}},993]
["110303","ICA","ICA","NAZCA","EL INGENIO","Hombre","75-79",{"$f":"'Pob x Genero'!#REF!","v":{"$error":"#REF!"}},1032]
["120136","JUNIN","JUNIN","HUANCAYO","VIQUES","Hombre","75-79",{"$f":"'Pob x Genero'!#REF!","v":{"$error":"#REF!"}},1075]
["120205","JUNIN","JUNIN","CONCEPCION","COCHAS","Hombre","75-79",{"$f":"'Pob x Genero'!#REF!","v":{"$error":"#REF!"}},1080]
["120427","JUNIN","JUNIN","JAUJA","RICRAN","Hombre","75-79",{"$f":"'Pob x Genero'!#REF!","v":{"$error":"#REF!"}},1123]
["120810","JUNIN","JUNIN","YAULI","YAULI","Hombre","75-79",{"$f":"'Pob x Genero'!#REF!","v":{"$error":"#REF!"}},1162]
["130501","LA LIBERTAD","LA LIBERTAD","JULCAN","JULCAN","Hombre","75-79",{"$f":"'Pob x Genero'!#REF!","v":{"$error":"#REF!"}},1201]
["130809","LA LIBERTAD","LA LIBERTAD","PATAZ","PATAZ","Hombre","75-79",{"$f":"'Pob x Genero'!#REF!","v":{"$error":"#REF!"}},1228]
["131101","LA LIBERTAD","LA LIBERTAD","GRAN CHIMU","CASCAS","Hombre","75-79",{"$f":"'Pob x Genero'!#REF!","v":{"$error":"#REF!"}},1249]
["140307","LAMBAYEQUE","LAMBAYEQUE","LAMBAYEQUE","MOTUPE","Hombre","75-79",{"$f":"'Pob x Genero'!#REF!","v":{"$error":"#REF!"}},1288]
["150138","DIRIS SUR","LIMA","LIMA","SANTA MARIA DEL MAR","Hombre","75-79",{"$f":"'Pob x Genero'!#REF!","v":{"$error":"#REF!"}},1331]
["150601","LIMA","LIMA","HUARAL","HUARAL","Hombre","75-79",{"$f":"'Pob x Genero'!#REF!","v":{"$error":"#REF!"}},1370]
["150612","LIMA","LIMA","HUARAL","VEINTISIETE DE NOVIEMBRE","Hombre","75-79",{"$f":"'Pob x Genero'!#REF!","v":{"$error":"#REF!"}},1381]
["150805","LIMA","LIMA","HUAURA","HUALMAY","Hombre","75-79",{"$f":"'Pob x Genero'!#REF!","v":{"$error":"#REF!"}},1418]
["151026","LIMA","LIMA","YAUYOS","SAN JOAQUIN","Hombre","75-79",{"$f":"'Pob x Genero'!#REF!","v":{"$error":"#REF!"}},1457]
["160510","LORETO","LORETO","REQUENA","JENARO HERRERA","Hombre","75-79",{"$f":"'Pob x Genero'!#REF!","v":{"$error":"#REF!"}},1500]
["160605","LORETO","LORETO","UCAYALI","SARAYACU","Hombre","75-79",{"$f":"'Pob x Genero'!#REF!","v":{"$error":"#REF!"}},1506]
["190204","PASCO","PASCO","DANIEL ALCIDES CARRION","PAUCAR","Hombre","75-79",{"$f":"'Pob x Genero'!#REF!","v":{"$error":"#REF!"}},1566]
["200114","PIURA","PIURA","PIURA","TAMBO GRANDE","Hombre","75-79",{"$f":"'Pob x Genero'!#REF!","v":{"$error":"#REF!"}},1587]
["200603","PIURA","PIURA","SULLANA","IGNACIO ESCUDERO","Hombre","75-79",{"$f":"'Pob x Genero'!#REF!","v":{"$error":"#REF!"}},1626]
["200705","PIURA","PIURA","TALARA","LOS ORGANOS","Hombre","75-79",{"$f":"'Pob x Genero'!#REF!","v":{"$error":"#REF!"}},1636]
["210211","PUNO","PUNO","AZANGARO","SAN ANTON","Hombre","75-79",{"$f":"'Pob x Genero'!#REF!","v":{"$error":"#REF!"}},1669]
["210710","PUNO","PUNO","LAMPA","VILAVILA","Hombre","75-79",{"$f":"'Pob x Genero'!#REF!","v":{"$error":"#REF!"}},1713]
["220103","SAN MARTIN","SAN MARTIN","MOYOBAMBA","HABANA","Hombre","75-79",{"$f":"'Pob x Genero'!#REF!","v":{"$error":"#REF!"}},1756]
["220703","SAN MARTIN","SAN MARTIN","PICOTA","CASPISAPA","Hombre","75-79",{"$f":"'Pob x Genero'!#REF!","v":{"$error":"#REF!"}},1795]
["220803","SAN MARTIN","SAN MARTIN","RIOJA","ELIAS SOPLIN VARGAS","Hombre","75-79",{"$f":"'Pob x Genero'!#REF!","v":{"$error":"#REF!"}},1805]
["230403","TACNA","TACNA","TARATA","ESTIQUE","Hombre","75-79",{"$f":"'Pob x Genero'!#REF!","v":{"$error":"#REF!"}},1854]
["250203","UCAYALI","UCAYALI","ATALAYA","TAHUANIA","Hombre","75-79",{"$f":"'Pob x Genero'!#REF!","v":{"$error":"#REF!"}},1882]
["010307","AMAZONAS","AMAZONAS","BONGARA","JAZAN","Hombre","80-84",{"$f":"'Pob x Genero'!#REF!","v":{"$error":"#REF!"}},34]
["010401","AMAZONAS","AMAZONAS","CONDORCANQUI","NIEVA","Hombre","80-84",{"$f":"'Pob x Genero'!#REF!","v":{"$error":"#REF!"}},40]
["010706","AMAZONAS","AMAZONAS","UTCUBAMBA","LONYA GRANDE","Hombre","80-84",{"$f":"'Pob x Genero'!#REF!","v":{"$error":"#REF!"}},83]
["020507","ANCASH","ANCASH","BOLOGNESI","COLQUIOC","Hombre","80-84",{"$f":"'Pob x Genero'!#REF!","v":{"$error":"#REF!"}},116]
["021011","ANCASH","ANCASH","HUARI","PONTO","Hombre","80-84",{"$f":"'Pob x Genero'!#REF!","v":{"$error":"#REF!"}},160]
["021505","ANCASH","ANCASH","PALLASCA","HUANDOVAL","Hombre","80-84",{"$f":"'Pob x Genero'!#REF!","v":{"$error":"#REF!"}},203]
["021511","ANCASH","ANCASH","PALLASCA","TAUCA","Hombre","80-84",{"$f":"'Pob x Genero'!#REF!","v":{"$error":"#REF!"}},209]
["030101","APURIMAC","APURIMAC","ABANCAY","ABANCAY","Hombre","80-84",{"$f":"'Pob x Genero'!#REF!","v":{"$error":"#REF!"}},251]
["030404","APURIMAC","APURIMAC","AYMARAES","CHAPIMARCA","Hombre","80-84",{"$f":"'Pob x Genero'!#REF!","v":{"$error":"#REF!"}},290]
["030708","APURIMAC","APURIMAC","GRAU","PROGRESO","Hombre","80-84",{"$f":"'Pob x Genero'!#REF!","v":{"$error":"#REF!"}},329]
["040104","AREQUIPA","AREQUIPA","AREQUIPA","CERRO COLORADO","Hombre","80-84",{"$f":"'Pob x Genero'!DJ12","v":980},339]
["040306","AREQUIPA","AREQUIPA","CARAVELI","CAHUACHO","Hombre","80-84",{"$f":"'Pob x Genero'!DJ51","v":29},378]
["040505","AREQUIPA","AREQUIPA","CAYLLOMA","CAYLLOMA","Hombre","80-84",{"$f":"'Pob x Genero'!DJ77","v":23},404]
["050115","AYACUCHO","AYACUCHO","HUAMANGA","JESUS NAZARENO","Hombre","80-84",{"$f":"'Pob x Genero'!#REF!","v":{"$error":"#REF!"}},459]
["050515","AYACUCHO","AYACUCHO","LA MAR","PATIBAMBA","Hombre","80-84",{"$f":"'Pob x Genero'!#REF!","v":{"$error":"#REF!"}},498]
["050606","AYACUCHO","AYACUCHO","LUCANAS","CHIPAO","Hombre","80-84",{"$f":"'Pob x Genero'!#REF!","v":{"$error":"#REF!"}},504]
["050910","AYACUCHO","AYACUCHO","SUCRE","SANTIAGO DE PAUCARAY","Hombre","80-84",{"$f":"'Pob x Genero'!#REF!","v":{"$error":"#REF!"}},547]
["060305","CAJAMARCA","CAJAMARCA","CELENDIN","JORGE CHAVEZ","Hombre","80-84",{"$f":"'Pob x Genero'!#REF!","v":{"$error":"#REF!"}},589]
["060605","CAJAMARCA","CAJAMARCA","CUTERVO","LA RAMADA","Hombre","80-84",{"$f":"'Pob x Genero'!#REF!","v":{"$error":"#REF!"}},628]
["060611","CAJAMARCA","CAJAMARCA","CUTERVO","SANTA CRUZ","Hombre","80-84",{"$f":"'Pob x Genero'!#REF!","v":{"$error":"#REF!"}},634]
["061106","CAJAMARCA","CAJAMARCA","SAN MIGUEL","LA FLORIDA","Hombre","80-84",{"$f":"'Pob x Genero'!#REF!","v":{"$error":"#REF!"}},673]
["080206","CUSCO","CUSCO","ACOMAYO","RONDOCAN","Hombre","80-84",{"$f":"'Pob x Genero'!#REF!","v":{"$error":"#REF!"}},716]
["080508","CUSCO","CUSCO","CANAS","TUPAC AMARU","Hombre","80-84",{"$f":"'Pob x Genero'!#REF!","v":{"$error":"#REF!"}},742]
["080806","CUSCO","CUSCO","ESPINAR","PICHIGUA","Hombre","80-84",{"$f":"'Pob x Genero'!#REF!","v":{"$error":"#REF!"}},764]
["081204","CUSCO","CUSCO","QUISPICANCHI","CCARHUAYO","Hombre","80-84",{"$f":"'Pob x Genero'!#REF!","v":{"$error":"#REF!"}},803]
["090205","HUANCAVELICA","HUANCAVELICA","ACOBAMBA","MARCAS","Hombre","80-84",{"$f":"'Pob x Genero'!#REF!","v":{"$error":"#REF!"}},842]
["090507","HUANCAVELICA","HUANCAVELICA","CHURCAMPA","PAUCARBAMBA","Hombre","80-84",{"$f":"'Pob x Genero'!#REF!","v":{"$error":"#REF!"}},877]
["100103","HUANUCO","HUANUCO","HUANUCO","CHINCHAO","Hombre","80-84",{"$f":"'Pob x Genero'!#REF!","v":{"$error":"#REF!"}},923]
["100109","HUANUCO","HUANUCO","HUANUCO","SANTA MARIA DEL VALLE","Hombre","80-84",{"$f":"'Pob x Genero'!#REF!","v":{"$error":"#REF!"}},929]
["100607","HUANUCO","HUANUCO","LEONCIO PRADO","PUCAYACU","Hombre","80-84",{"$f":"'Pob x Genero'!#REF!","v":{"$error":"#REF!"}},972]
["110107","ICA","ICA","ICA","PUEBLO NUEVO","Hombre","80-84",{"$f":"'Pob x Genero'!#REF!","v":{"$error":"#REF!"}},1011]
["110301","ICA","ICA","NAZCA","NAZCA","Hombre","80-84",{"$f":"'Pob x Genero'!#REF!","v":{"$error":"#REF!"}},1030]
["120117","JUNIN","JUNIN","HUANCAYO","HUALHUAS","Hombre","80-84",{"$f":"'Pob x Genero'!#REF!","v":{"$error":"#REF!"}},1059]
["120402","JUNIN","JUNIN","JAUJA","ACOLLA","Hombre","80-84",{"$f":"'Pob x Genero'!#REF!","v":{"$error":"#REF!"}},1098]
["120607","JUNIN","JUNIN","SATIPO","RIO NEGRO","Hombre","80-84",{"$f":"'Pob x Genero'!#REF!","v":{"$error":"#REF!"}},1141]
["130109","LA LIBERTAD","LA LIBERTAD","TRUJILLO","SALAVERRY","Hombre","80-84",{"$f":"'Pob x Genero'!#REF!","v":{"$error":"#REF!"}},1180]
["130701","LA LIBERTAD","LA LIBERTAD","PACASMAYO","SAN PEDRO DE LLOC","Hombre","80-84",{"$f":"'Pob x Genero'!#REF!","v":{"$error":"#REF!"}},1215]
["130809","LA LIBERTAD","LA LIBERTAD","PATAZ","PATAZ","Hombre","80-84",{"$f":"'Pob x Genero'!#REF!","v":{"$error":"#REF!"}},1228]
["140112","LAMBAYEQUE","LAMBAYEQUE","CHICLAYO","PIMENTEL","Hombre","80-84",{"$f":"'Pob x Genero'!#REF!","v":{"$error":"#REF!"}},1267]
["150117","DIRIS NORTE","LIMA","LIMA","LOS OLIVOS","Hombre","80-84",{"$f":"'Pob x Genero'!#REF!","v":{"$error":"#REF!"}},1310]
["150403","LIMA","LIMA","CANTA","HUAMANTANGA","Hombre","80-84",{"$f":"'Pob x Genero'!#REF!","v":{"$error":"#REF!"}},1349]
["150515","LIMA","LIMA","CAÑETE","SANTA CRUZ DE FLORES","Hombre","80-84",{"$f":"'Pob x Genero'!#REF!","v":{"$error":"#REF!"}},1368]
["150716","LIMA","LIMA","HUAROCHIRI","SAN ANTONIO","Hombre","80-84",{"$f":"'Pob x Genero'!#REF!","v":{"$error":"#REF!"}},1397]
["151005","LIMA","LIMA","YAUYOS","AZANGARO","Hombre","80-84",{"$f":"'Pob x Genero'!#REF!","v":{"$error":"#REF!"}},1436]
["160206","LORETO","LORETO","ALTO AMAZONAS","LAGUNAS","Hombre","80-84",{"$f":"'Pob x Genero'!#REF!","v":{"$error":"#REF!"}},1479]
["160602","LORETO","LORETO","UCAYALI","INAHUAYA","Hombre","80-84",{"$f":"'Pob x Genero'!#REF!","v":{"$error":"#REF!"}},1503]
["170202","MADRE DE DIOS","MADRE DE DIOS","MANU","FITZCARRALD","Hombre","80-84",{"$f":"'Pob x Genero'!#REF!","v":{"$error":"#REF!"}},1523]
["190204","PASCO","PASCO","DANIEL ALCIDES CARRION","PAUCAR","Hombre","80-84",{"$f":"'Pob x Genero'!#REF!","v":{"$error":"#REF!"}},1566]
["200307","PIURA","PIURA","HUANCABAMBA","SONDOR","Hombre","80-84",{"$f":"'Pob x Genero'!#REF!","v":{"$error":"#REF!"}},1605]
["210101","PUNO","PUNO","PUNO","PUNO","Hombre","80-84",{"$f":"'Pob x Genero'!#REF!","v":{"$error":"#REF!"}},1644]
["210113","PUNO","PUNO","PUNO","SAN ANTONIO","Hombre","80-84",{"$f":"'Pob x Genero'!#REF!","v":{"$error":"#REF!"}},1656]
["210502","PUNO","PUNO","EL COLLAO","CAPAZO","Hombre","80-84",{"$f":"'Pob x Genero'!#REF!","v":{"$error":"#REF!"}},1692]
["211104","PUNO","PUNO","SAN ROMAN","CARACOTO","Hombre","80-84",{"$f":"'Pob x Genero'!#REF!","v":{"$error":"#REF!"}},1735]
["220404","SAN MARTIN","SAN MARTIN","HUALLAGA","PISCOYACU","Hombre","80-84",{"$f":"'Pob x Genero'!#REF!","v":{"$error":"#REF!"}},1774]
["220504","SAN MARTIN","SAN MARTIN","LAMAS","CAYNARACHI","Hombre","80-84",{"$f":"'Pob x Genero'!#REF!","v":{"$error":"#REF!"}},1780]
["230110","TACNA","TACNA","TACNA","CORONEL GREGORIO ALBARRACIN LANCHIPA","Hombre","80-84",{"$f":"'Pob x Genero'!#REF!","v":{"$error":"#REF!"}},1841]
["240102","TUMBES","TUMBES","TUMBES","CORRALES","Hombre","80-84",{"$f":"'Pob x Genero'!#REF!","v":{"$error":"#REF!"}},1861]
["010113","AMAZONAS","AMAZONAS","CHACHAPOYAS","MARISCAL CASTILLA","Hombre","85-+",{"$f":"'Pob x Genero'!#REF!","v":{"$error":"#REF!"}},13]
["010119","AMAZONAS","AMAZONAS","CHACHAPOYAS","SAN ISIDRO DE MAINO","Hombre","85-+",{"$f":"'Pob x Genero'!#REF!","v":{"$error":"#REF!"}},19]
["010511","AMAZONAS","AMAZONAS","LUYA","MARIA","Hombre","85-+",{"$f":"'Pob x Genero'!#REF!","v":{"$error":"#REF!"}},53]
["020204","ANCASH","ANCASH","AIJA","LA MERCED","Hombre","85-+",{"$f":"'Pob x Genero'!#REF!","v":{"$error":"#REF!"}},100]
["020801","ANCASH","ANCASH","CASMA","CASMA","Hombre","85-+",{"$f":"'Pob x Genero'!#REF!","v":{"$error":"#REF!"}},139]
["021208","ANCASH","ANCASH","HUAYLAS","SANTA CRUZ","Hombre","85-+",{"$f":"'Pob x Genero'!#REF!","v":{"$error":"#REF!"}},178]
["021308","ANCASH","ANCASH","MARISCAL LUZURIAGA","MUSGA","Hombre","85-+",{"$f":"'Pob x Genero'!#REF!","v":{"$error":"#REF!"}},188]
["021906","ANCASH","ANCASH","SIHUAS","HUAYLLABAMBA","Hombre","85-+",{"$f":"'Pob x Genero'!#REF!","v":{"$error":"#REF!"}},238]
["030210","APURIMAC","APURIMAC","ANDAHUAYLAS","PAMPACHIRI","Hombre","85-+",{"$f":"'Pob x Genero'!#REF!","v":{"$error":"#REF!"}},269]
["030505","APURIMAC","APURIMAC","COTABAMBAS","MARA","Hombre","85-+",{"$f":"'Pob x Genero'!#REF!","v":{"$error":"#REF!"}},308]
["030605","APURIMAC","APURIMAC","CHINCHEROS","OCOBAMBA","Hombre","85-+",{"$f":"'Pob x Genero'!#REF!","v":{"$error":"#REF!"}},314]
["040122","AREQUIPA","AREQUIPA","AREQUIPA","SOCABAYA","Hombre","85-+",{"$f":"'Pob x Genero'!DK30","v":441},357]
["040406","AREQUIPA","AREQUIPA","CASTILLA","CHOCO","Hombre","85-+",{"$f":"'Pob x Genero'!DK64","v":13},391]
["040801","AREQUIPA","AREQUIPA","LA UNION","COTAHUASI","Hombre","85-+",{"$f":"'Pob x Genero'!DK107","v":42},434]
["040811","AREQUIPA","AREQUIPA","LA UNION","TORO","Hombre","85-+",{"$f":"'Pob x Genero'!DK117","v":15},444]
["050413","AYACUCHO","AYACUCHO","HUANTA","PUTIS","Hombre","85-+",{"$f":"'Pob x Genero'!#REF!","v":{"$error":"#REF!"}},483]
["050707","AYACUCHO","AYACUCHO","PARINACOCHAS","SAN FRANCISCO DE RAVACAYCO","Hombre","85-+",{"$f":"'Pob x Genero'!#REF!","v":{"$error":"#REF!"}},526]
["050907","AYACUCHO","AYACUCHO","SUCRE","PAICO","Hombre","85-+",{"$f":"'Pob x Genero'!#REF!","v":{"$error":"#REF!"}},544]
["060407","CAJAMARCA","CAJAMARCA","CHOTA","COCHABAMBA","Hombre","85-+",{"$f":"'Pob x Genero'!#REF!","v":{"$error":"#REF!"}},603]
["060417","CAJAMARCA","CAJAMARCA","CHOTA","TACABAMBA","Hombre","85-+",{"$f":"'Pob x Genero'!#REF!","v":{"$error":"#REF!"}},613]
["060811","CAJAMARCA","CAJAMARCA","JAEN","SAN JOSE DEL ALTO","Hombre","85-+",{"$f":"'Pob x Genero'!#REF!","v":{"$error":"#REF!"}},652]
["061112","CAJAMARCA","CAJAMARCA","SAN MIGUEL","TONGOD","Hombre","85-+",{"$f":"'Pob x Genero'!#REF!","v":{"$error":"#REF!"}},679]
["080407","CUSCO","CUSCO","CALCA","TARAY","Hombre","85-+",{"$f":"'Pob x Genero'!#REF!","v":{"$error":"#REF!"}},733]
["080505","CUSCO","CUSCO","CANAS","LAYO","Hombre","85-+",{"$f":"'Pob x Genero'!#REF!","v":{"$error":"#REF!"}},739]
["080916","CUSCO","CUSCO","LA CONVENCION","CIELO PUNCO","Hombre","85-+",{"$f":"'Pob x Genero'!#REF!","v":{"$error":"#REF!"}},782]
["090103","HUANCAVELICA","HUANCAVELICA","HUANCAVELICA","ACORIA","Hombre","85-+",{"$f":"'Pob x Genero'!#REF!","v":{"$error":"#REF!"}},821]
["090407","HUANCAVELICA","HUANCAVELICA","CASTROVIRREYNA","HUACHOS","Hombre","85-+",{"$f":"'Pob x Genero'!#REF!","v":{"$error":"#REF!"}},864]
["090705","HUANCAVELICA","HUANCAVELICA","TAYACAJA","COLCABAMBA","Hombre","85-+",{"$f":"'Pob x Genero'!#REF!","v":{"$error":"#REF!"}},902]
["090713","HUANCAVELICA","HUANCAVELICA","TAYACAJA","QUISHUAR","Hombre","85-+",{"$f":"'Pob x Genero'!#REF!","v":{"$error":"#REF!"}},908]
["100401","HUANUCO","HUANUCO","HUACAYBAMBA","HUACAYBAMBA","Hombre","85-+",{"$f":"'Pob x Genero'!#REF!","v":{"$error":"#REF!"}},951]
["101001","HUANUCO","HUANUCO","LAURICOCHA","JESUS","Hombre","85-+",{"$f":"'Pob x Genero'!#REF!","v":{"$error":"#REF!"}},990]
["110113","ICA","ICA","ICA","TATE","Hombre","85-+",{"$f":"'Pob x Genero'!#REF!","v":{"$error":"#REF!"}},1017]
["110404","ICA","ICA","PALPA","SANTA CRUZ","Hombre","85-+",{"$f":"'Pob x Genero'!#REF!","v":{"$error":"#REF!"}},1038]
["120202","JUNIN","JUNIN","CONCEPCION","ACO","Hombre","85-+",{"$f":"'Pob x Genero'!#REF!","v":{"$error":"#REF!"}},1077]
["120424","JUNIN","JUNIN","JAUJA","PANCAN","Hombre","85-+",{"$f":"'Pob x Genero'!#REF!","v":{"$error":"#REF!"}},1120]
["120807","JUNIN","JUNIN","YAULI","SANTA BARBARA DE CARHUACAYAN","Hombre","85-+",{"$f":"'Pob x Genero'!#REF!","v":{"$error":"#REF!"}},1159]
["120908","JUNIN","JUNIN","CHUPACA","TRES DE DICIEMBRE","Hombre","85-+",{"$f":"'Pob x Genero'!#REF!","v":{"$error":"#REF!"}},1170]
["130604","LA LIBERTAD","LA LIBERTAD","OTUZCO","CHARAT","Hombre","85-+",{"$f":"'Pob x Genero'!#REF!","v":{"$error":"#REF!"}},1207]
["131006","LA LIBERTAD","LA LIBERTAD","SANTIAGO DE CHUCO","QUIRUVILCA","Hombre","85-+",{"$f":"'Pob x Genero'!#REF!","v":{"$error":"#REF!"}},1246]
["140304","LAMBAYEQUE","LAMBAYEQUE","LAMBAYEQUE","JAYANCA","Hombre","85-+",{"$f":"'Pob x Genero'!#REF!","v":{"$error":"#REF!"}},1285]
["150112","DIRIS NORTE","LIMA","LIMA","INDEPENDENCIA","Hombre","85-+",{"$f":"'Pob x Genero'!#REF!","v":{"$error":"#REF!"}},1305]
["150140","DIRIS SUR","LIMA","LIMA","SANTIAGO DE SURCO","Hombre","85-+",{"$f":"'Pob x Genero'!#REF!","v":{"$error":"#REF!"}},1333]
["150607","LIMA","LIMA","HUARAL","LAMPIAN","Hombre","85-+",{"$f":"'Pob x Genero'!#REF!","v":{"$error":"#REF!"}},1376]
["150802","LIMA","LIMA","HUAURA","AMBAR","Hombre","85-+",{"$f":"'Pob x Genero'!#REF!","v":{"$error":"#REF!"}},1415]
["151023","LIMA","LIMA","YAUYOS","PUTINZA","Hombre","85-+",{"$f":"'Pob x Genero'!#REF!","v":{"$error":"#REF!"}},1454]
["160404","LORETO","LORETO","MARISCAL RAMON CASTILLA","SAN PABLO","Hombre","85-+",{"$f":"'Pob x Genero'!#REF!","v":{"$error":"#REF!"}},1490]
["160601","LORETO","LORETO","UCAYALI","CONTAMANA","Hombre","85-+",{"$f":"'Pob x Genero'!#REF!","v":{"$error":"#REF!"}},1502]
["180206","MOQUEGUA","MOQUEGUA","GENERAL SANCHEZ CERRO","LLOQUE","Hombre","85-+",{"$f":"'Pob x Genero'!#REF!","v":{"$error":"#REF!"}},1541]
["200109","PIURA","PIURA","PIURA","LA ARENA","Hombre","85-+",{"$f":"'Pob x Genero'!#REF!","v":{"$error":"#REF!"}},1584]
["200507","PIURA","PIURA","PAITA","VICHAYAL","Hombre","85-+",{"$f":"'Pob x Genero'!#REF!","v":{"$error":"#REF!"}},1623]
["200806","PIURA","PIURA","SECHURA","RINCONADA LLICUAR","Hombre","85-+",{"$f":"'Pob x Genero'!#REF!","v":{"$error":"#REF!"}},1643]
["210213","PUNO","PUNO","AZANGARO","SAN JUAN DE SALINAS","Hombre","85-+",{"$f":"'Pob x Genero'!#REF!","v":{"$error":"#REF!"}},1671]
["210707","PUNO","PUNO","LAMPA","PARATIA","Hombre","85-+",{"$f":"'Pob x Genero'!#REF!","v":{"$error":"#REF!"}},1710]
["211307","PUNO","PUNO","YUNGUYO","UNICACHI","Hombre","85-+",{"$f":"'Pob x Genero'!#REF!","v":{"$error":"#REF!"}},1753]
["220502","SAN MARTIN","SAN MARTIN","LAMAS","ALONSO DE ALVARADO","Hombre","85-+",{"$f":"'Pob x Genero'!#REF!","v":{"$error":"#REF!"}},1778]
["220709","SAN MARTIN","SAN MARTIN","PICOTA","TINGO DE PONASA","Hombre","85-+",{"$f":"'Pob x Genero'!#REF!","v":{"$error":"#REF!"}},1801]
["230109","TACNA","TACNA","TACNA","SAMA","Hombre","85-+",{"$f":"'Pob x Genero'!#REF!","v":{"$error":"#REF!"}},1840]
["250107","UCAYALI","UCAYALI","CORONEL PORTILLO","MANANTAY","Hombre","85-+",{"$f":"'Pob x Genero'!#REF!","v":{"$error":"#REF!"}},1879]
["250306","UCAYALI","UCAYALI","PADRE ABAD","HUIPOCA","Hombre","85-+",{"$f":"'Pob x Genero'!#REF!","v":{"$error":"#REF!"}},1889]
["010401","AMAZONAS","AMAZONAS","CONDORCANQUI","NIEVA","Mujer","00-04",{"$f":"'Pob x Genero'!#REF!","v":{"$error":"#REF!"}},40]
["010610","AMAZONAS","AMAZONAS","RODRIGUEZ DE MENDOZA","SANTA ROSA","Mujer","00-04",{"$f":"'Pob x Genero'!#REF!","v":{"$error":"#REF!"}},75]
["020509","ANCASH","ANCASH","BOLOGNESI","HUASTA","Mujer","00-04",{"$f":"'Pob x Genero'!#REF!","v":{"$error":"#REF!"}},118]
["021008","ANCASH","ANCASH","HUARI","HUANTAR","Mujer","00-04",{"$f":"'Pob x Genero'!#REF!","v":{"$error":"#REF!"}},157]
["021102","ANCASH","ANCASH","HUARMEY","COCHAPETI","Mujer","00-04",{"$f":"'Pob x Genero'!#REF!","v":{"$error":"#REF!"}},167]
["021405","ANCASH","ANCASH","OCROS","COCHAS","Mujer","00-04",{"$f":"'Pob x Genero'!#REF!","v":{"$error":"#REF!"}},193]
["022002","ANCASH","ANCASH","YUNGAY","CASCAPARA","Mujer","00-04",{"$f":"'Pob x Genero'!#REF!","v":{"$error":"#REF!"}},244]
["030401","APURIMAC","APURIMAC","AYMARAES","CHALHUANCA","Mujer","00-04",{"$f":"'Pob x Genero'!#REF!","v":{"$error":"#REF!"}},287]
["030407","APURIMAC","APURIMAC","AYMARAES","HUAYLLO","Mujer","00-04",{"$f":"'Pob x Genero'!#REF!","v":{"$error":"#REF!"}},293]
["040101","AREQUIPA","AREQUIPA","AREQUIPA","AREQUIPA","Mujer","00-04",{"$f":"'Pob x Genero'!DL9","v":1360},336]
["040306","AREQUIPA","AREQUIPA","CARAVELI","CAHUACHO","Mujer","00-04",{"$f":"'Pob x Genero'!DL51","v":39},378]
["040514","AREQUIPA","AREQUIPA","CAYLLOMA","SAN ANTONIO DE CHUCA","Mujer","00-04",{"$f":"'Pob x Genero'!DL86","v":28},413]
["040604","AREQUIPA","AREQUIPA","CONDESUYOS","CHICHAS","Mujer","00-04",{"$f":"'Pob x Genero'!DL96","v":8},423]
["050202","AYACUCHO","AYACUCHO","CANGALLO","CHUSCHI","Mujer","00-04",{"$f":"'Pob x Genero'!#REF!","v":{"$error":"#REF!"}},462]
["050615","AYACUCHO","AYACUCHO","LUCANAS","SAN CRISTOBAL","Mujer","00-04",{"$f":"'Pob x Genero'!#REF!","v":{"$error":"#REF!"}},513]
["050906","AYACUCHO","AYACUCHO","SUCRE","MORCOLLA","Mujer","00-04",{"$f":"'Pob x Genero'!#REF!","v":{"$error":"#REF!"}},543]
["060202","CAJAMARCA","CAJAMARCA","CAJABAMBA","CACHACHI","Mujer","00-04",{"$f":"'Pob x Genero'!#REF!","v":{"$error":"#REF!"}},582]
["060308","CAJAMARCA","CAJAMARCA","CELENDIN","OXAMARCA","Mujer","00-04",{"$f":"'Pob x Genero'!#REF!","v":{"$error":"#REF!"}},592]
["060608","CAJAMARCA","CAJAMARCA","CUTERVO","SAN ANDRES DE CUTERVO","Mujer","00-04",{"$f":"'Pob x Genero'!#REF!","v":{"$error":"#REF!"}},631]
["061006","CAJAMARCA","CAJAMARCA","SAN MARCOS","JOSE MANUEL QUIROZ","Mujer","00-04",{"$f":"'Pob x Genero'!#REF!","v":{"$error":"#REF!"}},666]
["080202","CUSCO","CUSCO","ACOMAYO","ACOPIA","Mujer","00-04",{"$f":"'Pob x Genero'!#REF!","v":{"$error":"#REF!"}},712]
["080301","CUSCO","CUSCO","ANTA","ANTA","Mujer","00-04",{"$f":"'Pob x Genero'!#REF!","v":{"$error":"#REF!"}},718]
["080707","CUSCO","CUSCO","CHUMBIVILCAS","QUIÑOTA","Mujer","00-04",{"$f":"'Pob x Genero'!#REF!","v":{"$error":"#REF!"}},757]
["081201","CUSCO","CUSCO","QUISPICANCHI","URCOS","Mujer","00-04",{"$f":"'Pob x Genero'!#REF!","v":{"$error":"#REF!"}},800]
["090101","HUANCAVELICA","HUANCAVELICA","HUANCAVELICA","HUANCAVELICA","Mujer","00-04",{"$f":"'Pob x Genero'!#REF!","v":{"$error":"#REF!"}},819]
["090303","HUANCAVELICA","HUANCAVELICA","ANGARAES","CALLANMARCA","Mujer","00-04",{"$f":"'Pob x Genero'!#REF!","v":{"$error":"#REF!"}},848]
["090606","HUANCAVELICA","HUANCAVELICA","HUAYTARA","OCOYO","Mujer","00-04",{"$f":"'Pob x Genero'!#REF!","v":{"$error":"#REF!"}},887]
["100106","HUANUCO","HUANUCO","HUANUCO","QUISQUI","Mujer","00-04",{"$f":"'Pob x Genero'!#REF!","v":{"$error":"#REF!"}},926]
["100604","HUANUCO","HUANUCO","LEONCIO PRADO","JOSE CRESPO Y CASTILLO","Mujer","00-04",{"$f":"'Pob x Genero'!#REF!","v":{"$error":"#REF!"}},969]
["101108","HUANUCO","HUANUCO","YAROWILCA","CHORAS","Mujer","00-04",{"$f":"'Pob x Genero'!#REF!","v":{"$error":"#REF!"}},1004]
["110113","ICA","ICA","ICA","TATE","Mujer","00-04",{"$f":"'Pob x Genero'!#REF!","v":{"$error":"#REF!"}},1017]
["120113","JUNIN","JUNIN","HUANCAYO","CULLHUAS","Mujer","00-04",{"$f":"'Pob x Genero'!#REF!","v":{"$error":"#REF!"}},1056]
["120305","JUNIN","JUNIN","CHANCHAMAYO","SAN RAMON","Mujer","00-04",{"$f":"'Pob x Genero'!#REF!","v":{"$error":"#REF!"}},1095]
["120605","JUNIN","JUNIN","SATIPO","PAMPA HERMOSA","Mujer","00-04",{"$f":"'Pob x Genero'!#REF!","v":{"$error":"#REF!"}},1139]
["120609","JUNIN","JUNIN","SATIPO","VIZCATAN DEL ENE","Mujer","00-04",{"$f":"'Pob x Genero'!#REF!","v":{"$error":"#REF!"}},1143]
["130111","LA LIBERTAD","LA LIBERTAD","TRUJILLO","VICTOR LARCO HERRERA","Mujer","00-04",{"$f":"'Pob x Genero'!#REF!","v":{"$error":"#REF!"}},1182]
["130806","LA LIBERTAD","LA LIBERTAD","PATAZ","HUAYO","Mujer","00-04",{"$f":"'Pob x Genero'!#REF!","v":{"$error":"#REF!"}},1225]
["140109","LAMBAYEQUE","LAMBAYEQUE","CHICLAYO","NUEVA ARICA","Mujer","00-04",{"$f":"'Pob x Genero'!#REF!","v":{"$error":"#REF!"}},1264]
["140311","LAMBAYEQUE","LAMBAYEQUE","LAMBAYEQUE","SAN JOSE","Mujer","00-04",{"$f":"'Pob x Genero'!#REF!","v":{"$error":"#REF!"}},1292]
["150119","DIRIS SUR","LIMA","LIMA","LURIN","Mujer","00-04",{"$f":"'Pob x Genero'!#REF!","v":{"$error":"#REF!"}},1312]
["150405","LIMA","LIMA","CANTA","LACHAQUI","Mujer","00-04",{"$f":"'Pob x Genero'!#REF!","v":{"$error":"#REF!"}},1351]
["150713","LIMA","LIMA","HUAROCHIRI","MARIATANA","Mujer","00-04",{"$f":"'Pob x Genero'!#REF!","v":{"$error":"#REF!"}},1394]
["151002","LIMA","LIMA","YAUYOS","ALIS","Mujer","00-04",{"$f":"'Pob x Genero'!#REF!","v":{"$error":"#REF!"}},1433]
["151014","LIMA","LIMA","YAUYOS","HUANCAYA","Mujer","00-04",{"$f":"'Pob x Genero'!#REF!","v":{"$error":"#REF!"}},1445]
["160211","LORETO","LORETO","ALTO AMAZONAS","TENIENTE CESAR LOPEZ ROJAS","Mujer","00-04",{"$f":"'Pob x Genero'!#REF!","v":{"$error":"#REF!"}},1481]
["170103","MADRE DE DIOS","MADRE DE DIOS","TAMBOPATA","LAS PIEDRAS","Mujer","00-04",{"$f":"'Pob x Genero'!#REF!","v":{"$error":"#REF!"}},1520]
["190201","PASCO","PASCO","DANIEL ALCIDES CARRION","YANAHUANCA","Mujer","00-04",{"$f":"'Pob x Genero'!#REF!","v":{"$error":"#REF!"}},1563]
["200304","PIURA","PIURA","HUANCABAMBA","HUARMACA","Mujer",{"$f":"G35640","v":"00-04"},{"$f":"'Pob x Genero'!#REF!","v":{"$error":"#REF!"}},1602]
["200607","PIURA","PIURA","SULLANA","QUERECOTILLO","Mujer","00-04",{"$f":"'Pob x Genero'!#REF!","v":{"$error":"#REF!"}},1630]
["210107","PUNO","PUNO","PUNO","COATA","Mujer","00-04",{"$f":"'Pob x Genero'!#REF!","v":{"$error":"#REF!"}},1650]
["210406","PUNO","PUNO","CHUCUITO","POMATA","Mujer","00-04",{"$f":"'Pob x Genero'!#REF!","v":{"$error":"#REF!"}},1689]
["211101","PUNO","PUNO","SAN ROMAN","JULIACA","Mujer","00-04",{"$f":"'Pob x Genero'!#REF!","v":{"$error":"#REF!"}},1732]
["220206","SAN MARTIN","SAN MARTIN","BELLAVISTA","SAN RAFAEL","Mujer","00-04",{"$f":"'Pob x Genero'!#REF!","v":{"$error":"#REF!"}},1765]
["220406","SAN MARTIN","SAN MARTIN","HUALLAGA","TINGO DE SAPOSOA","Mujer","00-04",{"$f":"'Pob x Genero'!#REF!","v":{"$error":"#REF!"}},1776]
["220908","SAN MARTIN","SAN MARTIN","SAN MARTIN","JUAN GUERRA","Mujer","00-04",{"$f":"'Pob x Genero'!#REF!","v":{"$error":"#REF!"}},1819]
["230407","TACNA","TACNA","TARATA","TARUCACHI","Mujer",{"$f":"G35896","v":"00-04"},{"$f":"'Pob x Genero'!#REF!","v":{"$error":"#REF!"}},1858]
["010106","AMAZONAS","AMAZONAS","CHACHAPOYAS","CHUQUIBAMBA","Mujer","05-09",{"$f":"'Pob x Genero'!#REF!","v":{"$error":"#REF!"}},6]
["010206","AMAZONAS","AMAZONAS","BAGUA","LA PECA","Mujer","05-09",{"$f":"'Pob x Genero'!#REF!","v":{"$error":"#REF!"}},27]
["010512","AMAZONAS","AMAZONAS","LUYA","OCALLI","Mujer","05-09",{"$f":"'Pob x Genero'!#REF!","v":{"$error":"#REF!"}},54]
["020201","ANCASH","ANCASH","AIJA","AIJA","Mujer","05-09",{"$f":"'Pob x Genero'!#REF!","v":{"$error":"#REF!"}},97]
["020701","ANCASH","ANCASH","CARLOS FERMIN FITZCARRALD","SAN LUIS","Mujer","05-09",{"$f":"'Pob x Genero'!#REF!","v":{"$error":"#REF!"}},136]
["020804","ANCASH","ANCASH","CASMA","YAUTAN","Mujer","05-09",{"$f":"'Pob x Genero'!#REF!","v":{"$error":"#REF!"}},142]
["021210","ANCASH","ANCASH","HUAYLAS","YURACMARCA","Mujer","05-09",{"$f":"'Pob x Genero'!#REF!","v":{"$error":"#REF!"}},180]
["021710","ANCASH","ANCASH","RECUAY","TICAPAMPA","Mujer","05-09",{"$f":"'Pob x Genero'!#REF!","v":{"$error":"#REF!"}},223]
["030207","APURIMAC","APURIMAC","ANDAHUAYLAS","KISHUARA","Mujer","05-09",{"$f":"'Pob x Genero'!#REF!","v":{"$error":"#REF!"}},266]
["030213","APURIMAC","APURIMAC","ANDAHUAYLAS","SAN JERONIMO","Mujer","05-09",{"$f":"'Pob x Genero'!#REF!","v":{"$error":"#REF!"}},272]
["030606","APURIMAC","APURIMAC","CHINCHEROS","ONGOY","Mujer","05-09",{"$f":"'Pob x Genero'!#REF!","v":{"$error":"#REF!"}},315]
["040118","AREQUIPA","AREQUIPA","AREQUIPA","SAN JUAN DE SIGUAS","Mujer","05-09",{"$f":"'Pob x Genero'!DM26","v":12},353]
["040407","AREQUIPA","AREQUIPA","CASTILLA","HUANCARQUI","Mujer","05-09",{"$f":"'Pob x Genero'!DM65","v":50},392]
["040704","AREQUIPA","AREQUIPA","ISLAY","ISLAY","Mujer","05-09",{"$f":"'Pob x Genero'!DM104","v":243},431]
["040808","AREQUIPA","AREQUIPA","LA UNION","SAYLA","Mujer","05-09",{"$f":"'Pob x Genero'!DM114","v":7},441]
["050302","AYACUCHO","AYACUCHO","HUANCA SANCOS","CARAPO","Mujer","05-09",{"$f":"'Pob x Genero'!#REF!","v":{"$error":"#REF!"}},468]
["050703","AYACUCHO","AYACUCHO","PARINACOCHAS","CORONEL CASTAÑEDA","Mujer","05-09",{"$f":"'Pob x Genero'!#REF!","v":{"$error":"#REF!"}},522]
["051101","AYACUCHO","AYACUCHO","VILCAS HUAMAN","VILCAS HUAMAN","Mujer","05-09",{"$f":"'Pob x Genero'!#REF!","v":{"$error":"#REF!"}},561]
["051107","AYACUCHO","AYACUCHO","VILCAS HUAMAN","SAURAMA","Mujer","05-09",{"$f":"'Pob x Genero'!#REF!","v":{"$error":"#REF!"}},567]
["060414","CAJAMARCA","CAJAMARCA","CHOTA","PION","Mujer","05-09",{"$f":"'Pob x Genero'!#REF!","v":{"$error":"#REF!"}},610]
["060812","CAJAMARCA","CAJAMARCA","JAEN","SANTA ROSA","Mujer","05-09",{"$f":"'Pob x Genero'!#REF!","v":{"$error":"#REF!"}},653]
["061303","CAJAMARCA","CAJAMARCA","SANTA CRUZ","CATACHE","Mujer","05-09",{"$f":"'Pob x Genero'!#REF!","v":{"$error":"#REF!"}},687]
["070102","CALLAO","CALLAO","CALLAO","BELLAVISTA","Mujer","05-09",{"$f":"'Pob x Genero'!#REF!","v":{"$error":"#REF!"}},697]
["080502","CUSCO","CUSCO","CANAS","CHECCA","Mujer","05-09",{"$f":"'Pob x Genero'!#REF!","v":{"$error":"#REF!"}},736]
["080913","CUSCO","CUSCO","LA CONVENCION","VILLA KINTIARINA","Mujer","05-09",{"$f":"'Pob x Genero'!#REF!","v":{"$error":"#REF!"}},779]
["081207","CUSCO","CUSCO","QUISPICANCHI","HUARO","Mujer","05-09",{"$f":"'Pob x Genero'!#REF!","v":{"$error":"#REF!"}},806]
["090311","HUANCAVELICA","HUANCAVELICA","ANGARAES","SANTO TOMAS DE PATA","Mujer","05-09",{"$f":"'Pob x Genero'!#REF!","v":{"$error":"#REF!"}},856]
["090409","HUANCAVELICA","HUANCAVELICA","CASTROVIRREYNA","MOLLEPAMPA","Mujer","05-09",{"$f":"'Pob x Genero'!#REF!","v":{"$error":"#REF!"}},866]
["090709","HUANCAVELICA","HUANCAVELICA","TAYACAJA","HUARIBAMBA","Mujer","05-09",{"$f":"'Pob x Genero'!#REF!","v":{"$error":"#REF!"}},905]
["100208","HUANUCO","HUANUCO","AMBO","TOMAY KICHWA","Mujer","05-09",{"$f":"'Pob x Genero'!#REF!","v":{"$error":"#REF!"}},941]
["100902","HUANUCO","HUANUCO","PUERTO INCA","CODO DEL POZUZO","Mujer","05-09",{"$f":"'Pob x Genero'!#REF!","v":{"$error":"#REF!"}},986]
["101003","HUANUCO","HUANUCO","LAURICOCHA","JIVIA","Mujer","05-09",{"$f":"'Pob x Genero'!#REF!","v":{"$error":"#REF!"}},992]
["110401","ICA","ICA","PALPA","PALPA","Mujer","05-09",{"$f":"'Pob x Genero'!#REF!","v":{"$error":"#REF!"}},1035]
["120135","JUNIN","JUNIN","HUANCAYO","SANTO DOMINGO DE ACOBAMBA","Mujer","05-09",{"$f":"'Pob x Genero'!#REF!","v":{"$error":"#REF!"}},1074]
["120304","JUNIN","JUNIN","CHANCHAMAYO","SAN LUIS DE SHUARO","Mujer","05-09",{"$f":"'Pob x Genero'!#REF!","v":{"$error":"#REF!"}},1094]
["120426","JUNIN","JUNIN","JAUJA","POMACANCHA","Mujer","05-09",{"$f":"'Pob x Genero'!#REF!","v":{"$error":"#REF!"}},1122]
["120809","JUNIN","JUNIN","YAULI","SUITUCANCHA","Mujer","05-09",{"$f":"'Pob x Genero'!#REF!","v":{"$error":"#REF!"}},1161]
["130504","LA LIBERTAD","LA LIBERTAD","JULCAN","HUASO","Mujer","05-09",{"$f":"'Pob x Genero'!#REF!","v":{"$error":"#REF!"}},1204]
["131003","LA LIBERTAD","LA LIBERTAD","SANTIAGO DE CHUCO","CACHICADAN","Mujer","05-09",{"$f":"'Pob x Genero'!#REF!","v":{"$error":"#REF!"}},1243]
["140204","LAMBAYEQUE","LAMBAYEQUE","FERREÑAFE","MANUEL ANTONIO MESONES MURO","Mujer","05-09",{"$f":"'Pob x Genero'!#REF!","v":{"$error":"#REF!"}},1279]
["140310","LAMBAYEQUE","LAMBAYEQUE","LAMBAYEQUE","SALAS","Mujer","05-09",{"$f":"'Pob x Genero'!#REF!","v":{"$error":"#REF!"}},1291]
["150137","DIRIS ESTE","LIMA","LIMA","SANTA ANITA","Mujer","05-09",{"$f":"'Pob x Genero'!#REF!","v":{"$error":"#REF!"}},1330]
["150516","LIMA","LIMA","CAÑETE","ZUÑIGA","Mujer","05-09",{"$f":"'Pob x Genero'!#REF!","v":{"$error":"#REF!"}},1369]
["150731","LIMA","LIMA","HUAROCHIRI","SANTO DOMINGO DE LOS OLLEROS","Mujer","05-09",{"$f":"'Pob x Genero'!#REF!","v":{"$error":"#REF!"}},1412]
["151001","LIMA","LIMA","YAUYOS","YAUYOS","Mujer","05-09",{"$f":"'Pob x Genero'!#REF!","v":{"$error":"#REF!"}},1432]
["151029","LIMA","LIMA","YAUYOS","TAURIPAMPA","Mujer","05-09",{"$f":"'Pob x Genero'!#REF!","v":{"$error":"#REF!"}},1460]
["160509","LORETO","LORETO","REQUENA","TAPICHE","Mujer","05-09",{"$f":"'Pob x Genero'!#REF!","v":{"$error":"#REF!"}},1499]
["180203","MOQUEGUA","MOQUEGUA","GENERAL SANCHEZ CERRO","COALAQUE","Mujer",{"$f":"G37467","v":"05-09"},{"$f":"'Pob x Genero'!#REF!","v":{"$error":"#REF!"}},1538]
["190205","PASCO","PASCO","DANIEL ALCIDES CARRION","SAN PEDRO DE PILLAO","Mujer","05-09",{"$f":"'Pob x Genero'!#REF!","v":{"$error":"#REF!"}},1567]
["200111","PIURA","PIURA","PIURA","LAS LOMAS","Mujer","05-09",{"$f":"'Pob x Genero'!#REF!","v":{"$error":"#REF!"}},1586]
["200606","PIURA","PIURA","SULLANA","MIGUEL CHECA","Mujer","05-09",{"$f":"'Pob x Genero'!#REF!","v":{"$error":"#REF!"}},1629]
["210210","PUNO","PUNO","AZANGARO","SAMAN","Mujer","05-09",{"$f":"'Pob x Genero'!#REF!","v":{"$error":"#REF!"}},1668]
["210704","PUNO","PUNO","LAMPA","NICASIO","Mujer","05-09",{"$f":"'Pob x Genero'!#REF!","v":{"$error":"#REF!"}},1707]
["210807","PUNO","PUNO","MELGAR","ORURILLO","Mujer","05-09",{"$f":"'Pob x Genero'!#REF!","v":{"$error":"#REF!"}},1720]
["220102","SAN MARTIN","SAN MARTIN","MOYOBAMBA","CALZADA","Mujer","05-09",{"$f":"'Pob x Genero'!#REF!","v":{"$error":"#REF!"}},1755]
["220702","SAN MARTIN","SAN MARTIN","PICOTA","BUENOS AIRES","Mujer",{"$f":"G37723","v":"05-09"},{"$f":"'Pob x Genero'!#REF!","v":{"$error":"#REF!"}},1794]
["230106","TACNA","TACNA","TACNA","PACHIA","Mujer","05-09",{"$f":"'Pob x Genero'!#REF!","v":{"$error":"#REF!"}},1837]
["230201","TACNA","TACNA","CANDARAVE","CANDARAVE","Mujer","05-09",{"$f":"'Pob x Genero'!#REF!","v":{"$error":"#REF!"}},1843]
["010114","AMAZONAS","AMAZONAS","CHACHAPOYAS","MOLINOPAMPA","Mujer","10-14",{"$f":"'Pob x Genero'!#REF!","v":{"$error":"#REF!"}},14]
["010306","AMAZONAS","AMAZONAS","BONGARA","FLORIDA","Mujer","10-14",{"$f":"'Pob x Genero'!#REF!","v":{"$error":"#REF!"}},33]
["010607","AMAZONAS","AMAZONAS","RODRIGUEZ DE MENDOZA","MARISCAL BENAVIDES","Mujer","10-14",{"$f":"'Pob x Genero'!#REF!","v":{"$error":"#REF!"}},72]
["020506","ANCASH","ANCASH","BOLOGNESI","CANIS","Mujer","10-14",{"$f":"'Pob x Genero'!#REF!","v":{"$error":"#REF!"}},115]
["020508","ANCASH","ANCASH","BOLOGNESI","HUALLANCA","Mujer","10-14",{"$f":"'Pob x Genero'!#REF!","v":{"$error":"#REF!"}},117]
["021014","ANCASH","ANCASH","HUARI","SAN MARCOS","Mujer","10-14",{"$f":"'Pob x Genero'!#REF!","v":{"$error":"#REF!"}},163]
["021504","ANCASH","ANCASH","PALLASCA","HUACASCHUQUE","Mujer","10-14",{"$f":"'Pob x Genero'!#REF!","v":{"$error":"#REF!"}},202]
["021909","ANCASH","ANCASH","SIHUAS","SAN JUAN","Mujer","10-14",{"$f":"'Pob x Genero'!#REF!","v":{"$error":"#REF!"}},241]
["030101","APURIMAC","APURIMAC","ABANCAY","ABANCAY","Mujer","10-14",{"$f":"'Pob x Genero'!#REF!","v":{"$error":"#REF!"}},251]
["030416","APURIMAC","APURIMAC","AYMARAES","TORAYA","Mujer","10-14",{"$f":"'Pob x Genero'!#REF!","v":{"$error":"#REF!"}},302]
["030707","APURIMAC","APURIMAC","GRAU","PATAYPAMPA","Mujer","10-14",{"$f":"'Pob x Genero'!#REF!","v":{"$error":"#REF!"}},328]
["040207","AREQUIPA","AREQUIPA","CAMANA","QUILCA","Mujer","10-14",{"$f":"'Pob x Genero'!DN44","v":55},371]
["040511","AREQUIPA","AREQUIPA","CAYLLOMA","LLUTA","Mujer","10-14",{"$f":"'Pob x Genero'!DN83","v":39},410]
["040601","AREQUIPA","AREQUIPA","CONDESUYOS","CHUQUIBAMBA","Mujer","10-14",{"$f":"'Pob x Genero'!DN93","v":140},420]
["050111","AYACUCHO","AYACUCHO","HUAMANGA","SANTIAGO DE PISCHA","Mujer","10-14",{"$f":"'Pob x Genero'!#REF!","v":{"$error":"#REF!"}},455]
["050514","AYACUCHO","AYACUCHO","LA MAR","NINABAMBA","Mujer","10-14",{"$f":"'Pob x Genero'!#REF!","v":{"$error":"#REF!"}},497]
["050903","AYACUCHO","AYACUCHO","SUCRE","CHALCOS","Mujer","10-14",{"$f":"'Pob x Genero'!#REF!","v":{"$error":"#REF!"}},540]
["050909","AYACUCHO","AYACUCHO","SUCRE","SAN SALVADOR DE QUIJE","Mujer","10-14",{"$f":"'Pob x Genero'!#REF!","v":{"$error":"#REF!"}},546]
["060301","CAJAMARCA","CAJAMARCA","CELENDIN","CELENDIN","Mujer","10-14",{"$f":"'Pob x Genero'!#REF!","v":{"$error":"#REF!"}},585]
["060412","CAJAMARCA","CAJAMARCA","CHOTA","MIRACOSTA","Mujer","10-14",{"$f":"'Pob x Genero'!#REF!","v":{"$error":"#REF!"}},608]
["061006","CAJAMARCA","CAJAMARCA","SAN MARCOS","JOSE MANUEL QUIROZ","Mujer","10-14",{"$f":"'Pob x Genero'!#REF!","v":{"$error":"#REF!"}},666]
["061109","CAJAMARCA","CAJAMARCA","SAN MIGUEL","NIEPOS","Mujer","10-14",{"$f":"'Pob x Genero'!#REF!","v":{"$error":"#REF!"}},676]
["080205","CUSCO","CUSCO","ACOMAYO","POMACANCHI","Mujer","10-14",{"$f":"'Pob x Genero'!#REF!","v":{"$error":"#REF!"}},715]
["080601","CUSCO","CUSCO","CANCHIS","SICUANI","Mujer","10-14",{"$f":"'Pob x Genero'!#REF!","v":{"$error":"#REF!"}},743]
["081103","CUSCO","CUSCO","PAUCARTAMBO","CHALLABAMBA","Mujer","10-14",{"$f":"'Pob x Genero'!#REF!","v":{"$error":"#REF!"}},796]
["090117","HUANCAVELICA","HUANCAVELICA","HUANCAVELICA","YAULI","Mujer","10-14",{"$f":"'Pob x Genero'!#REF!","v":{"$error":"#REF!"}},835]
["090208","HUANCAVELICA","HUANCAVELICA","ACOBAMBA","ROSARIO","Mujer","10-14",{"$f":"'Pob x Genero'!#REF!","v":{"$error":"#REF!"}},845]
["090603","HUANCAVELICA","HUANCAVELICA","HUAYTARA","CORDOVA","Mujer","10-14",{"$f":"'Pob x Genero'!#REF!","v":{"$error":"#REF!"}},884]
["100108","HUANUCO","HUANUCO","HUANUCO","SAN PEDRO DE CHAULAN","Mujer","10-14",{"$f":"'Pob x Genero'!#REF!","v":{"$error":"#REF!"}},928]
["100511","HUANUCO","HUANUCO","HUAMALIES","TANTAMAYO","Mujer","10-14",{"$f":"'Pob x Genero'!#REF!","v":{"$error":"#REF!"}},965]
["100606","HUANUCO","HUANUCO","LEONCIO PRADO","MARIANO DAMASO BERAUN","Mujer","10-14",{"$f":"'Pob x Genero'!#REF!","v":{"$error":"#REF!"}},971]
["110106","ICA","ICA","ICA","PARCONA","Mujer","10-14",{"$f":"'Pob x Genero'!#REF!","v":{"$error":"#REF!"}},1010]
["120108","JUNIN","JUNIN","HUANCAYO","CHONGOS ALTO","Mujer","10-14",{"$f":"'Pob x Genero'!#REF!","v":{"$error":"#REF!"}},1053]
["120206","JUNIN","JUNIN","CONCEPCION","COMAS","Mujer","10-14",{"$f":"'Pob x Genero'!#REF!","v":{"$error":"#REF!"}},1081]
["120405","JUNIN","JUNIN","JAUJA","CANCHAYLLO","Mujer","10-14",{"$f":"'Pob x Genero'!#REF!","v":{"$error":"#REF!"}},1101]
["120606","JUNIN","JUNIN","SATIPO","PANGOA","Mujer","10-14",{"$f":"'Pob x Genero'!#REF!","v":{"$error":"#REF!"}},1140]
["130108","LA LIBERTAD","LA LIBERTAD","TRUJILLO","POROTO","Mujer","10-14",{"$f":"'Pob x Genero'!#REF!","v":{"$error":"#REF!"}},1179]
["130803","LA LIBERTAD","LA LIBERTAD","PATAZ","CHILLIA","Mujer","10-14",{"$f":"'Pob x Genero'!#REF!","v":{"$error":"#REF!"}},1222]
["130902","LA LIBERTAD","LA LIBERTAD","SANCHEZ CARRION","CHUGAY","Mujer","10-14",{"$f":"'Pob x Genero'!#REF!","v":{"$error":"#REF!"}},1234]
["140115","LAMBAYEQUE","LAMBAYEQUE","CHICLAYO","SAÑA","Mujer","10-14",{"$f":"'Pob x Genero'!#REF!","v":{"$error":"#REF!"}},1270]
["150116","DIRIS CENTRO","LIMA","LIMA","LINCE","Mujer","10-14",{"$f":"'Pob x Genero'!#REF!","v":{"$error":"#REF!"}},1309]
["150402","LIMA","LIMA","CANTA","ARAHUAY","Mujer","10-14",{"$f":"'Pob x Genero'!#REF!","v":{"$error":"#REF!"}},1348]
["150516","LIMA","LIMA","CAÑETE","ZUÑIGA","Mujer","10-14",{"$f":"'Pob x Genero'!#REF!","v":{"$error":"#REF!"}},1369]
["150715","LIMA","LIMA","HUAROCHIRI","SAN ANDRES DE TUPICOCHA","Mujer","10-14",{"$f":"'Pob x Genero'!#REF!","v":{"$error":"#REF!"}},1396]
["151004","LIMA","LIMA","YAUYOS","AYAVIRI","Mujer","10-14",{"$f":"'Pob x Genero'!#REF!","v":{"$error":"#REF!"}},1435]
["160205","LORETO","LORETO","ALTO AMAZONAS","JEBEROS","Mujer","10-14",{"$f":"'Pob x Genero'!#REF!","v":{"$error":"#REF!"}},1478]
["160804","LORETO","LORETO","PUTUMAYO","YAGUAS","Mujer","10-14",{"$f":"'Pob x Genero'!#REF!","v":{"$error":"#REF!"}},1517]
["190105","PASCO","PASCO","PASCO","NINACACA","Mujer","10-14",{"$f":"'Pob x Genero'!#REF!","v":{"$error":"#REF!"}},1554]
["190203","PASCO","PASCO","DANIEL ALCIDES CARRION","GOYLLARISQUIZGA","Mujer","10-14",{"$f":"'Pob x Genero'!#REF!","v":{"$error":"#REF!"}},1565]
["200306","PIURA","PIURA","HUANCABAMBA","SAN MIGUEL DE EL FAIQUE","Mujer","10-14",{"$f":"'Pob x Genero'!#REF!","v":{"$error":"#REF!"}},1604]
["210104","PUNO","PUNO","PUNO","ATUNCOLLA","Mujer","10-14",{"$f":"'Pob x Genero'!#REF!","v":{"$error":"#REF!"}},1647]
["210403","PUNO","PUNO","CHUCUITO","HUACULLANI","Mujer","10-14",{"$f":"'Pob x Genero'!#REF!","v":{"$error":"#REF!"}},1686]
["210704","PUNO","PUNO","LAMPA","NICASIO","Mujer","10-14",{"$f":"'Pob x Genero'!#REF!","v":{"$error":"#REF!"}},1707]
["211103","PUNO","PUNO","SAN ROMAN","CABANILLAS","Mujer","10-14",{"$f":"'Pob x Genero'!#REF!","v":{"$error":"#REF!"}},1734]
["220403","SAN MARTIN","SAN MARTIN","HUALLAGA","EL ESLABON","Mujer","10-14",{"$f":"'Pob x Genero'!#REF!","v":{"$error":"#REF!"}},1773]
["220905","SAN MARTIN","SAN MARTIN","SAN MARTIN","CHIPURANA","Mujer","10-14",{"$f":"'Pob x Genero'!#REF!","v":{"$error":"#REF!"}},1816]
["230111","TACNA","TACNA","TACNA","LA YARADA LOS PALOS","Mujer","10-14",{"$f":"'Pob x Genero'!#REF!","v":{"$error":"#REF!"}},1842]
["240101","TUMBES","TUMBES","TUMBES","TUMBES","Mujer","10-14",{"$f":"'Pob x Genero'!#REF!","v":{"$error":"#REF!"}},1860]
["010112","AMAZONAS","AMAZONAS","CHACHAPOYAS","MAGDALENA","Mujer","15-19",{"$f":"'Pob x Genero'!#REF!","v":{"$error":"#REF!"}},12]
["010509","AMAZONAS","AMAZONAS","LUYA","LUYA","Mujer","15-19",{"$f":"'Pob x Genero'!#REF!","v":{"$error":"#REF!"}},51]
["010519","AMAZONAS","AMAZONAS","LUYA","SAN JUAN DE LOPECANCHA","Mujer","15-19",{"$f":"'Pob x Genero'!#REF!","v":{"$error":"#REF!"}},61]
["020303","ANCASH","ANCASH","ANTONIO RAYMONDI","CHACCHO","Mujer","15-19",{"$f":"'Pob x Genero'!#REF!","v":{"$error":"#REF!"}},104]
["020703","ANCASH","ANCASH","CARLOS FERMIN FITZCARRALD","YAUYA","Mujer","15-19",{"$f":"'Pob x Genero'!#REF!","v":{"$error":"#REF!"}},138]
["021301","ANCASH","ANCASH","MARISCAL LUZURIAGA","PISCOBAMBA","Mujer","15-19",{"$f":"'Pob x Genero'!#REF!","v":{"$error":"#REF!"}},181]
["021707","ANCASH","ANCASH","RECUAY","PAMPAS CHICO","Mujer","15-19",{"$f":"'Pob x Genero'!#REF!","v":{"$error":"#REF!"}},220]
["021803","ANCASH","ANCASH","SANTA","COISHCO","Mujer","15-19",{"$f":"'Pob x Genero'!#REF!","v":{"$error":"#REF!"}},226]
["030403","APURIMAC","APURIMAC","AYMARAES","CARAYBAMBA","Mujer","15-19",{"$f":"'Pob x Genero'!#REF!","v":{"$error":"#REF!"}},289]
["030504","APURIMAC","APURIMAC","COTABAMBAS","HAQUIRA","Mujer","15-19",{"$f":"'Pob x Genero'!#REF!","v":{"$error":"#REF!"}},307]
["040115","AREQUIPA","AREQUIPA","AREQUIPA","QUEQUEÑA","Mujer","15-19",{"$f":"'Pob x Genero'!DO23","v":253},350]
["040121","AREQUIPA","AREQUIPA","AREQUIPA","SANTA RITA DE SIGUAS","Mujer","15-19",{"$f":"'Pob x Genero'!DO29","v":374},356]
["040410","AREQUIPA","AREQUIPA","CASTILLA","PAMPACOLCA","Mujer","15-19",{"$f":"'Pob x Genero'!DO68","v":104},395]
["040809","AREQUIPA","AREQUIPA","LA UNION","TAURIA","Mujer","15-19",{"$f":"'Pob x Genero'!DO115","v":28},442]
["050406","AYACUCHO","AYACUCHO","HUANTA","SANTILLANA","Mujer","15-19",{"$f":"'Pob x Genero'!#REF!","v":{"$error":"#REF!"}},476]
["050617","AYACUCHO","AYACUCHO","LUCANAS","SAN PEDRO","Mujer","15-19",{"$f":"'Pob x Genero'!#REF!","v":{"$error":"#REF!"}},515]
["050706","AYACUCHO","AYACUCHO","PARINACOCHAS","PUYUSCA","Mujer","15-19",{"$f":"'Pob x Genero'!#REF!","v":{"$error":"#REF!"}},525]
["060109","CAJAMARCA","CAJAMARCA","CAJAMARCA","MAGDALENA","Mujer","15-19",{"$f":"'Pob x Genero'!#REF!","v":{"$error":"#REF!"}},577]
["060410","CAJAMARCA","CAJAMARCA","CHOTA","LAJAS","Mujer","15-19",{"$f":"'Pob x Genero'!#REF!","v":{"$error":"#REF!"}},606]
["060804","CAJAMARCA","CAJAMARCA","JAEN","COLASAY","Mujer","15-19",{"$f":"'Pob x Genero'!#REF!","v":{"$error":"#REF!"}},645]
["060810","CAJAMARCA","CAJAMARCA","JAEN","SAN FELIPE","Mujer","15-19",{"$f":"'Pob x Genero'!#REF!","v":{"$error":"#REF!"}},651]
["061310","CAJAMARCA","CAJAMARCA","SANTA CRUZ","UTICYACU","Mujer","15-19",{"$f":"'Pob x Genero'!#REF!","v":{"$error":"#REF!"}},694]
["080404","CUSCO","CUSCO","CALCA","LARES","Mujer","15-19",{"$f":"'Pob x Genero'!#REF!","v":{"$error":"#REF!"}},730]
["080909","CUSCO","CUSCO","LA CONVENCION","VILCABAMBA","Mujer","15-19",{"$f":"'Pob x Genero'!#REF!","v":{"$error":"#REF!"}},775]
["081303","CUSCO","CUSCO","URUBAMBA","HUAYLLABAMBA","Mujer","15-19",{"$f":"'Pob x Genero'!#REF!","v":{"$error":"#REF!"}},814]
["090102","HUANCAVELICA","HUANCAVELICA","HUANCAVELICA","ACOBAMBILLA","Mujer","15-19",{"$f":"'Pob x Genero'!#REF!","v":{"$error":"#REF!"}},820]
["090406","HUANCAVELICA","HUANCAVELICA","CASTROVIRREYNA","COCAS","Mujer","15-19",{"$f":"'Pob x Genero'!#REF!","v":{"$error":"#REF!"}},863]
["090602","HUANCAVELICA","HUANCAVELICA","HUAYTARA","AYAVI","Mujer","15-19",{"$f":"'Pob x Genero'!#REF!","v":{"$error":"#REF!"}},883]
["100207","HUANUCO","HUANUCO","AMBO","SAN RAFAEL","Mujer","15-19",{"$f":"'Pob x Genero'!#REF!","v":{"$error":"#REF!"}},940]
["100323","HUANUCO","HUANUCO","DOS DE MAYO","YANAS","Mujer","15-19",{"$f":"'Pob x Genero'!#REF!","v":{"$error":"#REF!"}},950]
["100905","HUANUCO","HUANUCO","PUERTO INCA","YUYAPICHIS","Mujer","15-19",{"$f":"'Pob x Genero'!#REF!","v":{"$error":"#REF!"}},989]
["110303","ICA","ICA","NAZCA","EL INGENIO","Mujer","15-19",{"$f":"'Pob x Genero'!#REF!","v":{"$error":"#REF!"}},1032]
["120128","JUNIN","JUNIN","HUANCAYO","QUILCAS","Mujer","15-19",{"$f":"'Pob x Genero'!#REF!","v":{"$error":"#REF!"}},1068]
["120413","JUNIN","JUNIN","JAUJA","LEONOR ORDOÑEZ","Mujer","15-19",{"$f":"'Pob x Genero'!#REF!","v":{"$error":"#REF!"}},1109]
["120423","JUNIN","JUNIN","JAUJA","PACCHA","Mujer","15-19",{"$f":"'Pob x Genero'!#REF!","v":{"$error":"#REF!"}},1119]
["120806","JUNIN","JUNIN","YAULI","PACCHA","Mujer","15-19",{"$f":"'Pob x Genero'!#REF!","v":{"$error":"#REF!"}},1158]
["130503","LA LIBERTAD","LA LIBERTAD","JULCAN","CARABAMBA","Mujer","15-19",{"$f":"'Pob x Genero'!#REF!","v":{"$error":"#REF!"}},1203]
["130907","LA LIBERTAD","LA LIBERTAD","SANCHEZ CARRION","SARIN","Mujer","15-19",{"$f":"'Pob x Genero'!#REF!","v":{"$error":"#REF!"}},1239]
["131005","LA LIBERTAD","LA LIBERTAD","SANTIAGO DE CHUCO","MOLLEPATA","Mujer","15-19",{"$f":"'Pob x Genero'!#REF!","v":{"$error":"#REF!"}},1245]
["140307","LAMBAYEQUE","LAMBAYEQUE","LAMBAYEQUE","MOTUPE","Mujer","15-19",{"$f":"'Pob x Genero'!#REF!","v":{"$error":"#REF!"}},1288]
["150134","DIRIS CENTRO","LIMA","LIMA","SAN LUIS","Mujer","15-19",{"$f":"'Pob x Genero'!#REF!","v":{"$error":"#REF!"}},1327]
["150503","LIMA","LIMA","CAÑETE","CALANGO","Mujer","15-19",{"$f":"'Pob x Genero'!#REF!","v":{"$error":"#REF!"}},1356]
["150606","LIMA","LIMA","HUARAL","IHUARI","Mujer","15-19",{"$f":"'Pob x Genero'!#REF!","v":{"$error":"#REF!"}},1375]
["150801","LIMA","LIMA","HUAURA","HUACHO","Mujer","15-19",{"$f":"'Pob x Genero'!#REF!","v":{"$error":"#REF!"}},1414]
["151026","LIMA","LIMA","YAUYOS","SAN JOAQUIN","Mujer","15-19",{"$f":"'Pob x Genero'!#REF!","v":{"$error":"#REF!"}},1457]
["160506","LORETO","LORETO","REQUENA","PUINAHUA","Mujer","15-19",{"$f":"'Pob x Genero'!#REF!","v":{"$error":"#REF!"}},1496]
["160702","LORETO","LORETO","DATEM DEL MARAÑON","CAHUAPANAS","Mujer","15-19",{"$f":"'Pob x Genero'!#REF!","v":{"$error":"#REF!"}},1509]
["180209","MOQUEGUA","MOQUEGUA","GENERAL SANCHEZ CERRO","QUINISTAQUILLAS","Mujer","15-19",{"$f":"'Pob x Genero'!#REF!","v":{"$error":"#REF!"}},1544]
["200108","PIURA","PIURA","PIURA","EL TALLAN","Mujer","15-19",{"$f":"'Pob x Genero'!#REF!","v":{"$error":"#REF!"}},1583]
["200506","PIURA","PIURA","PAITA","TAMARINDO","Mujer","15-19",{"$f":"'Pob x Genero'!#REF!","v":{"$error":"#REF!"}},1622]
["210101","PUNO","PUNO","PUNO","PUNO","Mujer","15-19",{"$f":"'Pob x Genero'!#REF!","v":{"$error":"#REF!"}},1644]
["210212","PUNO","PUNO","AZANGARO","SAN JOSE","Mujer","15-19",{"$f":"'Pob x Genero'!#REF!","v":{"$error":"#REF!"}},1670]
["210710","PUNO","PUNO","LAMPA","VILAVILA","Mujer","15-19",{"$f":"'Pob x Genero'!#REF!","v":{"$error":"#REF!"}},1713]
["211306","PUNO","PUNO","YUNGUYO","TINICACHI","Mujer","15-19",{"$f":"'Pob x Genero'!#REF!","v":{"$error":"#REF!"}},1752]
["220604","SAN MARTIN","SAN MARTIN","MARISCAL CACERES","PACHIZA","Mujer","15-19",{"$f":"'Pob x Genero'!#REF!","v":{"$error":"#REF!"}},1791]
["221004","SAN MARTIN","SAN MARTIN","TOCACHE","SHUNTE","Mujer","15-19",{"$f":"'Pob x Genero'!#REF!","v":{"$error":"#REF!"}},1829]
["230108","TACNA","TACNA","TACNA","POCOLLAY","Mujer","15-19",{"$f":"'Pob x Genero'!#REF!","v":{"$error":"#REF!"}},1839]
["250203","UCAYALI","UCAYALI","ATALAYA","TAHUANIA","Mujer","15-19",{"$f":"'Pob x Genero'!#REF!","v":{"$error":"#REF!"}},1882]
["010303","AMAZONAS","AMAZONAS","BONGARA","CHURUJA","Mujer","20-24",{"$f":"'Pob x Genero'!#REF!","v":{"$error":"#REF!"}},30]
["010604","AMAZONAS","AMAZONAS","RODRIGUEZ DE MENDOZA","HUAMBO","Mujer","20-24",{"$f":"'Pob x Genero'!#REF!","v":{"$error":"#REF!"}},69]
["020107","ANCASH","ANCASH","HUARAZ","LA LIBERTAD","Mujer","20-24",{"$f":"'Pob x Genero'!#REF!","v":{"$error":"#REF!"}},91]
["020508","ANCASH","ANCASH","BOLOGNESI","HUALLANCA","Mujer","20-24",{"$f":"'Pob x Genero'!#REF!","v":{"$error":"#REF!"}},117]
["021007","ANCASH","ANCASH","HUARI","HUACHIS","Mujer","20-24",{"$f":"'Pob x Genero'!#REF!","v":{"$error":"#REF!"}},156]
["021501","ANCASH","ANCASH","PALLASCA","CABANA","Mujer","20-24",{"$f":"'Pob x Genero'!#REF!","v":{"$error":"#REF!"}},199]
["021507","ANCASH","ANCASH","PALLASCA","LLAPO","Mujer","20-24",{"$f":"'Pob x Genero'!#REF!","v":{"$error":"#REF!"}},205]
["022002","ANCASH","ANCASH","YUNGAY","CASCAPARA","Mujer","20-24",{"$f":"'Pob x Genero'!#REF!","v":{"$error":"#REF!"}},244]
["030307","APURIMAC","APURIMAC","ANTABAMBA","SABAINO","Mujer","20-24",{"$f":"'Pob x Genero'!#REF!","v":{"$error":"#REF!"}},286]
["030704","APURIMAC","APURIMAC","GRAU","HUAYLLATI","Mujer","20-24",{"$f":"'Pob x Genero'!#REF!","v":{"$error":"#REF!"}},325]
["030714","APURIMAC","APURIMAC","GRAU","CURASCO","Mujer","20-24",{"$f":"'Pob x Genero'!#REF!","v":{"$error":"#REF!"}},335]
["040307","AREQUIPA","AREQUIPA","CARAVELI","CHALA","Mujer","20-24",{"$f":"'Pob x Genero'!DP52","v":422},379]
["040513","AREQUIPA","AREQUIPA","CAYLLOMA","MADRIGAL","Mujer","20-24",{"$f":"'Pob x Genero'!DP85","v":30},412]
["050111","AYACUCHO","AYACUCHO","HUAMANGA","SANTIAGO DE PISCHA","Mujer","20-24",{"$f":"'Pob x Genero'!#REF!","v":{"$error":"#REF!"}},455]
["050511","AYACUCHO","AYACUCHO","LA MAR","ORONCCOY","Mujer","20-24",{"$f":"'Pob x Genero'!#REF!","v":{"$error":"#REF!"}},494]
["050606","AYACUCHO","AYACUCHO","LUCANAS","CHIPAO","Mujer","20-24",{"$f":"'Pob x Genero'!#REF!","v":{"$error":"#REF!"}},504]
["050805","AYACUCHO","AYACUCHO","PAUCAR DEL SARA SARA","MARCABAMBA","Mujer","20-24",{"$f":"'Pob x Genero'!#REF!","v":{"$error":"#REF!"}},532]
["060201","CAJAMARCA","CAJAMARCA","CAJABAMBA","CAJABAMBA","Mujer","20-24",{"$f":"'Pob x Genero'!#REF!","v":{"$error":"#REF!"}},581]
["060601","CAJAMARCA","CAJAMARCA","CUTERVO","CUTERVO","Mujer","20-24",{"$f":"'Pob x Genero'!#REF!","v":{"$error":"#REF!"}},624]
["060607","CAJAMARCA","CAJAMARCA","CUTERVO","QUEROCOTILLO","Mujer","20-24",{"$f":"'Pob x Genero'!#REF!","v":{"$error":"#REF!"}},630]
["061106","CAJAMARCA","CAJAMARCA","SAN MIGUEL","LA FLORIDA","Mujer","20-24",{"$f":"'Pob x Genero'!#REF!","v":{"$error":"#REF!"}},673]
["080207","CUSCO","CUSCO","ACOMAYO","SANGARARA","Mujer","20-24",{"$f":"'Pob x Genero'!#REF!","v":{"$error":"#REF!"}},717]
["080608","CUSCO","CUSCO","CANCHIS","TINTA","Mujer","20-24",{"$f":"'Pob x Genero'!#REF!","v":{"$error":"#REF!"}},750]
["080802","CUSCO","CUSCO","ESPINAR","CONDOROMA","Mujer","20-24",{"$f":"'Pob x Genero'!#REF!","v":{"$error":"#REF!"}},760]
["081106","CUSCO","CUSCO","PAUCARTAMBO","KOSÑIPATA","Mujer","20-24",{"$f":"'Pob x Genero'!#REF!","v":{"$error":"#REF!"}},799]
["090201","HUANCAVELICA","HUANCAVELICA","ACOBAMBA","ACOBAMBA","Mujer","20-24",{"$f":"'Pob x Genero'!#REF!","v":{"$error":"#REF!"}},838]
["090413","HUANCAVELICA","HUANCAVELICA","CASTROVIRREYNA","TICRAPO","Mujer","20-24",{"$f":"'Pob x Genero'!#REF!","v":{"$error":"#REF!"}},870]
["090724","HUANCAVELICA","HUANCAVELICA","TAYACAJA","LAMBRAS","Mujer","20-24",{"$f":"'Pob x Genero'!#REF!","v":{"$error":"#REF!"}},919]
["100109","HUANUCO","HUANUCO","HUANUCO","SANTA MARIA DEL VALLE","Mujer","20-24",{"$f":"'Pob x Genero'!#REF!","v":{"$error":"#REF!"}},929]
["100603","HUANUCO","HUANUCO","LEONCIO PRADO","HERMILIO VALDIZAN","Mujer","20-24",{"$f":"'Pob x Genero'!#REF!","v":{"$error":"#REF!"}},968]
["110101","ICA","ICA","ICA","ICA","Mujer","20-24",{"$f":"'Pob x Genero'!#REF!","v":{"$error":"#REF!"}},1005]
["120104","JUNIN","JUNIN","HUANCAYO","CARHUACALLANGA","Mujer","20-24",{"$f":"'Pob x Genero'!#REF!","v":{"$error":"#REF!"}},1049]
["120112","JUNIN","JUNIN","HUANCAYO","COLCA","Mujer","20-24",{"$f":"'Pob x Genero'!#REF!","v":{"$error":"#REF!"}},1055]
["120402","JUNIN","JUNIN","JAUJA","ACOLLA","Mujer","20-24",{"$f":"'Pob x Genero'!#REF!","v":{"$error":"#REF!"}},1098]
["120603","JUNIN","JUNIN","SATIPO","LLAYLLA","Mujer","20-24",{"$f":"'Pob x Genero'!#REF!","v":{"$error":"#REF!"}},1137]
["120806","JUNIN","JUNIN","YAULI","PACCHA","Mujer","20-24",{"$f":"'Pob x Genero'!#REF!","v":{"$error":"#REF!"}},1158]
["130704","LA LIBERTAD","LA LIBERTAD","PACASMAYO","PACASMAYO","Mujer",{"$f":"G42820","v":"20-24"},{"$f":"'Pob x Genero'!#REF!","v":{"$error":"#REF!"}},1218]
["130805","LA LIBERTAD","LA LIBERTAD","PATAZ","HUAYLILLAS","Mujer","20-24",{"$f":"'Pob x Genero'!#REF!","v":{"$error":"#REF!"}},1224]
["140108","LAMBAYEQUE","LAMBAYEQUE","CHICLAYO","MONSEFU","Mujer","20-24",{"$f":"'Pob x Genero'!#REF!","v":{"$error":"#REF!"}},1263]
["150113","DIRIS CENTRO","LIMA","LIMA","JESUS MARIA","Mujer","20-24",{"$f":"'Pob x Genero'!#REF!","v":{"$error":"#REF!"}},1306]
["150302","LIMA","LIMA","CAJATAMBO","COPA","Mujer","20-24",{"$f":"'Pob x Genero'!#REF!","v":{"$error":"#REF!"}},1343]
["150501","LIMA","LIMA","CAÑETE","SAN VICENTE DE CAÑETE","Mujer","20-24",{"$f":"'Pob x Genero'!#REF!","v":{"$error":"#REF!"}},1354]
["150712","LIMA","LIMA","HUAROCHIRI","LARAOS","Mujer","20-24",{"$f":"'Pob x Genero'!#REF!","v":{"$error":"#REF!"}},1393]
["151001","LIMA","LIMA","YAUYOS","YAUYOS","Mujer","20-24",{"$f":"'Pob x Genero'!#REF!","v":{"$error":"#REF!"}},1432]
["160205","LORETO","LORETO","ALTO AMAZONAS","JEBEROS","Mujer","20-24",{"$f":"'Pob x Genero'!#REF!","v":{"$error":"#REF!"}},1478]
["160706","LORETO","LORETO","DATEM DEL MARAÑON","ANDOAS","Mujer","20-24",{"$f":"'Pob x Genero'!#REF!","v":{"$error":"#REF!"}},1513]
["170102","MADRE DE DIOS","MADRE DE DIOS","TAMBOPATA","INAMBARI","Mujer","20-24",{"$f":"'Pob x Genero'!#REF!","v":{"$error":"#REF!"}},1519]
["190113","PASCO","PASCO","PASCO","YANACANCHA","Mujer","20-24",{"$f":"'Pob x Genero'!#REF!","v":{"$error":"#REF!"}},1562]
["200303","PIURA","PIURA","HUANCABAMBA","EL CARMEN DE LA FRONTERA","Mujer","20-24",{"$f":"'Pob x Genero'!#REF!","v":{"$error":"#REF!"}},1601]
["200608","PIURA","PIURA","SULLANA","SALITRAL","Mujer","20-24",{"$f":"'Pob x Genero'!#REF!","v":{"$error":"#REF!"}},1631]
["210106","PUNO","PUNO","PUNO","CHUCUITO","Mujer","20-24",{"$f":"'Pob x Genero'!#REF!","v":{"$error":"#REF!"}},1649]
["210405","PUNO","PUNO","CHUCUITO","PISACOMA","Mujer","20-24",{"$f":"'Pob x Genero'!#REF!","v":{"$error":"#REF!"}},1688]
["211005","PUNO","PUNO","SAN ANTONIO DE PUTINA","SINA","Mujer","20-24",{"$f":"'Pob x Genero'!#REF!","v":{"$error":"#REF!"}},1731]
["220305","SAN MARTIN","SAN MARTIN","EL DORADO","SHATOJA","Mujer","20-24",{"$f":"'Pob x Genero'!#REF!","v":{"$error":"#REF!"}},1770]
["220508","SAN MARTIN","SAN MARTIN","LAMAS","SAN ROQUE DE CUMBAZA","Mujer","20-24",{"$f":"'Pob x Genero'!#REF!","v":{"$error":"#REF!"}},1784]
["220907","SAN MARTIN","SAN MARTIN","SAN MARTIN","HUIMBAYOC","Mujer","20-24",{"$f":"'Pob x Genero'!#REF!","v":{"$error":"#REF!"}},1818]
["230406","TACNA","TACNA","TARATA","SUSAPAYA","Mujer","20-24",{"$f":"'Pob x Genero'!#REF!","v":{"$error":"#REF!"}},1857]
["010109","AMAZONAS","AMAZONAS","CHACHAPOYAS","LA JALCA","Mujer","25-29",{"$f":"'Pob x Genero'!#REF!","v":{"$error":"#REF!"}},9]
["010506","AMAZONAS","AMAZONAS","LUYA","INGUILPATA","Mujer","25-29",{"$f":"'Pob x Genero'!#REF!","v":{"$error":"#REF!"}},48]
["010701","AMAZONAS","AMAZONAS","UTCUBAMBA","BAGUA GRANDE","Mujer","25-29",{"$f":"'Pob x Genero'!#REF!","v":{"$error":"#REF!"}},78]
["020112","ANCASH","ANCASH","HUARAZ","TARICA","Mujer","25-29",{"$f":"'Pob x Genero'!#REF!","v":{"$error":"#REF!"}},96]
["020611","ANCASH","ANCASH","CARHUAZ","YUNGAR","Mujer","25-29",{"$f":"'Pob x Genero'!#REF!","v":{"$error":"#REF!"}},135]
["021208","ANCASH","ANCASH","HUAYLAS","SANTA CRUZ","Mujer","25-29",{"$f":"'Pob x Genero'!#REF!","v":{"$error":"#REF!"}},178]
["021301","ANCASH","ANCASH","MARISCAL LUZURIAGA","PISCOBAMBA","Mujer","25-29",{"$f":"'Pob x Genero'!#REF!","v":{"$error":"#REF!"}},181]
["021709","ANCASH","ANCASH","RECUAY","TAPACOCHA","Mujer","25-29",{"$f":"'Pob x Genero'!#REF!","v":{"$error":"#REF!"}},222]
["030206","APURIMAC","APURIMAC","ANDAHUAYLAS","HUAYANA","Mujer","25-29",{"$f":"'Pob x Genero'!#REF!","v":{"$error":"#REF!"}},265]
["030501","APURIMAC","APURIMAC","COTABAMBAS","TAMBOBAMBA","Mujer","25-29",{"$f":"'Pob x Genero'!#REF!","v":{"$error":"#REF!"}},304]
["030605","APURIMAC","APURIMAC","CHINCHEROS","OCOBAMBA","Mujer","25-29",{"$f":"'Pob x Genero'!#REF!","v":{"$error":"#REF!"}},314]
["040202","AREQUIPA","AREQUIPA","CAMANA","JOSE MARIA QUIMPER","Mujer","25-29",{"$f":"'Pob x Genero'!DQ39","v":279},366]
["040406","AREQUIPA","AREQUIPA","CASTILLA","CHOCO","Mujer","25-29",{"$f":"'Pob x Genero'!DQ64","v":23},391]
["040801","AREQUIPA","AREQUIPA","LA UNION","COTAHUASI","Mujer","25-29",{"$f":"'Pob x Genero'!DQ107","v":102},434]
["050403","AYACUCHO","AYACUCHO","HUANTA","HUAMANGUILLA","Mujer","25-29",{"$f":"'Pob x Genero'!#REF!","v":{"$error":"#REF!"}},473]
["050409","AYACUCHO","AYACUCHO","HUANTA","CANAYRE","Mujer","25-29",{"$f":"'Pob x Genero'!#REF!","v":{"$error":"#REF!"}},479]
["050621","AYACUCHO","AYACUCHO","LUCANAS","SANTA LUCIA","Mujer","25-29",{"$f":"'Pob x Genero'!#REF!","v":{"$error":"#REF!"}},519]
["051012","AYACUCHO","AYACUCHO","VICTOR FAJARDO","VILCANCHOS","Mujer","25-29",{"$f":"'Pob x Genero'!#REF!","v":{"$error":"#REF!"}},560]
["060407","CAJAMARCA","CAJAMARCA","CHOTA","COCHABAMBA","Mujer","25-29",{"$f":"'Pob x Genero'!#REF!","v":{"$error":"#REF!"}},603]
["060413","CAJAMARCA","CAJAMARCA","CHOTA","PACCHA","Mujer","25-29",{"$f":"'Pob x Genero'!#REF!","v":{"$error":"#REF!"}},609]
["060807","CAJAMARCA","CAJAMARCA","JAEN","POMAHUACA","Mujer","25-29",{"$f":"'Pob x Genero'!#REF!","v":{"$error":"#REF!"}},648]
["080102","CUSCO","CUSCO","CUSCO","CCORCA","Mujer","25-29",{"$f":"'Pob x Genero'!#REF!","v":{"$error":"#REF!"}},704]
["080403","CUSCO","CUSCO","CALCA","LAMAY","Mujer","25-29",{"$f":"'Pob x Genero'!#REF!","v":{"$error":"#REF!"}},729]
["080902","CUSCO","CUSCO","LA CONVENCION","ECHARATE","Mujer","25-29",{"$f":"'Pob x Genero'!#REF!","v":{"$error":"#REF!"}},768]
["080912","CUSCO","CUSCO","LA CONVENCION","VILLA VIRGEN","Mujer","25-29",{"$f":"'Pob x Genero'!#REF!","v":{"$error":"#REF!"}},778]
["081208","CUSCO","CUSCO","QUISPICANCHI","LUCRE","Mujer","25-29",{"$f":"'Pob x Genero'!#REF!","v":{"$error":"#REF!"}},807]
["090402","HUANCAVELICA","HUANCAVELICA","CASTROVIRREYNA","ARMA","Mujer","25-29",{"$f":"'Pob x Genero'!#REF!","v":{"$error":"#REF!"}},859]
["090701","HUANCAVELICA","HUANCAVELICA","TAYACAJA","PAMPAS","Mujer",{"$f":"G44391","v":"25-29"},{"$f":"'Pob x Genero'!#REF!","v":{"$error":"#REF!"}},898]
["090707","HUANCAVELICA","HUANCAVELICA","TAYACAJA","HUACHOCOLPA","Mujer","25-29",{"$f":"'Pob x Genero'!#REF!","v":{"$error":"#REF!"}},904]
["100317","HUANUCO","HUANUCO","DOS DE MAYO","RIPAN","Mujer","25-29",{"$f":"'Pob x Genero'!#REF!","v":{"$error":"#REF!"}},947]
["101003","HUANUCO","HUANUCO","LAURICOCHA","JIVIA","Mujer","25-29",{"$f":"'Pob x Genero'!#REF!","v":{"$error":"#REF!"}},992]
["110210","ICA","ICA","CHINCHA","SUNAMPE","Mujer","25-29",{"$f":"'Pob x Genero'!#REF!","v":{"$error":"#REF!"}},1028]
["110305","ICA","ICA","NAZCA","VISTA ALEGRE","Mujer","25-29",{"$f":"'Pob x Genero'!#REF!","v":{"$error":"#REF!"}},1034]
["120134","JUNIN","JUNIN","HUANCAYO","SICAYA","Mujer","25-29",{"$f":"'Pob x Genero'!#REF!","v":{"$error":"#REF!"}},1073]
["120420","JUNIN","JUNIN","JAUJA","MUQUI","Mujer","25-29",{"$f":"'Pob x Genero'!#REF!","v":{"$error":"#REF!"}},1116]
["120702","JUNIN","JUNIN","TARMA","ACOBAMBA","Mujer","25-29",{"$f":"'Pob x Genero'!#REF!","v":{"$error":"#REF!"}},1145]
["130302","LA LIBERTAD","LA LIBERTAD","BOLIVAR","BAMBAMARCA","Mujer","25-29",{"$f":"'Pob x Genero'!#REF!","v":{"$error":"#REF!"}},1193]
["130503","LA LIBERTAD","LA LIBERTAD","JULCAN","CARABAMBA","Mujer","25-29",{"$f":"'Pob x Genero'!#REF!","v":{"$error":"#REF!"}},1203]
["131002","LA LIBERTAD","LA LIBERTAD","SANTIAGO DE CHUCO","ANGASMARCA","Mujer","25-29",{"$f":"'Pob x Genero'!#REF!","v":{"$error":"#REF!"}},1242]
["140205","LAMBAYEQUE","LAMBAYEQUE","FERREÑAFE","PITIPO","Mujer","25-29",{"$f":"'Pob x Genero'!#REF!","v":{"$error":"#REF!"}},1280]
["150130","DIRIS CENTRO","LIMA","LIMA","SAN BORJA","Mujer","25-29",{"$f":"'Pob x Genero'!#REF!","v":{"$error":"#REF!"}},1323]
["150136","DIRIS CENTRO","LIMA","LIMA","SAN MIGUEL","Mujer","25-29",{"$f":"'Pob x Genero'!#REF!","v":{"$error":"#REF!"}},1329]
["150603","LIMA","LIMA","HUARAL","ATAVILLOS BAJO","Mujer","25-29",{"$f":"'Pob x Genero'!#REF!","v":{"$error":"#REF!"}},1372]
["150730","LIMA","LIMA","HUAROCHIRI","SANTIAGO DE TUNA","Mujer","25-29",{"$f":"'Pob x Genero'!#REF!","v":{"$error":"#REF!"}},1411]
["151002","LIMA","LIMA","YAUYOS","ALIS","Mujer","25-29",{"$f":"'Pob x Genero'!#REF!","v":{"$error":"#REF!"}},1433]
["151028","LIMA","LIMA","YAUYOS","TANTA","Mujer","25-29",{"$f":"'Pob x Genero'!#REF!","v":{"$error":"#REF!"}},1459]
["160508","LORETO","LORETO","REQUENA","SOPLIN","Mujer","25-29",{"$f":"'Pob x Genero'!#REF!","v":{"$error":"#REF!"}},1498]
["180206","MOQUEGUA","MOQUEGUA","GENERAL SANCHEZ CERRO","LLOQUE","Mujer","25-29",{"$f":"'Pob x Genero'!#REF!","v":{"$error":"#REF!"}},1541]
["200104","PIURA","PIURA","PIURA","CASTILLA","Mujer","25-29",{"$f":"'Pob x Genero'!#REF!","v":{"$error":"#REF!"}},1580]
["200502","PIURA","PIURA","PAITA","AMOTAPE","Mujer","25-29",{"$f":"'Pob x Genero'!#REF!","v":{"$error":"#REF!"}},1618]
["200605","PIURA","PIURA","SULLANA","MARCAVELICA","Mujer","25-29",{"$f":"'Pob x Genero'!#REF!","v":{"$error":"#REF!"}},1628]
["210209","PUNO","PUNO","AZANGARO","POTONI","Mujer","25-29",{"$f":"'Pob x Genero'!#REF!","v":{"$error":"#REF!"}},1667]
["210707","PUNO","PUNO","LAMPA","PARATIA","Mujer","25-29",{"$f":"'Pob x Genero'!#REF!","v":{"$error":"#REF!"}},1710]
["211303","PUNO","PUNO","YUNGUYO","COPANI","Mujer","25-29",{"$f":"'Pob x Genero'!#REF!","v":{"$error":"#REF!"}},1749]
["220401","SAN MARTIN","SAN MARTIN","HUALLAGA","SAPOSOA","Mujer","25-29",{"$f":"'Pob x Genero'!#REF!","v":{"$error":"#REF!"}},1771]
["220705","SAN MARTIN","SAN MARTIN","PICOTA","PUCACACA","Mujer","25-29",{"$f":"'Pob x Genero'!#REF!","v":{"$error":"#REF!"}},1797]
["230105","TACNA","TACNA","TACNA","INCLAN","Mujer","25-29",{"$f":"'Pob x Genero'!#REF!","v":{"$error":"#REF!"}},1836]
["250103","UCAYALI","UCAYALI","CORONEL PORTILLO","IPARIA","Mujer","25-29",{"$f":"'Pob x Genero'!#REF!","v":{"$error":"#REF!"}},1875]
["010115","AMAZONAS","AMAZONAS","CHACHAPOYAS","MONTEVIDEO","Mujer","30-34",{"$f":"'Pob x Genero'!#REF!","v":{"$error":"#REF!"}},15]
["010305","AMAZONAS","AMAZONAS","BONGARA","CUISPES","Mujer","30-34",{"$f":"'Pob x Genero'!#REF!","v":{"$error":"#REF!"}},32]
["010610","AMAZONAS","AMAZONAS","RODRIGUEZ DE MENDOZA","SANTA ROSA","Mujer","30-34",{"$f":"'Pob x Genero'!#REF!","v":{"$error":"#REF!"}},75]
["020505","ANCASH","ANCASH","BOLOGNESI","CAJACAY","Mujer","30-34",{"$f":"'Pob x Genero'!#REF!","v":{"$error":"#REF!"}},114]
["021004","ANCASH","ANCASH","HUARI","CHAVIN DE HUANTAR","Mujer","30-34",{"$f":"'Pob x Genero'!#REF!","v":{"$error":"#REF!"}},153]
["021103","ANCASH","ANCASH","HUARMEY","CULEBRAS","Mujer","30-34",{"$f":"'Pob x Genero'!#REF!","v":{"$error":"#REF!"}},168]
["021503","ANCASH","ANCASH","PALLASCA","CONCHUCOS","Mujer","30-34",{"$f":"'Pob x Genero'!#REF!","v":{"$error":"#REF!"}},201]
["022002","ANCASH","ANCASH","YUNGAY","CASCAPARA","Mujer","30-34",{"$f":"'Pob x Genero'!#REF!","v":{"$error":"#REF!"}},244]
["030304","APURIMAC","APURIMAC","ANTABAMBA","JUAN ESPINOZA MEDRANO","Mujer","30-34",{"$f":"'Pob x Genero'!#REF!","v":{"$error":"#REF!"}},283]
["030701","APURIMAC","APURIMAC","GRAU","CHUQUIBAMBILLA","Mujer",{"$f":"G45706","v":"30-34"},{"$f":"'Pob x Genero'!#REF!","v":{"$error":"#REF!"}},322]
["040118","AREQUIPA","AREQUIPA","AREQUIPA","SAN JUAN DE SIGUAS","Mujer","30-34",{"$f":"'Pob x Genero'!DR26","v":29},353]
["040206","AREQUIPA","AREQUIPA","CAMANA","OCOÑA","Mujer","30-34",{"$f":"'Pob x Genero'!DR43","v":160},370]
["040510","AREQUIPA","AREQUIPA","CAYLLOMA","LARI","Mujer","30-34",{"$f":"'Pob x Genero'!DR82","v":49},409]
["050108","AYACUCHO","AYACUCHO","HUAMANGA","QUINUA","Mujer","30-34",{"$f":"'Pob x Genero'!#REF!","v":{"$error":"#REF!"}},452]
["050114","AYACUCHO","AYACUCHO","HUAMANGA","VINCHOS","Mujer","30-34",{"$f":"'Pob x Genero'!#REF!","v":{"$error":"#REF!"}},458]
["050608","AYACUCHO","AYACUCHO","LUCANAS","LARAMATE","Mujer","30-34",{"$f":"'Pob x Genero'!#REF!","v":{"$error":"#REF!"}},506]
["050902","AYACUCHO","AYACUCHO","SUCRE","BELEN","Mujer","30-34",{"$f":"'Pob x Genero'!#REF!","v":{"$error":"#REF!"}},539]
["060110","CAJAMARCA","CAJAMARCA","CAJAMARCA","MATARA","Mujer",{"$f":"G45962","v":"30-34"},{"$f":"'Pob x Genero'!#REF!","v":{"$error":"#REF!"}},578]
["060304","CAJAMARCA","CAJAMARCA","CELENDIN","HUASMIN","Mujer","30-34",{"$f":"'Pob x Genero'!#REF!","v":{"$error":"#REF!"}},588]
["060703","CAJAMARCA","CAJAMARCA","HUALGAYOC","HUALGAYOC","Mujer","30-34",{"$f":"'Pob x Genero'!#REF!","v":{"$error":"#REF!"}},641]
["061005","CAJAMARCA","CAJAMARCA","SAN MARCOS","ICHOCAN","Mujer","30-34",{"$f":"'Pob x Genero'!#REF!","v":{"$error":"#REF!"}},665]
["080106","CUSCO","CUSCO","CUSCO","SANTIAGO","Mujer","30-34",{"$f":"'Pob x Genero'!#REF!","v":{"$error":"#REF!"}},708]
["080605","CUSCO","CUSCO","CANCHIS","PITUMARCA","Mujer","30-34",{"$f":"'Pob x Genero'!#REF!","v":{"$error":"#REF!"}},747]
["080707","CUSCO","CUSCO","CHUMBIVILCAS","QUIÑOTA","Mujer","30-34",{"$f":"'Pob x Genero'!#REF!","v":{"$error":"#REF!"}},757]
["081101","CUSCO","CUSCO","PAUCARTAMBO","PAUCARTAMBO","Mujer","30-34",{"$f":"'Pob x Genero'!#REF!","v":{"$error":"#REF!"}},794]
["090116","HUANCAVELICA","HUANCAVELICA","HUANCAVELICA","VILCA","Mujer",{"$f":"G46218","v":"30-34"},{"$f":"'Pob x Genero'!#REF!","v":{"$error":"#REF!"}},834]
["090507","HUANCAVELICA","HUANCAVELICA","CHURCAMPA","PAUCARBAMBA","Mujer","30-34",{"$f":"'Pob x Genero'!#REF!","v":{"$error":"#REF!"}},877]
["090602","HUANCAVELICA","HUANCAVELICA","HUAYTARA","AYAVI","Mujer","30-34",{"$f":"'Pob x Genero'!#REF!","v":{"$error":"#REF!"}},883]
["100106","HUANUCO","HUANUCO","HUANUCO","QUISQUI","Mujer","30-34",{"$f":"'Pob x Genero'!#REF!","v":{"$error":"#REF!"}},926]
["100317","HUANUCO","HUANUCO","DOS DE MAYO","RIPAN","Mujer","30-34",{"$f":"'Pob x Genero'!#REF!","v":{"$error":"#REF!"}},947]
["101107","HUANUCO","HUANUCO","YAROWILCA","PAMPAMARCA","Mujer","30-34",{"$f":"'Pob x Genero'!#REF!","v":{"$error":"#REF!"}},1003]
["110109","ICA","ICA","ICA","SAN JOSE DE LOS MOLINOS","Mujer","30-34",{"$f":"'Pob x Genero'!#REF!","v":{"$error":"#REF!"}},1013]
["120107","JUNIN","JUNIN","HUANCAYO","CHILCA","Mujer","30-34",{"$f":"'Pob x Genero'!#REF!","v":{"$error":"#REF!"}},1052]
["120207","JUNIN","JUNIN","CONCEPCION","HEROINAS TOLEDO","Mujer","30-34",{"$f":"'Pob x Genero'!#REF!","v":{"$error":"#REF!"}},1082]
["120503","JUNIN","JUNIN","JUNIN","ONDORES","Mujer","30-34",{"$f":"'Pob x Genero'!#REF!","v":{"$error":"#REF!"}},1133]
["130101","LA LIBERTAD","LA LIBERTAD","TRUJILLO","TRUJILLO","Mujer","30-34",{"$f":"'Pob x Genero'!#REF!","v":{"$error":"#REF!"}},1172]
["130111","LA LIBERTAD","LA LIBERTAD","TRUJILLO","VICTOR LARCO HERRERA","Mujer","30-34",{"$f":"'Pob x Genero'!#REF!","v":{"$error":"#REF!"}},1182]
["130802","LA LIBERTAD","LA LIBERTAD","PATAZ","BULDIBUYO","Mujer","30-34",{"$f":"'Pob x Genero'!#REF!","v":{"$error":"#REF!"}},1221]
["140112","LAMBAYEQUE","LAMBAYEQUE","CHICLAYO","PIMENTEL","Mujer","30-34",{"$f":"'Pob x Genero'!#REF!","v":{"$error":"#REF!"}},1267]
["150109","DIRIS ESTE","LIMA","LIMA","CIENEGUILLA","Mujer","30-34",{"$f":"'Pob x Genero'!#REF!","v":{"$error":"#REF!"}},1302]
["150115","DIRIS CENTRO","LIMA","LIMA","LA VICTORIA","Mujer","30-34",{"$f":"'Pob x Genero'!#REF!","v":{"$error":"#REF!"}},1308]
["150405","LIMA","LIMA","CANTA","LACHAQUI","Mujer","30-34",{"$f":"'Pob x Genero'!#REF!","v":{"$error":"#REF!"}},1351]
["150709","LIMA","LIMA","HUAROCHIRI","HUAROCHIRI","Mujer","30-34",{"$f":"'Pob x Genero'!#REF!","v":{"$error":"#REF!"}},1390]
["150807","LIMA","LIMA","HUAURA","LEONCIO PRADO","Mujer","30-34",{"$f":"'Pob x Genero'!#REF!","v":{"$error":"#REF!"}},1420]
["151007","LIMA","LIMA","YAUYOS","CARANIA","Mujer","30-34",{"$f":"'Pob x Genero'!#REF!","v":{"$error":"#REF!"}},1438]
["160202","LORETO","LORETO","ALTO AMAZONAS","BALSAPUERTO","Mujer","30-34",{"$f":"'Pob x Genero'!#REF!","v":{"$error":"#REF!"}},1477]
["160803","LORETO","LORETO","PUTUMAYO","TENIENTE MANUEL CLAVERO","Mujer","30-34",{"$f":"'Pob x Genero'!#REF!","v":{"$error":"#REF!"}},1516]
["190110","PASCO","PASCO","PASCO","TICLACAYAN","Mujer","30-34",{"$f":"'Pob x Genero'!#REF!","v":{"$error":"#REF!"}},1559]
["190303","PASCO","PASCO","OXAPAMPA","HUANCABAMBA","Mujer","30-34",{"$f":"'Pob x Genero'!#REF!","v":{"$error":"#REF!"}},1573]
["200401","PIURA","PIURA","MORROPON","CHULUCANAS","Mujer","30-34",{"$f":"'Pob x Genero'!#REF!","v":{"$error":"#REF!"}},1607]
["210103","PUNO","PUNO","PUNO","AMANTANI","Mujer","30-34",{"$f":"'Pob x Genero'!#REF!","v":{"$error":"#REF!"}},1646]
["210402","PUNO","PUNO","CHUCUITO","DESAGUADERO","Mujer","30-34",{"$f":"'Pob x Genero'!#REF!","v":{"$error":"#REF!"}},1685]
["210705","PUNO","PUNO","LAMPA","OCUVIRI","Mujer","30-34",{"$f":"'Pob x Genero'!#REF!","v":{"$error":"#REF!"}},1708]
["211102","PUNO","PUNO","SAN ROMAN","CABANA","Mujer","30-34",{"$f":"'Pob x Genero'!#REF!","v":{"$error":"#REF!"}},1733]
["220402","SAN MARTIN","SAN MARTIN","HUALLAGA","ALTO SAPOSOA","Mujer","30-34",{"$f":"'Pob x Genero'!#REF!","v":{"$error":"#REF!"}},1772]
["220904","SAN MARTIN","SAN MARTIN","SAN MARTIN","CHAZUTA","Mujer","30-34",{"$f":"'Pob x Genero'!#REF!","v":{"$error":"#REF!"}},1815]
["230403","TACNA","TACNA","TARATA","ESTIQUE","Mujer","30-34",{"$f":"'Pob x Genero'!#REF!","v":{"$error":"#REF!"}},1854]
["010102","AMAZONAS","AMAZONAS","CHACHAPOYAS","ASUNCION","Mujer",{"$f":"G47277","v":"35-39"},{"$f":"'Pob x Genero'!#REF!","v":{"$error":"#REF!"}},2]
["010111","AMAZONAS","AMAZONAS","CHACHAPOYAS","LEVANTO","Mujer","35-39",{"$f":"'Pob x Genero'!#REF!","v":{"$error":"#REF!"}},11]
["010508","AMAZONAS","AMAZONAS","LUYA","LONYA CHICO","Mujer","35-39",{"$f":"'Pob x Genero'!#REF!","v":{"$error":"#REF!"}},50]
["020109","ANCASH","ANCASH","HUARAZ","PAMPAS","Mujer","35-39",{"$f":"'Pob x Genero'!#REF!","v":{"$error":"#REF!"}},93]
["020608","ANCASH","ANCASH","CARHUAZ","SAN MIGUEL DE ACO","Mujer","35-39",{"$f":"'Pob x Genero'!#REF!","v":{"$error":"#REF!"}},132]
["021006","ANCASH","ANCASH","HUARI","HUACCHIS","Mujer","35-39",{"$f":"'Pob x Genero'!#REF!","v":{"$error":"#REF!"}},155]
["021210","ANCASH","ANCASH","HUAYLAS","YURACMARCA","Mujer","35-39",{"$f":"'Pob x Genero'!#REF!","v":{"$error":"#REF!"}},180]
["021706","ANCASH","ANCASH","RECUAY","MARCA","Mujer","35-39",{"$f":"'Pob x Genero'!#REF!","v":{"$error":"#REF!"}},219]
["030203","APURIMAC","APURIMAC","ANDAHUAYLAS","CHIARA","Mujer","35-39",{"$f":"'Pob x Genero'!#REF!","v":{"$error":"#REF!"}},262]
["030209","APURIMAC","APURIMAC","ANDAHUAYLAS","PACUCHA","Mujer","35-39",{"$f":"'Pob x Genero'!#REF!","v":{"$error":"#REF!"}},268]
["030505","APURIMAC","APURIMAC","COTABAMBAS","MARA","Mujer","35-39",{"$f":"'Pob x Genero'!#REF!","v":{"$error":"#REF!"}},308]
["040114","AREQUIPA","AREQUIPA","AREQUIPA","POLOBAYA","Mujer","35-39",{"$f":"'Pob x Genero'!DS22","v":26},349]
["040403","AREQUIPA","AREQUIPA","CASTILLA","AYO","Mujer","35-39",{"$f":"'Pob x Genero'!DS61","v":12},388]
["040704","AREQUIPA","AREQUIPA","ISLAY","ISLAY","Mujer","35-39",{"$f":"'Pob x Genero'!DS104","v":204},431]
["040810","AREQUIPA","AREQUIPA","LA UNION","TOMEPAMPA","Mujer","35-39",{"$f":"'Pob x Genero'!DS116","v":15},443]
["050405","AYACUCHO","AYACUCHO","HUANTA","LURICOCHA","Mujer","35-39",{"$f":"'Pob x Genero'!#REF!","v":{"$error":"#REF!"}},475]
["050620","AYACUCHO","AYACUCHO","LUCANAS","SANTA ANA DE HUAYCAHUACHO","Mujer","35-39",{"$f":"'Pob x Genero'!#REF!","v":{"$error":"#REF!"}},518]
["051009","AYACUCHO","AYACUCHO","VICTOR FAJARDO","HUANCARAYLLA","Mujer","35-39",{"$f":"'Pob x Genero'!#REF!","v":{"$error":"#REF!"}},557]
["051103","AYACUCHO","AYACUCHO","VILCAS HUAMAN","CARHUANCA","Mujer","35-39",{"$f":"'Pob x Genero'!#REF!","v":{"$error":"#REF!"}},563]
["060312","CAJAMARCA","CAJAMARCA","CELENDIN","LA LIBERTAD DE PALLAN","Mujer","35-39",{"$f":"'Pob x Genero'!#REF!","v":{"$error":"#REF!"}},596]
["060803","CAJAMARCA","CAJAMARCA","JAEN","CHONTALI","Mujer","35-39",{"$f":"'Pob x Genero'!#REF!","v":{"$error":"#REF!"}},644]
["061303","CAJAMARCA","CAJAMARCA","SANTA CRUZ","CATACHE","Mujer","35-39",{"$f":"'Pob x Genero'!#REF!","v":{"$error":"#REF!"}},687]
["080309","CUSCO","CUSCO","ANTA","ZURITE","Mujer","35-39",{"$f":"'Pob x Genero'!#REF!","v":{"$error":"#REF!"}},726]
["080406","CUSCO","CUSCO","CALCA","SAN SALVADOR","Mujer","35-39",{"$f":"'Pob x Genero'!#REF!","v":{"$error":"#REF!"}},732]
["080915","CUSCO","CUSCO","LA CONVENCION","KUMPIRUSHIATO","Mujer","35-39",{"$f":"'Pob x Genero'!#REF!","v":{"$error":"#REF!"}},781]
["081302","CUSCO","CUSCO","URUBAMBA","CHINCHERO","Mujer","35-39",{"$f":"'Pob x Genero'!#REF!","v":{"$error":"#REF!"}},813]
["090311","HUANCAVELICA","HUANCAVELICA","ANGARAES","SANTO TOMAS DE PATA","Mujer","35-39",{"$f":"'Pob x Genero'!#REF!","v":{"$error":"#REF!"}},856]
["090405","HUANCAVELICA","HUANCAVELICA","CASTROVIRREYNA","CHUPAMARCA","Mujer","35-39",{"$f":"'Pob x Genero'!#REF!","v":{"$error":"#REF!"}},862]
["090721","HUANCAVELICA","HUANCAVELICA","TAYACAJA","ROBLE","Mujer","35-39",{"$f":"'Pob x Genero'!#REF!","v":{"$error":"#REF!"}},916]
["100307","HUANUCO","HUANUCO","DOS DE MAYO","CHUQUIS","Mujer","35-39",{"$f":"'Pob x Genero'!#REF!","v":{"$error":"#REF!"}},943]
["100802","HUANUCO","HUANUCO","PACHITEA","CHAGLLA","Mujer","35-39",{"$f":"'Pob x Genero'!#REF!","v":{"$error":"#REF!"}},982]
["110203","ICA","ICA","CHINCHA","CHAVIN","Mujer","35-39",{"$f":"'Pob x Genero'!#REF!","v":{"$error":"#REF!"}},1021]
["110302","ICA","ICA","NAZCA","CHANGUILLO","Mujer","35-39",{"$f":"'Pob x Genero'!#REF!","v":{"$error":"#REF!"}},1031]
["120129","JUNIN","JUNIN","HUANCAYO","SAN AGUSTIN","Mujer","35-39",{"$f":"'Pob x Genero'!#REF!","v":{"$error":"#REF!"}},1069]
["120416","JUNIN","JUNIN","JAUJA","MASMA","Mujer","35-39",{"$f":"'Pob x Genero'!#REF!","v":{"$error":"#REF!"}},1112]
["120708","JUNIN","JUNIN","TARMA","SAN PEDRO DE CAJAS","Mujer","35-39",{"$f":"'Pob x Genero'!#REF!","v":{"$error":"#REF!"}},1151]
["120805","JUNIN","JUNIN","YAULI","MOROCOCHA","Mujer","35-39",{"$f":"'Pob x Genero'!#REF!","v":{"$error":"#REF!"}},1157]
["130403","LA LIBERTAD","LA LIBERTAD","CHEPEN","PUEBLO NUEVO","Mujer","35-39",{"$f":"'Pob x Genero'!#REF!","v":{"$error":"#REF!"}},1200]
["130803","LA LIBERTAD","LA LIBERTAD","PATAZ","CHILLIA","Mujer","35-39",{"$f":"'Pob x Genero'!#REF!","v":{"$error":"#REF!"}},1222]
["140206","LAMBAYEQUE","LAMBAYEQUE","FERREÑAFE","PUEBLO NUEVO","Mujer","35-39",{"$f":"'Pob x Genero'!#REF!","v":{"$error":"#REF!"}},1281]
["140306","LAMBAYEQUE","LAMBAYEQUE","LAMBAYEQUE","MORROPE","Mujer","35-39",{"$f":"'Pob x Genero'!#REF!","v":{"$error":"#REF!"}},1287]
["150133","DIRIS SUR","LIMA","LIMA","SAN JUAN DE MIRAFLORES","Mujer","35-39",{"$f":"'Pob x Genero'!#REF!","v":{"$error":"#REF!"}},1326]
["150516","LIMA","LIMA","CAÑETE","ZUÑIGA","Mujer","35-39",{"$f":"'Pob x Genero'!#REF!","v":{"$error":"#REF!"}},1369]
["150726","LIMA","LIMA","HUAROCHIRI","SANGALLAYA","Mujer","35-39",{"$f":"'Pob x Genero'!#REF!","v":{"$error":"#REF!"}},1407]
["151015","LIMA","LIMA","YAUYOS","HUANGASCAR","Mujer","35-39",{"$f":"'Pob x Genero'!#REF!","v":{"$error":"#REF!"}},1446]
["151025","LIMA","LIMA","YAUYOS","QUINOCAY","Mujer","35-39",{"$f":"'Pob x Genero'!#REF!","v":{"$error":"#REF!"}},1456]
["160505","LORETO","LORETO","REQUENA","MAQUIA","Mujer","35-39",{"$f":"'Pob x Genero'!#REF!","v":{"$error":"#REF!"}},1495]
["180207","MOQUEGUA","MOQUEGUA","GENERAL SANCHEZ CERRO","MATALAQUE","Mujer","35-39",{"$f":"'Pob x Genero'!#REF!","v":{"$error":"#REF!"}},1542]
["190306","PASCO","PASCO","OXAPAMPA","PUERTO BERMUDEZ","Mujer","35-39",{"$f":"'Pob x Genero'!#REF!","v":{"$error":"#REF!"}},1576]
["200107","PIURA","PIURA","PIURA","CURA MORI","Mujer","35-39",{"$f":"'Pob x Genero'!#REF!","v":{"$error":"#REF!"}},1582]
["200602","PIURA","PIURA","SULLANA","BELLAVISTA","Mujer","35-39",{"$f":"'Pob x Genero'!#REF!","v":{"$error":"#REF!"}},1625]
["210206","PUNO","PUNO","AZANGARO","CHUPA","Mujer","35-39",{"$f":"'Pob x Genero'!#REF!","v":{"$error":"#REF!"}},1664]
["210505","PUNO","PUNO","EL COLLAO","CONDURIRI","Mujer","35-39",{"$f":"'Pob x Genero'!#REF!","v":{"$error":"#REF!"}},1695]
["210709","PUNO","PUNO","LAMPA","SANTA LUCIA","Mujer","35-39",{"$f":"'Pob x Genero'!#REF!","v":{"$error":"#REF!"}},1712]
["211305","PUNO","PUNO","YUNGUYO","OLLARAYA","Mujer","35-39",{"$f":"'Pob x Genero'!#REF!","v":{"$error":"#REF!"}},1751]
["220702","SAN MARTIN","SAN MARTIN","PICOTA","BUENOS AIRES","Mujer",{"$f":"G49069","v":"35-39"},{"$f":"'Pob x Genero'!#REF!","v":{"$error":"#REF!"}},1794]
["230102","TACNA","TACNA","TACNA","ALTO DE LA ALIANZA","Mujer","35-39",{"$f":"'Pob x Genero'!#REF!","v":{"$error":"#REF!"}},1833]
["230206","TACNA","TACNA","CANDARAVE","QUILAHUANI","Mujer","35-39",{"$f":"'Pob x Genero'!#REF!","v":{"$error":"#REF!"}},1848]
["250202","UCAYALI","UCAYALI","ATALAYA","SEPAHUA","Mujer","35-39",{"$f":"'Pob x Genero'!#REF!","v":{"$error":"#REF!"}},1881]
["010302","AMAZONAS","AMAZONAS","BONGARA","CHISQUILLA","Mujer","40-44",{"$f":"'Pob x Genero'!#REF!","v":{"$error":"#REF!"}},29]
["010607","AMAZONAS","AMAZONAS","RODRIGUEZ DE MENDOZA","MARISCAL BENAVIDES","Mujer","40-44",{"$f":"'Pob x Genero'!#REF!","v":{"$error":"#REF!"}},72]
["020502","ANCASH","ANCASH","BOLOGNESI","ABELARDO PARDO LEZAMETA","Mujer","40-44",{"$f":"'Pob x Genero'!#REF!","v":{"$error":"#REF!"}},111]
["020804","ANCASH","ANCASH","CASMA","YAUTAN","Mujer","40-44",{"$f":"'Pob x Genero'!#REF!","v":{"$error":"#REF!"}},142]
["021010","ANCASH","ANCASH","HUARI","PAUCAS","Mujer","40-44",{"$f":"'Pob x Genero'!#REF!","v":{"$error":"#REF!"}},159]
["021410","ANCASH","ANCASH","OCROS","SANTIAGO DE CHILCAS","Mujer","40-44",{"$f":"'Pob x Genero'!#REF!","v":{"$error":"#REF!"}},198]
["021905","ANCASH","ANCASH","SIHUAS","CHINGALPO","Mujer","40-44",{"$f":"'Pob x Genero'!#REF!","v":{"$error":"#REF!"}},237]
["030218","APURIMAC","APURIMAC","ANDAHUAYLAS","TURPO","Mujer","40-44",{"$f":"'Pob x Genero'!#REF!","v":{"$error":"#REF!"}},277]
["030306","APURIMAC","APURIMAC","ANTABAMBA","PACHACONAS","Mujer","40-44",{"$f":"'Pob x Genero'!#REF!","v":{"$error":"#REF!"}},285]
["030707","APURIMAC","APURIMAC","GRAU","PATAYPAMPA","Mujer","40-44",{"$f":"'Pob x Genero'!#REF!","v":{"$error":"#REF!"}},328]
["040203","AREQUIPA","AREQUIPA","CAMANA","MARIANO NICOLAS VALCARCEL","Mujer","40-44",{"$f":"'Pob x Genero'!DT40","v":377},367]
["040507","AREQUIPA","AREQUIPA","CAYLLOMA","HUAMBO","Mujer","40-44",{"$f":"'Pob x Genero'!DT79","v":33},406]
["040703","AREQUIPA","AREQUIPA","ISLAY","DEAN VALDIVIA","Mujer","40-44",{"$f":"'Pob x Genero'!DT103","v":312},430]
["050110","AYACUCHO","AYACUCHO","HUAMANGA","SAN JUAN BAUTISTA","Mujer","40-44",{"$f":"'Pob x Genero'!#REF!","v":{"$error":"#REF!"}},454]
["050510","AYACUCHO","AYACUCHO","LA MAR","ANCHIHUAY","Mujer","40-44",{"$f":"'Pob x Genero'!#REF!","v":{"$error":"#REF!"}},493]
["050809","AYACUCHO","AYACUCHO","PAUCAR DEL SARA SARA","SAN JOSE DE USHUA","Mujer","40-44",{"$f":"'Pob x Genero'!#REF!","v":{"$error":"#REF!"}},536]
["050905","AYACUCHO","AYACUCHO","SUCRE","HUACAÑA","Mujer","40-44",{"$f":"'Pob x Genero'!#REF!","v":{"$error":"#REF!"}},542]
["060203","CAJAMARCA","CAJAMARCA","CAJABAMBA","CONDEBAMBA","Mujer","40-44",{"$f":"'Pob x Genero'!#REF!","v":{"$error":"#REF!"}},583]
["060508","CAJAMARCA","CAJAMARCA","CONTUMAZA","YONAN","Mujer","40-44",{"$f":"'Pob x Genero'!#REF!","v":{"$error":"#REF!"}},623]
["061002","CAJAMARCA","CAJAMARCA","SAN MARCOS","CHANCAY","Mujer","40-44",{"$f":"'Pob x Genero'!#REF!","v":{"$error":"#REF!"}},662]
["061105","CAJAMARCA","CAJAMARCA","SAN MIGUEL","EL PRADO","Mujer","40-44",{"$f":"'Pob x Genero'!#REF!","v":{"$error":"#REF!"}},672]
["080301","CUSCO","CUSCO","ANTA","ANTA","Mujer","40-44",{"$f":"'Pob x Genero'!#REF!","v":{"$error":"#REF!"}},718]
["080703","CUSCO","CUSCO","CHUMBIVILCAS","CHAMACA","Mujer","40-44",{"$f":"'Pob x Genero'!#REF!","v":{"$error":"#REF!"}},753]
["081008","CUSCO","CUSCO","PARURO","PILLPINTO","Mujer","40-44",{"$f":"'Pob x Genero'!#REF!","v":{"$error":"#REF!"}},792]
["090113","HUANCAVELICA","HUANCAVELICA","HUANCAVELICA","NUEVO OCCORO","Mujer","40-44",{"$f":"'Pob x Genero'!#REF!","v":{"$error":"#REF!"}},831]
["090204","HUANCAVELICA","HUANCAVELICA","ACOBAMBA","CAJA","Mujer","40-44",{"$f":"'Pob x Genero'!#REF!","v":{"$error":"#REF!"}},841]
["090501","HUANCAVELICA","HUANCAVELICA","CHURCAMPA","CHURCAMPA","Mujer","40-44",{"$f":"'Pob x Genero'!#REF!","v":{"$error":"#REF!"}},871]
["090723","HUANCAVELICA","HUANCAVELICA","TAYACAJA","SANTIAGO DE TUCUMA","Mujer","40-44",{"$f":"'Pob x Genero'!#REF!","v":{"$error":"#REF!"}},918]
["100507","HUANUCO","HUANUCO","HUAMALIES","MONZON","Mujer","40-44",{"$f":"'Pob x Genero'!#REF!","v":{"$error":"#REF!"}},961]
["100602","HUANUCO","HUANUCO","LEONCIO PRADO","DANIEL ALOMIA ROBLES","Mujer","40-44",{"$f":"'Pob x Genero'!#REF!","v":{"$error":"#REF!"}},967]
["110106","ICA","ICA","ICA","PARCONA","Mujer","40-44",{"$f":"'Pob x Genero'!#REF!","v":{"$error":"#REF!"}},1010]
["120113","JUNIN","JUNIN","HUANCAYO","CULLHUAS","Mujer","40-44",{"$f":"'Pob x Genero'!#REF!","v":{"$error":"#REF!"}},1056]
["120212","JUNIN","JUNIN","CONCEPCION","NUEVE DE JULIO","Mujer","40-44",{"$f":"'Pob x Genero'!#REF!","v":{"$error":"#REF!"}},1087]
["120434","JUNIN","JUNIN","JAUJA","YAUYOS","Mujer","40-44",{"$f":"'Pob x Genero'!#REF!","v":{"$error":"#REF!"}},1130]
["120602","JUNIN","JUNIN","SATIPO","COVIRIALI","Mujer","40-44",{"$f":"'Pob x Genero'!#REF!","v":{"$error":"#REF!"}},1136]
["130108","LA LIBERTAD","LA LIBERTAD","TRUJILLO","POROTO","Mujer","40-44",{"$f":"'Pob x Genero'!#REF!","v":{"$error":"#REF!"}},1179]
["130606","LA LIBERTAD","LA LIBERTAD","OTUZCO","LA CUESTA","Mujer","40-44",{"$f":"'Pob x Genero'!#REF!","v":{"$error":"#REF!"}},1209]
["140101","LAMBAYEQUE","LAMBAYEQUE","CHICLAYO","CHICLAYO","Mujer","40-44",{"$f":"'Pob x Genero'!#REF!","v":{"$error":"#REF!"}},1256]
["140111","LAMBAYEQUE","LAMBAYEQUE","CHICLAYO","PICSI","Mujer","40-44",{"$f":"'Pob x Genero'!#REF!","v":{"$error":"#REF!"}},1266]
["150112","DIRIS NORTE","LIMA","LIMA","INDEPENDENCIA","Mujer","40-44",{"$f":"'Pob x Genero'!#REF!","v":{"$error":"#REF!"}},1305]
["150303","LIMA","LIMA","CAJATAMBO","GORGOR","Mujer","40-44",{"$f":"'Pob x Genero'!#REF!","v":{"$error":"#REF!"}},1344]
["150705","LIMA","LIMA","HUAROCHIRI","CHICLA","Mujer","40-44",{"$f":"'Pob x Genero'!#REF!","v":{"$error":"#REF!"}},1386]
["150812","LIMA","LIMA","HUAURA","VEGUETA","Mujer","40-44",{"$f":"'Pob x Genero'!#REF!","v":{"$error":"#REF!"}},1425]
["151004","LIMA","LIMA","YAUYOS","AYAVIRI","Mujer","40-44",{"$f":"'Pob x Genero'!#REF!","v":{"$error":"#REF!"}},1435]
["160112","LORETO","LORETO","MAYNAS","BELEN","Mujer",{"$f":"G50640","v":"40-44"},{"$f":"'Pob x Genero'!#REF!","v":{"$error":"#REF!"}},1474]
["160507","LORETO","LORETO","REQUENA","SAQUENA","Mujer","40-44",{"$f":"'Pob x Genero'!#REF!","v":{"$error":"#REF!"}},1497]
["190106","PASCO","PASCO","PASCO","PALLANCHACRA","Mujer","40-44",{"$f":"'Pob x Genero'!#REF!","v":{"$error":"#REF!"}},1555]
["190112","PASCO","PASCO","PASCO","VICCO","Mujer","40-44",{"$f":"'Pob x Genero'!#REF!","v":{"$error":"#REF!"}},1561]
["200302","PIURA","PIURA","HUANCABAMBA","CANCHAQUE","Mujer","40-44",{"$f":"'Pob x Genero'!#REF!","v":{"$error":"#REF!"}},1600]
["200806","PIURA","PIURA","SECHURA","RINCONADA LLICUAR","Mujer","40-44",{"$f":"'Pob x Genero'!#REF!","v":{"$error":"#REF!"}},1643]
["210309","PUNO","PUNO","CARABAYA","SAN GABAN","Mujer","40-44",{"$f":"'Pob x Genero'!#REF!","v":{"$error":"#REF!"}},1682]
["210501","PUNO","PUNO","EL COLLAO","ILAVE","Mujer","40-44",{"$f":"'Pob x Genero'!#REF!","v":{"$error":"#REF!"}},1691]
["211004","PUNO","PUNO","SAN ANTONIO DE PUTINA","QUILCAPUNCU","Mujer",{"$f":"G50896","v":"40-44"},{"$f":"'Pob x Genero'!#REF!","v":{"$error":"#REF!"}},1730]
["220304","SAN MARTIN","SAN MARTIN","EL DORADO","SANTA ROSA","Mujer","40-44",{"$f":"'Pob x Genero'!#REF!","v":{"$error":"#REF!"}},1769]
["220901","SAN MARTIN","SAN MARTIN","SAN MARTIN","TARAPOTO","Mujer","40-44",{"$f":"'Pob x Genero'!#REF!","v":{"$error":"#REF!"}},1812]
["230104","TACNA","TACNA","TACNA","CIUDAD NUEVA","Mujer","40-44",{"$f":"'Pob x Genero'!#REF!","v":{"$error":"#REF!"}},1835]
["240101","TUMBES","TUMBES","TUMBES","TUMBES","Mujer","40-44",{"$f":"'Pob x Genero'!#REF!","v":{"$error":"#REF!"}},1860]
["010108","AMAZONAS","AMAZONAS","CHACHAPOYAS","HUANCAS","Mujer","45-49",{"$f":"'Pob x Genero'!#REF!","v":{"$error":"#REF!"}},8]
["010505","AMAZONAS","AMAZONAS","LUYA","CONILA","Mujer","45-49",{"$f":"'Pob x Genero'!#REF!","v":{"$error":"#REF!"}},47]
["010702","AMAZONAS","AMAZONAS","UTCUBAMBA","CAJARURO","Mujer","45-49",{"$f":"'Pob x Genero'!#REF!","v":{"$error":"#REF!"}},79]
["020111","ANCASH","ANCASH","HUARAZ","PIRA","Mujer","45-49",{"$f":"'Pob x Genero'!#REF!","v":{"$error":"#REF!"}},95]
["020610","ANCASH","ANCASH","CARHUAZ","TINCO","Mujer","45-49",{"$f":"'Pob x Genero'!#REF!","v":{"$error":"#REF!"}},134]
["021207","ANCASH","ANCASH","HUAYLAS","PUEBLO LIBRE","Mujer","45-49",{"$f":"'Pob x Genero'!#REF!","v":{"$error":"#REF!"}},177]
["021703","ANCASH","ANCASH","RECUAY","COTAPARACO","Mujer","45-49",{"$f":"'Pob x Genero'!#REF!","v":{"$error":"#REF!"}},216]
["021809","ANCASH","ANCASH","SANTA","NUEVO CHIMBOTE","Mujer","45-49",{"$f":"'Pob x Genero'!#REF!","v":{"$error":"#REF!"}},232]
["030205","APURIMAC","APURIMAC","ANDAHUAYLAS","HUANCARAY","Mujer","45-49",{"$f":"'Pob x Genero'!#REF!","v":{"$error":"#REF!"}},264]
["030417","APURIMAC","APURIMAC","AYMARAES","YANACA","Mujer","45-49",{"$f":"'Pob x Genero'!#REF!","v":{"$error":"#REF!"}},303]
["040111","AREQUIPA","AREQUIPA","AREQUIPA","MOLLEBAYA","Mujer","45-49",{"$f":"'Pob x Genero'!DU19","v":329},346]
["040313","AREQUIPA","AREQUIPA","CARAVELI","YAUCA","Mujer","45-49",{"$f":"'Pob x Genero'!DU58","v":100},385]
["040518","AREQUIPA","AREQUIPA","CAYLLOMA","TUTI","Mujer","45-49",{"$f":"'Pob x Genero'!DU90","v":31},417]
["040706","AREQUIPA","AREQUIPA","ISLAY","PUNTA DE BOMBON","Mujer","45-49",{"$f":"'Pob x Genero'!DU106","v":228},433]
["050402","AYACUCHO","AYACUCHO","HUANTA","AYAHUANCO","Mujer","45-49",{"$f":"'Pob x Genero'!#REF!","v":{"$error":"#REF!"}},472]
["050617","AYACUCHO","AYACUCHO","LUCANAS","SAN PEDRO","Mujer","45-49",{"$f":"'Pob x Genero'!#REF!","v":{"$error":"#REF!"}},515]
["050702","AYACUCHO","AYACUCHO","PARINACOCHAS","CHUMPI","Mujer","45-49",{"$f":"'Pob x Genero'!#REF!","v":{"$error":"#REF!"}},521]
["060102","CAJAMARCA","CAJAMARCA","CAJAMARCA","ASUNCION","Mujer","45-49",{"$f":"'Pob x Genero'!#REF!","v":{"$error":"#REF!"}},570]
["060406","CAJAMARCA","CAJAMARCA","CHOTA","CHOROPAMPA","Mujer","45-49",{"$f":"'Pob x Genero'!#REF!","v":{"$error":"#REF!"}},602]
["060703","CAJAMARCA","CAJAMARCA","HUALGAYOC","HUALGAYOC","Mujer","45-49",{"$f":"'Pob x Genero'!#REF!","v":{"$error":"#REF!"}},641]
["060810","CAJAMARCA","CAJAMARCA","JAEN","SAN FELIPE","Mujer","45-49",{"$f":"'Pob x Genero'!#REF!","v":{"$error":"#REF!"}},651]
["080103","CUSCO","CUSCO","CUSCO","POROY","Mujer","45-49",{"$f":"'Pob x Genero'!#REF!","v":{"$error":"#REF!"}},705]
["080402","CUSCO","CUSCO","CALCA","COYA","Mujer","45-49",{"$f":"'Pob x Genero'!#REF!","v":{"$error":"#REF!"}},728]
["080905","CUSCO","CUSCO","LA CONVENCION","OCOBAMBA","Mujer","45-49",{"$f":"'Pob x Genero'!#REF!","v":{"$error":"#REF!"}},771]
["081211","CUSCO","CUSCO","QUISPICANCHI","OROPESA","Mujer","45-49",{"$f":"'Pob x Genero'!#REF!","v":{"$error":"#REF!"}},810]
["081305","CUSCO","CUSCO","URUBAMBA","MARAS","Mujer","45-49",{"$f":"'Pob x Genero'!#REF!","v":{"$error":"#REF!"}},816]
["090401","HUANCAVELICA","HUANCAVELICA","CASTROVIRREYNA","CASTROVIRREYNA","Mujer","45-49",{"$f":"'Pob x Genero'!#REF!","v":{"$error":"#REF!"}},858]
["090616","HUANCAVELICA","HUANCAVELICA","HUAYTARA","TAMBO","Mujer","45-49",{"$f":"'Pob x Genero'!#REF!","v":{"$error":"#REF!"}},897]
["100207","HUANUCO","HUANUCO","AMBO","SAN RAFAEL","Mujer","45-49",{"$f":"'Pob x Genero'!#REF!","v":{"$error":"#REF!"}},940]
["100316","HUANUCO","HUANUCO","DOS DE MAYO","QUIVILLA","Mujer","45-49",{"$f":"'Pob x Genero'!#REF!","v":{"$error":"#REF!"}},946]
["100901","HUANUCO","HUANUCO","PUERTO INCA","PUERTO INCA","Mujer","45-49",{"$f":"'Pob x Genero'!#REF!","v":{"$error":"#REF!"}},985]
["110107","ICA","ICA","ICA","PUEBLO NUEVO","Mujer","45-49",{"$f":"'Pob x Genero'!#REF!","v":{"$error":"#REF!"}},1011]
["120126","JUNIN","JUNIN","HUANCAYO","PUCARA","Mujer","45-49",{"$f":"'Pob x Genero'!#REF!","v":{"$error":"#REF!"}},1066]
["120201","JUNIN","JUNIN","CONCEPCION","CONCEPCION","Mujer","45-49",{"$f":"'Pob x Genero'!#REF!","v":{"$error":"#REF!"}},1076]
["120419","JUNIN","JUNIN","JAUJA","MONOBAMBA","Mujer","45-49",{"$f":"'Pob x Genero'!#REF!","v":{"$error":"#REF!"}},1115]
["120703","JUNIN","JUNIN","TARMA","HUARICOLCA","Mujer","45-49",{"$f":"'Pob x Genero'!#REF!","v":{"$error":"#REF!"}},1146]
["130305","LA LIBERTAD","LA LIBERTAD","BOLIVAR","UCHUMARCA","Mujer","45-49",{"$f":"'Pob x Genero'!#REF!","v":{"$error":"#REF!"}},1196]
["130903","LA LIBERTAD","LA LIBERTAD","SANCHEZ CARRION","COCHORCO","Mujer","45-49",{"$f":"'Pob x Genero'!#REF!","v":{"$error":"#REF!"}},1235]
["131001","LA LIBERTAD","LA LIBERTAD","SANTIAGO DE CHUCO","SANTIAGO DE CHUCO","Mujer","45-49",{"$f":"'Pob x Genero'!#REF!","v":{"$error":"#REF!"}},1241]
["140303","LAMBAYEQUE","LAMBAYEQUE","LAMBAYEQUE","ILLIMO","Mujer","45-49",{"$f":"'Pob x Genero'!#REF!","v":{"$error":"#REF!"}},1284]
["150138","DIRIS SUR","LIMA","LIMA","SANTA MARIA DEL MAR","Mujer","45-49",{"$f":"'Pob x Genero'!#REF!","v":{"$error":"#REF!"}},1331]
["150512","LIMA","LIMA","CAÑETE","QUILMANA","Mujer","45-49",{"$f":"'Pob x Genero'!#REF!","v":{"$error":"#REF!"}},1365]
["150602","LIMA","LIMA","HUARAL","ATAVILLOS ALTO","Mujer","45-49",{"$f":"'Pob x Genero'!#REF!","v":{"$error":"#REF!"}},1371]
["150729","LIMA","LIMA","HUAROCHIRI","SANTIAGO DE ANCHUCAYA","Mujer",{"$f":"G52467","v":"45-49"},{"$f":"'Pob x Genero'!#REF!","v":{"$error":"#REF!"}},1410]
["151022","LIMA","LIMA","YAUYOS","OMAS","Mujer","45-49",{"$f":"'Pob x Genero'!#REF!","v":{"$error":"#REF!"}},1453]
["160303","LORETO","LORETO","LORETO","TIGRE","Mujer","45-49",{"$f":"'Pob x Genero'!#REF!","v":{"$error":"#REF!"}},1484]
["180102","MOQUEGUA","MOQUEGUA","MARISCAL NIETO","CARUMAS","Mujer","45-49",{"$f":"'Pob x Genero'!#REF!","v":{"$error":"#REF!"}},1530]
["180205","MOQUEGUA","MOQUEGUA","GENERAL SANCHEZ CERRO","LA CAPILLA","Mujer","45-49",{"$f":"'Pob x Genero'!#REF!","v":{"$error":"#REF!"}},1540]
["200101","PIURA","PIURA","PIURA","PIURA","Mujer","45-49",{"$f":"'Pob x Genero'!#REF!","v":{"$error":"#REF!"}},1579]
["200506","PIURA","PIURA","PAITA","TAMARINDO","Mujer","45-49",{"$f":"'Pob x Genero'!#REF!","v":{"$error":"#REF!"}},1622]
["200706","PIURA","PIURA","TALARA","MANCORA","Mujer","45-49",{"$f":"'Pob x Genero'!#REF!","v":{"$error":"#REF!"}},1637]
["210208","PUNO","PUNO","AZANGARO","MUÑANI","Mujer",{"$f":"G52723","v":"45-49"},{"$f":"'Pob x Genero'!#REF!","v":{"$error":"#REF!"}},1666]
["210706","PUNO","PUNO","LAMPA","PALCA","Mujer","45-49",{"$f":"'Pob x Genero'!#REF!","v":{"$error":"#REF!"}},1709]
["211302","PUNO","PUNO","YUNGUYO","ANAPIA","Mujer","45-49",{"$f":"'Pob x Genero'!#REF!","v":{"$error":"#REF!"}},1748]
["220402","SAN MARTIN","SAN MARTIN","HUALLAGA","ALTO SAPOSOA","Mujer","45-49",{"$f":"'Pob x Genero'!#REF!","v":{"$error":"#REF!"}},1772]
["221004","SAN MARTIN","SAN MARTIN","TOCACHE","SHUNTE","Mujer","45-49",{"$f":"'Pob x Genero'!#REF!","v":{"$error":"#REF!"}},1829]
["230104","TACNA","TACNA","TACNA","CIUDAD NUEVA","Mujer","45-49",{"$f":"'Pob x Genero'!#REF!","v":{"$error":"#REF!"}},1835]
["250106","UCAYALI","UCAYALI","CORONEL PORTILLO","NUEVA REQUENA","Mujer","45-49",{"$f":"'Pob x Genero'!#REF!","v":{"$error":"#REF!"}},1878]
["010205","AMAZONAS","AMAZONAS","BAGUA","IMAZA","Mujer","50-54",{"$f":"'Pob x Genero'!#REF!","v":{"$error":"#REF!"}},26]
["010601","AMAZONAS","AMAZONAS","RODRIGUEZ DE MENDOZA","SAN NICOLAS","Mujer",{"$f":"G53014","v":"50-54"},{"$f":"'Pob x Genero'!#REF!","v":{"$error":"#REF!"}},66]
["010609","AMAZONAS","AMAZONAS","RODRIGUEZ DE MENDOZA","OMIA","Mujer","50-54",{"$f":"'Pob x Genero'!#REF!","v":{"$error":"#REF!"}},74]
["020504","ANCASH","ANCASH","BOLOGNESI","AQUIA","Mujer","50-54",{"$f":"'Pob x Genero'!#REF!","v":{"$error":"#REF!"}},113]
["021007","ANCASH","ANCASH","HUARI","HUACHIS","Mujer","50-54",{"$f":"'Pob x Genero'!#REF!","v":{"$error":"#REF!"}},156]
["021407","ANCASH","ANCASH","OCROS","LLIPA","Mujer","50-54",{"$f":"'Pob x Genero'!#REF!","v":{"$error":"#REF!"}},195]
["021706","ANCASH","ANCASH","RECUAY","MARCA","Mujer","50-54",{"$f":"'Pob x Genero'!#REF!","v":{"$error":"#REF!"}},219]
["022001","ANCASH","ANCASH","YUNGAY","YUNGAY","Mujer","50-54",{"$f":"'Pob x Genero'!#REF!","v":{"$error":"#REF!"}},243]
["030303","APURIMAC","APURIMAC","ANTABAMBA","HUAQUIRCA","Mujer","50-54",{"$f":"'Pob x Genero'!#REF!","v":{"$error":"#REF!"}},282]
["030704","APURIMAC","APURIMAC","GRAU","HUAYLLATI","Mujer","50-54",{"$f":"'Pob x Genero'!#REF!","v":{"$error":"#REF!"}},325]
["040129","AREQUIPA","AREQUIPA","AREQUIPA","JOSE LUIS BUSTAMANTE Y RIVERO","Mujer","50-54",{"$f":"'Pob x Genero'!DV37","v":2992},364]
["040208","AREQUIPA","AREQUIPA","CAMANA","SAMUEL PASTOR","Mujer","50-54",{"$f":"'Pob x Genero'!DV45","v":602},372]
["040513","AREQUIPA","AREQUIPA","CAYLLOMA","MADRIGAL","Mujer","50-54",{"$f":"'Pob x Genero'!DV85","v":26},412]
["050107","AYACUCHO","AYACUCHO","HUAMANGA","PACAYCASA","Mujer","50-54",{"$f":"'Pob x Genero'!#REF!","v":{"$error":"#REF!"}},451]
["050507","AYACUCHO","AYACUCHO","LA MAR","SANTA ROSA","Mujer","50-54",{"$f":"'Pob x Genero'!#REF!","v":{"$error":"#REF!"}},490]
["050609","AYACUCHO","AYACUCHO","LUCANAS","LEONCIO PRADO","Mujer","50-54",{"$f":"'Pob x Genero'!#REF!","v":{"$error":"#REF!"}},507]
["050901","AYACUCHO","AYACUCHO","SUCRE","QUEROBAMBA","Mujer","50-54",{"$f":"'Pob x Genero'!#REF!","v":{"$error":"#REF!"}},538]
["060201","CAJAMARCA","CAJAMARCA","CAJABAMBA","CAJABAMBA","Mujer","50-54",{"$f":"'Pob x Genero'!#REF!","v":{"$error":"#REF!"}},581]
["060505","CAJAMARCA","CAJAMARCA","CONTUMAZA","SAN BENITO","Mujer","50-54",{"$f":"'Pob x Genero'!#REF!","v":{"$error":"#REF!"}},620]
["060906","CAJAMARCA","CAJAMARCA","SAN IGNACIO","SAN JOSE DE LOURDES","Mujer","50-54",{"$f":"'Pob x Genero'!#REF!","v":{"$error":"#REF!"}},659]
["061308","CAJAMARCA","CAJAMARCA","SANTA CRUZ","SAUCEPAMPA","Mujer","50-54",{"$f":"'Pob x Genero'!#REF!","v":{"$error":"#REF!"}},692]
["080105","CUSCO","CUSCO","CUSCO","SAN SEBASTIAN","Mujer","50-54",{"$f":"'Pob x Genero'!#REF!","v":{"$error":"#REF!"}},707]
["080604","CUSCO","CUSCO","CANCHIS","MARANGANI","Mujer","50-54",{"$f":"'Pob x Genero'!#REF!","v":{"$error":"#REF!"}},746]
["081005","CUSCO","CUSCO","PARURO","HUANOQUITE","Mujer","50-54",{"$f":"'Pob x Genero'!#REF!","v":{"$error":"#REF!"}},789]
["081102","CUSCO","CUSCO","PAUCARTAMBO","CAICAY","Mujer","50-54",{"$f":"'Pob x Genero'!#REF!","v":{"$error":"#REF!"}},795]
["090208","HUANCAVELICA","HUANCAVELICA","ACOBAMBA","ROSARIO","Mujer","50-54",{"$f":"'Pob x Genero'!#REF!","v":{"$error":"#REF!"}},845]
["090506","HUANCAVELICA","HUANCAVELICA","CHURCAMPA","LOCROJA","Mujer","50-54",{"$f":"'Pob x Genero'!#REF!","v":{"$error":"#REF!"}},876]
["090720","HUANCAVELICA","HUANCAVELICA","TAYACAJA","ANDAYMARCA","Mujer","50-54",{"$f":"'Pob x Genero'!#REF!","v":{"$error":"#REF!"}},915]
["100105","HUANUCO","HUANUCO","HUANUCO","MARGOS","Mujer","50-54",{"$f":"'Pob x Genero'!#REF!","v":{"$error":"#REF!"}},925]
["100705","HUANUCO","HUANUCO","MARAÑON","SANTA ROSA DE ALTO YANAJANCA","Mujer","50-54",{"$f":"'Pob x Genero'!#REF!","v":{"$error":"#REF!"}},980]
["110102","ICA","ICA","ICA","LA TINGUIÑA","Mujer","50-54",{"$f":"'Pob x Genero'!#REF!","v":{"$error":"#REF!"}},1006]
["110506","ICA","ICA","PISCO","SAN ANDRES","Mujer","50-54",{"$f":"'Pob x Genero'!#REF!","v":{"$error":"#REF!"}},1045]
["120209","JUNIN","JUNIN","CONCEPCION","MARISCAL CASTILLA","Mujer","50-54",{"$f":"'Pob x Genero'!#REF!","v":{"$error":"#REF!"}},1084]
["120304","JUNIN","JUNIN","CHANCHAMAYO","SAN LUIS DE SHUARO","Mujer","50-54",{"$f":"'Pob x Genero'!#REF!","v":{"$error":"#REF!"}},1094]
["120503","JUNIN","JUNIN","JUNIN","ONDORES","Mujer","50-54",{"$f":"'Pob x Genero'!#REF!","v":{"$error":"#REF!"}},1133]
["120909","JUNIN","JUNIN","CHUPACA","YANACANCHA","Mujer","50-54",{"$f":"'Pob x Genero'!#REF!","v":{"$error":"#REF!"}},1171]
["130614","LA LIBERTAD","LA LIBERTAD","OTUZCO","USQUIL","Mujer","50-54",{"$f":"'Pob x Genero'!#REF!","v":{"$error":"#REF!"}},1214]
["130801","LA LIBERTAD","LA LIBERTAD","PATAZ","TAYABAMBA","Mujer","50-54",{"$f":"'Pob x Genero'!#REF!","v":{"$error":"#REF!"}},1220]
["140108","LAMBAYEQUE","LAMBAYEQUE","CHICLAYO","MONSEFU","Mujer","50-54",{"$f":"'Pob x Genero'!#REF!","v":{"$error":"#REF!"}},1263]
["140305","LAMBAYEQUE","LAMBAYEQUE","LAMBAYEQUE","MOCHUMI","Mujer","50-54",{"$f":"'Pob x Genero'!#REF!","v":{"$error":"#REF!"}},1286]
["150204","LIMA","LIMA","BARRANCA","SUPE","Mujer","50-54",{"$f":"'Pob x Genero'!#REF!","v":{"$error":"#REF!"}},1340]
["150404","LIMA","LIMA","CANTA","HUAROS","Mujer","50-54",{"$f":"'Pob x Genero'!#REF!","v":{"$error":"#REF!"}},1350]
["150708","LIMA","LIMA","HUAROCHIRI","HUANZA","Mujer","50-54",{"$f":"'Pob x Genero'!#REF!","v":{"$error":"#REF!"}},1389]
["150903","LIMA","LIMA","OYON","CAUJUL","Mujer","50-54",{"$f":"'Pob x Genero'!#REF!","v":{"$error":"#REF!"}},1428]
["160107","LORETO","LORETO","MAYNAS","NAPO","Mujer","50-54",{"$f":"'Pob x Genero'!#REF!","v":{"$error":"#REF!"}},1471]
["160702","LORETO","LORETO","DATEM DEL MARAÑON","CAHUAPANAS","Mujer","50-54",{"$f":"'Pob x Genero'!#REF!","v":{"$error":"#REF!"}},1509]
["170102","MADRE DE DIOS","MADRE DE DIOS","TAMBOPATA","INAMBARI","Mujer","50-54",{"$f":"'Pob x Genero'!#REF!","v":{"$error":"#REF!"}},1519]
["190109","PASCO","PASCO","PASCO","SIMON BOLIVAR","Mujer","50-54",{"$f":"'Pob x Genero'!#REF!","v":{"$error":"#REF!"}},1558]
["200308","PIURA","PIURA","HUANCABAMBA","SONDORILLO","Mujer","50-54",{"$f":"'Pob x Genero'!#REF!","v":{"$error":"#REF!"}},1606]
["200802","PIURA","PIURA","SECHURA","BELLAVISTA DE LA UNION","Mujer","50-54",{"$f":"'Pob x Genero'!#REF!","v":{"$error":"#REF!"}},1639]
["210102","PUNO","PUNO","PUNO","ACORA","Mujer","50-54",{"$f":"'Pob x Genero'!#REF!","v":{"$error":"#REF!"}},1645]
["210405","PUNO","PUNO","CHUCUITO","PISACOMA","Mujer","50-54",{"$f":"'Pob x Genero'!#REF!","v":{"$error":"#REF!"}},1688]
["211001","PUNO","PUNO","SAN ANTONIO DE PUTINA","PUTINA","Mujer","50-54",{"$f":"'Pob x Genero'!#REF!","v":{"$error":"#REF!"}},1727]
["220106","SAN MARTIN","SAN MARTIN","MOYOBAMBA","YANTALO","Mujer","50-54",{"$f":"'Pob x Genero'!#REF!","v":{"$error":"#REF!"}},1759]
["220405","SAN MARTIN","SAN MARTIN","HUALLAGA","SACANCHE","Mujer","50-54",{"$f":"'Pob x Genero'!#REF!","v":{"$error":"#REF!"}},1775]
["220903","SAN MARTIN","SAN MARTIN","SAN MARTIN","CACATACHI","Mujer","50-54",{"$f":"'Pob x Genero'!#REF!","v":{"$error":"#REF!"}},1814]
["230402","TACNA","TACNA","TARATA","HEROES ALBARRACIN","Mujer","50-54",{"$f":"'Pob x Genero'!#REF!","v":{"$error":"#REF!"}},1853]
["010105","AMAZONAS","AMAZONAS","CHACHAPOYAS","CHILIQUIN","Mujer","55-59",{"$f":"'Pob x Genero'!#REF!","v":{"$error":"#REF!"}},5]
["010121","AMAZONAS","AMAZONAS","CHACHAPOYAS","SONCHE","Mujer","55-59",{"$f":"'Pob x Genero'!#REF!","v":{"$error":"#REF!"}},21]
["010511","AMAZONAS","AMAZONAS","LUYA","MARIA","Mujer","55-59",{"$f":"'Pob x Genero'!#REF!","v":{"$error":"#REF!"}},53]
["020108","ANCASH","ANCASH","HUARAZ","OLLEROS","Mujer","55-59",{"$f":"'Pob x Genero'!#REF!","v":{"$error":"#REF!"}},92]
["020607","ANCASH","ANCASH","CARHUAZ","PARIAHUANCA","Mujer","55-59",{"$f":"'Pob x Genero'!#REF!","v":{"$error":"#REF!"}},131]
["021204","ANCASH","ANCASH","HUAYLAS","HUAYLAS","Mujer","55-59",{"$f":"'Pob x Genero'!#REF!","v":{"$error":"#REF!"}},174]
["021508","ANCASH","ANCASH","PALLASCA","PALLASCA","Mujer","55-59",{"$f":"'Pob x Genero'!#REF!","v":{"$error":"#REF!"}},206]
["021709","ANCASH","ANCASH","RECUAY","TAPACOCHA","Mujer","55-59",{"$f":"'Pob x Genero'!#REF!","v":{"$error":"#REF!"}},222]
["030202","APURIMAC","APURIMAC","ANDAHUAYLAS","ANDARAPA","Mujer","55-59",{"$f":"'Pob x Genero'!#REF!","v":{"$error":"#REF!"}},261]
["030414","APURIMAC","APURIMAC","AYMARAES","TAPAIRIHUA","Mujer","55-59",{"$f":"'Pob x Genero'!#REF!","v":{"$error":"#REF!"}},300]
["040106","AREQUIPA","AREQUIPA","AREQUIPA","CHIGUATA","Mujer","55-59",{"$f":"'Pob x Genero'!DW14","v":107},341]
["040113","AREQUIPA","AREQUIPA","AREQUIPA","POCSI","Mujer","55-59",{"$f":"'Pob x Genero'!DW21","v":22},348]
["040402","AREQUIPA","AREQUIPA","CASTILLA","ANDAGUA","Mujer","55-59",{"$f":"'Pob x Genero'!DW60","v":33},387]
["040703","AREQUIPA","AREQUIPA","ISLAY","DEAN VALDIVIA","Mujer","55-59",{"$f":"'Pob x Genero'!DW103","v":227},430]
["050303","AYACUCHO","AYACUCHO","HUANCA SANCOS","SACSAMARCA","Mujer","55-59",{"$f":"'Pob x Genero'!#REF!","v":{"$error":"#REF!"}},469]
["050511","AYACUCHO","AYACUCHO","LA MAR","ORONCCOY","Mujer","55-59",{"$f":"'Pob x Genero'!#REF!","v":{"$error":"#REF!"}},494]
["050619","AYACUCHO","AYACUCHO","LUCANAS","SANCOS","Mujer","55-59",{"$f":"'Pob x Genero'!#REF!","v":{"$error":"#REF!"}},517]
["051008","AYACUCHO","AYACUCHO","VICTOR FAJARDO","HUAMANQUIQUIA","Mujer","55-59",{"$f":"'Pob x Genero'!#REF!","v":{"$error":"#REF!"}},556]
["060403","CAJAMARCA","CAJAMARCA","CHOTA","CHADIN","Mujer","55-59",{"$f":"'Pob x Genero'!#REF!","v":{"$error":"#REF!"}},599]
["060615","CAJAMARCA","CAJAMARCA","CUTERVO","TORIBIO CASANOVA","Mujer","55-59",{"$f":"'Pob x Genero'!#REF!","v":{"$error":"#REF!"}},638]
["060806","CAJAMARCA","CAJAMARCA","JAEN","LAS PIRIAS","Mujer","55-59",{"$f":"'Pob x Genero'!#REF!","v":{"$error":"#REF!"}},647]
["061302","CAJAMARCA","CAJAMARCA","SANTA CRUZ","ANDABAMBA","Mujer","55-59",{"$f":"'Pob x Genero'!#REF!","v":{"$error":"#REF!"}},686]
["080308","CUSCO","CUSCO","ANTA","PUCYURA","Mujer","55-59",{"$f":"'Pob x Genero'!#REF!","v":{"$error":"#REF!"}},725]
["080902","CUSCO","CUSCO","LA CONVENCION","ECHARATE","Mujer","55-59",{"$f":"'Pob x Genero'!#REF!","v":{"$error":"#REF!"}},768]
["080916","CUSCO","CUSCO","LA CONVENCION","CIELO PUNCO","Mujer","55-59",{"$f":"'Pob x Genero'!#REF!","v":{"$error":"#REF!"}},782]
["081301","CUSCO","CUSCO","URUBAMBA","URUBAMBA","Mujer","55-59",{"$f":"'Pob x Genero'!#REF!","v":{"$error":"#REF!"}},812]
["090310","HUANCAVELICA","HUANCAVELICA","ANGARAES","SAN ANTONIO DE ANTAPARCO","Mujer","55-59",{"$f":"'Pob x Genero'!#REF!","v":{"$error":"#REF!"}},855]
["090613","HUANCAVELICA","HUANCAVELICA","HUAYTARA","SANTIAGO DE CHOCORVOS","Mujer","55-59",{"$f":"'Pob x Genero'!#REF!","v":{"$error":"#REF!"}},894]
["090707","HUANCAVELICA","HUANCAVELICA","TAYACAJA","HUACHOCOLPA","Mujer","55-59",{"$f":"'Pob x Genero'!#REF!","v":{"$error":"#REF!"}},904]
["100202","HUANUCO","HUANUCO","AMBO","CAYNA","Mujer","55-59",{"$f":"'Pob x Genero'!#REF!","v":{"$error":"#REF!"}},935]
["100801","HUANUCO","HUANUCO","PACHITEA","PANAO","Mujer","55-59",{"$f":"'Pob x Genero'!#REF!","v":{"$error":"#REF!"}},981]
["110206","ICA","ICA","CHINCHA","GROCIO PRADO","Mujer","55-59",{"$f":"'Pob x Genero'!#REF!","v":{"$error":"#REF!"}},1024]
["120122","JUNIN","JUNIN","HUANCAYO","INGENIO","Mujer","55-59",{"$f":"'Pob x Genero'!#REF!","v":{"$error":"#REF!"}},1063]
["120129","JUNIN","JUNIN","HUANCAYO","SAN AGUSTIN","Mujer","55-59",{"$f":"'Pob x Genero'!#REF!","v":{"$error":"#REF!"}},1069]
["120424","JUNIN","JUNIN","JAUJA","PANCAN","Mujer","55-59",{"$f":"'Pob x Genero'!#REF!","v":{"$error":"#REF!"}},1120]
["120707","JUNIN","JUNIN","TARMA","PALCAMAYO","Mujer","55-59",{"$f":"'Pob x Genero'!#REF!","v":{"$error":"#REF!"}},1150]
["130302","LA LIBERTAD","LA LIBERTAD","BOLIVAR","BAMBAMARCA","Mujer","55-59",{"$f":"'Pob x Genero'!#REF!","v":{"$error":"#REF!"}},1193]
["130402","LA LIBERTAD","LA LIBERTAD","CHEPEN","PACANGA","Mujer","55-59",{"$f":"'Pob x Genero'!#REF!","v":{"$error":"#REF!"}},1199]
["130906","LA LIBERTAD","LA LIBERTAD","SANCHEZ CARRION","SANAGORAN","Mujer","55-59",{"$f":"'Pob x Genero'!#REF!","v":{"$error":"#REF!"}},1238]
["140118","LAMBAYEQUE","LAMBAYEQUE","CHICLAYO","POMALCA","Mujer","55-59",{"$f":"'Pob x Genero'!#REF!","v":{"$error":"#REF!"}},1273]
["150126","DIRIS SUR","LIMA","LIMA","PUNTA HERMOSA","Mujer","55-59",{"$f":"'Pob x Genero'!#REF!","v":{"$error":"#REF!"}},1319]
["150136","DIRIS CENTRO","LIMA","LIMA","SAN MIGUEL","Mujer","55-59",{"$f":"'Pob x Genero'!#REF!","v":{"$error":"#REF!"}},1329]
["150515","LIMA","LIMA","CAÑETE","SANTA CRUZ DE FLORES","Mujer","55-59",{"$f":"'Pob x Genero'!#REF!","v":{"$error":"#REF!"}},1368]
["150727","LIMA","LIMA","HUAROCHIRI","SANTA CRUZ DE COCACHACRA","Mujer","55-59",{"$f":"'Pob x Genero'!#REF!","v":{"$error":"#REF!"}},1408]
["151018","LIMA","LIMA","YAUYOS","LARAOS","Mujer","55-59",{"$f":"'Pob x Genero'!#REF!","v":{"$error":"#REF!"}},1449]
["160402","LORETO","LORETO","MARISCAL RAMON CASTILLA","PEBAS","Mujer","55-59",{"$f":"'Pob x Genero'!#REF!","v":{"$error":"#REF!"}},1488]
["160504","LORETO","LORETO","REQUENA","EMILIO SAN MARTIN","Mujer","55-59",{"$f":"'Pob x Genero'!#REF!","v":{"$error":"#REF!"}},1494]
["180202","MOQUEGUA","MOQUEGUA","GENERAL SANCHEZ CERRO","CHOJATA","Mujer","55-59",{"$f":"'Pob x Genero'!#REF!","v":{"$error":"#REF!"}},1537]
["190112","PASCO","PASCO","PASCO","VICCO","Mujer","55-59",{"$f":"'Pob x Genero'!#REF!","v":{"$error":"#REF!"}},1561]
["200502","PIURA","PIURA","PAITA","AMOTAPE","Mujer","55-59",{"$f":"'Pob x Genero'!#REF!","v":{"$error":"#REF!"}},1618]
["200601","PIURA","PIURA","SULLANA","SULLANA","Mujer","55-59",{"$f":"'Pob x Genero'!#REF!","v":{"$error":"#REF!"}},1624]
["210205","PUNO","PUNO","AZANGARO","CAMINACA","Mujer","55-59",{"$f":"'Pob x Genero'!#REF!","v":{"$error":"#REF!"}},1663]
["210703","PUNO","PUNO","LAMPA","CALAPUJA","Mujer","55-59",{"$f":"'Pob x Genero'!#REF!","v":{"$error":"#REF!"}},1706]
["211210","PUNO","PUNO","SANDIA","SAN PEDRO DE PUTINA PUNCO","Mujer","55-59",{"$f":"'Pob x Genero'!#REF!","v":{"$error":"#REF!"}},1746]
["220507","SAN MARTIN","SAN MARTIN","LAMAS","RUMISAPA","Mujer","55-59",{"$f":"'Pob x Genero'!#REF!","v":{"$error":"#REF!"}},1783]
["220701","SAN MARTIN","SAN MARTIN","PICOTA","PICOTA","Mujer","55-59",{"$f":"'Pob x Genero'!#REF!","v":{"$error":"#REF!"}},1793]
["230101","TACNA","TACNA","TACNA","TACNA","Mujer","55-59",{"$f":"'Pob x Genero'!#REF!","v":{"$error":"#REF!"}},1832]
["250103","UCAYALI","UCAYALI","CORONEL PORTILLO","IPARIA","Mujer","55-59",{"$f":"'Pob x Genero'!#REF!","v":{"$error":"#REF!"}},1875]
["010108","AMAZONAS","AMAZONAS","CHACHAPOYAS","HUANCAS","Mujer","60-64",{"$f":"'Pob x Genero'!#REF!","v":{"$error":"#REF!"}},8]
["010301","AMAZONAS","AMAZONAS","BONGARA","JUMBILLA","Mujer","60-64",{"$f":"'Pob x Genero'!#REF!","v":{"$error":"#REF!"}},28]
["010606","AMAZONAS","AMAZONAS","RODRIGUEZ DE MENDOZA","LONGAR","Mujer","60-64",{"$f":"'Pob x Genero'!#REF!","v":{"$error":"#REF!"}},71]
["020501","ANCASH","ANCASH","BOLOGNESI","CHIQUIAN","Mujer","60-64",{"$f":"'Pob x Genero'!#REF!","v":{"$error":"#REF!"}},110]
["020901","ANCASH","ANCASH","CORONGO","CORONGO","Mujer","60-64",{"$f":"'Pob x Genero'!#REF!","v":{"$error":"#REF!"}},143]
["021009","ANCASH","ANCASH","HUARI","MASIN","Mujer","60-64",{"$f":"'Pob x Genero'!#REF!","v":{"$error":"#REF!"}},158]
["021409","ANCASH","ANCASH","OCROS","SAN PEDRO","Mujer","60-64",{"$f":"'Pob x Genero'!#REF!","v":{"$error":"#REF!"}},197]
["021908","ANCASH","ANCASH","SIHUAS","RAGASH","Mujer","60-64",{"$f":"'Pob x Genero'!#REF!","v":{"$error":"#REF!"}},240]
["030220","APURIMAC","APURIMAC","ANDAHUAYLAS","JOSÉ MARÍA ARGUEDAS","Mujer","60-64",{"$f":"'Pob x Genero'!#REF!","v":{"$error":"#REF!"}},279]
["030410","APURIMAC","APURIMAC","AYMARAES","POCOHUANCA","Mujer","60-64",{"$f":"'Pob x Genero'!#REF!","v":{"$error":"#REF!"}},296]
["030706","APURIMAC","APURIMAC","GRAU","MICAELA BASTIDAS","Mujer","60-64",{"$f":"'Pob x Genero'!#REF!","v":{"$error":"#REF!"}},327]
["040202","AREQUIPA","AREQUIPA","CAMANA","JOSE MARIA QUIMPER","Mujer","60-64",{"$f":"'Pob x Genero'!DX39","v":185},366]
["040510","AREQUIPA","AREQUIPA","CAYLLOMA","LARI","Mujer","60-64",{"$f":"'Pob x Genero'!DX82","v":32},409]
["050104","AYACUCHO","AYACUCHO","HUAMANGA","CARMEN ALTO","Mujer","60-64",{"$f":"'Pob x Genero'!#REF!","v":{"$error":"#REF!"}},448]
["050411","AYACUCHO","AYACUCHO","HUANTA","PUCACOLPA","Mujer","60-64",{"$f":"'Pob x Genero'!#REF!","v":{"$error":"#REF!"}},481]
["050513","AYACUCHO","AYACUCHO","LA MAR","RIO MAGDALENA","Mujer","60-64",{"$f":"'Pob x Genero'!#REF!","v":{"$error":"#REF!"}},496]
["050808","AYACUCHO","AYACUCHO","PAUCAR DEL SARA SARA","SAN JAVIER DE ALPABAMBA","Mujer","60-64",{"$f":"'Pob x Genero'!#REF!","v":{"$error":"#REF!"}},535]
["060106","CAJAMARCA","CAJAMARCA","CAJAMARCA","JESUS","Mujer","60-64",{"$f":"'Pob x Genero'!#REF!","v":{"$error":"#REF!"}},574]
["060204","CAJAMARCA","CAJAMARCA","CAJABAMBA","SITACOCHA","Mujer","60-64",{"$f":"'Pob x Genero'!#REF!","v":{"$error":"#REF!"}},584]
["060507","CAJAMARCA","CAJAMARCA","CONTUMAZA","TANTARICA","Mujer","60-64",{"$f":"'Pob x Genero'!#REF!","v":{"$error":"#REF!"}},622]
["061005","CAJAMARCA","CAJAMARCA","SAN MARCOS","ICHOCAN","Mujer","60-64",{"$f":"'Pob x Genero'!#REF!","v":{"$error":"#REF!"}},665]
["080102","CUSCO","CUSCO","CUSCO","CCORCA","Mujer","60-64",{"$f":"'Pob x Genero'!#REF!","v":{"$error":"#REF!"}},704]
["080601","CUSCO","CUSCO","CANCHIS","SICUANI","Mujer","60-64",{"$f":"'Pob x Genero'!#REF!","v":{"$error":"#REF!"}},743]
["080903","CUSCO","CUSCO","LA CONVENCION","HUAYOPATA","Mujer","60-64",{"$f":"'Pob x Genero'!#REF!","v":{"$error":"#REF!"}},769]
["081007","CUSCO","CUSCO","PARURO","PACCARITAMBO","Mujer","60-64",{"$f":"'Pob x Genero'!#REF!","v":{"$error":"#REF!"}},791]
["090116","HUANCAVELICA","HUANCAVELICA","HUANCAVELICA","VILCA","Mujer",{"$f":"G57564","v":"60-64"},{"$f":"'Pob x Genero'!#REF!","v":{"$error":"#REF!"}},834]
["090503","HUANCAVELICA","HUANCAVELICA","CHURCAMPA","CHINCHIHUASI","Mujer","60-64",{"$f":"'Pob x Genero'!#REF!","v":{"$error":"#REF!"}},873]
["090509","HUANCAVELICA","HUANCAVELICA","CHURCAMPA","SAN PEDRO DE CORIS","Mujer","60-64",{"$f":"'Pob x Genero'!#REF!","v":{"$error":"#REF!"}},879]
["100102","HUANUCO","HUANUCO","HUANUCO","AMARILIS","Mujer","60-64",{"$f":"'Pob x Genero'!#REF!","v":{"$error":"#REF!"}},922]
["100506","HUANUCO","HUANUCO","HUAMALIES","MIRAFLORES","Mujer","60-64",{"$f":"'Pob x Genero'!#REF!","v":{"$error":"#REF!"}},960]
["101103","HUANUCO","HUANUCO","YAROWILCA","CHACABAMBA","Mujer","60-64",{"$f":"'Pob x Genero'!#REF!","v":{"$error":"#REF!"}},999]
["110503","ICA","ICA","PISCO","HUMAY","Mujer","60-64",{"$f":"'Pob x Genero'!#REF!","v":{"$error":"#REF!"}},1042]
["120101","JUNIN","JUNIN","HUANCAYO","HUANCAYO","Mujer","60-64",{"$f":"'Pob x Genero'!#REF!","v":{"$error":"#REF!"}},1048]
["120411","JUNIN","JUNIN","JAUJA","JANJAILLO","Mujer","60-64",{"$f":"'Pob x Genero'!#REF!","v":{"$error":"#REF!"}},1107]
["120433","JUNIN","JUNIN","JAUJA","YAULI","Mujer","60-64",{"$f":"'Pob x Genero'!#REF!","v":{"$error":"#REF!"}},1129]
["120906","JUNIN","JUNIN","CHUPACA","SAN JUAN DE ISCOS","Mujer","60-64",{"$f":"'Pob x Genero'!#REF!","v":{"$error":"#REF!"}},1168]
["130107","LA LIBERTAD","LA LIBERTAD","TRUJILLO","MOCHE","Mujer","60-64",{"$f":"'Pob x Genero'!#REF!","v":{"$error":"#REF!"}},1178]
["130608","LA LIBERTAD","LA LIBERTAD","OTUZCO","MACHE","Mujer","60-64",{"$f":"'Pob x Genero'!#REF!","v":{"$error":"#REF!"}},1210]
["140104","LAMBAYEQUE","LAMBAYEQUE","CHICLAYO","ETEN PUERTO","Mujer","60-64",{"$f":"'Pob x Genero'!#REF!","v":{"$error":"#REF!"}},1259]
["150105","DIRIS CENTRO","LIMA","LIMA","BREÑA","Mujer","60-64",{"$f":"'Pob x Genero'!#REF!","v":{"$error":"#REF!"}},1298]
["150201","LIMA","LIMA","BARRANCA","BARRANCA","Mujer","60-64",{"$f":"'Pob x Genero'!#REF!","v":{"$error":"#REF!"}},1337]
["150401","LIMA","LIMA","CANTA","CANTA","Mujer","60-64",{"$f":"'Pob x Genero'!#REF!","v":{"$error":"#REF!"}},1347]
["150714","LIMA","LIMA","HUAROCHIRI","RICARDO PALMA","Mujer","60-64",{"$f":"'Pob x Genero'!#REF!","v":{"$error":"#REF!"}},1395]
["150811","LIMA","LIMA","HUAURA","SAYAN","Mujer","60-64",{"$f":"'Pob x Genero'!#REF!","v":{"$error":"#REF!"}},1424]
["160103","LORETO","LORETO","MAYNAS","FERNANDO LORES","Mujer","60-64",{"$f":"'Pob x Genero'!#REF!","v":{"$error":"#REF!"}},1467]
["160110","LORETO","LORETO","MAYNAS","TORRES CAUSANA","Mujer","60-64",{"$f":"'Pob x Genero'!#REF!","v":{"$error":"#REF!"}},1473]
["160803","LORETO","LORETO","PUTUMAYO","TENIENTE MANUEL CLAVERO","Mujer","60-64",{"$f":"'Pob x Genero'!#REF!","v":{"$error":"#REF!"}},1516]
["180302","MOQUEGUA","MOQUEGUA","ILO","EL ALGARROBAL","Mujer","60-64",{"$f":"'Pob x Genero'!#REF!","v":{"$error":"#REF!"}},1548]
["200205","PIURA","PIURA","AYABACA","MONTERO","Mujer","60-64",{"$f":"'Pob x Genero'!#REF!","v":{"$error":"#REF!"}},1593]
["200305","PIURA","PIURA","HUANCABAMBA","LALAQUIZ","Mujer","60-64",{"$f":"'Pob x Genero'!#REF!","v":{"$error":"#REF!"}},1603]
["200805","PIURA","PIURA","SECHURA","VICE","Mujer","60-64",{"$f":"'Pob x Genero'!#REF!","v":{"$error":"#REF!"}},1642]
["210308","PUNO","PUNO","CARABAYA","OLLACHEA","Mujer","60-64",{"$f":"'Pob x Genero'!#REF!","v":{"$error":"#REF!"}},1681]
["210606","PUNO","PUNO","HUANCANE","ROSASPATA","Mujer","60-64",{"$f":"'Pob x Genero'!#REF!","v":{"$error":"#REF!"}},1701]
["220203","SAN MARTIN","SAN MARTIN","BELLAVISTA","BAJO BIAVO","Mujer","60-64",{"$f":"'Pob x Genero'!#REF!","v":{"$error":"#REF!"}},1762]
["220402","SAN MARTIN","SAN MARTIN","HUALLAGA","ALTO SAPOSOA","Mujer","60-64",{"$f":"'Pob x Genero'!#REF!","v":{"$error":"#REF!"}},1772]
["220809","SAN MARTIN","SAN MARTIN","RIOJA","YURACYACU","Mujer","60-64",{"$f":"'Pob x Genero'!#REF!","v":{"$error":"#REF!"}},1811]
["230105","TACNA","TACNA","TACNA","INCLAN","Mujer","60-64",{"$f":"'Pob x Genero'!#REF!","v":{"$error":"#REF!"}},1836]
["010101","AMAZONAS","AMAZONAS","CHACHAPOYAS","CHACHAPOYAS","Mujer",{"$f":"'Pob x Genero'!DY7","v":"65-69"},{"$f":"'Pob x Genero'!#REF!","v":{"$error":"#REF!"}},1]
["010107","AMAZONAS","AMAZONAS","CHACHAPOYAS","GRANADA","Mujer","65-69",{"$f":"'Pob x Genero'!#REF!","v":{"$error":"#REF!"}},7]
["010508","AMAZONAS","AMAZONAS","LUYA","LONYA CHICO","Mujer","65-69",{"$f":"'Pob x Genero'!#REF!","v":{"$error":"#REF!"}},50]
["020105","ANCASH","ANCASH","HUARAZ","INDEPENDENCIA","Mujer","65-69",{"$f":"'Pob x Genero'!#REF!","v":{"$error":"#REF!"}},89]
["020606","ANCASH","ANCASH","CARHUAZ","MARCARA","Mujer",{"$f":"G58751","v":"65-69"},{"$f":"'Pob x Genero'!#REF!","v":{"$error":"#REF!"}},130]
["020702","ANCASH","ANCASH","CARLOS FERMIN FITZCARRALD","SAN NICOLAS","Mujer","65-69",{"$f":"'Pob x Genero'!#REF!","v":{"$error":"#REF!"}},137]
["021206","ANCASH","ANCASH","HUAYLAS","PAMPAROMAS","Mujer","65-69",{"$f":"'Pob x Genero'!#REF!","v":{"$error":"#REF!"}},176]
["021702","ANCASH","ANCASH","RECUAY","CATAC","Mujer","65-69",{"$f":"'Pob x Genero'!#REF!","v":{"$error":"#REF!"}},215]
["030108","APURIMAC","APURIMAC","ABANCAY","SAN PEDRO DE CACHORA","Mujer",{"$f":"G58879","v":"65-69"},{"$f":"'Pob x Genero'!#REF!","v":{"$error":"#REF!"}},258]
["030304","APURIMAC","APURIMAC","ANTABAMBA","JUAN ESPINOZA MEDRANO","Mujer","65-69",{"$f":"'Pob x Genero'!#REF!","v":{"$error":"#REF!"}},283]
["030503","APURIMAC","APURIMAC","COTABAMBAS","COYLLURQUI","Mujer","65-69",{"$f":"'Pob x Genero'!#REF!","v":{"$error":"#REF!"}},306]
["040110","AREQUIPA","AREQUIPA","AREQUIPA","MIRAFLORES","Mujer","65-69",{"$f":"'Pob x Genero'!DY18","v":1411},345]
["040312","AREQUIPA","AREQUIPA","CARAVELI","QUICACHA","Mujer","65-69",{"$f":"'Pob x Genero'!DY57","v":43},384]
["040519","AREQUIPA","AREQUIPA","CAYLLOMA","YANQUE","Mujer","65-69",{"$f":"'Pob x Genero'!DY91","v":71},418]
["040705","AREQUIPA","AREQUIPA","ISLAY","MEJIA","Mujer","65-69",{"$f":"'Pob x Genero'!DY105","v":34},432]
["050405","AYACUCHO","AYACUCHO","HUANTA","LURICOCHA","Mujer","65-69",{"$f":"'Pob x Genero'!#REF!","v":{"$error":"#REF!"}},475]
["050616","AYACUCHO","AYACUCHO","LUCANAS","SAN JUAN","Mujer",{"$f":"G59135","v":"65-69"},{"$f":"'Pob x Genero'!#REF!","v":{"$error":"#REF!"}},514]
["051005","AYACUCHO","AYACUCHO","VICTOR FAJARDO","CANARIA","Mujer","65-69",{"$f":"'Pob x Genero'!#REF!","v":{"$error":"#REF!"}},553]
["060103","CAJAMARCA","CAJAMARCA","CAJAMARCA","CHETILLA","Mujer","65-69",{"$f":"'Pob x Genero'!#REF!","v":{"$error":"#REF!"}},571]
["060405","CAJAMARCA","CAJAMARCA","CHOTA","CHIMBAN","Mujer","65-69",{"$f":"'Pob x Genero'!#REF!","v":{"$error":"#REF!"}},601]
["060702","CAJAMARCA","CAJAMARCA","HUALGAYOC","CHUGUR","Mujer","65-69",{"$f":"'Pob x Genero'!#REF!","v":{"$error":"#REF!"}},640]
["061203","CAJAMARCA","CAJAMARCA","SAN PABLO","SAN LUIS","Mujer","65-69",{"$f":"'Pob x Genero'!#REF!","v":{"$error":"#REF!"}},683]
["080305","CUSCO","CUSCO","ANTA","HUAROCONDO","Mujer","65-69",{"$f":"'Pob x Genero'!#REF!","v":{"$error":"#REF!"}},722]
["080706","CUSCO","CUSCO","CHUMBIVILCAS","LLUSCO","Mujer","65-69",{"$f":"'Pob x Genero'!#REF!","v":{"$error":"#REF!"}},756]
["080904","CUSCO","CUSCO","LA CONVENCION","MARANURA","Mujer",{"$f":"G59391","v":"65-69"},{"$f":"'Pob x Genero'!#REF!","v":{"$error":"#REF!"}},770]
["081210","CUSCO","CUSCO","QUISPICANCHI","OCONGATE","Mujer","65-69",{"$f":"'Pob x Genero'!#REF!","v":{"$error":"#REF!"}},809]
["090307","HUANCAVELICA","HUANCAVELICA","ANGARAES","HUANCA-HUANCA","Mujer","65-69",{"$f":"'Pob x Genero'!#REF!","v":{"$error":"#REF!"}},852]
["090401","HUANCAVELICA","HUANCAVELICA","CASTROVIRREYNA","CASTROVIRREYNA","Mujer","65-69",{"$f":"'Pob x Genero'!#REF!","v":{"$error":"#REF!"}},858]
["090714","HUANCAVELICA","HUANCAVELICA","TAYACAJA","SALCABAMBA","Mujer","65-69",{"$f":"'Pob x Genero'!#REF!","v":{"$error":"#REF!"}},909]
["100206","HUANUCO","HUANUCO","AMBO","SAN FRANCISCO","Mujer","65-69",{"$f":"'Pob x Genero'!#REF!","v":{"$error":"#REF!"}},939]
["100703","HUANUCO","HUANUCO","MARAÑON","SAN BUENAVENTURA","Mujer","65-69",{"$f":"'Pob x Genero'!#REF!","v":{"$error":"#REF!"}},978]
["100904","HUANUCO","HUANUCO","PUERTO INCA","TOURNAVISTA","Mujer","65-69",{"$f":"'Pob x Genero'!#REF!","v":{"$error":"#REF!"}},988]
["110505","ICA","ICA","PISCO","PARACAS","Mujer","65-69",{"$f":"'Pob x Genero'!#REF!","v":{"$error":"#REF!"}},1044]
["120125","JUNIN","JUNIN","HUANCAYO","PILCOMAYO","Mujer","65-69",{"$f":"'Pob x Genero'!#REF!","v":{"$error":"#REF!"}},1065]
["120412","JUNIN","JUNIN","JAUJA","JULCAN","Mujer","65-69",{"$f":"'Pob x Genero'!#REF!","v":{"$error":"#REF!"}},1108]
["120704","JUNIN","JUNIN","TARMA","HUASAHUASI","Mujer","65-69",{"$f":"'Pob x Genero'!#REF!","v":{"$error":"#REF!"}},1147]
["120805","JUNIN","JUNIN","YAULI","MOROCOCHA","Mujer","65-69",{"$f":"'Pob x Genero'!#REF!","v":{"$error":"#REF!"}},1157]
["130306","LA LIBERTAD","LA LIBERTAD","BOLIVAR","UCUNCHA","Mujer","65-69",{"$f":"'Pob x Genero'!#REF!","v":{"$error":"#REF!"}},1197]
["130902","LA LIBERTAD","LA LIBERTAD","SANCHEZ CARRION","CHUGAY","Mujer","65-69",{"$f":"'Pob x Genero'!#REF!","v":{"$error":"#REF!"}},1234]
["140202","LAMBAYEQUE","LAMBAYEQUE","FERREÑAFE","CAÑARIS","Mujer","65-69",{"$f":"'Pob x Genero'!#REF!","v":{"$error":"#REF!"}},1277]
["140302","LAMBAYEQUE","LAMBAYEQUE","LAMBAYEQUE","CHOCHOPE","Mujer","65-69",{"$f":"'Pob x Genero'!#REF!","v":{"$error":"#REF!"}},1283]
["150129","DIRIS SUR","LIMA","LIMA","SAN BARTOLO","Mujer","65-69",{"$f":"'Pob x Genero'!#REF!","v":{"$error":"#REF!"}},1322]
["150404","LIMA","LIMA","CANTA","HUAROS","Mujer","65-69",{"$f":"'Pob x Genero'!#REF!","v":{"$error":"#REF!"}},1350]
["150722","LIMA","LIMA","HUAROCHIRI","SAN MATEO","Mujer","65-69",{"$f":"'Pob x Genero'!#REF!","v":{"$error":"#REF!"}},1403]
["151015","LIMA","LIMA","YAUYOS","HUANGASCAR","Mujer","65-69",{"$f":"'Pob x Genero'!#REF!","v":{"$error":"#REF!"}},1446]
["151021","LIMA","LIMA","YAUYOS","MIRAFLORES","Mujer","65-69",{"$f":"'Pob x Genero'!#REF!","v":{"$error":"#REF!"}},1452]
["160501","LORETO","LORETO","REQUENA","REQUENA","Mujer","65-69",{"$f":"'Pob x Genero'!#REF!","v":{"$error":"#REF!"}},1491]
["180107","MOQUEGUA","MOQUEGUA","MARISCAL NIETO","SAN ANTONIO","Mujer","65-69",{"$f":"'Pob x Genero'!#REF!","v":{"$error":"#REF!"}},1535]
["190302","PASCO","PASCO","OXAPAMPA","CHONTABAMBA","Mujer","65-69",{"$f":"'Pob x Genero'!#REF!","v":{"$error":"#REF!"}},1572]
["190308","PASCO","PASCO","OXAPAMPA","CONSTITUCIÓN","Mujer","65-69",{"$f":"'Pob x Genero'!#REF!","v":{"$error":"#REF!"}},1578]
["200505","PIURA","PIURA","PAITA","LA HUACA","Mujer","65-69",{"$f":"'Pob x Genero'!#REF!","v":{"$error":"#REF!"}},1621]
["210212","PUNO","PUNO","AZANGARO","SAN JOSE","Mujer","65-69",{"$f":"'Pob x Genero'!#REF!","v":{"$error":"#REF!"}},1670]
["210607","PUNO","PUNO","HUANCANE","TARACO","Mujer","65-69",{"$f":"'Pob x Genero'!#REF!","v":{"$error":"#REF!"}},1702]
["211205","PUNO","PUNO","SANDIA","PHARA","Mujer","65-69",{"$f":"'Pob x Genero'!#REF!","v":{"$error":"#REF!"}},1741]
["211301","PUNO","PUNO","YUNGUYO","YUNGUYO","Mujer","65-69",{"$f":"'Pob x Genero'!#REF!","v":{"$error":"#REF!"}},1747]
["220603","SAN MARTIN","SAN MARTIN","MARISCAL CACERES","HUICUNGO","Mujer","65-69",{"$f":"'Pob x Genero'!#REF!","v":{"$error":"#REF!"}},1790]
["220912","SAN MARTIN","SAN MARTIN","SAN MARTIN","SAN ANTONIO","Mujer","65-69",{"$f":"'Pob x Genero'!#REF!","v":{"$error":"#REF!"}},1823]
["240303","TUMBES","TUMBES","ZARUMILLA","MATAPALO","Mujer","65-69",{"$f":"'Pob x Genero'!#REF!","v":{"$error":"#REF!"}},1871]
["250105","UCAYALI","UCAYALI","CORONEL PORTILLO","YARINACOCHA","Mujer","65-69",{"$f":"'Pob x Genero'!#REF!","v":{"$error":"#REF!"}},1877]
["010204","AMAZONAS","AMAZONAS","BAGUA","EL PARCO","Mujer","70-74",{"$f":"'Pob x Genero'!#REF!","v":{"$error":"#REF!"}},25]
["010603","AMAZONAS","AMAZONAS","RODRIGUEZ DE MENDOZA","COCHAMAL","Mujer","70-74",{"$f":"'Pob x Genero'!#REF!","v":{"$error":"#REF!"}},68]
["020101","ANCASH","ANCASH","HUARAZ","HUARAZ","Mujer","70-74",{"$f":"'Pob x Genero'!#REF!","v":{"$error":"#REF!"}},85]
["020903","ANCASH","ANCASH","CORONGO","BAMBAS","Mujer","70-74",{"$f":"'Pob x Genero'!#REF!","v":{"$error":"#REF!"}},145]
["021006","ANCASH","ANCASH","HUARI","HUACCHIS","Mujer","70-74",{"$f":"'Pob x Genero'!#REF!","v":{"$error":"#REF!"}},155]
["021406","ANCASH","ANCASH","OCROS","CONGAS","Mujer",{"$f":"G60706","v":"70-74"},{"$f":"'Pob x Genero'!#REF!","v":{"$error":"#REF!"}},194]
["021707","ANCASH","ANCASH","RECUAY","PAMPAS CHICO","Mujer","70-74",{"$f":"'Pob x Genero'!#REF!","v":{"$error":"#REF!"}},220]
["030216","APURIMAC","APURIMAC","ANDAHUAYLAS","TALAVERA","Mujer","70-74",{"$f":"'Pob x Genero'!#REF!","v":{"$error":"#REF!"}},275]
["030302","APURIMAC","APURIMAC","ANTABAMBA","EL ORO","Mujer","70-74",{"$f":"'Pob x Genero'!#REF!","v":{"$error":"#REF!"}},281]
["030703","APURIMAC","APURIMAC","GRAU","GAMARRA","Mujer","70-74",{"$f":"'Pob x Genero'!#REF!","v":{"$error":"#REF!"}},324]
["040128","AREQUIPA","AREQUIPA","AREQUIPA","YURA","Mujer","70-74",{"$f":"'Pob x Genero'!DZ36","v":469},363]
["040506","AREQUIPA","AREQUIPA","CAYLLOMA","COPORAQUE","Mujer","70-74",{"$f":"'Pob x Genero'!DZ78","v":36},405]
["040512","AREQUIPA","AREQUIPA","CAYLLOMA","MACA","Mujer","70-74",{"$f":"'Pob x Genero'!DZ84","v":29},411]
["050106","AYACUCHO","AYACUCHO","HUAMANGA","OCROS","Mujer",{"$f":"G60962","v":"70-74"},{"$f":"'Pob x Genero'!#REF!","v":{"$error":"#REF!"}},450]
["050510","AYACUCHO","AYACUCHO","LA MAR","ANCHIHUAY","Mujer","70-74",{"$f":"'Pob x Genero'!#REF!","v":{"$error":"#REF!"}},493]
["050805","AYACUCHO","AYACUCHO","PAUCAR DEL SARA SARA","MARCABAMBA","Mujer","70-74",{"$f":"'Pob x Genero'!#REF!","v":{"$error":"#REF!"}},532]
["051010","AYACUCHO","AYACUCHO","VICTOR FAJARDO","HUAYA","Mujer","70-74",{"$f":"'Pob x Genero'!#REF!","v":{"$error":"#REF!"}},558]
["060112","CAJAMARCA","CAJAMARCA","CAJAMARCA","SAN JUAN","Mujer","70-74",{"$f":"'Pob x Genero'!#REF!","v":{"$error":"#REF!"}},580]
["060504","CAJAMARCA","CAJAMARCA","CONTUMAZA","GUZMANGO","Mujer","70-74",{"$f":"'Pob x Genero'!#REF!","v":{"$error":"#REF!"}},619]
["061002","CAJAMARCA","CAJAMARCA","SAN MARCOS","CHANCAY","Mujer","70-74",{"$f":"'Pob x Genero'!#REF!","v":{"$error":"#REF!"}},662]
["070106","CALLAO","CALLAO","CALLAO","VENTANILLA","Mujer","70-74",{"$f":"'Pob x Genero'!#REF!","v":{"$error":"#REF!"}},701]
["080201","CUSCO","CUSCO","ACOMAYO","ACOMAYO","Mujer","70-74",{"$f":"'Pob x Genero'!#REF!","v":{"$error":"#REF!"}},711]
["080607","CUSCO","CUSCO","CANCHIS","SAN PEDRO","Mujer","70-74",{"$f":"'Pob x Genero'!#REF!","v":{"$error":"#REF!"}},749]
["081004","CUSCO","CUSCO","PARURO","COLCHA","Mujer","70-74",{"$f":"'Pob x Genero'!#REF!","v":{"$error":"#REF!"}},788]
["090109","HUANCAVELICA","HUANCAVELICA","HUANCAVELICA","LARIA","Mujer","70-74",{"$f":"'Pob x Genero'!#REF!","v":{"$error":"#REF!"}},827]
["090301","HUANCAVELICA","HUANCAVELICA","ANGARAES","LIRCAY","Mujer","70-74",{"$f":"'Pob x Genero'!#REF!","v":{"$error":"#REF!"}},846]
["090505","HUANCAVELICA","HUANCAVELICA","CHURCAMPA","LA MERCED","Mujer","70-74",{"$f":"'Pob x Genero'!#REF!","v":{"$error":"#REF!"}},875]
["090723","HUANCAVELICA","HUANCAVELICA","TAYACAJA","SANTIAGO DE TUCUMA","Mujer","70-74",{"$f":"'Pob x Genero'!#REF!","v":{"$error":"#REF!"}},918]
["100503","HUANUCO","HUANUCO","HUAMALIES","CHAVIN DE PARIARCA","Mujer","70-74",{"$f":"'Pob x Genero'!#REF!","v":{"$error":"#REF!"}},957]
["101007","HUANUCO","HUANUCO","LAURICOCHA","SAN MIGUEL DE CAURI","Mujer","70-74",{"$f":"'Pob x Genero'!#REF!","v":{"$error":"#REF!"}},996]
["101103","HUANUCO","HUANUCO","YAROWILCA","CHACABAMBA","Mujer","70-74",{"$f":"'Pob x Genero'!#REF!","v":{"$error":"#REF!"}},999]
["110505","ICA","ICA","PISCO","PARACAS","Mujer","70-74",{"$f":"'Pob x Genero'!#REF!","v":{"$error":"#REF!"}},1044]
["120212","JUNIN","JUNIN","CONCEPCION","NUEVE DE JULIO","Mujer","70-74",{"$f":"'Pob x Genero'!#REF!","v":{"$error":"#REF!"}},1087]
["120430","JUNIN","JUNIN","JAUJA","SAUSA","Mujer","70-74",{"$f":"'Pob x Genero'!#REF!","v":{"$error":"#REF!"}},1126]
["120502","JUNIN","JUNIN","JUNIN","CARHUAMAYO","Mujer","70-74",{"$f":"'Pob x Genero'!#REF!","v":{"$error":"#REF!"}},1132]
["130201","LA LIBERTAD","LA LIBERTAD","ASCOPE","ASCOPE","Mujer",{"$f":"G61695","v":"70-74"},{"$f":"'Pob x Genero'!#REF!","v":{"$error":"#REF!"}},1184]
["130613","LA LIBERTAD","LA LIBERTAD","OTUZCO","SINSICAP","Mujer","70-74",{"$f":"'Pob x Genero'!#REF!","v":{"$error":"#REF!"}},1213]
["131104","LA LIBERTAD","LA LIBERTAD","GRAN CHIMU","SAYAPULLO","Mujer","70-74",{"$f":"'Pob x Genero'!#REF!","v":{"$error":"#REF!"}},1252]
["140107","LAMBAYEQUE","LAMBAYEQUE","CHICLAYO","LAGUNAS","Mujer","70-74",{"$f":"'Pob x Genero'!#REF!","v":{"$error":"#REF!"}},1262]
["150108","DIRIS SUR","LIMA","LIMA","CHORRILLOS","Mujer","70-74",{"$f":"'Pob x Genero'!#REF!","v":{"$error":"#REF!"}},1301]
["150201","LIMA","LIMA","BARRANCA","BARRANCA","Mujer","70-74",{"$f":"'Pob x Genero'!#REF!","v":{"$error":"#REF!"}},1337]
["150701","LIMA","LIMA","HUAROCHIRI","MATUCANA","Mujer","70-74",{"$f":"'Pob x Genero'!#REF!","v":{"$error":"#REF!"}},1382]
["150808","LIMA","LIMA","HUAURA","PACCHO","Mujer","70-74",{"$f":"'Pob x Genero'!#REF!","v":{"$error":"#REF!"}},1421]
["150906","LIMA","LIMA","OYON","PACHANGARA","Mujer","70-74",{"$f":"'Pob x Genero'!#REF!","v":{"$error":"#REF!"}},1431]
["160108","LORETO","LORETO","MAYNAS","PUNCHANA","Mujer","70-74",{"$f":"'Pob x Genero'!#REF!","v":{"$error":"#REF!"}},1472]
["160701","LORETO","LORETO","DATEM DEL MARAÑON","BARRANCA","Mujer","70-74",{"$f":"'Pob x Genero'!#REF!","v":{"$error":"#REF!"}},1508]
["190102","PASCO","PASCO","PASCO","HUACHON","Mujer","70-74",{"$f":"'Pob x Genero'!#REF!","v":{"$error":"#REF!"}},1551]
["190108","PASCO","PASCO","PASCO","SAN FRANCISCO DE ASIS DE YARUSYACAN","Mujer","70-74",{"$f":"'Pob x Genero'!#REF!","v":{"$error":"#REF!"}},1557]
["200302","PIURA","PIURA","HUANCABAMBA","CANCHAQUE","Mujer","70-74",{"$f":"'Pob x Genero'!#REF!","v":{"$error":"#REF!"}},1600]
["200602","PIURA","PIURA","SULLANA","BELLAVISTA","Mujer","70-74",{"$f":"'Pob x Genero'!#REF!","v":{"$error":"#REF!"}},1625]
["210304","PUNO","PUNO","CARABAYA","COASA","Mujer","70-74",{"$f":"'Pob x Genero'!#REF!","v":{"$error":"#REF!"}},1677]
["210404","PUNO","PUNO","CHUCUITO","KELLUYO","Mujer","70-74",{"$f":"'Pob x Genero'!#REF!","v":{"$error":"#REF!"}},1687]
["210904","PUNO","PUNO","MOHO","TILALI","Mujer","70-74",{"$f":"'Pob x Genero'!#REF!","v":{"$error":"#REF!"}},1726]
["220304","SAN MARTIN","SAN MARTIN","EL DORADO","SANTA ROSA","Mujer","70-74",{"$f":"'Pob x Genero'!#REF!","v":{"$error":"#REF!"}},1769]
["220808","SAN MARTIN","SAN MARTIN","RIOJA","YORONGOS","Mujer","70-74",{"$f":"'Pob x Genero'!#REF!","v":{"$error":"#REF!"}},1810]
["230204","TACNA","TACNA","CANDARAVE","CURIBAYA","Mujer","70-74",{"$f":"'Pob x Genero'!#REF!","v":{"$error":"#REF!"}},1846]
["230405","TACNA","TACNA","TARATA","SITAJARA","Mujer","70-74",{"$f":"'Pob x Genero'!#REF!","v":{"$error":"#REF!"}},1856]
["010104","AMAZONAS","AMAZONAS","CHACHAPOYAS","CHETO","Mujer","75-79",{"$f":"'Pob x Genero'!#REF!","v":{"$error":"#REF!"}},4]
["010512","AMAZONAS","AMAZONAS","LUYA","OCALLI","Mujer","75-79",{"$f":"'Pob x Genero'!#REF!","v":{"$error":"#REF!"}},54]
["020101","ANCASH","ANCASH","HUARAZ","HUARAZ","Mujer","75-79",{"$f":"'Pob x Genero'!#REF!","v":{"$error":"#REF!"}},85]
["020107","ANCASH","ANCASH","HUARAZ","LA LIBERTAD","Mujer","75-79",{"$f":"'Pob x Genero'!#REF!","v":{"$error":"#REF!"}},91]
["020610","ANCASH","ANCASH","CARHUAZ","TINCO","Mujer","75-79",{"$f":"'Pob x Genero'!#REF!","v":{"$error":"#REF!"}},134]
["021203","ANCASH","ANCASH","HUAYLAS","HUATA","Mujer","75-79",{"$f":"'Pob x Genero'!#REF!","v":{"$error":"#REF!"}},173]
["021509","ANCASH","ANCASH","PALLASCA","PAMPAS","Mujer","75-79",{"$f":"'Pob x Genero'!#REF!","v":{"$error":"#REF!"}},207]
["030104","APURIMAC","APURIMAC","ABANCAY","CURAHUASI","Mujer","75-79",{"$f":"'Pob x Genero'!#REF!","v":{"$error":"#REF!"}},254]
["030201","APURIMAC","APURIMAC","ANDAHUAYLAS","ANDAHUAYLAS","Mujer","75-79",{"$f":"'Pob x Genero'!#REF!","v":{"$error":"#REF!"}},260]
["030417","APURIMAC","APURIMAC","AYMARAES","YANACA","Mujer","75-79",{"$f":"'Pob x Genero'!#REF!","v":{"$error":"#REF!"}},303]
["040107","AREQUIPA","AREQUIPA","AREQUIPA","JACOBO HUNTER","Mujer","75-79",{"$f":"'Pob x Genero'!EA15","v":618},342]
["040125","AREQUIPA","AREQUIPA","AREQUIPA","VITOR","Mujer","75-79",{"$f":"'Pob x Genero'!EA33","v":48},360]
["040405","AREQUIPA","AREQUIPA","CASTILLA","CHILCAYMARCA","Mujer","75-79",{"$f":"'Pob x Genero'!EA63","v":6},390]
["040702","AREQUIPA","AREQUIPA","ISLAY","COCACHACRA","Mujer","75-79",{"$f":"'Pob x Genero'!EA102","v":110},429]
["050302","AYACUCHO","AYACUCHO","HUANCA SANCOS","CARAPO","Mujer","75-79",{"$f":"'Pob x Genero'!#REF!","v":{"$error":"#REF!"}},468]
["050613","AYACUCHO","AYACUCHO","LUCANAS","OTOCA","Mujer","75-79",{"$f":"'Pob x Genero'!#REF!","v":{"$error":"#REF!"}},511]
["050908","AYACUCHO","AYACUCHO","SUCRE","SAN PEDRO DE LARCAY","Mujer","75-79",{"$f":"'Pob x Genero'!#REF!","v":{"$error":"#REF!"}},545]
["051011","AYACUCHO","AYACUCHO","VICTOR FAJARDO","SARHUA","Mujer","75-79",{"$f":"'Pob x Genero'!#REF!","v":{"$error":"#REF!"}},559]
["060402","CAJAMARCA","CAJAMARCA","CHOTA","ANGUIA","Mujer","75-79",{"$f":"'Pob x Genero'!#REF!","v":{"$error":"#REF!"}},598]
["060614","CAJAMARCA","CAJAMARCA","CUTERVO","SOCOTA","Mujer","75-79",{"$f":"'Pob x Genero'!#REF!","v":{"$error":"#REF!"}},637]
["061113","CAJAMARCA","CAJAMARCA","SAN MIGUEL","UNION AGUA BLANCA","Mujer","75-79",{"$f":"'Pob x Genero'!#REF!","v":{"$error":"#REF!"}},680]
["061301","CAJAMARCA","CAJAMARCA","SANTA CRUZ","SANTA CRUZ","Mujer","75-79",{"$f":"'Pob x Genero'!#REF!","v":{"$error":"#REF!"}},685]
["080307","CUSCO","CUSCO","ANTA","MOLLEPATA","Mujer","75-79",{"$f":"'Pob x Genero'!#REF!","v":{"$error":"#REF!"}},724]
["080901","CUSCO","CUSCO","LA CONVENCION","SANTA ANA","Mujer","75-79",{"$f":"'Pob x Genero'!#REF!","v":{"$error":"#REF!"}},767]
["081207","CUSCO","CUSCO","QUISPICANCHI","HUARO","Mujer","75-79",{"$f":"'Pob x Genero'!#REF!","v":{"$error":"#REF!"}},806]
["090115","HUANCAVELICA","HUANCAVELICA","HUANCAVELICA","PILCHACA","Mujer","75-79",{"$f":"'Pob x Genero'!#REF!","v":{"$error":"#REF!"}},833]
["090309","HUANCAVELICA","HUANCAVELICA","ANGARAES","JULCAMARCA","Mujer","75-79",{"$f":"'Pob x Genero'!#REF!","v":{"$error":"#REF!"}},854]
["090612","HUANCAVELICA","HUANCAVELICA","HUAYTARA","SAN ISIDRO","Mujer","75-79",{"$f":"'Pob x Genero'!#REF!","v":{"$error":"#REF!"}},893]
["100203","HUANUCO","HUANUCO","AMBO","COLPAS","Mujer","75-79",{"$f":"'Pob x Genero'!#REF!","v":{"$error":"#REF!"}},936]
["100610","HUANUCO","HUANUCO","LEONCIO PRADO","SANTO DOMINGO DE ANDA","Mujer","75-79",{"$f":"'Pob x Genero'!#REF!","v":{"$error":"#REF!"}},975]
["100902","HUANUCO","HUANUCO","PUERTO INCA","CODO DEL POZUZO","Mujer","75-79",{"$f":"'Pob x Genero'!#REF!","v":{"$error":"#REF!"}},986]
["110205","ICA","ICA","CHINCHA","EL CARMEN","Mujer","75-79",{"$f":"'Pob x Genero'!#REF!","v":{"$error":"#REF!"}},1023]
["120121","JUNIN","JUNIN","HUANCAYO","HUAYUCACHI","Mujer","75-79",{"$f":"'Pob x Genero'!#REF!","v":{"$error":"#REF!"}},1062]
["120409","JUNIN","JUNIN","JAUJA","HUARIPAMPA","Mujer","75-79",{"$f":"'Pob x Genero'!#REF!","v":{"$error":"#REF!"}},1105]
["120415","JUNIN","JUNIN","JAUJA","MARCO","Mujer","75-79",{"$f":"'Pob x Genero'!#REF!","v":{"$error":"#REF!"}},1111]
["120909","JUNIN","JUNIN","CHUPACA","YANACANCHA","Mujer","75-79",{"$f":"'Pob x Genero'!#REF!","v":{"$error":"#REF!"}},1171]
["130301","LA LIBERTAD","LA LIBERTAD","BOLIVAR","BOLIVAR","Mujer","75-79",{"$f":"'Pob x Genero'!#REF!","v":{"$error":"#REF!"}},1192]
["130812","LA LIBERTAD","LA LIBERTAD","PATAZ","TAURIJA","Mujer","75-79",{"$f":"'Pob x Genero'!#REF!","v":{"$error":"#REF!"}},1231]
["131001","LA LIBERTAD","LA LIBERTAD","SANTIAGO DE CHUCO","SANTIAGO DE CHUCO","Mujer","75-79",{"$f":"'Pob x Genero'!#REF!","v":{"$error":"#REF!"}},1241]
["140119","LAMBAYEQUE","LAMBAYEQUE","CHICLAYO","PUCALA","Mujer","75-79",{"$f":"'Pob x Genero'!#REF!","v":{"$error":"#REF!"}},1274]
["150125","DIRIS NORTE","LIMA","LIMA","PUENTE PIEDRA","Mujer","75-79",{"$f":"'Pob x Genero'!#REF!","v":{"$error":"#REF!"}},1318]
["150508","LIMA","LIMA","CAÑETE","LUNAHUANA","Mujer","75-79",{"$f":"'Pob x Genero'!#REF!","v":{"$error":"#REF!"}},1361]
["150719","LIMA","LIMA","HUAROCHIRI","SAN JUAN DE IRIS","Mujer","75-79",{"$f":"'Pob x Genero'!#REF!","v":{"$error":"#REF!"}},1400]
["150729","LIMA","LIMA","HUAROCHIRI","SANTIAGO DE ANCHUCAYA","Mujer",{"$f":"G63813","v":"75-79"},{"$f":"'Pob x Genero'!#REF!","v":{"$error":"#REF!"}},1410]
["151028","LIMA","LIMA","YAUYOS","TANTA","Mujer","75-79",{"$f":"'Pob x Genero'!#REF!","v":{"$error":"#REF!"}},1459]
["160401","LORETO","LORETO","MARISCAL RAMON CASTILLA","RAMON CASTILLA","Mujer","75-79",{"$f":"'Pob x Genero'!#REF!","v":{"$error":"#REF!"}},1487]
["180102","MOQUEGUA","MOQUEGUA","MARISCAL NIETO","CARUMAS","Mujer","75-79",{"$f":"'Pob x Genero'!#REF!","v":{"$error":"#REF!"}},1530]
["180201","MOQUEGUA","MOQUEGUA","GENERAL SANCHEZ CERRO","OMATE","Mujer","75-79",{"$f":"'Pob x Genero'!#REF!","v":{"$error":"#REF!"}},1536]
["190305","PASCO","PASCO","OXAPAMPA","POZUZO","Mujer","75-79",{"$f":"'Pob x Genero'!#REF!","v":{"$error":"#REF!"}},1575]
["200406","PIURA","PIURA","MORROPON","SALITRAL","Mujer","75-79",{"$f":"'Pob x Genero'!#REF!","v":{"$error":"#REF!"}},1612]
["210113","PUNO","PUNO","PUNO","SAN ANTONIO","Mujer","75-79",{"$f":"'Pob x Genero'!#REF!","v":{"$error":"#REF!"}},1656]
["210208","PUNO","PUNO","AZANGARO","MUÑANI","Mujer",{"$f":"G64069","v":"75-79"},{"$f":"'Pob x Genero'!#REF!","v":{"$error":"#REF!"}},1666]
["210702","PUNO","PUNO","LAMPA","CABANILLA","Mujer","75-79",{"$f":"'Pob x Genero'!#REF!","v":{"$error":"#REF!"}},1705]
["211301","PUNO","PUNO","YUNGUYO","YUNGUYO","Mujer","75-79",{"$f":"'Pob x Genero'!#REF!","v":{"$error":"#REF!"}},1747]
["220510","SAN MARTIN","SAN MARTIN","LAMAS","TABALOSOS","Mujer","75-79",{"$f":"'Pob x Genero'!#REF!","v":{"$error":"#REF!"}},1786]
["220914","SAN MARTIN","SAN MARTIN","SAN MARTIN","SHAPAJA","Mujer","75-79",{"$f":"'Pob x Genero'!#REF!","v":{"$error":"#REF!"}},1825]
["221006","SAN MARTIN","SAN MARTIN","TOCACHE","SANTA LUCIA","Mujer","75-79",{"$f":"'Pob x Genero'!#REF!","v":{"$error":"#REF!"}},1831]
["250102","UCAYALI","UCAYALI","CORONEL PORTILLO","CAMPOVERDE","Mujer","75-79",{"$f":"'Pob x Genero'!#REF!","v":{"$error":"#REF!"}},1874]
["010109","AMAZONAS","AMAZONAS","CHACHAPOYAS","LA JALCA","Mujer","80-84",{"$f":"'Pob x Genero'!#REF!","v":{"$error":"#REF!"}},9]
["010522","AMAZONAS","AMAZONAS","LUYA","TINGO","Mujer","80-84",{"$f":"'Pob x Genero'!#REF!","v":{"$error":"#REF!"}},64]
["010605","AMAZONAS","AMAZONAS","RODRIGUEZ DE MENDOZA","LIMABAMBA","Mujer","80-84",{"$f":"'Pob x Genero'!#REF!","v":{"$error":"#REF!"}},70]
["020402","ANCASH","ANCASH","ASUNCION","ACOCHACA","Mujer","80-84",{"$f":"'Pob x Genero'!#REF!","v":{"$error":"#REF!"}},109]
["021003","ANCASH","ANCASH","HUARI","CAJAY","Mujer","80-84",{"$f":"'Pob x Genero'!#REF!","v":{"$error":"#REF!"}},152]
["021406","ANCASH","ANCASH","OCROS","CONGAS","Mujer",{"$f":"G64488","v":"80-84"},{"$f":"'Pob x Genero'!#REF!","v":{"$error":"#REF!"}},194]
["021502","ANCASH","ANCASH","PALLASCA","BOLOGNESI","Mujer","80-84",{"$f":"'Pob x Genero'!#REF!","v":{"$error":"#REF!"}},200]
["021907","ANCASH","ANCASH","SIHUAS","QUICHES","Mujer","80-84",{"$f":"'Pob x Genero'!#REF!","v":{"$error":"#REF!"}},239]
["030219","APURIMAC","APURIMAC","ANDAHUAYLAS","KAQUIABAMBA","Mujer","80-84",{"$f":"'Pob x Genero'!#REF!","v":{"$error":"#REF!"}},278]
["030612","APURIMAC","APURIMAC","CHINCHEROS","AHUAYRO","Mujer","80-84",{"$f":"'Pob x Genero'!#REF!","v":{"$error":"#REF!"}},321]
["040112","AREQUIPA","AREQUIPA","AREQUIPA","PAUCARPATA","Mujer","80-84",{"$f":"'Pob x Genero'!EB20","v":1071},347]
["040201","AREQUIPA","AREQUIPA","CAMANA","CAMANA","Mujer","80-84",{"$f":"'Pob x Genero'!EB38","v":158},365]
["040509","AREQUIPA","AREQUIPA","CAYLLOMA","ICHUPAMPA","Mujer","80-84",{"$f":"'Pob x Genero'!EB81","v":12},408]
["050103","AYACUCHO","AYACUCHO","HUAMANGA","ACOS VINCHOS","Mujer","80-84",{"$f":"'Pob x Genero'!#REF!","v":{"$error":"#REF!"}},447]
["050412","AYACUCHO","AYACUCHO","HUANTA","CHACA","Mujer","80-84",{"$f":"'Pob x Genero'!#REF!","v":{"$error":"#REF!"}},482]
["050512","AYACUCHO","AYACUCHO","LA MAR","UNION PROGRESO","Mujer","80-84",{"$f":"'Pob x Genero'!#REF!","v":{"$error":"#REF!"}},495]
["050807","AYACUCHO","AYACUCHO","PAUCAR DEL SARA SARA","PARARCA","Mujer","80-84",{"$f":"'Pob x Genero'!#REF!","v":{"$error":"#REF!"}},534]
["060109","CAJAMARCA","CAJAMARCA","CAJAMARCA","MAGDALENA","Mujer","80-84",{"$f":"'Pob x Genero'!#REF!","v":{"$error":"#REF!"}},577]
["060501","CAJAMARCA","CAJAMARCA","CONTUMAZA","CONTUMAZA","Mujer","80-84",{"$f":"'Pob x Genero'!#REF!","v":{"$error":"#REF!"}},616]
["060612","CAJAMARCA","CAJAMARCA","CUTERVO","SANTO DOMINGO DE LA CAPILLA","Mujer","80-84",{"$f":"'Pob x Genero'!#REF!","v":{"$error":"#REF!"}},635]
["061004","CAJAMARCA","CAJAMARCA","SAN MARCOS","GREGORIO PITA","Mujer","80-84",{"$f":"'Pob x Genero'!#REF!","v":{"$error":"#REF!"}},664]
["080101","CUSCO","CUSCO","CUSCO","CUSCO","Mujer","80-84",{"$f":"'Pob x Genero'!#REF!","v":{"$error":"#REF!"}},703]
["080604","CUSCO","CUSCO","CANCHIS","MARANGANI","Mujer","80-84",{"$f":"'Pob x Genero'!#REF!","v":{"$error":"#REF!"}},746]
["081001","CUSCO","CUSCO","PARURO","PARURO","Mujer","80-84",{"$f":"'Pob x Genero'!#REF!","v":{"$error":"#REF!"}},785]
["090102","HUANCAVELICA","HUANCAVELICA","HUANCAVELICA","ACOBAMBILLA","Mujer","80-84",{"$f":"'Pob x Genero'!#REF!","v":{"$error":"#REF!"}},820]
["090115","HUANCAVELICA","HUANCAVELICA","HUANCAVELICA","PILCHACA","Mujer","80-84",{"$f":"'Pob x Genero'!#REF!","v":{"$error":"#REF!"}},833]
["090502","HUANCAVELICA","HUANCAVELICA","CHURCAMPA","ANCO","Mujer","80-84",{"$f":"'Pob x Genero'!#REF!","v":{"$error":"#REF!"}},872]
["090720","HUANCAVELICA","HUANCAVELICA","TAYACAJA","ANDAYMARCA","Mujer","80-84",{"$f":"'Pob x Genero'!#REF!","v":{"$error":"#REF!"}},915]
["100404","HUANUCO","HUANUCO","HUACAYBAMBA","PINRA","Mujer","80-84",{"$f":"'Pob x Genero'!#REF!","v":{"$error":"#REF!"}},954]
["100608","HUANUCO","HUANUCO","LEONCIO PRADO","CASTILLO GRANDE","Mujer","80-84",{"$f":"'Pob x Genero'!#REF!","v":{"$error":"#REF!"}},973]
["101106","HUANUCO","HUANUCO","YAROWILCA","OBAS","Mujer","80-84",{"$f":"'Pob x Genero'!#REF!","v":{"$error":"#REF!"}},1002]
["110502","ICA","ICA","PISCO","HUANCANO","Mujer","80-84",{"$f":"'Pob x Genero'!#REF!","v":{"$error":"#REF!"}},1041]
["120205","JUNIN","JUNIN","CONCEPCION","COCHAS","Mujer","80-84",{"$f":"'Pob x Genero'!#REF!","v":{"$error":"#REF!"}},1080]
["120412","JUNIN","JUNIN","JAUJA","JULCAN","Mujer","80-84",{"$f":"'Pob x Genero'!#REF!","v":{"$error":"#REF!"}},1108]
["120432","JUNIN","JUNIN","JAUJA","TUNAN MARCA","Mujer","80-84",{"$f":"'Pob x Genero'!#REF!","v":{"$error":"#REF!"}},1128]
["120909","JUNIN","JUNIN","CHUPACA","YANACANCHA","Mujer","80-84",{"$f":"'Pob x Genero'!#REF!","v":{"$error":"#REF!"}},1171]
["130608","LA LIBERTAD","LA LIBERTAD","OTUZCO","MACHE","Mujer","80-84",{"$f":"'Pob x Genero'!#REF!","v":{"$error":"#REF!"}},1210]
["131101","LA LIBERTAD","LA LIBERTAD","GRAN CHIMU","CASCAS","Mujer","80-84",{"$f":"'Pob x Genero'!#REF!","v":{"$error":"#REF!"}},1249]
["140106","LAMBAYEQUE","LAMBAYEQUE","CHICLAYO","LA VICTORIA","Mujer","80-84",{"$f":"'Pob x Genero'!#REF!","v":{"$error":"#REF!"}},1261]
["150104","DIRIS SUR","LIMA","LIMA","BARRANCO","Mujer","80-84",{"$f":"'Pob x Genero'!#REF!","v":{"$error":"#REF!"}},1297]
["150204","LIMA","LIMA","BARRANCA","SUPE","Mujer","80-84",{"$f":"'Pob x Genero'!#REF!","v":{"$error":"#REF!"}},1340]
["150610","LIMA","LIMA","HUARAL","SANTA CRUZ DE ANDAMARCA","Mujer","80-84",{"$f":"'Pob x Genero'!#REF!","v":{"$error":"#REF!"}},1379]
["150704","LIMA","LIMA","HUAROCHIRI","CARAMPOMA","Mujer","80-84",{"$f":"'Pob x Genero'!#REF!","v":{"$error":"#REF!"}},1385]
["150801","LIMA","LIMA","HUAURA","HUACHO","Mujer","80-84",{"$f":"'Pob x Genero'!#REF!","v":{"$error":"#REF!"}},1414]
["160102","LORETO","LORETO","MAYNAS","ALTO NANAY","Mujer","80-84",{"$f":"'Pob x Genero'!#REF!","v":{"$error":"#REF!"}},1466]
["160604","LORETO","LORETO","UCAYALI","PAMPA HERMOSA","Mujer","80-84",{"$f":"'Pob x Genero'!#REF!","v":{"$error":"#REF!"}},1505]
["160802","LORETO","LORETO","PUTUMAYO","ROSA PANDURO","Mujer","80-84",{"$f":"'Pob x Genero'!#REF!","v":{"$error":"#REF!"}},1515]
["180303","MOQUEGUA","MOQUEGUA","ILO","PACOCHA","Mujer","80-84",{"$f":"'Pob x Genero'!#REF!","v":{"$error":"#REF!"}},1549]
["200208","PIURA","PIURA","AYABACA","SAPILLICA","Mujer","80-84",{"$f":"'Pob x Genero'!#REF!","v":{"$error":"#REF!"}},1596]
["200704","PIURA","PIURA","TALARA","LOBITOS","Mujer","80-84",{"$f":"'Pob x Genero'!#REF!","v":{"$error":"#REF!"}},1635]
["210301","PUNO","PUNO","CARABAYA","MACUSANI","Mujer","80-84",{"$f":"'Pob x Genero'!#REF!","v":{"$error":"#REF!"}},1674]
["210401","PUNO","PUNO","CHUCUITO","JULI","Mujer","80-84",{"$f":"'Pob x Genero'!#REF!","v":{"$error":"#REF!"}},1684]
["211103","PUNO","PUNO","SAN ROMAN","CABANILLAS","Mujer","80-84",{"$f":"'Pob x Genero'!#REF!","v":{"$error":"#REF!"}},1734]
["220202","SAN MARTIN","SAN MARTIN","BELLAVISTA","ALTO BIAVO","Mujer","80-84",{"$f":"'Pob x Genero'!#REF!","v":{"$error":"#REF!"}},1761]
["220802","SAN MARTIN","SAN MARTIN","RIOJA","AWAJUN","Mujer","80-84",{"$f":"'Pob x Genero'!#REF!","v":{"$error":"#REF!"}},1804]
["220808","SAN MARTIN","SAN MARTIN","RIOJA","YORONGOS","Mujer","80-84",{"$f":"'Pob x Genero'!#REF!","v":{"$error":"#REF!"}},1810]
["230402","TACNA","TACNA","TARATA","HEROES ALBARRACIN","Mujer","80-84",{"$f":"'Pob x Genero'!#REF!","v":{"$error":"#REF!"}},1853]
["250304","UCAYALI","UCAYALI","PADRE ABAD","NESHUYA","Mujer","80-84",{"$f":"'Pob x Genero'!#REF!","v":{"$error":"#REF!"}},1887]
["010312","AMAZONAS","AMAZONAS","BONGARA","YAMBRASBAMBA","Mujer","85-+",{"$f":"'Pob x Genero'!#REF!","v":{"$error":"#REF!"}},39]
["010507","AMAZONAS","AMAZONAS","LUYA","LONGUITA","Mujer","85-+",{"$f":"'Pob x Genero'!#REF!","v":{"$error":"#REF!"}},49]
["020104","ANCASH","ANCASH","HUARAZ","HUANCHAY","Mujer","85-+",{"$f":"'Pob x Genero'!#REF!","v":{"$error":"#REF!"}},88]
["020607","ANCASH","ANCASH","CARHUAZ","PARIAHUANCA","Mujer","85-+",{"$f":"'Pob x Genero'!#REF!","v":{"$error":"#REF!"}},131]
["020907","ANCASH","ANCASH","CORONGO","YUPAN","Mujer","85-+",{"$f":"'Pob x Genero'!#REF!","v":{"$error":"#REF!"}},149]
["021510","ANCASH","ANCASH","PALLASCA","SANTA ROSA","Mujer","85-+",{"$f":"'Pob x Genero'!#REF!","v":{"$error":"#REF!"}},208]
["021705","ANCASH","ANCASH","RECUAY","LLACLLIN","Mujer","85-+",{"$f":"'Pob x Genero'!#REF!","v":{"$error":"#REF!"}},218]
["030107","APURIMAC","APURIMAC","ABANCAY","PICHIRHUA","Mujer","85-+",{"$f":"'Pob x Genero'!#REF!","v":{"$error":"#REF!"}},257]
["030305","APURIMAC","APURIMAC","ANTABAMBA","OROPESA","Mujer","85-+",{"$f":"'Pob x Genero'!#REF!","v":{"$error":"#REF!"}},284]
["040103","AREQUIPA","AREQUIPA","AREQUIPA","CAYMA","Mujer","85-+",{"$f":"'Pob x Genero'!EC11","v":730},338]
["040109","AREQUIPA","AREQUIPA","AREQUIPA","MARIANO MELGAR","Mujer","85-+",{"$f":"'Pob x Genero'!EC17","v":647},344]
["040402","AREQUIPA","AREQUIPA","CASTILLA","ANDAGUA","Mujer","85-+",{"$f":"'Pob x Genero'!EC60","v":23},387]
["040607","AREQUIPA","AREQUIPA","CONDESUYOS","SALAMANCA","Mujer","85-+",{"$f":"'Pob x Genero'!EC99","v":13},426]
["050303","AYACUCHO","AYACUCHO","HUANCA SANCOS","SACSAMARCA","Mujer","85-+",{"$f":"'Pob x Genero'!#REF!","v":{"$error":"#REF!"}},469]
["050404","AYACUCHO","AYACUCHO","HUANTA","IGUAIN","Mujer","85-+",{"$f":"'Pob x Genero'!#REF!","v":{"$error":"#REF!"}},474]
["050615","AYACUCHO","AYACUCHO","LUCANAS","SAN CRISTOBAL","Mujer","85-+",{"$f":"'Pob x Genero'!#REF!","v":{"$error":"#REF!"}},513]
["051008","AYACUCHO","AYACUCHO","VICTOR FAJARDO","HUAMANQUIQUIA","Mujer","85-+",{"$f":"'Pob x Genero'!#REF!","v":{"$error":"#REF!"}},556]
["060311","CAJAMARCA","CAJAMARCA","CELENDIN","UTCO","Mujer","85-+",{"$f":"'Pob x Genero'!#REF!","v":{"$error":"#REF!"}},595]
["060507","CAJAMARCA","CAJAMARCA","CONTUMAZA","TANTARICA","Mujer","85-+",{"$f":"'Pob x Genero'!#REF!","v":{"$error":"#REF!"}},622]
["060802","CAJAMARCA","CAJAMARCA","JAEN","BELLAVISTA","Mujer","85-+",{"$f":"'Pob x Genero'!#REF!","v":{"$error":"#REF!"}},643]
["061202","CAJAMARCA","CAJAMARCA","SAN PABLO","SAN BERNARDINO","Mujer","85-+",{"$f":"'Pob x Genero'!#REF!","v":{"$error":"#REF!"}},682]
["080304","CUSCO","CUSCO","ANTA","CHINCHAYPUJIO","Mujer","85-+",{"$f":"'Pob x Genero'!#REF!","v":{"$error":"#REF!"}},721]
["080806","CUSCO","CUSCO","ESPINAR","PICHIGUA","Mujer","85-+",{"$f":"'Pob x Genero'!#REF!","v":{"$error":"#REF!"}},764]
["080909","CUSCO","CUSCO","LA CONVENCION","VILCABAMBA","Mujer","85-+",{"$f":"'Pob x Genero'!#REF!","v":{"$error":"#REF!"}},775]
["081301","CUSCO","CUSCO","URUBAMBA","URUBAMBA","Mujer","85-+",{"$f":"'Pob x Genero'!#REF!","v":{"$error":"#REF!"}},812]
["090306","HUANCAVELICA","HUANCAVELICA","ANGARAES","CONGALLA","Mujer","85-+",{"$f":"'Pob x Genero'!#REF!","v":{"$error":"#REF!"}},851]
["090609","HUANCAVELICA","HUANCAVELICA","HUAYTARA","QUITO-ARMA","Mujer","85-+",{"$f":"'Pob x Genero'!#REF!","v":{"$error":"#REF!"}},890]
["090715","HUANCAVELICA","HUANCAVELICA","TAYACAJA","SALCAHUASI","Mujer","85-+",{"$f":"'Pob x Genero'!#REF!","v":{"$error":"#REF!"}},910]
["100205","HUANUCO","HUANUCO","AMBO","HUACAR","Mujer","85-+",{"$f":"'Pob x Genero'!#REF!","v":{"$error":"#REF!"}},938]
["100702","HUANUCO","HUANUCO","MARAÑON","CHOLON","Mujer","85-+",{"$f":"'Pob x Genero'!#REF!","v":{"$error":"#REF!"}},977]
["110202","ICA","ICA","CHINCHA","ALTO LARAN","Mujer","85-+",{"$f":"'Pob x Genero'!#REF!","v":{"$error":"#REF!"}},1020]
["120117","JUNIN","JUNIN","HUANCAYO","HUALHUAS","Mujer","85-+",{"$f":"'Pob x Genero'!#REF!","v":{"$error":"#REF!"}},1059]
["120305","JUNIN","JUNIN","CHANCHAMAYO","SAN RAMON","Mujer","85-+",{"$f":"'Pob x Genero'!#REF!","v":{"$error":"#REF!"}},1095]
["120411","JUNIN","JUNIN","JAUJA","JANJAILLO","Mujer","85-+",{"$f":"'Pob x Genero'!#REF!","v":{"$error":"#REF!"}},1107]
["120703","JUNIN","JUNIN","TARMA","HUARICOLCA","Mujer","85-+",{"$f":"'Pob x Genero'!#REF!","v":{"$error":"#REF!"}},1146]
["130206","LA LIBERTAD","LA LIBERTAD","ASCOPE","RAZURI","Mujer","85-+",{"$f":"'Pob x Genero'!#REF!","v":{"$error":"#REF!"}},1189]
["130304","LA LIBERTAD","LA LIBERTAD","BOLIVAR","LONGOTEA","Mujer","85-+",{"$f":"'Pob x Genero'!#REF!","v":{"$error":"#REF!"}},1195]
["131008","LA LIBERTAD","LA LIBERTAD","SANTIAGO DE CHUCO","SITABAMBA","Mujer","85-+",{"$f":"'Pob x Genero'!#REF!","v":{"$error":"#REF!"}},1248]
["140201","LAMBAYEQUE","LAMBAYEQUE","FERREÑAFE","FERREÑAFE","Mujer","85-+",{"$f":"'Pob x Genero'!#REF!","v":{"$error":"#REF!"}},1276]
["150122","DIRIS CENTRO","LIMA","LIMA","MIRAFLORES","Mujer","85-+",{"$f":"'Pob x Genero'!#REF!","v":{"$error":"#REF!"}},1315]
["150505","LIMA","LIMA","CAÑETE","CHILCA","Mujer","85-+",{"$f":"'Pob x Genero'!#REF!","v":{"$error":"#REF!"}},1358]
["150511","LIMA","LIMA","CAÑETE","PACARAN","Mujer","85-+",{"$f":"'Pob x Genero'!#REF!","v":{"$error":"#REF!"}},1364]
["150711","LIMA","LIMA","HUAROCHIRI","LANGA","Mujer","85-+",{"$f":"'Pob x Genero'!#REF!","v":{"$error":"#REF!"}},1392]
["150712","LIMA","LIMA","HUAROCHIRI","LARAOS","Mujer","85-+",{"$f":"'Pob x Genero'!#REF!","v":{"$error":"#REF!"}},1393]
["150713","LIMA","LIMA","HUAROCHIRI","MARIATANA","Mujer","85-+",{"$f":"'Pob x Genero'!#REF!","v":{"$error":"#REF!"}},1394]
["150714","LIMA","LIMA","HUAROCHIRI","RICARDO PALMA","Mujer","85-+",{"$f":"'Pob x Genero'!#REF!","v":{"$error":"#REF!"}},1395]
["150715","LIMA","LIMA","HUAROCHIRI","SAN ANDRES DE TUPICOCHA","Mujer","85-+",{"$f":"'Pob x Genero'!#REF!","v":{"$error":"#REF!"}},1396]
["150716","LIMA","LIMA","HUAROCHIRI","SAN ANTONIO","Mujer","85-+",{"$f":"'Pob x Genero'!#REF!","v":{"$error":"#REF!"}},1397]
["150717","LIMA","LIMA","HUAROCHIRI","SAN BARTOLOME","Mujer","85-+",{"$f":"'Pob x Genero'!#REF!","v":{"$error":"#REF!"}},1398]
["150718","LIMA","LIMA","HUAROCHIRI","SAN DAMIAN","Mujer","85-+",{"$f":"'Pob x Genero'!#REF!","v":{"$error":"#REF!"}},1399]
["150719","LIMA","LIMA","HUAROCHIRI","SAN JUAN DE IRIS","Mujer","85-+",{"$f":"'Pob x Genero'!#REF!","v":{"$error":"#REF!"}},1400]
["150720","LIMA","LIMA","HUAROCHIRI","SAN JUAN DE TANTARANCHE","Mujer","85-+",{"$f":"'Pob x Genero'!#REF!","v":{"$error":"#REF!"}},1401]
["150721","LIMA","LIMA","HUAROCHIRI","SAN LORENZO DE QUINTI","Mujer","85-+",{"$f":"'Pob x Genero'!#REF!","v":{"$error":"#REF!"}},1402]
["150722","LIMA","LIMA","HUAROCHIRI","SAN MATEO","Mujer","85-+",{"$f":"'Pob x Genero'!#REF!","v":{"$error":"#REF!"}},1403]
["150723","LIMA","LIMA","HUAROCHIRI","SAN MATEO DE OTAO","Mujer","85-+",{"$f":"'Pob x Genero'!#REF!","v":{"$error":"#REF!"}},1404]
["150724","LIMA","LIMA","HUAROCHIRI","SAN PEDRO DE CASTA","Mujer","85-+",{"$f":"'Pob x Genero'!#REF!","v":{"$error":"#REF!"}},1405]
["150725","LIMA","LIMA","HUAROCHIRI","SAN PEDRO DE HUANCAYRE","Mujer","85-+",{"$f":"'Pob x Genero'!#REF!","v":{"$error":"#REF!"}},1406]
["150726","LIMA","LIMA","HUAROCHIRI","SANGALLAYA","Mujer","85-+",{"$f":"'Pob x Genero'!#REF!","v":{"$error":"#REF!"}},1407]
["150727","LIMA","LIMA","HUAROCHIRI","SANTA CRUZ DE COCACHACRA","Mujer","85-+",{"$f":"'Pob x Genero'!#REF!","v":{"$error":"#REF!"}},1408]
["150728","LIMA","LIMA","HUAROCHIRI","SANTA EULALIA","Mujer","85-+",{"$f":"'Pob x Genero'!#REF!","v":{"$error":"#REF!"}},1409]
["150729","LIMA","LIMA","HUAROCHIRI","SANTIAGO DE ANCHUCAYA","Mujer",{"$f":"G67595","v":"85-+"},{"$f":"'Pob x Genero'!#REF!","v":{"$error":"#REF!"}},1410]
["150730","LIMA","LIMA","HUAROCHIRI","SANTIAGO DE TUNA","Mujer","85-+",{"$f":"'Pob x Genero'!#REF!","v":{"$error":"#REF!"}},1411]
["150731","LIMA","LIMA","HUAROCHIRI","SANTO DOMINGO DE LOS OLLEROS","Mujer","85-+",{"$f":"'Pob x Genero'!#REF!","v":{"$error":"#REF!"}},1412]
["150732","LIMA","LIMA","HUAROCHIRI","SURCO","Mujer","85-+",{"$f":"'Pob x Genero'!#REF!","v":{"$error":"#REF!"}},1413]
["150801","LIMA","LIMA","HUAURA","HUACHO","Mujer","85-+",{"$f":"'Pob x Genero'!#REF!","v":{"$error":"#REF!"}},1414]
["150802","LIMA","LIMA","HUAURA","AMBAR","Mujer","85-+",{"$f":"'Pob x Genero'!#REF!","v":{"$error":"#REF!"}},1415]
["150803","LIMA","LIMA","HUAURA","CALETA DE CARQUIN","Mujer","85-+",{"$f":"'Pob x Genero'!#REF!","v":{"$error":"#REF!"}},1416]
["150804","LIMA","LIMA","HUAURA","CHECRAS","Mujer","85-+",{"$f":"'Pob x Genero'!#REF!","v":{"$error":"#REF!"}},1417]
["150805","LIMA","LIMA","HUAURA","HUALMAY","Mujer","85-+",{"$f":"'Pob x Genero'!#REF!","v":{"$error":"#REF!"}},1418]
["150806","LIMA","LIMA","HUAURA","HUAURA","Mujer","85-+",{"$f":"'Pob x Genero'!#REF!","v":{"$error":"#REF!"}},1419]
["150807","LIMA","LIMA","HUAURA","LEONCIO PRADO","Mujer","85-+",{"$f":"'Pob x Genero'!#REF!","v":{"$error":"#REF!"}},1420]
["150808","LIMA","LIMA","HUAURA","PACCHO","Mujer","85-+",{"$f":"'Pob x Genero'!#REF!","v":{"$error":"#REF!"}},1421]
["150809","LIMA","LIMA","HUAURA","SANTA LEONOR","Mujer","85-+",{"$f":"'Pob x Genero'!#REF!","v":{"$error":"#REF!"}},1422]
["150810","LIMA","LIMA","HUAURA","SANTA MARIA","Mujer","85-+",{"$f":"'Pob x Genero'!#REF!","v":{"$error":"#REF!"}},1423]
["150811","LIMA","LIMA","HUAURA","SAYAN","Mujer","85-+",{"$f":"'Pob x Genero'!#REF!","v":{"$error":"#REF!"}},1424]
["150812","LIMA","LIMA","HUAURA","VEGUETA","Mujer","85-+",{"$f":"'Pob x Genero'!#REF!","v":{"$error":"#REF!"}},1425]
["150901","LIMA","LIMA","OYON","OYON","Mujer","85-+",{"$f":"'Pob x Genero'!#REF!","v":{"$error":"#REF!"}},1426]
["150902","LIMA","LIMA","OYON","ANDAJES","Mujer","85-+",{"$f":"'Pob x Genero'!#REF!","v":{"$error":"#REF!"}},1427]
["150903","LIMA","LIMA","OYON","CAUJUL","Mujer","85-+",{"$f":"'Pob x Genero'!#REF!","v":{"$error":"#REF!"}},1428]
["150904","LIMA","LIMA","OYON","COCHAMARCA","Mujer","85-+",{"$f":"'Pob x Genero'!#REF!","v":{"$error":"#REF!"}},1429]
["150905","LIMA","LIMA","OYON","NAVAN","Mujer","85-+",{"$f":"'Pob x Genero'!#REF!","v":{"$error":"#REF!"}},1430]
["150906","LIMA","LIMA","OYON","PACHANGARA","Mujer","85-+",{"$f":"'Pob x Genero'!#REF!","v":{"$error":"#REF!"}},1431]
["151001","LIMA","LIMA","YAUYOS","YAUYOS","Mujer","85-+",{"$f":"'Pob x Genero'!#REF!","v":{"$error":"#REF!"}},1432]
["151002","LIMA","LIMA","YAUYOS","ALIS","Mujer","85-+",{"$f":"'Pob x Genero'!#REF!","v":{"$error":"#REF!"}},1433]
["151003","LIMA","LIMA","YAUYOS","AYAUCA","Mujer","85-+",{"$f":"'Pob x Genero'!#REF!","v":{"$error":"#REF!"}},1434]
["151004","LIMA","LIMA","YAUYOS","AYAVIRI","Mujer","85-+",{"$f":"'Pob x Genero'!#REF!","v":{"$error":"#REF!"}},1435]
["151005","LIMA","LIMA","YAUYOS","AZANGARO","Mujer","85-+",{"$f":"'Pob x Genero'!#REF!","v":{"$error":"#REF!"}},1436]
["151006","LIMA","LIMA","YAUYOS","CACRA","Mujer","85-+",{"$f":"'Pob x Genero'!#REF!","v":{"$error":"#REF!"}},1437]
["151007","LIMA","LIMA","YAUYOS","CARANIA","Mujer","85-+",{"$f":"'Pob x Genero'!#REF!","v":{"$error":"#REF!"}},1438]
["151008","LIMA","LIMA","YAUYOS","CATAHUASI","Mujer","85-+",{"$f":"'Pob x Genero'!#REF!","v":{"$error":"#REF!"}},1439]
["151009","LIMA","LIMA","YAUYOS","CHOCOS","Mujer","85-+",{"$f":"'Pob x Genero'!#REF!","v":{"$error":"#REF!"}},1440]
["151010","LIMA","LIMA","YAUYOS","COCHAS","Mujer","85-+",{"$f":"'Pob x Genero'!#REF!","v":{"$error":"#REF!"}},1441]
["151011","LIMA","LIMA","YAUYOS","COLONIA","Mujer","85-+",{"$f":"'Pob x Genero'!#REF!","v":{"$error":"#REF!"}},1442]
["151012","LIMA","LIMA","YAUYOS","HONGOS","Mujer","85-+",{"$f":"'Pob x Genero'!#REF!","v":{"$error":"#REF!"}},1443]
["151013","LIMA","LIMA","YAUYOS","HUAMPARA","Mujer","85-+",{"$f":"'Pob x Genero'!#REF!","v":{"$error":"#REF!"}},1444]
["151014","LIMA","LIMA","YAUYOS","HUANCAYA","Mujer","85-+",{"$f":"'Pob x Genero'!#REF!","v":{"$error":"#REF!"}},1445]
["151015","LIMA","LIMA","YAUYOS","HUANGASCAR","Mujer","85-+",{"$f":"'Pob x Genero'!#REF!","v":{"$error":"#REF!"}},1446]
["151016","LIMA","LIMA","YAUYOS","HUANTAN","Mujer","85-+",{"$f":"'Pob x Genero'!#REF!","v":{"$error":"#REF!"}},1447]
["151017","LIMA","LIMA","YAUYOS","HUAÑEC","Mujer","85-+",{"$f":"'Pob x Genero'!#REF!","v":{"$error":"#REF!"}},1448]
["151018","LIMA","LIMA","YAUYOS","LARAOS","Mujer","85-+",{"$f":"'Pob x Genero'!#REF!","v":{"$error":"#REF!"}},1449]
["151019","LIMA","LIMA","YAUYOS","LINCHA","Mujer","85-+",{"$f":"'Pob x Genero'!#REF!","v":{"$error":"#REF!"}},1450]
["151020","LIMA","LIMA","YAUYOS","MADEAN","Mujer","85-+",{"$f":"'Pob x Genero'!#REF!","v":{"$error":"#REF!"}},1451]
["151021","LIMA","LIMA","YAUYOS","MIRAFLORES","Mujer","85-+",{"$f":"'Pob x Genero'!#REF!","v":{"$error":"#REF!"}},1452]
["151022","LIMA","LIMA","YAUYOS","OMAS","Mujer","85-+",{"$f":"'Pob x Genero'!#REF!","v":{"$error":"#REF!"}},1453]
["151023","LIMA","LIMA","YAUYOS","PUTINZA","Mujer","85-+",{"$f":"'Pob x Genero'!#REF!","v":{"$error":"#REF!"}},1454]
["151024","LIMA","LIMA","YAUYOS","QUINCHES","Mujer","85-+",{"$f":"'Pob x Genero'!#REF!","v":{"$error":"#REF!"}},1455]
["151025","LIMA","LIMA","YAUYOS","QUINOCAY","Mujer","85-+",{"$f":"'Pob x Genero'!#REF!","v":{"$error":"#REF!"}},1456]
["151026","LIMA","LIMA","YAUYOS","SAN JOAQUIN","Mujer","85-+",{"$f":"'Pob x Genero'!#REF!","v":{"$error":"#REF!"}},1457]
["151027","LIMA","LIMA","YAUYOS","SAN PEDRO DE PILAS","Mujer","85-+",{"$f":"'Pob x Genero'!#REF!","v":{"$error":"#REF!"}},1458]
["151028","LIMA","LIMA","YAUYOS","TANTA","Mujer","85-+",{"$f":"'Pob x Genero'!#REF!","v":{"$error":"#REF!"}},1459]
["151029","LIMA","LIMA","YAUYOS","TAURIPAMPA","Mujer","85-+",{"$f":"'Pob x Genero'!#REF!","v":{"$error":"#REF!"}},1460]
["151030","LIMA","LIMA","YAUYOS","TOMAS","Mujer","85-+",{"$f":"'Pob x Genero'!#REF!","v":{"$error":"#REF!"}},1461]
["151031","LIMA","LIMA","YAUYOS","TUPE","Mujer","85-+",{"$f":"'Pob x Genero'!#REF!","v":{"$error":"#REF!"}},1462]
["151032","LIMA","LIMA","YAUYOS","VIÑAC","Mujer","85-+",{"$f":"'Pob x Genero'!#REF!","v":{"$error":"#REF!"}},1463]
["151033","LIMA","LIMA","YAUYOS","VITIS","Mujer","85-+",{"$f":"'Pob x Genero'!#REF!","v":{"$error":"#REF!"}},1464]
["160101","LORETO","LORETO","MAYNAS","IQUITOS","Mujer","85-+",{"$f":"'Pob x Genero'!#REF!","v":{"$error":"#REF!"}},1465]
["160102","LORETO","LORETO","MAYNAS","ALTO NANAY","Mujer","85-+",{"$f":"'Pob x Genero'!#REF!","v":{"$error":"#REF!"}},1466]
["160103","LORETO","LORETO","MAYNAS","FERNANDO LORES","Mujer","85-+",{"$f":"'Pob x Genero'!#REF!","v":{"$error":"#REF!"}},1467]
["160104","LORETO","LORETO","MAYNAS","INDIANA","Mujer","85-+",{"$f":"'Pob x Genero'!#REF!","v":{"$error":"#REF!"}},1468]
["160105","LORETO","LORETO","MAYNAS","LAS AMAZONAS","Mujer","85-+",{"$f":"'Pob x Genero'!#REF!","v":{"$error":"#REF!"}},1469]
["160106","LORETO","LORETO","MAYNAS","MAZAN","Mujer","85-+",{"$f":"'Pob x Genero'!#REF!","v":{"$error":"#REF!"}},1470]
["160107","LORETO","LORETO","MAYNAS","NAPO","Mujer","85-+",{"$f":"'Pob x Genero'!#REF!","v":{"$error":"#REF!"}},1471]
["160108","LORETO","LORETO","MAYNAS","PUNCHANA","Mujer","85-+",{"$f":"'Pob x Genero'!#REF!","v":{"$error":"#REF!"}},1472]
["160110","LORETO","LORETO","MAYNAS","TORRES CAUSANA","Mujer","85-+",{"$f":"'Pob x Genero'!#REF!","v":{"$error":"#REF!"}},1473]
["160112","LORETO","LORETO","MAYNAS","BELEN","Mujer",{"$f":"G67659","v":"85-+"},{"$f":"'Pob x Genero'!#REF!","v":{"$error":"#REF!"}},1474]
["160113","LORETO","LORETO","MAYNAS","SAN JUAN BAUTISTA","Mujer","85-+",{"$f":"'Pob x Genero'!#REF!","v":{"$error":"#REF!"}},1475]
["160201","LORETO","LORETO","ALTO AMAZONAS","YURIMAGUAS","Mujer","85-+",{"$f":"'Pob x Genero'!#REF!","v":{"$error":"#REF!"}},1476]
["160202","LORETO","LORETO","ALTO AMAZONAS","BALSAPUERTO","Mujer","85-+",{"$f":"'Pob x Genero'!#REF!","v":{"$error":"#REF!"}},1477]
["160205","LORETO","LORETO","ALTO AMAZONAS","JEBEROS","Mujer","85-+",{"$f":"'Pob x Genero'!#REF!","v":{"$error":"#REF!"}},1478]
["160206","LORETO","LORETO","ALTO AMAZONAS","LAGUNAS","Mujer","85-+",{"$f":"'Pob x Genero'!#REF!","v":{"$error":"#REF!"}},1479]
["160210","LORETO","LORETO","ALTO AMAZONAS","SANTA CRUZ","Mujer","85-+",{"$f":"'Pob x Genero'!#REF!","v":{"$error":"#REF!"}},1480]
["160211","LORETO","LORETO","ALTO AMAZONAS","TENIENTE CESAR LOPEZ ROJAS","Mujer","85-+",{"$f":"'Pob x Genero'!#REF!","v":{"$error":"#REF!"}},1481]
["160301","LORETO","LORETO","LORETO","NAUTA","Mujer","85-+",{"$f":"'Pob x Genero'!#REF!","v":{"$error":"#REF!"}},1482]
["160302","LORETO","LORETO","LORETO","PARINARI","Mujer","85-+",{"$f":"'Pob x Genero'!#REF!","v":{"$error":"#REF!"}},1483]
["160303","LORETO","LORETO","LORETO","TIGRE","Mujer","85-+",{"$f":"'Pob x Genero'!#REF!","v":{"$error":"#REF!"}},1484]
["160304","LORETO","LORETO","LORETO","TROMPETEROS","Mujer","85-+",{"$f":"'Pob x Genero'!#REF!","v":{"$error":"#REF!"}},1485]
["160305","LORETO","LORETO","LORETO","URARINAS","Mujer","85-+",{"$f":"'Pob x Genero'!#REF!","v":{"$error":"#REF!"}},1486]
["160401","LORETO","LORETO","MARISCAL RAMON CASTILLA","RAMON CASTILLA","Mujer","85-+",{"$f":"'Pob x Genero'!#REF!","v":{"$error":"#REF!"}},1487]
["160402","LORETO","LORETO","MARISCAL RAMON CASTILLA","PEBAS","Mujer","85-+",{"$f":"'Pob x Genero'!#REF!","v":{"$error":"#REF!"}},1488]
["160403","LORETO","LORETO","MARISCAL RAMON CASTILLA","YAVARI","Mujer","85-+",{"$f":"'Pob x Genero'!#REF!","v":{"$error":"#REF!"}},1489]
["160404","LORETO","LORETO","MARISCAL RAMON CASTILLA","SAN PABLO","Mujer","85-+",{"$f":"'Pob x Genero'!#REF!","v":{"$error":"#REF!"}},1490]
["160501","LORETO","LORETO","REQUENA","REQUENA","Mujer","85-+",{"$f":"'Pob x Genero'!#REF!","v":{"$error":"#REF!"}},1491]
["160502","LORETO","LORETO","REQUENA","ALTO TAPICHE","Mujer","85-+",{"$f":"'Pob x Genero'!#REF!","v":{"$error":"#REF!"}},1492]
["160503","LORETO","LORETO","REQUENA","CAPELO","Mujer","85-+",{"$f":"'Pob x Genero'!#REF!","v":{"$error":"#REF!"}},1493]
["160504","LORETO","LORETO","REQUENA","EMILIO SAN MARTIN","Mujer","85-+",{"$f":"'Pob x Genero'!#REF!","v":{"$error":"#REF!"}},1494]
["160505","LORETO","LORETO","REQUENA","MAQUIA","Mujer","85-+",{"$f":"'Pob x Genero'!#REF!","v":{"$error":"#REF!"}},1495]
["160506","LORETO","LORETO","REQUENA","PUINAHUA","Mujer","85-+",{"$f":"'Pob x Genero'!#REF!","v":{"$error":"#REF!"}},1496]
["160507","LORETO","LORETO","REQUENA","SAQUENA","Mujer","85-+",{"$f":"'Pob x Genero'!#REF!","v":{"$error":"#REF!"}},1497]
["160508","LORETO","LORETO","REQUENA","SOPLIN","Mujer","85-+",{"$f":"'Pob x Genero'!#REF!","v":{"$error":"#REF!"}},1498]
["160509","LORETO","LORETO","REQUENA","TAPICHE","Mujer","85-+",{"$f":"'Pob x Genero'!#REF!","v":{"$error":"#REF!"}},1499]
["160510","LORETO","LORETO","REQUENA","JENARO HERRERA","Mujer","85-+",{"$f":"'Pob x Genero'!#REF!","v":{"$error":"#REF!"}},1500]
["160511","LORETO","LORETO","REQUENA","YAQUERANA","Mujer","85-+",{"$f":"'Pob x Genero'!#REF!","v":{"$error":"#REF!"}},1501]
["160601","LORETO","LORETO","UCAYALI","CONTAMANA","Mujer","85-+",{"$f":"'Pob x Genero'!#REF!","v":{"$error":"#REF!"}},1502]
["160602","LORETO","LORETO","UCAYALI","INAHUAYA","Mujer","85-+",{"$f":"'Pob x Genero'!#REF!","v":{"$error":"#REF!"}},1503]
["160603","LORETO","LORETO","UCAYALI","PADRE MARQUEZ","Mujer","85-+",{"$f":"'Pob x Genero'!#REF!","v":{"$error":"#REF!"}},1504]
["160604","LORETO","LORETO","UCAYALI","PAMPA HERMOSA","Mujer","85-+",{"$f":"'Pob x Genero'!#REF!","v":{"$error":"#REF!"}},1505]
["160605","LORETO","LORETO","UCAYALI","SARAYACU","Mujer","85-+",{"$f":"'Pob x Genero'!#REF!","v":{"$error":"#REF!"}},1506]
["160606","LORETO","LORETO","UCAYALI","VARGAS GUERRA","Mujer","85-+",{"$f":"'Pob x Genero'!#REF!","v":{"$error":"#REF!"}},1507]
["160701","LORETO","LORETO","DATEM DEL MARAÑON","BARRANCA","Mujer","85-+",{"$f":"'Pob x Genero'!#REF!","v":{"$error":"#REF!"}},1508]
["160702","LORETO","LORETO","DATEM DEL MARAÑON","CAHUAPANAS","Mujer","85-+",{"$f":"'Pob x Genero'!#REF!","v":{"$error":"#REF!"}},1509]
["160703","LORETO","LORETO","DATEM DEL MARAÑON","MANSERICHE","Mujer","85-+",{"$f":"'Pob x Genero'!#REF!","v":{"$error":"#REF!"}},1510]
["160704","LORETO","LORETO","DATEM DEL MARAÑON","MORONA","Mujer","85-+",{"$f":"'Pob x Genero'!#REF!","v":{"$error":"#REF!"}},1511]
["160705","LORETO","LORETO","DATEM DEL MARAÑON","PASTAZA","Mujer","85-+",{"$f":"'Pob x Genero'!#REF!","v":{"$error":"#REF!"}},1512]
["160706","LORETO","LORETO","DATEM DEL MARAÑON","ANDOAS","Mujer","85-+",{"$f":"'Pob x Genero'!#REF!","v":{"$error":"#REF!"}},1513]
["160801","LORETO","LORETO","PUTUMAYO","PUTUMAYO","Mujer","85-+",{"$f":"'Pob x Genero'!#REF!","v":{"$error":"#REF!"}},1514]
["160802","LORETO","LORETO","PUTUMAYO","ROSA PANDURO","Mujer","85-+",{"$f":"'Pob x Genero'!#REF!","v":{"$error":"#REF!"}},1515]
["160803","LORETO","LORETO","PUTUMAYO","TENIENTE MANUEL CLAVERO","Mujer","85-+",{"$f":"'Pob x Genero'!#REF!","v":{"$error":"#REF!"}},1516]
["160804","LORETO","LORETO","PUTUMAYO","YAGUAS","Mujer","85-+",{"$f":"'Pob x Genero'!#REF!","v":{"$error":"#REF!"}},1517]
["170101","MADRE DE DIOS","MADRE DE DIOS","TAMBOPATA","TAMBOPATA","Mujer","85-+",{"$f":"'Pob x Genero'!#REF!","v":{"$error":"#REF!"}},1518]
["170102","MADRE DE DIOS","MADRE DE DIOS","TAMBOPATA","INAMBARI","Mujer","85-+",{"$f":"'Pob x Genero'!#REF!","v":{"$error":"#REF!"}},1519]
["170103","MADRE DE DIOS","MADRE DE DIOS","TAMBOPATA","LAS PIEDRAS","Mujer","85-+",{"$f":"'Pob x Genero'!#REF!","v":{"$error":"#REF!"}},1520]
["170104","MADRE DE DIOS","MADRE DE DIOS","TAMBOPATA","LABERINTO","Mujer","85-+",{"$f":"'Pob x Genero'!#REF!","v":{"$error":"#REF!"}},1521]
["170201","MADRE DE DIOS","MADRE DE DIOS","MANU","MANU","Mujer","85-+",{"$f":"'Pob x Genero'!#REF!","v":{"$error":"#REF!"}},1522]
["170202","MADRE DE DIOS","MADRE DE DIOS","MANU","FITZCARRALD","Mujer","85-+",{"$f":"'Pob x Genero'!#REF!","v":{"$error":"#REF!"}},1523]
["170203","MADRE DE DIOS","MADRE DE DIOS","MANU","MADRE DE DIOS","Mujer","85-+",{"$f":"'Pob x Genero'!#REF!","v":{"$error":"#REF!"}},1524]
["170204","MADRE DE DIOS","MADRE DE DIOS","MANU","HUEPETUHE","Mujer","85-+",{"$f":"'Pob x Genero'!#REF!","v":{"$error":"#REF!"}},1525]
["170301","MADRE DE DIOS","MADRE DE DIOS","TAHUAMANU","IÑAPARI","Mujer","85-+",{"$f":"'Pob x Genero'!#REF!","v":{"$error":"#REF!"}},1526]
["170302","MADRE DE DIOS","MADRE DE DIOS","TAHUAMANU","IBERIA","Mujer","85-+",{"$f":"'Pob x Genero'!#REF!","v":{"$error":"#REF!"}},1527]
["170303","MADRE DE DIOS","MADRE DE DIOS","TAHUAMANU","TAHUAMANU","Mujer","85-+",{"$f":"'Pob x Genero'!#REF!","v":{"$error":"#REF!"}},1528]
["180101","MOQUEGUA","MOQUEGUA","MARISCAL NIETO","MOQUEGUA","Mujer","85-+",{"$f":"'Pob x Genero'!#REF!","v":{"$error":"#REF!"}},1529]
["180102","MOQUEGUA","MOQUEGUA","MARISCAL NIETO","CARUMAS","Mujer","85-+",{"$f":"'Pob x Genero'!#REF!","v":{"$error":"#REF!"}},1530]
["180103","MOQUEGUA","MOQUEGUA","MARISCAL NIETO","CUCHUMBAYA","Mujer","85-+",{"$f":"'Pob x Genero'!#REF!","v":{"$error":"#REF!"}},1531]
["180104","MOQUEGUA","MOQUEGUA","MARISCAL NIETO","SAMEGUA","Mujer","85-+",{"$f":"'Pob x Genero'!#REF!","v":{"$error":"#REF!"}},1532]
["180105","MOQUEGUA","MOQUEGUA","MARISCAL NIETO","SAN CRISTOBAL","Mujer","85-+",{"$f":"'Pob x Genero'!#REF!","v":{"$error":"#REF!"}},1533]
["180106","MOQUEGUA","MOQUEGUA","MARISCAL NIETO","TORATA","Mujer","85-+",{"$f":"'Pob x Genero'!#REF!","v":{"$error":"#REF!"}},1534]
["180107","MOQUEGUA","MOQUEGUA","MARISCAL NIETO","SAN ANTONIO","Mujer","85-+",{"$f":"'Pob x Genero'!#REF!","v":{"$error":"#REF!"}},1535]
["180201","MOQUEGUA","MOQUEGUA","GENERAL SANCHEZ CERRO","OMATE","Mujer","85-+",{"$f":"'Pob x Genero'!#REF!","v":{"$error":"#REF!"}},1536]
["180202","MOQUEGUA","MOQUEGUA","GENERAL SANCHEZ CERRO","CHOJATA","Mujer","85-+",{"$f":"'Pob x Genero'!#REF!","v":{"$error":"#REF!"}},1537]
["180203","MOQUEGUA","MOQUEGUA","GENERAL SANCHEZ CERRO","COALAQUE","Mujer",{"$f":"G67723","v":"85-+"},{"$f":"'Pob x Genero'!#REF!","v":{"$error":"#REF!"}},1538]
["180204","MOQUEGUA","MOQUEGUA","GENERAL SANCHEZ CERRO","ICHUÑA","Mujer","85-+",{"$f":"'Pob x Genero'!#REF!","v":{"$error":"#REF!"}},1539]
["180205","MOQUEGUA","MOQUEGUA","GENERAL SANCHEZ CERRO","LA CAPILLA","Mujer","85-+",{"$f":"'Pob x Genero'!#REF!","v":{"$error":"#REF!"}},1540]
["180206","MOQUEGUA","MOQUEGUA","GENERAL SANCHEZ CERRO","LLOQUE","Mujer","85-+",{"$f":"'Pob x Genero'!#REF!","v":{"$error":"#REF!"}},1541]
["180207","MOQUEGUA","MOQUEGUA","GENERAL SANCHEZ CERRO","MATALAQUE","Mujer","85-+",{"$f":"'Pob x Genero'!#REF!","v":{"$error":"#REF!"}},1542]
["180208","MOQUEGUA","MOQUEGUA","GENERAL SANCHEZ CERRO","PUQUINA","Mujer","85-+",{"$f":"'Pob x Genero'!#REF!","v":{"$error":"#REF!"}},1543]
["180209","MOQUEGUA","MOQUEGUA","GENERAL SANCHEZ CERRO","QUINISTAQUILLAS","Mujer","85-+",{"$f":"'Pob x Genero'!#REF!","v":{"$error":"#REF!"}},1544]
["180210","MOQUEGUA","MOQUEGUA","GENERAL SANCHEZ CERRO","UBINAS","Mujer","85-+",{"$f":"'Pob x Genero'!#REF!","v":{"$error":"#REF!"}},1545]
["180211","MOQUEGUA","MOQUEGUA","GENERAL SANCHEZ CERRO","YUNGA","Mujer","85-+",{"$f":"'Pob x Genero'!#REF!","v":{"$error":"#REF!"}},1546]
["180301","MOQUEGUA","MOQUEGUA","ILO","ILO","Mujer","85-+",{"$f":"'Pob x Genero'!#REF!","v":{"$error":"#REF!"}},1547]
["180302","MOQUEGUA","MOQUEGUA","ILO","EL ALGARROBAL","Mujer","85-+",{"$f":"'Pob x Genero'!#REF!","v":{"$error":"#REF!"}},1548]
["180303","MOQUEGUA","MOQUEGUA","ILO","PACOCHA","Mujer","85-+",{"$f":"'Pob x Genero'!#REF!","v":{"$error":"#REF!"}},1549]
["190101","PASCO","PASCO","PASCO","CHAUPIMARCA","Mujer","85-+",{"$f":"'Pob x Genero'!#REF!","v":{"$error":"#REF!"}},1550]
["190102","PASCO","PASCO","PASCO","HUACHON","Mujer","85-+",{"$f":"'Pob x Genero'!#REF!","v":{"$error":"#REF!"}},1551]
["190103","PASCO","PASCO","PASCO","HUARIACA","Mujer","85-+",{"$f":"'Pob x Genero'!#REF!","v":{"$error":"#REF!"}},1552]
["190104","PASCO","PASCO","PASCO","HUAYLLAY","Mujer","85-+",{"$f":"'Pob x Genero'!#REF!","v":{"$error":"#REF!"}},1553]
["190105","PASCO","PASCO","PASCO","NINACACA","Mujer","85-+",{"$f":"'Pob x Genero'!#REF!","v":{"$error":"#REF!"}},1554]
["190106","PASCO","PASCO","PASCO","PALLANCHACRA","Mujer","85-+",{"$f":"'Pob x Genero'!#REF!","v":{"$error":"#REF!"}},1555]
["190107","PASCO","PASCO","PASCO","PAUCARTAMBO","Mujer","85-+",{"$f":"'Pob x Genero'!#REF!","v":{"$error":"#REF!"}},1556]
["190108","PASCO","PASCO","PASCO","SAN FRANCISCO DE ASIS DE YARUSYACAN","Mujer","85-+",{"$f":"'Pob x Genero'!#REF!","v":{"$error":"#REF!"}},1557]
["190109","PASCO","PASCO","PASCO","SIMON BOLIVAR","Mujer","85-+",{"$f":"'Pob x Genero'!#REF!","v":{"$error":"#REF!"}},1558]
["190110","PASCO","PASCO","PASCO","TICLACAYAN","Mujer","85-+",{"$f":"'Pob x Genero'!#REF!","v":{"$error":"#REF!"}},1559]
["190111","PASCO","PASCO","PASCO","TINYAHUARCO","Mujer","85-+",{"$f":"'Pob x Genero'!#REF!","v":{"$error":"#REF!"}},1560]
["190112","PASCO","PASCO","PASCO","VICCO","Mujer","85-+",{"$f":"'Pob x Genero'!#REF!","v":{"$error":"#REF!"}},1561]
["190113","PASCO","PASCO","PASCO","YANACANCHA","Mujer","85-+",{"$f":"'Pob x Genero'!#REF!","v":{"$error":"#REF!"}},1562]
["190201","PASCO","PASCO","DANIEL ALCIDES CARRION","YANAHUANCA","Mujer","85-+",{"$f":"'Pob x Genero'!#REF!","v":{"$error":"#REF!"}},1563]
["190202","PASCO","PASCO","DANIEL ALCIDES CARRION","CHACAYAN","Mujer","85-+",{"$f":"'Pob x Genero'!#REF!","v":{"$error":"#REF!"}},1564]
["190203","PASCO","PASCO","DANIEL ALCIDES CARRION","GOYLLARISQUIZGA","Mujer","85-+",{"$f":"'Pob x Genero'!#REF!","v":{"$error":"#REF!"}},1565]
["190204","PASCO","PASCO","DANIEL ALCIDES CARRION","PAUCAR","Mujer","85-+",{"$f":"'Pob x Genero'!#REF!","v":{"$error":"#REF!"}},1566]
["190205","PASCO","PASCO","DANIEL ALCIDES CARRION","SAN PEDRO DE PILLAO","Mujer","85-+",{"$f":"'Pob x Genero'!#REF!","v":{"$error":"#REF!"}},1567]
["190206","PASCO","PASCO","DANIEL ALCIDES CARRION","SANTA ANA DE TUSI","Mujer","85-+",{"$f":"'Pob x Genero'!#REF!","v":{"$error":"#REF!"}},1568]
["190207","PASCO","PASCO","DANIEL ALCIDES CARRION","TAPUC","Mujer","85-+",{"$f":"'Pob x Genero'!#REF!","v":{"$error":"#REF!"}},1569]
["190208","PASCO","PASCO","DANIEL ALCIDES CARRION","VILCABAMBA","Mujer","85-+",{"$f":"'Pob x Genero'!#REF!","v":{"$error":"#REF!"}},1570]
["190301","PASCO","PASCO","OXAPAMPA","OXAPAMPA","Mujer","85-+",{"$f":"'Pob x Genero'!#REF!","v":{"$error":"#REF!"}},1571]
["190302","PASCO","PASCO","OXAPAMPA","CHONTABAMBA","Mujer","85-+",{"$f":"'Pob x Genero'!#REF!","v":{"$error":"#REF!"}},1572]
["190303","PASCO","PASCO","OXAPAMPA","HUANCABAMBA","Mujer","85-+",{"$f":"'Pob x Genero'!#REF!","v":{"$error":"#REF!"}},1573]
["190304","PASCO","PASCO","OXAPAMPA","PALCAZU","Mujer","85-+",{"$f":"'Pob x Genero'!#REF!","v":{"$error":"#REF!"}},1574]
["190305","PASCO","PASCO","OXAPAMPA","POZUZO","Mujer","85-+",{"$f":"'Pob x Genero'!#REF!","v":{"$error":"#REF!"}},1575]
["190306","PASCO","PASCO","OXAPAMPA","PUERTO BERMUDEZ","Mujer","85-+",{"$f":"'Pob x Genero'!#REF!","v":{"$error":"#REF!"}},1576]
["190307","PASCO","PASCO","OXAPAMPA","VILLA RICA","Mujer","85-+",{"$f":"'Pob x Genero'!#REF!","v":{"$error":"#REF!"}},1577]
["190308","PASCO","PASCO","OXAPAMPA","CONSTITUCIÓN","Mujer","85-+",{"$f":"'Pob x Genero'!#REF!","v":{"$error":"#REF!"}},1578]
["200101","PIURA","PIURA","PIURA","PIURA","Mujer","85-+",{"$f":"'Pob x Genero'!#REF!","v":{"$error":"#REF!"}},1579]
["200104","PIURA","PIURA","PIURA","CASTILLA","Mujer","85-+",{"$f":"'Pob x Genero'!#REF!","v":{"$error":"#REF!"}},1580]
["200105","PIURA","PIURA","PIURA","CATACAOS","Mujer","85-+",{"$f":"'Pob x Genero'!#REF!","v":{"$error":"#REF!"}},1581]
["200107","PIURA","PIURA","PIURA","CURA MORI","Mujer","85-+",{"$f":"'Pob x Genero'!#REF!","v":{"$error":"#REF!"}},1582]
["200108","PIURA","PIURA","PIURA","EL TALLAN","Mujer","85-+",{"$f":"'Pob x Genero'!#REF!","v":{"$error":"#REF!"}},1583]
["200109","PIURA","PIURA","PIURA","LA ARENA","Mujer","85-+",{"$f":"'Pob x Genero'!#REF!","v":{"$error":"#REF!"}},1584]
["200110","PIURA","PIURA","PIURA","LA UNION","Mujer","85-+",{"$f":"'Pob x Genero'!#REF!","v":{"$error":"#REF!"}},1585]
["200111","PIURA","PIURA","PIURA","LAS LOMAS","Mujer","85-+",{"$f":"'Pob x Genero'!#REF!","v":{"$error":"#REF!"}},1586]
["200114","PIURA","PIURA","PIURA","TAMBO GRANDE","Mujer","85-+",{"$f":"'Pob x Genero'!#REF!","v":{"$error":"#REF!"}},1587]
["200115","PIURA","PIURA","PIURA","VEINTISEIS DE OCTUBRE","Mujer","85-+",{"$f":"'Pob x Genero'!#REF!","v":{"$error":"#REF!"}},1588]
["200201","PIURA","PIURA","AYABACA","AYABACA","Mujer","85-+",{"$f":"'Pob x Genero'!#REF!","v":{"$error":"#REF!"}},1589]
["200202","PIURA","PIURA","AYABACA","FRIAS","Mujer","85-+",{"$f":"'Pob x Genero'!#REF!","v":{"$error":"#REF!"}},1590]
["200203","PIURA","PIURA","AYABACA","JILILI","Mujer","85-+",{"$f":"'Pob x Genero'!#REF!","v":{"$error":"#REF!"}},1591]
["200204","PIURA","PIURA","AYABACA","LAGUNAS","Mujer","85-+",{"$f":"'Pob x Genero'!#REF!","v":{"$error":"#REF!"}},1592]
["200205","PIURA","PIURA","AYABACA","MONTERO","Mujer","85-+",{"$f":"'Pob x Genero'!#REF!","v":{"$error":"#REF!"}},1593]
["200206","PIURA","PIURA","AYABACA","PACAIPAMPA","Mujer","85-+",{"$f":"'Pob x Genero'!#REF!","v":{"$error":"#REF!"}},1594]
["200207","PIURA","PIURA","AYABACA","PAIMAS","Mujer","85-+",{"$f":"'Pob x Genero'!#REF!","v":{"$error":"#REF!"}},1595]
["200208","PIURA","PIURA","AYABACA","SAPILLICA","Mujer","85-+",{"$f":"'Pob x Genero'!#REF!","v":{"$error":"#REF!"}},1596]
["200209","PIURA","PIURA","AYABACA","SICCHEZ","Mujer","85-+",{"$f":"'Pob x Genero'!#REF!","v":{"$error":"#REF!"}},1597]
["200210","PIURA","PIURA","AYABACA","SUYO","Mujer","85-+",{"$f":"'Pob x Genero'!#REF!","v":{"$error":"#REF!"}},1598]
["200301","PIURA","PIURA","HUANCABAMBA","HUANCABAMBA","Mujer","85-+",{"$f":"'Pob x Genero'!#REF!","v":{"$error":"#REF!"}},1599]
["200302","PIURA","PIURA","HUANCABAMBA","CANCHAQUE","Mujer","85-+",{"$f":"'Pob x Genero'!#REF!","v":{"$error":"#REF!"}},1600]
["200303","PIURA","PIURA","HUANCABAMBA","EL CARMEN DE LA FRONTERA","Mujer","85-+",{"$f":"'Pob x Genero'!#REF!","v":{"$error":"#REF!"}},1601]
["200304","PIURA","PIURA","HUANCABAMBA","HUARMACA","Mujer",{"$f":"G67787","v":"85-+"},{"$f":"'Pob x Genero'!#REF!","v":{"$error":"#REF!"}},1602]
["200305","PIURA","PIURA","HUANCABAMBA","LALAQUIZ","Mujer","85-+",{"$f":"'Pob x Genero'!#REF!","v":{"$error":"#REF!"}},1603]
["200306","PIURA","PIURA","HUANCABAMBA","SAN MIGUEL DE EL FAIQUE","Mujer","85-+",{"$f":"'Pob x Genero'!#REF!","v":{"$error":"#REF!"}},1604]
["200307","PIURA","PIURA","HUANCABAMBA","SONDOR","Mujer","85-+",{"$f":"'Pob x Genero'!#REF!","v":{"$error":"#REF!"}},1605]
["200308","PIURA","PIURA","HUANCABAMBA","SONDORILLO","Mujer","85-+",{"$f":"'Pob x Genero'!#REF!","v":{"$error":"#REF!"}},1606]
["200401","PIURA","PIURA","MORROPON","CHULUCANAS","Mujer","85-+",{"$f":"'Pob x Genero'!#REF!","v":{"$error":"#REF!"}},1607]
["200402","PIURA","PIURA","MORROPON","BUENOS AIRES","Mujer","85-+",{"$f":"'Pob x Genero'!#REF!","v":{"$error":"#REF!"}},1608]
["200403","PIURA","PIURA","MORROPON","CHALACO","Mujer","85-+",{"$f":"'Pob x Genero'!#REF!","v":{"$error":"#REF!"}},1609]
["200404","PIURA","PIURA","MORROPON","LA MATANZA","Mujer","85-+",{"$f":"'Pob x Genero'!#REF!","v":{"$error":"#REF!"}},1610]
["200405","PIURA","PIURA","MORROPON","MORROPON","Mujer","85-+",{"$f":"'Pob x Genero'!#REF!","v":{"$error":"#REF!"}},1611]
["200406","PIURA","PIURA","MORROPON","SALITRAL","Mujer","85-+",{"$f":"'Pob x Genero'!#REF!","v":{"$error":"#REF!"}},1612]
["200407","PIURA","PIURA","MORROPON","SAN JUAN DE BIGOTE","Mujer","85-+",{"$f":"'Pob x Genero'!#REF!","v":{"$error":"#REF!"}},1613]
["200408","PIURA","PIURA","MORROPON","SANTA CATALINA DE MOSSA","Mujer","85-+",{"$f":"'Pob x Genero'!#REF!","v":{"$error":"#REF!"}},1614]
["200409","PIURA","PIURA","MORROPON","SANTO DOMINGO","Mujer","85-+",{"$f":"'Pob x Genero'!#REF!","v":{"$error":"#REF!"}},1615]
["200410","PIURA","PIURA","MORROPON","YAMANGO","Mujer","85-+",{"$f":"'Pob x Genero'!#REF!","v":{"$error":"#REF!"}},1616]
["200501","PIURA","PIURA","PAITA","PAITA","Mujer","85-+",{"$f":"'Pob x Genero'!#REF!","v":{"$error":"#REF!"}},1617]
["200502","PIURA","PIURA","PAITA","AMOTAPE","Mujer","85-+",{"$f":"'Pob x Genero'!#REF!","v":{"$error":"#REF!"}},1618]
["200503","PIURA","PIURA","PAITA","ARENAL","Mujer","85-+",{"$f":"'Pob x Genero'!#REF!","v":{"$error":"#REF!"}},1619]
["200504","PIURA","PIURA","PAITA","COLAN","Mujer","85-+",{"$f":"'Pob x Genero'!#REF!","v":{"$error":"#REF!"}},1620]
["200505","PIURA","PIURA","PAITA","LA HUACA","Mujer","85-+",{"$f":"'Pob x Genero'!#REF!","v":{"$error":"#REF!"}},1621]
["200506","PIURA","PIURA","PAITA","TAMARINDO","Mujer","85-+",{"$f":"'Pob x Genero'!#REF!","v":{"$error":"#REF!"}},1622]
["200507","PIURA","PIURA","PAITA","VICHAYAL","Mujer","85-+",{"$f":"'Pob x Genero'!#REF!","v":{"$error":"#REF!"}},1623]
["200601","PIURA","PIURA","SULLANA","SULLANA","Mujer","85-+",{"$f":"'Pob x Genero'!#REF!","v":{"$error":"#REF!"}},1624]
["200602","PIURA","PIURA","SULLANA","BELLAVISTA","Mujer","85-+",{"$f":"'Pob x Genero'!#REF!","v":{"$error":"#REF!"}},1625]
["200603","PIURA","PIURA","SULLANA","IGNACIO ESCUDERO","Mujer","85-+",{"$f":"'Pob x Genero'!#REF!","v":{"$error":"#REF!"}},1626]
["200604","PIURA","PIURA","SULLANA","LANCONES","Mujer","85-+",{"$f":"'Pob x Genero'!#REF!","v":{"$error":"#REF!"}},1627]
["200605","PIURA","PIURA","SULLANA","MARCAVELICA","Mujer","85-+",{"$f":"'Pob x Genero'!#REF!","v":{"$error":"#REF!"}},1628]
["200606","PIURA","PIURA","SULLANA","MIGUEL CHECA","Mujer","85-+",{"$f":"'Pob x Genero'!#REF!","v":{"$error":"#REF!"}},1629]
["200607","PIURA","PIURA","SULLANA","QUERECOTILLO","Mujer","85-+",{"$f":"'Pob x Genero'!#REF!","v":{"$error":"#REF!"}},1630]
["200608","PIURA","PIURA","SULLANA","SALITRAL","Mujer","85-+",{"$f":"'Pob x Genero'!#REF!","v":{"$error":"#REF!"}},1631]
["200701","PIURA","PIURA","TALARA","PARIÑAS","Mujer","85-+",{"$f":"'Pob x Genero'!#REF!","v":{"$error":"#REF!"}},1632]
["200702","PIURA","PIURA","TALARA","EL ALTO","Mujer","85-+",{"$f":"'Pob x Genero'!#REF!","v":{"$error":"#REF!"}},1633]
["200703","PIURA","PIURA","TALARA","LA BREA","Mujer","85-+",{"$f":"'Pob x Genero'!#REF!","v":{"$error":"#REF!"}},1634]
["200704","PIURA","PIURA","TALARA","LOBITOS","Mujer","85-+",{"$f":"'Pob x Genero'!#REF!","v":{"$error":"#REF!"}},1635]
["200705","PIURA","PIURA","TALARA","LOS ORGANOS","Mujer","85-+",{"$f":"'Pob x Genero'!#REF!","v":{"$error":"#REF!"}},1636]
["200706","PIURA","PIURA","TALARA","MANCORA","Mujer","85-+",{"$f":"'Pob x Genero'!#REF!","v":{"$error":"#REF!"}},1637]
["200801","PIURA","PIURA","SECHURA","SECHURA","Mujer","85-+",{"$f":"'Pob x Genero'!#REF!","v":{"$error":"#REF!"}},1638]
["200802","PIURA","PIURA","SECHURA","BELLAVISTA DE LA UNION","Mujer","85-+",{"$f":"'Pob x Genero'!#REF!","v":{"$error":"#REF!"}},1639]
["200803","PIURA","PIURA","SECHURA","BERNAL","Mujer","85-+",{"$f":"'Pob x Genero'!#REF!","v":{"$error":"#REF!"}},1640]
["200804","PIURA","PIURA","SECHURA","CRISTO NOS VALGA","Mujer","85-+",{"$f":"'Pob x Genero'!#REF!","v":{"$error":"#REF!"}},1641]
["200805","PIURA","PIURA","SECHURA","VICE","Mujer","85-+",{"$f":"'Pob x Genero'!#REF!","v":{"$error":"#REF!"}},1642]
["200806","PIURA","PIURA","SECHURA","RINCONADA LLICUAR","Mujer","85-+",{"$f":"'Pob x Genero'!#REF!","v":{"$error":"#REF!"}},1643]
["210101","PUNO","PUNO","PUNO","PUNO","Mujer","85-+",{"$f":"'Pob x Genero'!#REF!","v":{"$error":"#REF!"}},1644]
["210102","PUNO","PUNO","PUNO","ACORA","Mujer","85-+",{"$f":"'Pob x Genero'!#REF!","v":{"$error":"#REF!"}},1645]
["210103","PUNO","PUNO","PUNO","AMANTANI","Mujer","85-+",{"$f":"'Pob x Genero'!#REF!","v":{"$error":"#REF!"}},1646]
["210104","PUNO","PUNO","PUNO","ATUNCOLLA","Mujer","85-+",{"$f":"'Pob x Genero'!#REF!","v":{"$error":"#REF!"}},1647]
["210105","PUNO","PUNO","PUNO","CAPACHICA","Mujer","85-+",{"$f":"'Pob x Genero'!#REF!","v":{"$error":"#REF!"}},1648]
["210106","PUNO","PUNO","PUNO","CHUCUITO","Mujer","85-+",{"$f":"'Pob x Genero'!#REF!","v":{"$error":"#REF!"}},1649]
["210107","PUNO","PUNO","PUNO","COATA","Mujer","85-+",{"$f":"'Pob x Genero'!#REF!","v":{"$error":"#REF!"}},1650]
["210108","PUNO","PUNO","PUNO","HUATA","Mujer","85-+",{"$f":"'Pob x Genero'!#REF!","v":{"$error":"#REF!"}},1651]
["210109","PUNO","PUNO","PUNO","MAÑAZO","Mujer","85-+",{"$f":"'Pob x Genero'!#REF!","v":{"$error":"#REF!"}},1652]
["210110","PUNO","PUNO","PUNO","PAUCARCOLLA","Mujer","85-+",{"$f":"'Pob x Genero'!#REF!","v":{"$error":"#REF!"}},1653]
["210111","PUNO","PUNO","PUNO","PICHACANI","Mujer","85-+",{"$f":"'Pob x Genero'!#REF!","v":{"$error":"#REF!"}},1654]
["210112","PUNO","PUNO","PUNO","PLATERIA","Mujer","85-+",{"$f":"'Pob x Genero'!#REF!","v":{"$error":"#REF!"}},1655]
["210113","PUNO","PUNO","PUNO","SAN ANTONIO","Mujer","85-+",{"$f":"'Pob x Genero'!#REF!","v":{"$error":"#REF!"}},1656]
["210114","PUNO","PUNO","PUNO","TIQUILLACA","Mujer","85-+",{"$f":"'Pob x Genero'!#REF!","v":{"$error":"#REF!"}},1657]
["210115","PUNO","PUNO","PUNO","VILQUE","Mujer","85-+",{"$f":"'Pob x Genero'!#REF!","v":{"$error":"#REF!"}},1658]
["210201","PUNO","PUNO","AZANGARO","AZANGARO","Mujer","85-+",{"$f":"'Pob x Genero'!#REF!","v":{"$error":"#REF!"}},1659]
["210202","PUNO","PUNO","AZANGARO","ACHAYA","Mujer","85-+",{"$f":"'Pob x Genero'!#REF!","v":{"$error":"#REF!"}},1660]
["210203","PUNO","PUNO","AZANGARO","ARAPA","Mujer","85-+",{"$f":"'Pob x Genero'!#REF!","v":{"$error":"#REF!"}},1661]
["210204","PUNO","PUNO","AZANGARO","ASILLO","Mujer","85-+",{"$f":"'Pob x Genero'!#REF!","v":{"$error":"#REF!"}},1662]
["210205","PUNO","PUNO","AZANGARO","CAMINACA","Mujer","85-+",{"$f":"'Pob x Genero'!#REF!","v":{"$error":"#REF!"}},1663]
["210206","PUNO","PUNO","AZANGARO","CHUPA","Mujer","85-+",{"$f":"'Pob x Genero'!#REF!","v":{"$error":"#REF!"}},1664]
["210207","PUNO","PUNO","AZANGARO","JOSE DOMINGO CHOQUEHUANCA","Mujer","85-+",{"$f":"'Pob x Genero'!#REF!","v":{"$error":"#REF!"}},1665]
["210208","PUNO","PUNO","AZANGARO","MUÑANI","Mujer",{"$f":"G67851","v":"85-+"},{"$f":"'Pob x Genero'!#REF!","v":{"$error":"#REF!"}},1666]
["210209","PUNO","PUNO","AZANGARO","POTONI","Mujer","85-+",{"$f":"'Pob x Genero'!#REF!","v":{"$error":"#REF!"}},1667]
["210210","PUNO","PUNO","AZANGARO","SAMAN","Mujer","85-+",{"$f":"'Pob x Genero'!#REF!","v":{"$error":"#REF!"}},1668]
["210211","PUNO","PUNO","AZANGARO","SAN ANTON","Mujer","85-+",{"$f":"'Pob x Genero'!#REF!","v":{"$error":"#REF!"}},1669]
["210212","PUNO","PUNO","AZANGARO","SAN JOSE","Mujer","85-+",{"$f":"'Pob x Genero'!#REF!","v":{"$error":"#REF!"}},1670]
["210213","PUNO","PUNO","AZANGARO","SAN JUAN DE SALINAS","Mujer","85-+",{"$f":"'Pob x Genero'!#REF!","v":{"$error":"#REF!"}},1671]
["210214","PUNO","PUNO","AZANGARO","SANTIAGO DE PUPUJA","Mujer","85-+",{"$f":"'Pob x Genero'!#REF!","v":{"$error":"#REF!"}},1672]
["210215","PUNO","PUNO","AZANGARO","TIRAPATA","Mujer","85-+",{"$f":"'Pob x Genero'!#REF!","v":{"$error":"#REF!"}},1673]
["210301","PUNO","PUNO","CARABAYA","MACUSANI","Mujer","85-+",{"$f":"'Pob x Genero'!#REF!","v":{"$error":"#REF!"}},1674]
["210302","PUNO","PUNO","CARABAYA","AJOYANI","Mujer","85-+",{"$f":"'Pob x Genero'!#REF!","v":{"$error":"#REF!"}},1675]
["210303","PUNO","PUNO","CARABAYA","AYAPATA","Mujer","85-+",{"$f":"'Pob x Genero'!#REF!","v":{"$error":"#REF!"}},1676]
["210304","PUNO","PUNO","CARABAYA","COASA","Mujer","85-+",{"$f":"'Pob x Genero'!#REF!","v":{"$error":"#REF!"}},1677]
["210305","PUNO","PUNO","CARABAYA","CORANI","Mujer","85-+",{"$f":"'Pob x Genero'!#REF!","v":{"$error":"#REF!"}},1678]
["210306","PUNO","PUNO","CARABAYA","CRUCERO","Mujer","85-+",{"$f":"'Pob x Genero'!#REF!","v":{"$error":"#REF!"}},1679]
["210307","PUNO","PUNO","CARABAYA","ITUATA","Mujer","85-+",{"$f":"'Pob x Genero'!#REF!","v":{"$error":"#REF!"}},1680]
["210308","PUNO","PUNO","CARABAYA","OLLACHEA","Mujer","85-+",{"$f":"'Pob x Genero'!#REF!","v":{"$error":"#REF!"}},1681]
["210309","PUNO","PUNO","CARABAYA","SAN GABAN","Mujer","85-+",{"$f":"'Pob x Genero'!#REF!","v":{"$error":"#REF!"}},1682]
["210310","PUNO","PUNO","CARABAYA","USICAYOS","Mujer","85-+",{"$f":"'Pob x Genero'!#REF!","v":{"$error":"#REF!"}},1683]
["210401","PUNO","PUNO","CHUCUITO","JULI","Mujer","85-+",{"$f":"'Pob x Genero'!#REF!","v":{"$error":"#REF!"}},1684]
["210402","PUNO","PUNO","CHUCUITO","DESAGUADERO","Mujer","85-+",{"$f":"'Pob x Genero'!#REF!","v":{"$error":"#REF!"}},1685]
["210403","PUNO","PUNO","CHUCUITO","HUACULLANI","Mujer","85-+",{"$f":"'Pob x Genero'!#REF!","v":{"$error":"#REF!"}},1686]
["210404","PUNO","PUNO","CHUCUITO","KELLUYO","Mujer","85-+",{"$f":"'Pob x Genero'!#REF!","v":{"$error":"#REF!"}},1687]
["210405","PUNO","PUNO","CHUCUITO","PISACOMA","Mujer","85-+",{"$f":"'Pob x Genero'!#REF!","v":{"$error":"#REF!"}},1688]
["210406","PUNO","PUNO","CHUCUITO","POMATA","Mujer","85-+",{"$f":"'Pob x Genero'!#REF!","v":{"$error":"#REF!"}},1689]
["210407","PUNO","PUNO","CHUCUITO","ZEPITA","Mujer","85-+",{"$f":"'Pob x Genero'!#REF!","v":{"$error":"#REF!"}},1690]
["210501","PUNO","PUNO","EL COLLAO","ILAVE","Mujer","85-+",{"$f":"'Pob x Genero'!#REF!","v":{"$error":"#REF!"}},1691]
["210502","PUNO","PUNO","EL COLLAO","CAPAZO","Mujer","85-+",{"$f":"'Pob x Genero'!#REF!","v":{"$error":"#REF!"}},1692]
["210503","PUNO","PUNO","EL COLLAO","PILCUYO","Mujer","85-+",{"$f":"'Pob x Genero'!#REF!","v":{"$error":"#REF!"}},1693]
["210504","PUNO","PUNO","EL COLLAO","SANTA ROSA","Mujer","85-+",{"$f":"'Pob x Genero'!#REF!","v":{"$error":"#REF!"}},1694]
["210505","PUNO","PUNO","EL COLLAO","CONDURIRI","Mujer","85-+",{"$f":"'Pob x Genero'!#REF!","v":{"$error":"#REF!"}},1695]
["210601","PUNO","PUNO","HUANCANE","HUANCANE","Mujer","85-+",{"$f":"'Pob x Genero'!#REF!","v":{"$error":"#REF!"}},1696]
["210602","PUNO","PUNO","HUANCANE","COJATA","Mujer","85-+",{"$f":"'Pob x Genero'!#REF!","v":{"$error":"#REF!"}},1697]
["210603","PUNO","PUNO","HUANCANE","HUATASANI","Mujer","85-+",{"$f":"'Pob x Genero'!#REF!","v":{"$error":"#REF!"}},1698]
["210604","PUNO","PUNO","HUANCANE","INCHUPALLA","Mujer","85-+",{"$f":"'Pob x Genero'!#REF!","v":{"$error":"#REF!"}},1699]
["210605","PUNO","PUNO","HUANCANE","PUSI","Mujer","85-+",{"$f":"'Pob x Genero'!#REF!","v":{"$error":"#REF!"}},1700]
["210606","PUNO","PUNO","HUANCANE","ROSASPATA","Mujer","85-+",{"$f":"'Pob x Genero'!#REF!","v":{"$error":"#REF!"}},1701]
["210607","PUNO","PUNO","HUANCANE","TARACO","Mujer","85-+",{"$f":"'Pob x Genero'!#REF!","v":{"$error":"#REF!"}},1702]
["210608","PUNO","PUNO","HUANCANE","VILQUE CHICO","Mujer","85-+",{"$f":"'Pob x Genero'!#REF!","v":{"$error":"#REF!"}},1703]
["210701","PUNO","PUNO","LAMPA","LAMPA","Mujer","85-+",{"$f":"'Pob x Genero'!#REF!","v":{"$error":"#REF!"}},1704]
["210702","PUNO","PUNO","LAMPA","CABANILLA","Mujer","85-+",{"$f":"'Pob x Genero'!#REF!","v":{"$error":"#REF!"}},1705]
["210703","PUNO","PUNO","LAMPA","CALAPUJA","Mujer","85-+",{"$f":"'Pob x Genero'!#REF!","v":{"$error":"#REF!"}},1706]
["210704","PUNO","PUNO","LAMPA","NICASIO","Mujer","85-+",{"$f":"'Pob x Genero'!#REF!","v":{"$error":"#REF!"}},1707]
["210705","PUNO","PUNO","LAMPA","OCUVIRI","Mujer","85-+",{"$f":"'Pob x Genero'!#REF!","v":{"$error":"#REF!"}},1708]
["210706","PUNO","PUNO","LAMPA","PALCA","Mujer","85-+",{"$f":"'Pob x Genero'!#REF!","v":{"$error":"#REF!"}},1709]
["210707","PUNO","PUNO","LAMPA","PARATIA","Mujer","85-+",{"$f":"'Pob x Genero'!#REF!","v":{"$error":"#REF!"}},1710]
["210708","PUNO","PUNO","LAMPA","PUCARA","Mujer","85-+",{"$f":"'Pob x Genero'!#REF!","v":{"$error":"#REF!"}},1711]
["210709","PUNO","PUNO","LAMPA","SANTA LUCIA","Mujer","85-+",{"$f":"'Pob x Genero'!#REF!","v":{"$error":"#REF!"}},1712]
["210710","PUNO","PUNO","LAMPA","VILAVILA","Mujer","85-+",{"$f":"'Pob x Genero'!#REF!","v":{"$error":"#REF!"}},1713]
["210801","PUNO","PUNO","MELGAR","AYAVIRI","Mujer","85-+",{"$f":"'Pob x Genero'!#REF!","v":{"$error":"#REF!"}},1714]
["210802","PUNO","PUNO","MELGAR","ANTAUTA","Mujer","85-+",{"$f":"'Pob x Genero'!#REF!","v":{"$error":"#REF!"}},1715]
["210803","PUNO","PUNO","MELGAR","CUPI","Mujer","85-+",{"$f":"'Pob x Genero'!#REF!","v":{"$error":"#REF!"}},1716]
["210804","PUNO","PUNO","MELGAR","LLALLI","Mujer","85-+",{"$f":"'Pob x Genero'!#REF!","v":{"$error":"#REF!"}},1717]
["210805","PUNO","PUNO","MELGAR","MACARI","Mujer","85-+",{"$f":"'Pob x Genero'!#REF!","v":{"$error":"#REF!"}},1718]
["210806","PUNO","PUNO","MELGAR","NUÑOA","Mujer","85-+",{"$f":"'Pob x Genero'!#REF!","v":{"$error":"#REF!"}},1719]
["210807","PUNO","PUNO","MELGAR","ORURILLO","Mujer","85-+",{"$f":"'Pob x Genero'!#REF!","v":{"$error":"#REF!"}},1720]
["210808","PUNO","PUNO","MELGAR","SANTA ROSA","Mujer","85-+",{"$f":"'Pob x Genero'!#REF!","v":{"$error":"#REF!"}},1721]
["210809","PUNO","PUNO","MELGAR","UMACHIRI","Mujer","85-+",{"$f":"'Pob x Genero'!#REF!","v":{"$error":"#REF!"}},1722]
["210901","PUNO","PUNO","MOHO","MOHO","Mujer","85-+",{"$f":"'Pob x Genero'!#REF!","v":{"$error":"#REF!"}},1723]
["210902","PUNO","PUNO","MOHO","CONIMA","Mujer","85-+",{"$f":"'Pob x Genero'!#REF!","v":{"$error":"#REF!"}},1724]
["210903","PUNO","PUNO","MOHO","HUAYRAPATA","Mujer","85-+",{"$f":"'Pob x Genero'!#REF!","v":{"$error":"#REF!"}},1725]
["210904","PUNO","PUNO","MOHO","TILALI","Mujer","85-+",{"$f":"'Pob x Genero'!#REF!","v":{"$error":"#REF!"}},1726]
["211001","PUNO","PUNO","SAN ANTONIO DE PUTINA","PUTINA","Mujer","85-+",{"$f":"'Pob x Genero'!#REF!","v":{"$error":"#REF!"}},1727]
["211002","PUNO","PUNO","SAN ANTONIO DE PUTINA","ANANEA","Mujer","85-+",{"$f":"'Pob x Genero'!#REF!","v":{"$error":"#REF!"}},1728]
["211003","PUNO","PUNO","SAN ANTONIO DE PUTINA","PEDRO VILCA APAZA","Mujer","85-+",{"$f":"'Pob x Genero'!#REF!","v":{"$error":"#REF!"}},1729]
["211004","PUNO","PUNO","SAN ANTONIO DE PUTINA","QUILCAPUNCU","Mujer",{"$f":"G67915","v":"85-+"},{"$f":"'Pob x Genero'!#REF!","v":{"$error":"#REF!"}},1730]
["211005","PUNO","PUNO","SAN ANTONIO DE PUTINA","SINA","Mujer","85-+",{"$f":"'Pob x Genero'!#REF!","v":{"$error":"#REF!"}},1731]
["211101","PUNO","PUNO","SAN ROMAN","JULIACA","Mujer","85-+",{"$f":"'Pob x Genero'!#REF!","v":{"$error":"#REF!"}},1732]
["211102","PUNO","PUNO","SAN ROMAN","CABANA","Mujer","85-+",{"$f":"'Pob x Genero'!#REF!","v":{"$error":"#REF!"}},1733]
["211103","PUNO","PUNO","SAN ROMAN","CABANILLAS","Mujer","85-+",{"$f":"'Pob x Genero'!#REF!","v":{"$error":"#REF!"}},1734]
["211104","PUNO","PUNO","SAN ROMAN","CARACOTO","Mujer","85-+",{"$f":"'Pob x Genero'!#REF!","v":{"$error":"#REF!"}},1735]
["211105","PUNO","PUNO","SAN ROMAN","SAN MIGUEL","Mujer","85-+",{"$f":"'Pob x Genero'!#REF!","v":{"$error":"#REF!"}},1736]
["211201","PUNO","PUNO","SANDIA","SANDIA","Mujer","85-+",{"$f":"'Pob x Genero'!#REF!","v":{"$error":"#REF!"}},1737]
["211202","PUNO","PUNO","SANDIA","CUYOCUYO","Mujer","85-+",{"$f":"'Pob x Genero'!#REF!","v":{"$error":"#REF!"}},1738]
["211203","PUNO","PUNO","SANDIA","LIMBANI","Mujer","85-+",{"$f":"'Pob x Genero'!#REF!","v":{"$error":"#REF!"}},1739]
["211204","PUNO","PUNO","SANDIA","PATAMBUCO","Mujer","85-+",{"$f":"'Pob x Genero'!#REF!","v":{"$error":"#REF!"}},1740]
["211205","PUNO","PUNO","SANDIA","PHARA","Mujer","85-+",{"$f":"'Pob x Genero'!#REF!","v":{"$error":"#REF!"}},1741]
["211206","PUNO","PUNO","SANDIA","QUIACA","Mujer","85-+",{"$f":"'Pob x Genero'!#REF!","v":{"$error":"#REF!"}},1742]
["211207","PUNO","PUNO","SANDIA","SAN JUAN DEL ORO","Mujer","85-+",{"$f":"'Pob x Genero'!#REF!","v":{"$error":"#REF!"}},1743]
["211208","PUNO","PUNO","SANDIA","YANAHUAYA","Mujer","85-+",{"$f":"'Pob x Genero'!#REF!","v":{"$error":"#REF!"}},1744]
["211209","PUNO","PUNO","SANDIA","ALTO INAMBARI","Mujer","85-+",{"$f":"'Pob x Genero'!#REF!","v":{"$error":"#REF!"}},1745]
["211210","PUNO","PUNO","SANDIA","SAN PEDRO DE PUTINA PUNCO","Mujer","85-+",{"$f":"'Pob x Genero'!#REF!","v":{"$error":"#REF!"}},1746]
["211301","PUNO","PUNO","YUNGUYO","YUNGUYO","Mujer","85-+",{"$f":"'Pob x Genero'!#REF!","v":{"$error":"#REF!"}},1747]
["211302","PUNO","PUNO","YUNGUYO","ANAPIA","Mujer","85-+",{"$f":"'Pob x Genero'!#REF!","v":{"$error":"#REF!"}},1748]
["211303","PUNO","PUNO","YUNGUYO","COPANI","Mujer","85-+",{"$f":"'Pob x Genero'!#REF!","v":{"$error":"#REF!"}},1749]
["211304","PUNO","PUNO","YUNGUYO","CUTURAPI","Mujer","85-+",{"$f":"'Pob x Genero'!#REF!","v":{"$error":"#REF!"}},1750]
["211305","PUNO","PUNO","YUNGUYO","OLLARAYA","Mujer","85-+",{"$f":"'Pob x Genero'!#REF!","v":{"$error":"#REF!"}},1751]
["211306","PUNO","PUNO","YUNGUYO","TINICACHI","Mujer","85-+",{"$f":"'Pob x Genero'!#REF!","v":{"$error":"#REF!"}},1752]
["211307","PUNO","PUNO","YUNGUYO","UNICACHI","Mujer","85-+",{"$f":"'Pob x Genero'!#REF!","v":{"$error":"#REF!"}},1753]
["220101","SAN MARTIN","SAN MARTIN","MOYOBAMBA","MOYOBAMBA","Mujer","85-+",{"$f":"'Pob x Genero'!#REF!","v":{"$error":"#REF!"}},1754]
["220102","SAN MARTIN","SAN MARTIN","MOYOBAMBA","CALZADA","Mujer","85-+",{"$f":"'Pob x Genero'!#REF!","v":{"$error":"#REF!"}},1755]
["220103","SAN MARTIN","SAN MARTIN","MOYOBAMBA","HABANA","Mujer","85-+",{"$f":"'Pob x Genero'!#REF!","v":{"$error":"#REF!"}},1756]
["220104","SAN MARTIN","SAN MARTIN","MOYOBAMBA","JEPELACIO","Mujer","85-+",{"$f":"'Pob x Genero'!#REF!","v":{"$error":"#REF!"}},1757]
["220105","SAN MARTIN","SAN MARTIN","MOYOBAMBA","SORITOR","Mujer","85-+",{"$f":"'Pob x Genero'!#REF!","v":{"$error":"#REF!"}},1758]
["220106","SAN MARTIN","SAN MARTIN","MOYOBAMBA","YANTALO","Mujer","85-+",{"$f":"'Pob x Genero'!#REF!","v":{"$error":"#REF!"}},1759]
["220201","SAN MARTIN","SAN MARTIN","BELLAVISTA","BELLAVISTA","Mujer","85-+",{"$f":"'Pob x Genero'!#REF!","v":{"$error":"#REF!"}},1760]
["220202","SAN MARTIN","SAN MARTIN","BELLAVISTA","ALTO BIAVO","Mujer","85-+",{"$f":"'Pob x Genero'!#REF!","v":{"$error":"#REF!"}},1761]
["220203","SAN MARTIN","SAN MARTIN","BELLAVISTA","BAJO BIAVO","Mujer","85-+",{"$f":"'Pob x Genero'!#REF!","v":{"$error":"#REF!"}},1762]
["220204","SAN MARTIN","SAN MARTIN","BELLAVISTA","HUALLAGA","Mujer","85-+",{"$f":"'Pob x Genero'!#REF!","v":{"$error":"#REF!"}},1763]
["220205","SAN MARTIN","SAN MARTIN","BELLAVISTA","SAN PABLO","Mujer","85-+",{"$f":"'Pob x Genero'!#REF!","v":{"$error":"#REF!"}},1764]
["220206","SAN MARTIN","SAN MARTIN","BELLAVISTA","SAN RAFAEL","Mujer","85-+",{"$f":"'Pob x Genero'!#REF!","v":{"$error":"#REF!"}},1765]
["220301","SAN MARTIN","SAN MARTIN","EL DORADO","SAN JOSE DE SISA","Mujer","85-+",{"$f":"'Pob x Genero'!#REF!","v":{"$error":"#REF!"}},1766]
["220302","SAN MARTIN","SAN MARTIN","EL DORADO","AGUA BLANCA","Mujer","85-+",{"$f":"'Pob x Genero'!#REF!","v":{"$error":"#REF!"}},1767]
["220303","SAN MARTIN","SAN MARTIN","EL DORADO","SAN MARTIN","Mujer","85-+",{"$f":"'Pob x Genero'!#REF!","v":{"$error":"#REF!"}},1768]
["220304","SAN MARTIN","SAN MARTIN","EL DORADO","SANTA ROSA","Mujer","85-+",{"$f":"'Pob x Genero'!#REF!","v":{"$error":"#REF!"}},1769]
["220305","SAN MARTIN","SAN MARTIN","EL DORADO","SHATOJA","Mujer","85-+",{"$f":"'Pob x Genero'!#REF!","v":{"$error":"#REF!"}},1770]
["220401","SAN MARTIN","SAN MARTIN","HUALLAGA","SAPOSOA","Mujer","85-+",{"$f":"'Pob x Genero'!#REF!","v":{"$error":"#REF!"}},1771]
["220402","SAN MARTIN","SAN MARTIN","HUALLAGA","ALTO SAPOSOA","Mujer","85-+",{"$f":"'Pob x Genero'!#REF!","v":{"$error":"#REF!"}},1772]
["220403","SAN MARTIN","SAN MARTIN","HUALLAGA","EL ESLABON","Mujer","85-+",{"$f":"'Pob x Genero'!#REF!","v":{"$error":"#REF!"}},1773]
["220404","SAN MARTIN","SAN MARTIN","HUALLAGA","PISCOYACU","Mujer","85-+",{"$f":"'Pob x Genero'!#REF!","v":{"$error":"#REF!"}},1774]
["220405","SAN MARTIN","SAN MARTIN","HUALLAGA","SACANCHE","Mujer","85-+",{"$f":"'Pob x Genero'!#REF!","v":{"$error":"#REF!"}},1775]
["220406","SAN MARTIN","SAN MARTIN","HUALLAGA","TINGO DE SAPOSOA","Mujer","85-+",{"$f":"'Pob x Genero'!#REF!","v":{"$error":"#REF!"}},1776]
["220501","SAN MARTIN","SAN MARTIN","LAMAS","LAMAS","Mujer","85-+",{"$f":"'Pob x Genero'!#REF!","v":{"$error":"#REF!"}},1777]
["220502","SAN MARTIN","SAN MARTIN","LAMAS","ALONSO DE ALVARADO","Mujer","85-+",{"$f":"'Pob x Genero'!#REF!","v":{"$error":"#REF!"}},1778]
["220503","SAN MARTIN","SAN MARTIN","LAMAS","BARRANQUITA","Mujer","85-+",{"$f":"'Pob x Genero'!#REF!","v":{"$error":"#REF!"}},1779]
["220504","SAN MARTIN","SAN MARTIN","LAMAS","CAYNARACHI","Mujer","85-+",{"$f":"'Pob x Genero'!#REF!","v":{"$error":"#REF!"}},1780]
["220505","SAN MARTIN","SAN MARTIN","LAMAS","CUÑUMBUQUI","Mujer","85-+",{"$f":"'Pob x Genero'!#REF!","v":{"$error":"#REF!"}},1781]
["220506","SAN MARTIN","SAN MARTIN","LAMAS","PINTO RECODO","Mujer","85-+",{"$f":"'Pob x Genero'!#REF!","v":{"$error":"#REF!"}},1782]
["220507","SAN MARTIN","SAN MARTIN","LAMAS","RUMISAPA","Mujer","85-+",{"$f":"'Pob x Genero'!#REF!","v":{"$error":"#REF!"}},1783]
["220508","SAN MARTIN","SAN MARTIN","LAMAS","SAN ROQUE DE CUMBAZA","Mujer","85-+",{"$f":"'Pob x Genero'!#REF!","v":{"$error":"#REF!"}},1784]
["220509","SAN MARTIN","SAN MARTIN","LAMAS","SHANAO","Mujer","85-+",{"$f":"'Pob x Genero'!#REF!","v":{"$error":"#REF!"}},1785]
["220510","SAN MARTIN","SAN MARTIN","LAMAS","TABALOSOS","Mujer","85-+",{"$f":"'Pob x Genero'!#REF!","v":{"$error":"#REF!"}},1786]
["220511","SAN MARTIN","SAN MARTIN","LAMAS","ZAPATERO","Mujer","85-+",{"$f":"'Pob x Genero'!#REF!","v":{"$error":"#REF!"}},1787]
["220601","SAN MARTIN","SAN MARTIN","MARISCAL CACERES","JUANJUI","Mujer","85-+",{"$f":"'Pob x Genero'!#REF!","v":{"$error":"#REF!"}},1788]
["220602","SAN MARTIN","SAN MARTIN","MARISCAL CACERES","CAMPANILLA","Mujer","85-+",{"$f":"'Pob x Genero'!#REF!","v":{"$error":"#REF!"}},1789]
["220603","SAN MARTIN","SAN MARTIN","MARISCAL CACERES","HUICUNGO","Mujer","85-+",{"$f":"'Pob x Genero'!#REF!","v":{"$error":"#REF!"}},1790]
["220604","SAN MARTIN","SAN MARTIN","MARISCAL CACERES","PACHIZA","Mujer","85-+",{"$f":"'Pob x Genero'!#REF!","v":{"$error":"#REF!"}},1791]
["220605","SAN MARTIN","SAN MARTIN","MARISCAL CACERES","PAJARILLO","Mujer","85-+",{"$f":"'Pob x Genero'!#REF!","v":{"$error":"#REF!"}},1792]
["220701","SAN MARTIN","SAN MARTIN","PICOTA","PICOTA","Mujer","85-+",{"$f":"'Pob x Genero'!#REF!","v":{"$error":"#REF!"}},1793]
["220702","SAN MARTIN","SAN MARTIN","PICOTA","BUENOS AIRES","Mujer",{"$f":"G67979","v":"85-+"},{"$f":"'Pob x Genero'!#REF!","v":{"$error":"#REF!"}},1794]
["220703","SAN MARTIN","SAN MARTIN","PICOTA","CASPISAPA","Mujer","85-+",{"$f":"'Pob x Genero'!#REF!","v":{"$error":"#REF!"}},1795]
["220704","SAN MARTIN","SAN MARTIN","PICOTA","PILLUANA","Mujer","85-+",{"$f":"'Pob x Genero'!#REF!","v":{"$error":"#REF!"}},1796]
["220705","SAN MARTIN","SAN MARTIN","PICOTA","PUCACACA","Mujer","85-+",{"$f":"'Pob x Genero'!#REF!","v":{"$error":"#REF!"}},1797]
["220706","SAN MARTIN","SAN MARTIN","PICOTA","SAN CRISTOBAL","Mujer","85-+",{"$f":"'Pob x Genero'!#REF!","v":{"$error":"#REF!"}},1798]
["220707","SAN MARTIN","SAN MARTIN","PICOTA","SAN HILARION","Mujer","85-+",{"$f":"'Pob x Genero'!#REF!","v":{"$error":"#REF!"}},1799]
["220708","SAN MARTIN","SAN MARTIN","PICOTA","SHAMBOYACU","Mujer","85-+",{"$f":"'Pob x Genero'!#REF!","v":{"$error":"#REF!"}},1800]
["220709","SAN MARTIN","SAN MARTIN","PICOTA","TINGO DE PONASA","Mujer","85-+",{"$f":"'Pob x Genero'!#REF!","v":{"$error":"#REF!"}},1801]
["220710","SAN MARTIN","SAN MARTIN","PICOTA","TRES UNIDOS","Mujer","85-+",{"$f":"'Pob x Genero'!#REF!","v":{"$error":"#REF!"}},1802]
["220801","SAN MARTIN","SAN MARTIN","RIOJA","RIOJA","Mujer","85-+",{"$f":"'Pob x Genero'!#REF!","v":{"$error":"#REF!"}},1803]
["220802","SAN MARTIN","SAN MARTIN","RIOJA","AWAJUN","Mujer","85-+",{"$f":"'Pob x Genero'!#REF!","v":{"$error":"#REF!"}},1804]
["220803","SAN MARTIN","SAN MARTIN","RIOJA","ELIAS SOPLIN VARGAS","Mujer","85-+",{"$f":"'Pob x Genero'!#REF!","v":{"$error":"#REF!"}},1805]
["220804","SAN MARTIN","SAN MARTIN","RIOJA","NUEVA CAJAMARCA","Mujer","85-+",{"$f":"'Pob x Genero'!#REF!","v":{"$error":"#REF!"}},1806]
["220805","SAN MARTIN","SAN MARTIN","RIOJA","PARDO MIGUEL","Mujer","85-+",{"$f":"'Pob x Genero'!#REF!","v":{"$error":"#REF!"}},1807]
["220806","SAN MARTIN","SAN MARTIN","RIOJA","POSIC","Mujer","85-+",{"$f":"'Pob x Genero'!#REF!","v":{"$error":"#REF!"}},1808]
["220807","SAN MARTIN","SAN MARTIN","RIOJA","SAN FERNANDO","Mujer","85-+",{"$f":"'Pob x Genero'!#REF!","v":{"$error":"#REF!"}},1809]
["220808","SAN MARTIN","SAN MARTIN","RIOJA","YORONGOS","Mujer","85-+",{"$f":"'Pob x Genero'!#REF!","v":{"$error":"#REF!"}},1810]
["220809","SAN MARTIN","SAN MARTIN","RIOJA","YURACYACU","Mujer","85-+",{"$f":"'Pob x Genero'!#REF!","v":{"$error":"#REF!"}},1811]
["220901","SAN MARTIN","SAN MARTIN","SAN MARTIN","TARAPOTO","Mujer","85-+",{"$f":"'Pob x Genero'!#REF!","v":{"$error":"#REF!"}},1812]
["220902","SAN MARTIN","SAN MARTIN","SAN MARTIN","ALBERTO LEVEAU","Mujer","85-+",{"$f":"'Pob x Genero'!#REF!","v":{"$error":"#REF!"}},1813]
["220903","SAN MARTIN","SAN MARTIN","SAN MARTIN","CACATACHI","Mujer","85-+",{"$f":"'Pob x Genero'!#REF!","v":{"$error":"#REF!"}},1814]
["220904","SAN MARTIN","SAN MARTIN","SAN MARTIN","CHAZUTA","Mujer","85-+",{"$f":"'Pob x Genero'!#REF!","v":{"$error":"#REF!"}},1815]
["220905","SAN MARTIN","SAN MARTIN","SAN MARTIN","CHIPURANA","Mujer","85-+",{"$f":"'Pob x Genero'!#REF!","v":{"$error":"#REF!"}},1816]
["220906","SAN MARTIN","SAN MARTIN","SAN MARTIN","EL PORVENIR","Mujer","85-+",{"$f":"'Pob x Genero'!#REF!","v":{"$error":"#REF!"}},1817]
["220907","SAN MARTIN","SAN MARTIN","SAN MARTIN","HUIMBAYOC","Mujer","85-+",{"$f":"'Pob x Genero'!#REF!","v":{"$error":"#REF!"}},1818]
["220908","SAN MARTIN","SAN MARTIN","SAN MARTIN","JUAN GUERRA","Mujer","85-+",{"$f":"'Pob x Genero'!#REF!","v":{"$error":"#REF!"}},1819]
["220909","SAN MARTIN","SAN MARTIN","SAN MARTIN","LA BANDA DE SHILCAYO","Mujer","85-+",{"$f":"'Pob x Genero'!#REF!","v":{"$error":"#REF!"}},1820]
["220910","SAN MARTIN","SAN MARTIN","SAN MARTIN","MORALES","Mujer","85-+",{"$f":"'Pob x Genero'!#REF!","v":{"$error":"#REF!"}},1821]
["220911","SAN MARTIN","SAN MARTIN","SAN MARTIN","PAPAPLAYA","Mujer","85-+",{"$f":"'Pob x Genero'!#REF!","v":{"$error":"#REF!"}},1822]
["220912","SAN MARTIN","SAN MARTIN","SAN MARTIN","SAN ANTONIO","Mujer","85-+",{"$f":"'Pob x Genero'!#REF!","v":{"$error":"#REF!"}},1823]
["220913","SAN MARTIN","SAN MARTIN","SAN MARTIN","SAUCE","Mujer","85-+",{"$f":"'Pob x Genero'!#REF!","v":{"$error":"#REF!"}},1824]
["220914","SAN MARTIN","SAN MARTIN","SAN MARTIN","SHAPAJA","Mujer","85-+",{"$f":"'Pob x Genero'!#REF!","v":{"$error":"#REF!"}},1825]
["221001","SAN MARTIN","SAN MARTIN","TOCACHE","TOCACHE","Mujer","85-+",{"$f":"'Pob x Genero'!#REF!","v":{"$error":"#REF!"}},1826]
["221002","SAN MARTIN","SAN MARTIN","TOCACHE","NUEVO PROGRESO","Mujer","85-+",{"$f":"'Pob x Genero'!#REF!","v":{"$error":"#REF!"}},1827]
["221003","SAN MARTIN","SAN MARTIN","TOCACHE","POLVORA","Mujer","85-+",{"$f":"'Pob x Genero'!#REF!","v":{"$error":"#REF!"}},1828]
["221004","SAN MARTIN","SAN MARTIN","TOCACHE","SHUNTE","Mujer","85-+",{"$f":"'Pob x Genero'!#REF!","v":{"$error":"#REF!"}},1829]
["221005","SAN MARTIN","SAN MARTIN","TOCACHE","UCHIZA","Mujer","85-+",{"$f":"'Pob x Genero'!#REF!","v":{"$error":"#REF!"}},1830]
["221006","SAN MARTIN","SAN MARTIN","TOCACHE","SANTA LUCIA","Mujer","85-+",{"$f":"'Pob x Genero'!#REF!","v":{"$error":"#REF!"}},1831]
["230101","TACNA","TACNA","TACNA","TACNA","Mujer","85-+",{"$f":"'Pob x Genero'!#REF!","v":{"$error":"#REF!"}},1832]
["230102","TACNA","TACNA","TACNA","ALTO DE LA ALIANZA","Mujer","85-+",{"$f":"'Pob x Genero'!#REF!","v":{"$error":"#REF!"}},1833]
["230103","TACNA","TACNA","TACNA","CALANA","Mujer","85-+",{"$f":"'Pob x Genero'!#REF!","v":{"$error":"#REF!"}},1834]
["230104","TACNA","TACNA","TACNA","CIUDAD NUEVA","Mujer","85-+",{"$f":"'Pob x Genero'!#REF!","v":{"$error":"#REF!"}},1835]
["230105","TACNA","TACNA","TACNA","INCLAN","Mujer","85-+",{"$f":"'Pob x Genero'!#REF!","v":{"$error":"#REF!"}},1836]
["230106","TACNA","TACNA","TACNA","PACHIA","Mujer","85-+",{"$f":"'Pob x Genero'!#REF!","v":{"$error":"#REF!"}},1837]
["230107","TACNA","TACNA","TACNA","PALCA","Mujer","85-+",{"$f":"'Pob x Genero'!#REF!","v":{"$error":"#REF!"}},1838]
["230108","TACNA","TACNA","TACNA","POCOLLAY","Mujer","85-+",{"$f":"'Pob x Genero'!#REF!","v":{"$error":"#REF!"}},1839]
["230109","TACNA","TACNA","TACNA","SAMA","Mujer","85-+",{"$f":"'Pob x Genero'!#REF!","v":{"$error":"#REF!"}},1840]
["230110","TACNA","TACNA","TACNA","CORONEL GREGORIO ALBARRACIN LANCHIPA","Mujer","85-+",{"$f":"'Pob x Genero'!#REF!","v":{"$error":"#REF!"}},1841]
["230111","TACNA","TACNA","TACNA","LA YARADA LOS PALOS","Mujer","85-+",{"$f":"'Pob x Genero'!#REF!","v":{"$error":"#REF!"}},1842]
["230201","TACNA","TACNA","CANDARAVE","CANDARAVE","Mujer","85-+",{"$f":"'Pob x Genero'!#REF!","v":{"$error":"#REF!"}},1843]
["230202","TACNA","TACNA","CANDARAVE","CAIRANI","Mujer","85-+",{"$f":"'Pob x Genero'!#REF!","v":{"$error":"#REF!"}},1844]
["230203","TACNA","TACNA","CANDARAVE","CAMILACA","Mujer","85-+",{"$f":"'Pob x Genero'!#REF!","v":{"$error":"#REF!"}},1845]
["230204","TACNA","TACNA","CANDARAVE","CURIBAYA","Mujer","85-+",{"$f":"'Pob x Genero'!#REF!","v":{"$error":"#REF!"}},1846]
["230205","TACNA","TACNA","CANDARAVE","HUANUARA","Mujer","85-+",{"$f":"'Pob x Genero'!#REF!","v":{"$error":"#REF!"}},1847]
["230206","TACNA","TACNA","CANDARAVE","QUILAHUANI","Mujer","85-+",{"$f":"'Pob x Genero'!#REF!","v":{"$error":"#REF!"}},1848]
["230301","TACNA","TACNA","JORGE BASADRE","LOCUMBA","Mujer","85-+",{"$f":"'Pob x Genero'!#REF!","v":{"$error":"#REF!"}},1849]
["230302","TACNA","TACNA","JORGE BASADRE","ILABAYA","Mujer","85-+",{"$f":"'Pob x Genero'!#REF!","v":{"$error":"#REF!"}},1850]
["230303","TACNA","TACNA","JORGE BASADRE","ITE","Mujer","85-+",{"$f":"'Pob x Genero'!#REF!","v":{"$error":"#REF!"}},1851]
["230401","TACNA","TACNA","TARATA","TARATA","Mujer","85-+",{"$f":"'Pob x Genero'!#REF!","v":{"$error":"#REF!"}},1852]
["230402","TACNA","TACNA","TARATA","HEROES ALBARRACIN","Mujer","85-+",{"$f":"'Pob x Genero'!#REF!","v":{"$error":"#REF!"}},1853]
["230403","TACNA","TACNA","TARATA","ESTIQUE","Mujer","85-+",{"$f":"'Pob x Genero'!#REF!","v":{"$error":"#REF!"}},1854]
["230404","TACNA","TACNA","TARATA","ESTIQUE-PAMPA","Mujer","85-+",{"$f":"'Pob x Genero'!#REF!","v":{"$error":"#REF!"}},1855]
["230405","TACNA","TACNA","TARATA","SITAJARA","Mujer","85-+",{"$f":"'Pob x Genero'!#REF!","v":{"$error":"#REF!"}},1856]
["230406","TACNA","TACNA","TARATA","SUSAPAYA","Mujer","85-+",{"$f":"'Pob x Genero'!#REF!","v":{"$error":"#REF!"}},1857]
["230407","TACNA","TACNA","TARATA","TARUCACHI","Mujer",{"$f":"G68043","v":"85-+"},{"$f":"'Pob x Genero'!#REF!","v":{"$error":"#REF!"}},1858]
["230408","TACNA","TACNA","TARATA","TICACO","Mujer","85-+",{"$f":"'Pob x Genero'!#REF!","v":{"$error":"#REF!"}},1859]
["240101","TUMBES","TUMBES","TUMBES","TUMBES","Mujer","85-+",{"$f":"'Pob x Genero'!#REF!","v":{"$error":"#REF!"}},1860]
["240102","TUMBES","TUMBES","TUMBES","CORRALES","Mujer","85-+",{"$f":"'Pob x Genero'!#REF!","v":{"$error":"#REF!"}},1861]
["240103","TUMBES","TUMBES","TUMBES","LA CRUZ","Mujer","85-+",{"$f":"'Pob x Genero'!#REF!","v":{"$error":"#REF!"}},1862]
["240104","TUMBES","TUMBES","TUMBES","PAMPAS DE HOSPITAL","Mujer","85-+",{"$f":"'Pob x Genero'!#REF!","v":{"$error":"#REF!"}},1863]
["240105","TUMBES","TUMBES","TUMBES","SAN JACINTO","Mujer","85-+",{"$f":"'Pob x Genero'!#REF!","v":{"$error":"#REF!"}},1864]
["240106","TUMBES","TUMBES","TUMBES","SAN JUAN DE LA VIRGEN","Mujer","85-+",{"$f":"'Pob x Genero'!#REF!","v":{"$error":"#REF!"}},1865]
["240201","TUMBES","TUMBES","CONTRALMIRANTE VILLAR","ZORRITOS","Mujer","85-+",{"$f":"'Pob x Genero'!#REF!","v":{"$error":"#REF!"}},1866]
["240202","TUMBES","TUMBES","CONTRALMIRANTE VILLAR","CASITAS","Mujer","85-+",{"$f":"'Pob x Genero'!#REF!","v":{"$error":"#REF!"}},1867]
["240203","TUMBES","TUMBES","CONTRALMIRANTE VILLAR","CANOAS DE PUNTA SAL","Mujer","85-+",{"$f":"'Pob x Genero'!#REF!","v":{"$error":"#REF!"}},1868]
["240301","TUMBES","TUMBES","ZARUMILLA","ZARUMILLA","Mujer","85-+",{"$f":"'Pob x Genero'!#REF!","v":{"$error":"#REF!"}},1869]
["240302","TUMBES","TUMBES","ZARUMILLA","AGUAS VERDES","Mujer","85-+",{"$f":"'Pob x Genero'!#REF!","v":{"$error":"#REF!"}},1870]
["240303","TUMBES","TUMBES","ZARUMILLA","MATAPALO","Mujer","85-+",{"$f":"'Pob x Genero'!#REF!","v":{"$error":"#REF!"}},1871]
["240304","TUMBES","TUMBES","ZARUMILLA","PAPAYAL","Mujer","85-+",{"$f":"'Pob x Genero'!#REF!","v":{"$error":"#REF!"}},1872]
["250101","UCAYALI","UCAYALI","CORONEL PORTILLO","CALLERIA","Mujer","85-+",{"$f":"'Pob x Genero'!#REF!","v":{"$error":"#REF!"}},1873]
["250102","UCAYALI","UCAYALI","CORONEL PORTILLO","CAMPOVERDE","Mujer","85-+",{"$f":"'Pob x Genero'!#REF!","v":{"$error":"#REF!"}},1874]
["250103","UCAYALI","UCAYALI","CORONEL PORTILLO","IPARIA","Mujer","85-+",{"$f":"'Pob x Genero'!#REF!","v":{"$error":"#REF!"}},1875]
["250104","UCAYALI","UCAYALI","CORONEL PORTILLO","MASISEA","Mujer","85-+",{"$f":"'Pob x Genero'!#REF!","v":{"$error":"#REF!"}},1876]
["250105","UCAYALI","UCAYALI","CORONEL PORTILLO","YARINACOCHA","Mujer","85-+",{"$f":"'Pob x Genero'!#REF!","v":{"$error":"#REF!"}},1877]
["250106","UCAYALI","UCAYALI","CORONEL PORTILLO","NUEVA REQUENA","Mujer","85-+",{"$f":"'Pob x Genero'!#REF!","v":{"$error":"#REF!"}},1878]
["250107","UCAYALI","UCAYALI","CORONEL PORTILLO","MANANTAY","Mujer","85-+",{"$f":"'Pob x Genero'!#REF!","v":{"$error":"#REF!"}},1879]
["250201","UCAYALI","UCAYALI","ATALAYA","RAYMONDI","Mujer","85-+",{"$f":"'Pob x Genero'!#REF!","v":{"$error":"#REF!"}},1880]
["250202","UCAYALI","UCAYALI","ATALAYA","SEPAHUA","Mujer","85-+",{"$f":"'Pob x Genero'!#REF!","v":{"$error":"#REF!"}},1881]
["250203","UCAYALI","UCAYALI","ATALAYA","TAHUANIA","Mujer","85-+",{"$f":"'Pob x Genero'!#REF!","v":{"$error":"#REF!"}},1882]
["250204","UCAYALI","UCAYALI","ATALAYA","YURUA","Mujer","85-+",{"$f":"'Pob x Genero'!#REF!","v":{"$error":"#REF!"}},1883]
["250301","UCAYALI","UCAYALI","PADRE ABAD","PADRE ABAD","Mujer","85-+",{"$f":"'Pob x Genero'!#REF!","v":{"$error":"#REF!"}},1884]
["250302","UCAYALI","UCAYALI","PADRE ABAD","IRAZOLA","Mujer","85-+",{"$f":"'Pob x Genero'!#REF!","v":{"$error":"#REF!"}},1885]
["250303","UCAYALI","UCAYALI","PADRE ABAD","CURIMANA","Mujer","85-+",{"$f":"'Pob x Genero'!#REF!","v":{"$error":"#REF!"}},1886]
["250304","UCAYALI","UCAYALI","PADRE ABAD","NESHUYA","Mujer","85-+",{"$f":"'Pob x Genero'!#REF!","v":{"$error":"#REF!"}},1887]
["250305","UCAYALI","UCAYALI","PADRE ABAD","ALEXANDER VON HUMBOLDT","Mujer","85-+",{"$f":"'Pob x Genero'!#REF!","v":{"$error":"#REF!"}},1888]
["250306","UCAYALI","UCAYALI","PADRE ABAD","HUIPOCA","Mujer","85-+",{"$f":"'Pob x Genero'!#REF!","v":{"$error":"#REF!"}},1889]
["250307","UCAYALI","UCAYALI","PADRE ABAD","BOQUERON","Mujer","85-+",{"$f":"'Pob x Genero'!#REF!","v":{"$error":"#REF!"}},1890]
["250401","UCAYALI","UCAYALI","PURUS","PURUS","Mujer","85-+",{"$f":"'Pob x Genero'!#REF!","v":{"$error":"#REF!"}},1891]